{"text_format":"1","workbook":"xlsx","n_sheets":12,"sheets":["Menu","Desconto","Feriados","Datas","Cliente","Titular do cheque","Banco","Transf","BD","Consulta","AU","Passo a passo"],"not_rendered":{"charts":0,"images":1,"macros":1,"external_links":0,"defined_names":22,"comments":8,"pivot_tables":0},"unopened":[],"bounds":{"document_bytes":16777216,"sheet_cells":100000,"rows_first":2000,"rows_last":500,"rows_between":2000,"halvings":0,"cell_chars":16384,"cell_head_chars":4096},"cells_cut":0,"cells_raw":0,"read":"whole","date_system":"1900"}

{"sheet":"Menu","index":0,"n_rows":23,"n_cols":20,"rows_kept":23,"cut":false,"hidden":false,"merged":[[16,3,16,7],[17,3,17,7],[2,2,2,8],[8,11,11,16],[21,12,21,15]]}
[]
[]
[null,null,"CÁLCULO DE JUROS PARA DESCONTO DE CHEQUES OU DUPLICATAS",null,null,null,null,null,null,null,null,null,null,"Data do Calendário",null,null,null,null,null,{"$f":"LARGE(Feriados!A:A,6)","v":"2035-05-24"}]
[null,null,null,null,null,null,null,null,null,null,null,null,"De:",{"$f":"Datas!H4","v":"2022-01-01"},null,null,null,null,null,{"$f":"IF(AU!$AB$2=0,\"ATENÇÃO! Planilha ''violada'' ou você precisa ''validar'' Entre em contato pelo site informando seu CNPJ ou CPF que você informou quando fez a compra da Planilha.\",\"\")","v":""}]
[null,null,null,null,null,null,null,null,null,null,null,null,"Até:",{"$f":"Datas!H5","v":"2032-12-30"}]
[null,null,null,null,null,null,null,null,null,null,null,null,"Validade:",{"$f":"(N5-N4)/365","v":11.002739726027396}]
[]
[]
[null,null,null,null,null,null,null,null,null,null,null,{"$f":"IF(T3<TODAY(),\"Atenção! É bom você atualizar os Feriados, deixando pelo menos um ano para frente.\",\"\")","v":""}]
[]
[]
[]
[]
[]
[]
[]
[null,null,null,"Versão Gratuita"]
[null,null,null,"** Com limite de 10 cheques em cada troca **"]
[]
[]
[null,null,null,null,null,"www.planilhasparaconfeccao.com.br"]
[null,null,null,"© 2012 - Pedro Paulo Andriani. Todos os direitos reservados.",null,null,null,null,null,null,null,null,"Para versão paga com limite até 300 cheques em cada troca, visite o site."]
[null,null,null,null,null,"Versão 3.4 - gratuita"]

{"sheet":"Desconto","index":1,"n_rows":20,"n_cols":44,"rows_kept":20,"cut":false,"hidden":true,"merged":[[0,2,0,3]]}
[null,"Fornec/Cliente:",null,null,null,"Nº Desconto:",{"$f":"MAX(BD!A:A)+1","v":1},null,null,null,null,null,null,null,null,null,null,null,null,{"$f":"COUNTIF(C6:C15,\">0\")","v":0},{"$f":"IF(U2=FALSE,0,1)","v":0},{"$f":"IF(B2>1,1,0)","v":0}]
[null,null,{"$f":"IF(T4=\"\",\"Data da Troca.\",\"\")","v":"Data da Troca."},null,null,"Borderô (ou TAC)",null,null,null,null,null,null,null,null,null,null,null,null,null,{"$f":"IF(AU!$AB$2=0,0,IF(U3=TRUE,E2/T1,0))","v":0},false,{"$f":"IF(B3>0,1,0)","v":0}]
[null,null,{"$f":"IF(T4=\"\",\"Juros ao Mês.\",\"\")","v":"Juros ao Mês."},null,null,"IOF",null,null,null,null,null,null,null,null,null,null,null,null,null,null,null,{"$f":"IF(B6>1,1,0)","v":0}]
["Seq","    Data \nVencimentos","Valor\nCheque","Titular do Cheque","Nº ou\nBanco","Nº da\nAgência","Nº do\nCheque","Dias p/\nComp.","Qtde\ndias","Total dos\nJuros","Valor do IOF","Valor Pago\npela troca","Valor à\nReceber",null,null,null,null,null,null,{"$f":"IF(AU!$AB$2=0,\"ATENÇÃO! Planilha ''violada'' ou você precisa ''validar'' Entre em contato pelo site informando seu CNPJ ou CPF que você informou quando fez a compra da Planilha.\",\"\")","v":""},{"$f":"SUM(V1:V4)","v":0},{"$f":"IF(C6>0,1,0)","v":0},{"$f":"IF(U4=4,\"Registrar\",\"Não clique\")","v":"Não clique"}]
["Seq","Data dos\nVencimentos","Valor\nCheque","Titular do Cheque","Nº ou\nBanco","Nº da\nAgência","Nº do\nCheque","Dias p/\nComp.","Qtde\ndias","Total dos\nJuros","IOF","Valor Pago\npela troca","Valor à\nReceber","XX","XX","XX","XX","XX","XX","XX","XX","Nº\nDesconto","Seq.","Concatenar","Cliente","    Data da \nTroca","    Data \nVencimentos","Valor\nCheque","Titular do Cheque","Nº ou\nBanco","Nº da\nAgência","Nº do\nCheque","Dias p/\nComp.","Qtde\ndias","% Juros Mensal","Total dos\nJuros","Borderô\n(ou TAC)","Borderô rateado?","%\ndo IOF","Valor do IOF","Valor Pago\npela troca","Valor\nRecebido","Asterisco","Considerado vcto 1º dia útil?"]
[1,null,null,null,null,null,null,null,{"$f":"IF(AU!$AB$2=0,0,IF(B6=0,0,IF($U$1=0,B6-$B$2+R6,B6-$B$2+T6+R6)))","v":0},{"$f":"IF(C6=0,\"\",$B$3/30*I6)","v":""},{"$f":"IF(AU!$AB$2=0,0,IF(B6=0,0,C6*$E$3))","v":0},{"$f":"IF(C6=0,\"\",ROUND((C6*J6)+K6+$T$2,2))","v":""},{"$f":"IF(C6=0,\"\",C6-L6)","v":""},{"$f":"IF(B6=0,0,IF($U$2=FALSE,\"\",IF(T6>0,\"*\",\"\")))","v":0},{"$f":"IF(U6>0,\"Devolvido \"&U6&\" ch\",0)","v":0},{"$f":"IF(B6=0,0,WEEKDAY(B6,2))","v":0},{"$f":"IF(P6=6,WORKDAY((B6+2),H6,Feriados!$A$2:$A$202),IF(P6=7,WORKDAY((B6+1),H6,Feriados!$A$2:$A$202),WORKDAY(B6,H6,Feriados!$A$2:$A$202)))","v":0},{"$f":"IF(H6=0,0,IF(P6=6,(Q6-(B6+2)),IF(P6=7,(Q6-(B6+1)),Q6-B6)))","v":0},null,{"$f":"IF(B6=0,0,VLOOKUP(B6,Datas!A:C,3,FALSE))","v":0},{"$f":"SUMIF(BD!H:H,D6,BD!AF:AF)","v":0},{"$f":"$G$1","v":1},{"$f":"A6","v":1},{"$f":"CONCATENATE(V6,\"-\",W6)","v":"1-1"},{"$f":"$C$1","v":0},{"$f":"$B$2","v":"00:00:00"},{"$f":"B6","v":"00:00:00"},0,0,0,0,0,0,0,{"$f":"$B$3","v":0},{"$f":"J6","v":""},{"$f":"$E$2","v":0},{"$f":"IF($U$3=TRUE,\"Sim\",\"Não\")","v":"Não"},{"$f":"$E$3","v":0},{"$f":"K6","v":0},{"$f":"L6","v":""},{"$f":"M6","v":""},{"$f":"N6","v":0},{"$f":"IF($U$2=TRUE,\"Sim\",\"Não\")","v":"Não"}]
[2,null,null,null,null,null,null,null,{"$f":"IF(AU!$AB$2=0,0,IF(B7=0,0,IF($U$1=0,B7-$B$2+R7,B7-$B$2+T7+R7)))","v":0},"",{"$f":"IF(AU!$AB$2=0,0,IF(B7=0,0,C7*$E$3))","v":0},"","",{"$f":"IF(B7=0,0,IF($U$2=FALSE,\"\",IF(T7>0,\"*\",\"\")))","v":0},{"$f":"IF(U7>0,\"Devolvido \"&U7&\" ch\",0)","v":0},{"$f":"IF(B7=0,0,WEEKDAY(B7,2))","v":0},{"$f":"IF(P7=6,WORKDAY((B7+2),H7,Feriados!$A$2:$A$202),IF(P7=7,WORKDAY((B7+1),H7,Feriados!$A$2:$A$202),WORKDAY(B7,H7,Feriados!$A$2:$A$202)))","v":0},{"$f":"IF(H7=0,0,IF(P7=6,(Q7-(B7+2)),IF(P7=7,(Q7-(B7+1)),Q7-B7)))","v":0},null,{"$f":"IF(B7=0,0,VLOOKUP(B7,Datas!A:C,3,FALSE))","v":0},{"$f":"SUMIF(BD!H:H,D7,BD!AF:AF)","v":0},{"$f":"$G$1","v":1},{"$f":"A7","v":2},{"$f":"CONCATENATE(V7,\"-\",W7)","v":"1-2"},{"$f":"$C$1","v":0},{"$f":"$B$2","v":"00:00:00"},{"$f":"B7","v":"00:00:00"},{"$f":"C7","v":0},{"$f":"D7","v":0},{"$f":"E7","v":0},{"$f":"F7","v":0},{"$f":"G7","v":0},{"$f":"H7","v":0},{"$f":"I7","v":0},{"$f":"$B$3","v":0},{"$f":"J7","v":""},{"$f":"$E$2","v":0},{"$f":"IF($U$3=TRUE,\"Sim\",\"Não\")","v":"Não"},{"$f":"$E$3","v":0},{"$f":"K7","v":0},{"$f":"L7","v":""},{"$f":"M7","v":""},{"$f":"N7","v":0},{"$f":"IF($U$2=TRUE,\"Sim\",\"Não\")","v":"Não"}]
[3,null,null,null,null,null,null,null,{"$f":"IF(AU!$AB$2=0,0,IF(B8=0,0,IF($U$1=0,B8-$B$2+R8,B8-$B$2+T8+R8)))","v":0},{"$f":"IF(C8=0,\"\",$B$3/30*I8)","v":""},{"$f":"IF(AU!$AB$2=0,0,IF(B8=0,0,C8*$E$3))","v":0},{"$f":"IF(C8=0,\"\",ROUND((C8*J8)+K8+$T$2,2))","v":""},{"$f":"IF(C8=0,\"\",C8-L8)","v":""},0,0,0,{"$f":"IF(P8=6,WORKDAY((B8+2),H8,Feriados!$A$2:$A$202),IF(P8=7,WORKDAY((B8+1),H8,Feriados!$A$2:$A$202),WORKDAY(B8,H8,Feriados!$A$2:$A$202)))","v":0},0,null,{"$f":"IF(B8=0,0,VLOOKUP(B8,Datas!A:C,3,FALSE))","v":0},{"$f":"SUMIF(BD!H:H,D8,BD!AF:AF)","v":0},1,3,"1-3",0,"00:00:00","00:00:00",0,0,0,0,0,0,0,0,"",0,"Não",0,0,"","",0,"Não"]
[4,null,null,null,null,null,null,null,{"$f":"IF(AU!$AB$2=0,0,IF(B9=0,0,IF($U$1=0,B9-$B$2+R9,B9-$B$2+T9+R9)))","v":0},"",{"$f":"IF(AU!$AB$2=0,0,IF(B9=0,0,C9*$E$3))","v":0},"","",0,0,0,{"$f":"IF(P9=6,WORKDAY((B9+2),H9,Feriados!$A$2:$A$202),IF(P9=7,WORKDAY((B9+1),H9,Feriados!$A$2:$A$202),WORKDAY(B9,H9,Feriados!$A$2:$A$202)))","v":0},0,null,{"$f":"IF(B9=0,0,VLOOKUP(B9,Datas!A:C,3,FALSE))","v":0},{"$f":"SUMIF(BD!H:H,D9,BD!AF:AF)","v":0},1,4,"1-4",0,"00:00:00","00:00:00",0,0,0,0,0,0,0,0,"",0,"Não",0,0,"","",0,"Não"]
[5,null,null,null,null,null,null,null,{"$f":"IF(AU!$AB$2=0,0,IF(B10=0,0,IF($U$1=0,B10-$B$2+R10,B10-$B$2+T10+R10)))","v":0},{"$f":"IF(C10=0,\"\",$B$3/30*I10)","v":""},{"$f":"IF(AU!$AB$2=0,0,IF(B10=0,0,C10*$E$3))","v":0},{"$f":"IF(C10=0,\"\",ROUND((C10*J10)+K10+$T$2,2))","v":""},{"$f":"IF(C10=0,\"\",C10-L10)","v":""},0,0,0,{"$f":"IF(P10=6,WORKDAY((B10+2),H10,Feriados!$A$2:$A$202),IF(P10=7,WORKDAY((B10+1),H10,Feriados!$A$2:$A$202),WORKDAY(B10,H10,Feriados!$A$2:$A$202)))","v":0},0,null,{"$f":"IF(B10=0,0,VLOOKUP(B10,Datas!A:C,3,FALSE))","v":0},{"$f":"SUMIF(BD!H:H,D10,BD!AF:AF)","v":0},1,5,"1-5",0,"00:00:00","00:00:00",0,0,0,0,0,0,0,0,"",0,"Não",0,0,"","",0,"Não"]
[6,null,null,null,null,null,null,null,{"$f":"IF(AU!$AB$2=0,0,IF(B11=0,0,IF($U$1=0,B11-$B$2+R11,B11-$B$2+T11+R11)))","v":0},"",{"$f":"IF(AU!$AB$2=0,0,IF(B11=0,0,C11*$E$3))","v":0},"","",0,0,0,{"$f":"IF(P11=6,WORKDAY((B11+2),H11,Feriados!$A$2:$A$202),IF(P11=7,WORKDAY((B11+1),H11,Feriados!$A$2:$A$202),WORKDAY(B11,H11,Feriados!$A$2:$A$202)))","v":0},0,null,{"$f":"IF(B11=0,0,VLOOKUP(B11,Datas!A:C,3,FALSE))","v":0},{"$f":"SUMIF(BD!H:H,D11,BD!AF:AF)","v":0},1,6,"1-6",0,"00:00:00","00:00:00",0,0,0,0,0,0,0,0,"",0,"Não",0,0,"","",0,"Não"]
[7,null,null,null,null,null,null,null,{"$f":"IF(AU!$AB$2=0,0,IF(B12=0,0,IF($U$1=0,B12-$B$2+R12,B12-$B$2+T12+R12)))","v":0},"",{"$f":"IF(AU!$AB$2=0,0,IF(B12=0,0,C12*$E$3))","v":0},"","",0,0,0,{"$f":"IF(P12=6,WORKDAY((B12+2),H12,Feriados!$A$2:$A$202),IF(P12=7,WORKDAY((B12+1),H12,Feriados!$A$2:$A$202),WORKDAY(B12,H12,Feriados!$A$2:$A$202)))","v":0},0,null,{"$f":"IF(B12=0,0,VLOOKUP(B12,Datas!A:C,3,FALSE))","v":0},{"$f":"SUMIF(BD!H:H,D12,BD!AF:AF)","v":0},1,7,"1-7",0,"00:00:00","00:00:00",0,0,0,0,0,0,0,0,"",0,"Não",0,0,"","",0,"Não"]
[8,null,null,null,null,null,null,null,{"$f":"IF(AU!$AB$2=0,0,IF(B13=0,0,IF($U$1=0,B13-$B$2+R13,B13-$B$2+T13+R13)))","v":0},{"$f":"IF(C13=0,\"\",$B$3/30*I13)","v":""},{"$f":"IF(AU!$AB$2=0,0,IF(B13=0,0,C13*$E$3))","v":0},{"$f":"IF(C13=0,\"\",ROUND((C13*J13)+K13+$T$2,2))","v":""},{"$f":"IF(C13=0,\"\",C13-L13)","v":""},0,0,0,{"$f":"IF(P13=6,WORKDAY((B13+2),H13,Feriados!$A$2:$A$202),IF(P13=7,WORKDAY((B13+1),H13,Feriados!$A$2:$A$202),WORKDAY(B13,H13,Feriados!$A$2:$A$202)))","v":0},0,null,{"$f":"IF(B13=0,0,VLOOKUP(B13,Datas!A:C,3,FALSE))","v":0},{"$f":"SUMIF(BD!H:H,D13,BD!AF:AF)","v":0},1,8,"1-8",0,"00:00:00","00:00:00",0,0,0,0,0,0,0,0,"",0,"Não",0,0,"","",0,"Não"]
[9,null,null,null,null,null,null,null,{"$f":"IF(AU!$AB$2=0,0,IF(B14=0,0,IF($U$1=0,B14-$B$2+R14,B14-$B$2+T14+R14)))","v":0},{"$f":"IF(C14=0,\"\",$B$3/30*I14)","v":""},{"$f":"IF(AU!$AB$2=0,0,IF(B14=0,0,C14*$E$3))","v":0},{"$f":"IF(C14=0,\"\",ROUND((C14*J14)+K14+$T$2,2))","v":""},{"$f":"IF(C14=0,\"\",C14-L14)","v":""},0,0,0,{"$f":"IF(P14=6,WORKDAY((B14+2),H14,Feriados!$A$2:$A$202),IF(P14=7,WORKDAY((B14+1),H14,Feriados!$A$2:$A$202),WORKDAY(B14,H14,Feriados!$A$2:$A$202)))","v":0},0,null,{"$f":"IF(B14=0,0,VLOOKUP(B14,Datas!A:C,3,FALSE))","v":0},{"$f":"SUMIF(BD!H:H,D14,BD!AF:AF)","v":0},1,9,"1-9",0,"00:00:00","00:00:00",0,0,0,0,0,0,0,0,"",0,"Não",0,0,"","",0,"Não"]
[10,null,null,null,null,null,null,null,{"$f":"IF(AU!$AB$2=0,0,IF(B15=0,0,IF($U$1=0,B15-$B$2+R15,B15-$B$2+T15+R15)))","v":0},"",{"$f":"IF(AU!$AB$2=0,0,IF(B15=0,0,C15*$E$3))","v":0},"","",{"$f":"IF(B15=0,0,IF($U$2=FALSE,\"\",IF(T15>0,\"*\",\"\")))","v":0},{"$f":"IF(U15>0,\"Devolvido \"&U15&\" ch\",0)","v":0},0,{"$f":"IF(P15=6,WORKDAY((B15+2),H15,Feriados!$A$2:$A$202),IF(P15=7,WORKDAY((B15+1),H15,Feriados!$A$2:$A$202),WORKDAY(B15,H15,Feriados!$A$2:$A$202)))","v":0},0,null,{"$f":"IF(B15=0,0,VLOOKUP(B15,Datas!A:C,3,FALSE))","v":0},{"$f":"SUMIF(BD!H:H,D15,BD!AF:AF)","v":0},{"$f":"$G$1","v":1},{"$f":"A15","v":10},{"$f":"CONCATENATE(V15,\"-\",W15)","v":"1-10"},{"$f":"$C$1","v":0},{"$f":"$B$2","v":"00:00:00"},{"$f":"B15","v":"00:00:00"},{"$f":"C15","v":0},{"$f":"D15","v":0},{"$f":"E15","v":0},{"$f":"F15","v":0},{"$f":"G15","v":0},{"$f":"H15","v":0},{"$f":"I15","v":0},{"$f":"$B$3","v":0},{"$f":"J15","v":""},{"$f":"$E$2","v":0},{"$f":"IF($U$3=TRUE,\"Sim\",\"Não\")","v":"Não"},{"$f":"$E$3","v":0},{"$f":"K15","v":0},{"$f":"L15","v":""},{"$f":"M15","v":""},{"$f":"N15","v":0},{"$f":"IF($U$2=TRUE,\"Sim\",\"Não\")","v":"Não"}]
[null,null,{"$f":"SUBTOTAL(9,C6:C15)","v":0},null,null,null,null,null,null,null,{"$f":"SUBTOTAL(9,K6:K15)","v":0},{"$f":"SUBTOTAL(9,L6:L15)","v":0},{"$f":"SUBTOTAL(9,M6:M15)","v":0}]
[null,null,null,null,null,null,null,null,{"$f":"IF(SUM(I6:I15)=0,0,AVERAGEIF(I6:I15,\">0\"))","v":0},null,null,"Borderô (ou TAC) =>",{"$f":"IF(E2=0,0,IF(U3=TRUE,\"         rateado\",E2-(E2*2)))","v":0}]
[null,null,null,null,null,null,null,null,"Média",null,null,"Valor à receber =>",{"$f":"IF(U3=TRUE,M16,M16+M17)","v":0}]
[null,null,null,null,null,null,null,null,null,null,null,{"$f":"IF(M19>0,\"Valor recebido =>\",\".\")","v":"."}]
[null,null,null,null,null,null,null,null,null,null,null,{"$f":"IF(M20<>0,\"Diferença =>\",\".\")","v":"."},{"$f":"IF(M19=0,0,M19-M18)","v":0}]

{"sheet":"Feriados","index":2,"n_rows":174,"n_cols":7,"rows_kept":174,"cut":false,"hidden":true,"merged":[]}
["           Feriados\nNacional e Bancário","Descrição do Feriado\n(não obrigatório)","Observações",null,null,"Datas\nDia / mês","Feriados Nacionais no ano"]
["2022-01-01","Confraternização Universal",null,null,null,"01 janeiro","Confraternização Universal"]
["2022-02-28","Carnaval","Feriado móvel",null,null,"móvel","Carnaval"]
["2022-03-01","Carnaval","Feriado móvel",null,null,"móvel","Paixão de Cristo (sexta-feira Santa)"]
["2022-04-15","Paixão de Cristo (sexta-feira Santa)","Feriado móvel",null,null,"21 abril","Tiradentes"]
["2022-04-21","Tiradentes",null,null,null,"01 maio","Dia do Trabalho"]
["2022-05-01","Dia do Trabalho",null,null,null,"móvel","Corpus Christi"]
["2022-06-16","Corpus Christi","Feriado móvel",null,null,"07 setembro","Independência do Brasil"]
["2022-09-07","Independência do Brasil",null,null,null,"02 novembro","Finados"]
["2022-10-12","Nossa Sra. Aparecida",null,null,null,"15 novembro","Proclamação da República"]
["2022-11-02","Finados",null,null,null,"25 dezembro","Natal"]
["2022-11-15","Proclamação da República",null,null,null,null,"Aniversário da Cidade"]
["2022-12-25","Natal",null,null,null,null,"Outros 1"]
["2023-01-01","Confraternização Universal",null,null,null,null,"Outros 2"]
["2023-02-20","Carnaval","Feriado móvel"]
["2023-02-21","Carnaval","Feriado móvel"]
["2023-04-07","Paixão de Cristo (sexta-feira Santa)","Feriado móvel"]
["2023-04-21","Tiradentes"]
["2023-05-01","Dia do Trabalho"]
["2023-06-08","Corpus Christi","Feriado móvel"]
["2023-09-07","Independência do Brasil"]
["2023-10-12","Nossa Sra. Aparecida"]
["2023-11-02","Finados"]
["2023-11-15","Proclamação da República"]
["2023-12-25","Natal"]
["2024-01-01","Confraternização Universal"]
["2024-02-12","Carnaval","Feriado móvel"]
["2024-02-13","Carnaval","Feriado móvel"]
["2024-03-29","Paixão de Cristo (sexta-feira Santa)","Feriado móvel"]
["2024-04-21","Tiradentes"]
["2024-05-01","Dia do Trabalho"]
["2024-05-30","Corpus Christi","Feriado móvel"]
["2024-09-07","Independência do Brasil"]
["2024-10-12","Nossa Sra. Aparecida"]
["2024-11-02","Finados"]
["2024-11-15","Proclamação da República"]
["2024-12-25","Natal"]
["2025-01-01","Confraternização Universal"]
["2025-03-03","Carnaval","Feriado móvel"]
["2025-03-04","Carnaval","Feriado móvel"]
["2025-04-18","Paixão de Cristo (sexta-feira Santa)","Feriado móvel"]
["2025-04-21","Tiradentes"]
["2025-05-01","Dia do Trabalho"]
["2025-06-19","Corpus Christi","Feriado móvel"]
["2025-09-07","Independência do Brasil"]
["2025-10-12","Nossa Sra. Aparecida"]
["2025-11-02","Finados"]
["2025-11-15","Proclamação da República"]
["2025-12-25","Natal"]
["2026-01-01","Confraternização Universal"]
["2026-02-16","Carnaval","Feriado móvel"]
["2026-02-17","Carnaval","Feriado móvel"]
["2026-04-03","Paixão de Cristo (sexta-feira Santa)","Feriado móvel"]
["2026-04-21","Tiradentes"]
["2026-05-01","Dia do Trabalho"]
["2026-06-04","Corpus Christi","Feriado móvel"]
["2026-09-07","Independência do Brasil"]
["2026-10-12","Nossa Sra. Aparecida"]
["2026-11-02","Finados"]
["2026-11-15","Proclamação da República"]
["2026-12-25","Natal"]
["2027-01-01","Confraternização Universal"]
["2027-02-08","Carnaval","Feriado móvel"]
["2027-02-09","Carnaval","Feriado móvel"]
["2027-03-26","Paixão de Cristo (sexta-feira Santa)","Feriado móvel"]
["2027-04-21","Tiradentes"]
["2027-05-01","Dia do Trabalho"]
["2027-05-27","Corpus Christi","Feriado móvel"]
["2027-09-07","Independência do Brasil"]
["2027-10-12","Nossa Sra. Aparecida"]
["2027-11-02","Finados"]
["2027-11-15","Proclamação da República"]
["2027-12-25","Natal"]
["2028-01-01","Confraternização Universal"]
["2028-02-28","Carnaval","Feriado móvel"]
["2028-02-29","Carnaval","Feriado móvel"]
["2028-04-14","Paixão de Cristo (sexta-feira Santa)","Feriado móvel"]
["2028-04-21","Tiradentes"]
["2028-05-01","Dia do Trabalho"]
["2028-06-15","Corpus Christi","Feriado móvel"]
["2028-09-07","Independência do Brasil"]
["2028-10-12","Nossa Sra. Aparecida"]
["2028-11-02","Finados"]
["2028-11-15","Proclamação da República"]
["2028-12-25","Natal"]
["2029-01-01","Confraternização Universal"]
["2029-02-12","Carnaval","Feriado móvel"]
["2029-02-13","Carnaval","Feriado móvel"]
["2029-03-30","Paixão de Cristo (sexta-feira Santa)","Feriado móvel"]
["2029-04-21","Tiradentes"]
["2029-05-01","Dia do Trabalho"]
["2029-05-31","Corpus Christi","Feriado móvel"]
["2029-09-07","Independência do Brasil"]
["2029-10-12","Nossa Sra. Aparecida"]
["2029-11-02","Finados"]
["2029-11-15","Proclamação da República"]
["2029-12-25","Natal"]
["2030-01-01","Confraternização Universal"]
["2030-03-04","Carnaval","Feriado móvel"]
["2030-03-05","Carnaval","Feriado móvel"]
["2030-04-19","Paixão de Cristo (sexta-feira Santa)","Feriado móvel"]
["2030-04-21","Tiradentes"]
["2030-05-01","Dia do Trabalho"]
["2030-06-20","Corpus Christi","Feriado móvel"]
["2030-09-07","Independência do Brasil"]
["2030-10-12","Nossa Sra. Aparecida"]
["2030-11-02","Finados"]
["2030-11-15","Proclamação da República"]
["2030-12-25","Natal"]
["2031-01-01","Confraternização Universal"]
["2031-02-24","Carnaval","Feriado móvel"]
["2031-02-25","Carnaval","Feriado móvel"]
["2031-04-11","Paixão de Cristo","Feriado móvel"]
["2031-04-13","Páscoa"]
["2031-04-21","Tiradentes"]
["2031-05-01","Dia do Trabalho"]
["2031-06-12","Corpus Christi","Feriado móvel"]
["2031-09-07","Independência do Brasil"]
["2031-10-12","Nossa Senhora da Aparecida"]
["2031-11-02","Finados"]
["2031-11-15","Proclamação da República"]
["2031-12-25","Natal"]
["2032-01-01","Confraternização Universal"]
["2032-02-09","Carnaval","Feriado móvel"]
["2032-02-10","Carnaval","Feriado móvel"]
["2032-03-26","Paixão de Cristo","Feriado móvel"]
["2032-03-28","Páscoa"]
["2032-04-21","Tiradentes"]
["2032-05-01","Dia do Trabalho"]
["2032-05-27","Corpus Christi","Feriado móvel"]
["2032-09-07","Independência do Brasil"]
["2032-10-12","Nossa Senhora da Aparecida"]
["2032-11-02","Finados"]
["2032-11-15","Proclamação da República"]
["2032-12-25","Natal"]
["2033-01-01","Confraternização Universal"]
["2033-02-28","Carnaval","Feriado móvel"]
["2033-03-01","Carnaval","Feriado móvel"]
["2033-04-15","Paixão de Cristo","Feriado móvel"]
["2033-04-17","Páscoa"]
["2033-04-21","Tiradentes"]
["2033-05-01","Dia do Trabalho"]
["2033-06-16","Corpus Christi","Feriado móvel"]
["2033-09-07","Independência do Brasil"]
["2033-10-12","Nossa Senhora da Aparecida"]
["2033-11-02","Finados"]
["2033-11-15","Proclamação da República"]
["2033-12-25","Natal"]
["2034-01-01","Confraternização Universal"]
["2034-02-20","Carnaval","Feriado móvel"]
["2034-02-21","Carnaval","Feriado móvel"]
["2034-04-07","Paixão de Cristo","Feriado móvel"]
["2034-04-09","Páscoa"]
["2034-04-21","Tiradentes"]
["2034-05-01","Dia do Trabalho"]
["2034-06-08","Corpus Christi","Feriado móvel"]
["2034-09-07","Independência do Brasil"]
["2034-10-12","Nossa Senhora da Aparecida"]
["2034-11-02","Finados"]
["2034-11-15","Proclamação da República"]
["2034-12-25","Natal"]
["2035-01-01","Confraternização Universal"]
["2035-02-05","Carnaval","Feriado móvel"]
["2035-02-06","Carnaval","Feriado móvel"]
["2035-03-23","Paixão de Cristo","Feriado móvel"]
["2035-03-25","Páscoa"]
["2035-04-21","Tiradentes"]
["2035-05-01","Dia do Trabalho"]
["2035-05-24","Corpus Christi","Feriado móvel"]
["2035-09-07","Independência do Brasil"]
["2035-10-12","Nossa Senhora da Aparecida"]
["2035-11-02","Finados"]
["2035-11-15","Proclamação da República"]
["2035-12-25","Natal"]

{"sheet":"Datas","index":3,"n_rows":4018,"n_cols":8,"rows_kept":4018,"cut":false,"hidden":true,"merged":[[0,6,0,11]]}
["Datas","Seq.","Para somar","nº dia","Feriado",null,"Para atualizar basta digitar a nova data inicial na Célula \"A2\"."]
["2022-01-01",{"$f":"NETWORKDAYS($A$2,A2,feriados)","v":0},{"$f":"IF(E2<>\"n\",COUNTIF(B2:$B$4018,B2),IF(D2<6,0,COUNTIF(B2:$B$4018,B2)))","v":2},{"$f":"WEEKDAY(A2,2)","v":6},{"$f":"IF(ISERROR(VLOOKUP(A2,Feriados!A:A,1,FALSE)),\"n\",VLOOKUP(A2,Feriados!A:A,1,FALSE))","v":"2022-01-01"}]
[{"$f":"A2+1","v":44563},{"$f":"NETWORKDAYS($A$2,A3,feriados)","v":0},{"$f":"IF(E3<>\"n\",COUNTIF(B3:$B$4018,B3),IF(D3<6,0,COUNTIF(B3:$B$4018,B3)))","v":1},{"$f":"WEEKDAY(A3,2)","v":7},{"$f":"IF(ISERROR(VLOOKUP(A3,Feriados!A:A,1,FALSE)),\"n\",VLOOKUP(A3,Feriados!A:A,1,FALSE))","v":"n"},null,null,"Data do Calendário"]
[{"$f":"A3+1","v":44564},1,{"$f":"IF(E4<>\"n\",COUNTIF(B4:$B$4018,B4),IF(D4<6,0,COUNTIF(B4:$B$4018,B4)))","v":0},1,{"$f":"IF(ISERROR(VLOOKUP(A4,Feriados!A:A,1,FALSE)),\"n\",VLOOKUP(A4,Feriados!A:A,1,FALSE))","v":"n"},null,"De:",{"$f":"A2","v":"2022-01-01"}]
[44565,2,{"$f":"IF(E5<>\"n\",COUNTIF(B5:$B$4018,B5),IF(D5<6,0,COUNTIF(B5:$B$4018,B5)))","v":0},2,{"$f":"IF(ISERROR(VLOOKUP(A5,Feriados!A:A,1,FALSE)),\"n\",VLOOKUP(A5,Feriados!A:A,1,FALSE))","v":"n"},null,"Até:",{"$f":"A4018","v":"2032-12-30"}]
[44566,3,{"$f":"IF(E6<>\"n\",COUNTIF(B6:$B$4018,B6),IF(D6<6,0,COUNTIF(B6:$B$4018,B6)))","v":0},3,{"$f":"IF(ISERROR(VLOOKUP(A6,Feriados!A:A,1,FALSE)),\"n\",VLOOKUP(A6,Feriados!A:A,1,FALSE))","v":"n"},null,"Validade:",{"$f":"(H5-H4)/365","v":11.002739726027396}]
[44567,4,{"$f":"IF(E7<>\"n\",COUNTIF(B7:$B$4018,B7),IF(D7<6,0,COUNTIF(B7:$B$4018,B7)))","v":0},4,{"$f":"IF(ISERROR(VLOOKUP(A7,Feriados!A:A,1,FALSE)),\"n\",VLOOKUP(A7,Feriados!A:A,1,FALSE))","v":"n"}]
[44568,5,{"$f":"IF(E8<>\"n\",COUNTIF(B8:$B$4018,B8),IF(D8<6,0,COUNTIF(B8:$B$4018,B8)))","v":0},5,{"$f":"IF(ISERROR(VLOOKUP(A8,Feriados!A:A,1,FALSE)),\"n\",VLOOKUP(A8,Feriados!A:A,1,FALSE))","v":"n"}]
[44569,5,{"$f":"IF(E9<>\"n\",COUNTIF(B9:$B$4018,B9),IF(D9<6,0,COUNTIF(B9:$B$4018,B9)))","v":2},6,{"$f":"IF(ISERROR(VLOOKUP(A9,Feriados!A:A,1,FALSE)),\"n\",VLOOKUP(A9,Feriados!A:A,1,FALSE))","v":"n"}]
[44570,5,{"$f":"IF(E10<>\"n\",COUNTIF(B10:$B$4018,B10),IF(D10<6,0,COUNTIF(B10:$B$4018,B10)))","v":1},7,{"$f":"IF(ISERROR(VLOOKUP(A10,Feriados!A:A,1,FALSE)),\"n\",VLOOKUP(A10,Feriados!A:A,1,FALSE))","v":"n"}]
[44571,6,{"$f":"IF(E11<>\"n\",COUNTIF(B11:$B$4018,B11),IF(D11<6,0,COUNTIF(B11:$B$4018,B11)))","v":0},1,{"$f":"IF(ISERROR(VLOOKUP(A11,Feriados!A:A,1,FALSE)),\"n\",VLOOKUP(A11,Feriados!A:A,1,FALSE))","v":"n"}]
[44572,7,{"$f":"IF(E12<>\"n\",COUNTIF(B12:$B$4018,B12),IF(D12<6,0,COUNTIF(B12:$B$4018,B12)))","v":0},2,{"$f":"IF(ISERROR(VLOOKUP(A12,Feriados!A:A,1,FALSE)),\"n\",VLOOKUP(A12,Feriados!A:A,1,FALSE))","v":"n"}]
[44573,8,{"$f":"IF(E13<>\"n\",COUNTIF(B13:$B$4018,B13),IF(D13<6,0,COUNTIF(B13:$B$4018,B13)))","v":0},3,{"$f":"IF(ISERROR(VLOOKUP(A13,Feriados!A:A,1,FALSE)),\"n\",VLOOKUP(A13,Feriados!A:A,1,FALSE))","v":"n"}]
[44574,9,{"$f":"IF(E14<>\"n\",COUNTIF(B14:$B$4018,B14),IF(D14<6,0,COUNTIF(B14:$B$4018,B14)))","v":0},4,{"$f":"IF(ISERROR(VLOOKUP(A14,Feriados!A:A,1,FALSE)),\"n\",VLOOKUP(A14,Feriados!A:A,1,FALSE))","v":"n"}]
[44575,10,{"$f":"IF(E15<>\"n\",COUNTIF(B15:$B$4018,B15),IF(D15<6,0,COUNTIF(B15:$B$4018,B15)))","v":0},5,{"$f":"IF(ISERROR(VLOOKUP(A15,Feriados!A:A,1,FALSE)),\"n\",VLOOKUP(A15,Feriados!A:A,1,FALSE))","v":"n"}]
[44576,10,{"$f":"IF(E16<>\"n\",COUNTIF(B16:$B$4018,B16),IF(D16<6,0,COUNTIF(B16:$B$4018,B16)))","v":2},6,{"$f":"IF(ISERROR(VLOOKUP(A16,Feriados!A:A,1,FALSE)),\"n\",VLOOKUP(A16,Feriados!A:A,1,FALSE))","v":"n"}]
[44577,10,{"$f":"IF(E17<>\"n\",COUNTIF(B17:$B$4018,B17),IF(D17<6,0,COUNTIF(B17:$B$4018,B17)))","v":1},7,{"$f":"IF(ISERROR(VLOOKUP(A17,Feriados!A:A,1,FALSE)),\"n\",VLOOKUP(A17,Feriados!A:A,1,FALSE))","v":"n"}]
[44578,11,{"$f":"IF(E18<>\"n\",COUNTIF(B18:$B$4018,B18),IF(D18<6,0,COUNTIF(B18:$B$4018,B18)))","v":0},1,{"$f":"IF(ISERROR(VLOOKUP(A18,Feriados!A:A,1,FALSE)),\"n\",VLOOKUP(A18,Feriados!A:A,1,FALSE))","v":"n"}]
[44579,12,{"$f":"IF(E19<>\"n\",COUNTIF(B19:$B$4018,B19),IF(D19<6,0,COUNTIF(B19:$B$4018,B19)))","v":0},2,{"$f":"IF(ISERROR(VLOOKUP(A19,Feriados!A:A,1,FALSE)),\"n\",VLOOKUP(A19,Feriados!A:A,1,FALSE))","v":"n"}]
[44580,13,{"$f":"IF(E20<>\"n\",COUNTIF(B20:$B$4018,B20),IF(D20<6,0,COUNTIF(B20:$B$4018,B20)))","v":0},3,{"$f":"IF(ISERROR(VLOOKUP(A20,Feriados!A:A,1,FALSE)),\"n\",VLOOKUP(A20,Feriados!A:A,1,FALSE))","v":"n"}]
[44581,14,{"$f":"IF(E21<>\"n\",COUNTIF(B21:$B$4018,B21),IF(D21<6,0,COUNTIF(B21:$B$4018,B21)))","v":0},4,{"$f":"IF(ISERROR(VLOOKUP(A21,Feriados!A:A,1,FALSE)),\"n\",VLOOKUP(A21,Feriados!A:A,1,FALSE))","v":"n"}]
[44582,15,{"$f":"IF(E22<>\"n\",COUNTIF(B22:$B$4018,B22),IF(D22<6,0,COUNTIF(B22:$B$4018,B22)))","v":0},5,{"$f":"IF(ISERROR(VLOOKUP(A22,Feriados!A:A,1,FALSE)),\"n\",VLOOKUP(A22,Feriados!A:A,1,FALSE))","v":"n"}]
[44583,15,{"$f":"IF(E23<>\"n\",COUNTIF(B23:$B$4018,B23),IF(D23<6,0,COUNTIF(B23:$B$4018,B23)))","v":2},6,{"$f":"IF(ISERROR(VLOOKUP(A23,Feriados!A:A,1,FALSE)),\"n\",VLOOKUP(A23,Feriados!A:A,1,FALSE))","v":"n"}]
[44584,15,{"$f":"IF(E24<>\"n\",COUNTIF(B24:$B$4018,B24),IF(D24<6,0,COUNTIF(B24:$B$4018,B24)))","v":1},7,{"$f":"IF(ISERROR(VLOOKUP(A24,Feriados!A:A,1,FALSE)),\"n\",VLOOKUP(A24,Feriados!A:A,1,FALSE))","v":"n"}]
[44585,16,{"$f":"IF(E25<>\"n\",COUNTIF(B25:$B$4018,B25),IF(D25<6,0,COUNTIF(B25:$B$4018,B25)))","v":0},1,{"$f":"IF(ISERROR(VLOOKUP(A25,Feriados!A:A,1,FALSE)),\"n\",VLOOKUP(A25,Feriados!A:A,1,FALSE))","v":"n"}]
[44586,17,{"$f":"IF(E26<>\"n\",COUNTIF(B26:$B$4018,B26),IF(D26<6,0,COUNTIF(B26:$B$4018,B26)))","v":0},2,{"$f":"IF(ISERROR(VLOOKUP(A26,Feriados!A:A,1,FALSE)),\"n\",VLOOKUP(A26,Feriados!A:A,1,FALSE))","v":"n"}]
[44587,18,{"$f":"IF(E27<>\"n\",COUNTIF(B27:$B$4018,B27),IF(D27<6,0,COUNTIF(B27:$B$4018,B27)))","v":0},3,{"$f":"IF(ISERROR(VLOOKUP(A27,Feriados!A:A,1,FALSE)),\"n\",VLOOKUP(A27,Feriados!A:A,1,FALSE))","v":"n"}]
[44588,19,{"$f":"IF(E28<>\"n\",COUNTIF(B28:$B$4018,B28),IF(D28<6,0,COUNTIF(B28:$B$4018,B28)))","v":0},4,{"$f":"IF(ISERROR(VLOOKUP(A28,Feriados!A:A,1,FALSE)),\"n\",VLOOKUP(A28,Feriados!A:A,1,FALSE))","v":"n"}]
[44589,20,{"$f":"IF(E29<>\"n\",COUNTIF(B29:$B$4018,B29),IF(D29<6,0,COUNTIF(B29:$B$4018,B29)))","v":0},5,{"$f":"IF(ISERROR(VLOOKUP(A29,Feriados!A:A,1,FALSE)),\"n\",VLOOKUP(A29,Feriados!A:A,1,FALSE))","v":"n"}]
[44590,20,{"$f":"IF(E30<>\"n\",COUNTIF(B30:$B$4018,B30),IF(D30<6,0,COUNTIF(B30:$B$4018,B30)))","v":2},6,{"$f":"IF(ISERROR(VLOOKUP(A30,Feriados!A:A,1,FALSE)),\"n\",VLOOKUP(A30,Feriados!A:A,1,FALSE))","v":"n"}]
[44591,20,{"$f":"IF(E31<>\"n\",COUNTIF(B31:$B$4018,B31),IF(D31<6,0,COUNTIF(B31:$B$4018,B31)))","v":1},7,{"$f":"IF(ISERROR(VLOOKUP(A31,Feriados!A:A,1,FALSE)),\"n\",VLOOKUP(A31,Feriados!A:A,1,FALSE))","v":"n"}]
[44592,21,{"$f":"IF(E32<>\"n\",COUNTIF(B32:$B$4018,B32),IF(D32<6,0,COUNTIF(B32:$B$4018,B32)))","v":0},1,{"$f":"IF(ISERROR(VLOOKUP(A32,Feriados!A:A,1,FALSE)),\"n\",VLOOKUP(A32,Feriados!A:A,1,FALSE))","v":"n"}]
[44593,22,{"$f":"IF(E33<>\"n\",COUNTIF(B33:$B$4018,B33),IF(D33<6,0,COUNTIF(B33:$B$4018,B33)))","v":0},2,{"$f":"IF(ISERROR(VLOOKUP(A33,Feriados!A:A,1,FALSE)),\"n\",VLOOKUP(A33,Feriados!A:A,1,FALSE))","v":"n"}]
[44594,23,{"$f":"IF(E34<>\"n\",COUNTIF(B34:$B$4018,B34),IF(D34<6,0,COUNTIF(B34:$B$4018,B34)))","v":0},3,{"$f":"IF(ISERROR(VLOOKUP(A34,Feriados!A:A,1,FALSE)),\"n\",VLOOKUP(A34,Feriados!A:A,1,FALSE))","v":"n"}]
[44595,24,{"$f":"IF(E35<>\"n\",COUNTIF(B35:$B$4018,B35),IF(D35<6,0,COUNTIF(B35:$B$4018,B35)))","v":0},4,{"$f":"IF(ISERROR(VLOOKUP(A35,Feriados!A:A,1,FALSE)),\"n\",VLOOKUP(A35,Feriados!A:A,1,FALSE))","v":"n"}]
[44596,25,{"$f":"IF(E36<>\"n\",COUNTIF(B36:$B$4018,B36),IF(D36<6,0,COUNTIF(B36:$B$4018,B36)))","v":0},5,{"$f":"IF(ISERROR(VLOOKUP(A36,Feriados!A:A,1,FALSE)),\"n\",VLOOKUP(A36,Feriados!A:A,1,FALSE))","v":"n"}]
[44597,25,{"$f":"IF(E37<>\"n\",COUNTIF(B37:$B$4018,B37),IF(D37<6,0,COUNTIF(B37:$B$4018,B37)))","v":2},6,{"$f":"IF(ISERROR(VLOOKUP(A37,Feriados!A:A,1,FALSE)),\"n\",VLOOKUP(A37,Feriados!A:A,1,FALSE))","v":"n"}]
[44598,25,{"$f":"IF(E38<>\"n\",COUNTIF(B38:$B$4018,B38),IF(D38<6,0,COUNTIF(B38:$B$4018,B38)))","v":1},7,{"$f":"IF(ISERROR(VLOOKUP(A38,Feriados!A:A,1,FALSE)),\"n\",VLOOKUP(A38,Feriados!A:A,1,FALSE))","v":"n"}]
[44599,26,{"$f":"IF(E39<>\"n\",COUNTIF(B39:$B$4018,B39),IF(D39<6,0,COUNTIF(B39:$B$4018,B39)))","v":0},1,{"$f":"IF(ISERROR(VLOOKUP(A39,Feriados!A:A,1,FALSE)),\"n\",VLOOKUP(A39,Feriados!A:A,1,FALSE))","v":"n"}]
[44600,27,{"$f":"IF(E40<>\"n\",COUNTIF(B40:$B$4018,B40),IF(D40<6,0,COUNTIF(B40:$B$4018,B40)))","v":0},2,{"$f":"IF(ISERROR(VLOOKUP(A40,Feriados!A:A,1,FALSE)),\"n\",VLOOKUP(A40,Feriados!A:A,1,FALSE))","v":"n"}]
[44601,28,{"$f":"IF(E41<>\"n\",COUNTIF(B41:$B$4018,B41),IF(D41<6,0,COUNTIF(B41:$B$4018,B41)))","v":0},3,{"$f":"IF(ISERROR(VLOOKUP(A41,Feriados!A:A,1,FALSE)),\"n\",VLOOKUP(A41,Feriados!A:A,1,FALSE))","v":"n"}]
[44602,29,{"$f":"IF(E42<>\"n\",COUNTIF(B42:$B$4018,B42),IF(D42<6,0,COUNTIF(B42:$B$4018,B42)))","v":0},4,{"$f":"IF(ISERROR(VLOOKUP(A42,Feriados!A:A,1,FALSE)),\"n\",VLOOKUP(A42,Feriados!A:A,1,FALSE))","v":"n"}]
[44603,30,{"$f":"IF(E43<>\"n\",COUNTIF(B43:$B$4018,B43),IF(D43<6,0,COUNTIF(B43:$B$4018,B43)))","v":0},5,{"$f":"IF(ISERROR(VLOOKUP(A43,Feriados!A:A,1,FALSE)),\"n\",VLOOKUP(A43,Feriados!A:A,1,FALSE))","v":"n"}]
[44604,30,{"$f":"IF(E44<>\"n\",COUNTIF(B44:$B$4018,B44),IF(D44<6,0,COUNTIF(B44:$B$4018,B44)))","v":2},6,{"$f":"IF(ISERROR(VLOOKUP(A44,Feriados!A:A,1,FALSE)),\"n\",VLOOKUP(A44,Feriados!A:A,1,FALSE))","v":"n"}]
[44605,30,{"$f":"IF(E45<>\"n\",COUNTIF(B45:$B$4018,B45),IF(D45<6,0,COUNTIF(B45:$B$4018,B45)))","v":1},7,{"$f":"IF(ISERROR(VLOOKUP(A45,Feriados!A:A,1,FALSE)),\"n\",VLOOKUP(A45,Feriados!A:A,1,FALSE))","v":"n"}]
[44606,31,{"$f":"IF(E46<>\"n\",COUNTIF(B46:$B$4018,B46),IF(D46<6,0,COUNTIF(B46:$B$4018,B46)))","v":0},1,{"$f":"IF(ISERROR(VLOOKUP(A46,Feriados!A:A,1,FALSE)),\"n\",VLOOKUP(A46,Feriados!A:A,1,FALSE))","v":"n"}]
[44607,32,{"$f":"IF(E47<>\"n\",COUNTIF(B47:$B$4018,B47),IF(D47<6,0,COUNTIF(B47:$B$4018,B47)))","v":0},2,{"$f":"IF(ISERROR(VLOOKUP(A47,Feriados!A:A,1,FALSE)),\"n\",VLOOKUP(A47,Feriados!A:A,1,FALSE))","v":"n"}]
[44608,33,{"$f":"IF(E48<>\"n\",COUNTIF(B48:$B$4018,B48),IF(D48<6,0,COUNTIF(B48:$B$4018,B48)))","v":0},3,{"$f":"IF(ISERROR(VLOOKUP(A48,Feriados!A:A,1,FALSE)),\"n\",VLOOKUP(A48,Feriados!A:A,1,FALSE))","v":"n"}]
[44609,34,{"$f":"IF(E49<>\"n\",COUNTIF(B49:$B$4018,B49),IF(D49<6,0,COUNTIF(B49:$B$4018,B49)))","v":0},4,{"$f":"IF(ISERROR(VLOOKUP(A49,Feriados!A:A,1,FALSE)),\"n\",VLOOKUP(A49,Feriados!A:A,1,FALSE))","v":"n"}]
[44610,35,{"$f":"IF(E50<>\"n\",COUNTIF(B50:$B$4018,B50),IF(D50<6,0,COUNTIF(B50:$B$4018,B50)))","v":0},5,{"$f":"IF(ISERROR(VLOOKUP(A50,Feriados!A:A,1,FALSE)),\"n\",VLOOKUP(A50,Feriados!A:A,1,FALSE))","v":"n"}]
[44611,35,{"$f":"IF(E51<>\"n\",COUNTIF(B51:$B$4018,B51),IF(D51<6,0,COUNTIF(B51:$B$4018,B51)))","v":2},6,{"$f":"IF(ISERROR(VLOOKUP(A51,Feriados!A:A,1,FALSE)),\"n\",VLOOKUP(A51,Feriados!A:A,1,FALSE))","v":"n"}]
[44612,35,{"$f":"IF(E52<>\"n\",COUNTIF(B52:$B$4018,B52),IF(D52<6,0,COUNTIF(B52:$B$4018,B52)))","v":1},7,{"$f":"IF(ISERROR(VLOOKUP(A52,Feriados!A:A,1,FALSE)),\"n\",VLOOKUP(A52,Feriados!A:A,1,FALSE))","v":"n"}]
[44613,36,{"$f":"IF(E53<>\"n\",COUNTIF(B53:$B$4018,B53),IF(D53<6,0,COUNTIF(B53:$B$4018,B53)))","v":0},1,{"$f":"IF(ISERROR(VLOOKUP(A53,Feriados!A:A,1,FALSE)),\"n\",VLOOKUP(A53,Feriados!A:A,1,FALSE))","v":"n"}]
[44614,37,{"$f":"IF(E54<>\"n\",COUNTIF(B54:$B$4018,B54),IF(D54<6,0,COUNTIF(B54:$B$4018,B54)))","v":0},2,{"$f":"IF(ISERROR(VLOOKUP(A54,Feriados!A:A,1,FALSE)),\"n\",VLOOKUP(A54,Feriados!A:A,1,FALSE))","v":"n"}]
[44615,38,{"$f":"IF(E55<>\"n\",COUNTIF(B55:$B$4018,B55),IF(D55<6,0,COUNTIF(B55:$B$4018,B55)))","v":0},3,{"$f":"IF(ISERROR(VLOOKUP(A55,Feriados!A:A,1,FALSE)),\"n\",VLOOKUP(A55,Feriados!A:A,1,FALSE))","v":"n"}]
[44616,39,{"$f":"IF(E56<>\"n\",COUNTIF(B56:$B$4018,B56),IF(D56<6,0,COUNTIF(B56:$B$4018,B56)))","v":0},4,{"$f":"IF(ISERROR(VLOOKUP(A56,Feriados!A:A,1,FALSE)),\"n\",VLOOKUP(A56,Feriados!A:A,1,FALSE))","v":"n"}]
[44617,40,{"$f":"IF(E57<>\"n\",COUNTIF(B57:$B$4018,B57),IF(D57<6,0,COUNTIF(B57:$B$4018,B57)))","v":0},5,{"$f":"IF(ISERROR(VLOOKUP(A57,Feriados!A:A,1,FALSE)),\"n\",VLOOKUP(A57,Feriados!A:A,1,FALSE))","v":"n"}]
[44618,40,{"$f":"IF(E58<>\"n\",COUNTIF(B58:$B$4018,B58),IF(D58<6,0,COUNTIF(B58:$B$4018,B58)))","v":4},6,{"$f":"IF(ISERROR(VLOOKUP(A58,Feriados!A:A,1,FALSE)),\"n\",VLOOKUP(A58,Feriados!A:A,1,FALSE))","v":"n"}]
[44619,40,{"$f":"IF(E59<>\"n\",COUNTIF(B59:$B$4018,B59),IF(D59<6,0,COUNTIF(B59:$B$4018,B59)))","v":3},7,{"$f":"IF(ISERROR(VLOOKUP(A59,Feriados!A:A,1,FALSE)),\"n\",VLOOKUP(A59,Feriados!A:A,1,FALSE))","v":"n"}]
[44620,40,{"$f":"IF(E60<>\"n\",COUNTIF(B60:$B$4018,B60),IF(D60<6,0,COUNTIF(B60:$B$4018,B60)))","v":2},1,{"$f":"IF(ISERROR(VLOOKUP(A60,Feriados!A:A,1,FALSE)),\"n\",VLOOKUP(A60,Feriados!A:A,1,FALSE))","v":"2022-02-28"}]
[44621,40,{"$f":"IF(E61<>\"n\",COUNTIF(B61:$B$4018,B61),IF(D61<6,0,COUNTIF(B61:$B$4018,B61)))","v":1},2,{"$f":"IF(ISERROR(VLOOKUP(A61,Feriados!A:A,1,FALSE)),\"n\",VLOOKUP(A61,Feriados!A:A,1,FALSE))","v":"2022-03-01"}]
[44622,41,{"$f":"IF(E62<>\"n\",COUNTIF(B62:$B$4018,B62),IF(D62<6,0,COUNTIF(B62:$B$4018,B62)))","v":0},3,{"$f":"IF(ISERROR(VLOOKUP(A62,Feriados!A:A,1,FALSE)),\"n\",VLOOKUP(A62,Feriados!A:A,1,FALSE))","v":"n"}]
[44623,42,{"$f":"IF(E63<>\"n\",COUNTIF(B63:$B$4018,B63),IF(D63<6,0,COUNTIF(B63:$B$4018,B63)))","v":0},4,{"$f":"IF(ISERROR(VLOOKUP(A63,Feriados!A:A,1,FALSE)),\"n\",VLOOKUP(A63,Feriados!A:A,1,FALSE))","v":"n"}]
[44624,43,{"$f":"IF(E64<>\"n\",COUNTIF(B64:$B$4018,B64),IF(D64<6,0,COUNTIF(B64:$B$4018,B64)))","v":0},5,{"$f":"IF(ISERROR(VLOOKUP(A64,Feriados!A:A,1,FALSE)),\"n\",VLOOKUP(A64,Feriados!A:A,1,FALSE))","v":"n"}]
[44625,43,{"$f":"IF(E65<>\"n\",COUNTIF(B65:$B$4018,B65),IF(D65<6,0,COUNTIF(B65:$B$4018,B65)))","v":2},6,{"$f":"IF(ISERROR(VLOOKUP(A65,Feriados!A:A,1,FALSE)),\"n\",VLOOKUP(A65,Feriados!A:A,1,FALSE))","v":"n"}]
[44626,43,{"$f":"IF(E66<>\"n\",COUNTIF(B66:$B$4018,B66),IF(D66<6,0,COUNTIF(B66:$B$4018,B66)))","v":1},7,{"$f":"IF(ISERROR(VLOOKUP(A66,Feriados!A:A,1,FALSE)),\"n\",VLOOKUP(A66,Feriados!A:A,1,FALSE))","v":"n"}]
[44627,{"$f":"NETWORKDAYS($A$2,A67,feriados)","v":44},{"$f":"IF(E67<>\"n\",COUNTIF(B67:$B$4018,B67),IF(D67<6,0,COUNTIF(B67:$B$4018,B67)))","v":0},{"$f":"WEEKDAY(A67,2)","v":1},{"$f":"IF(ISERROR(VLOOKUP(A67,Feriados!A:A,1,FALSE)),\"n\",VLOOKUP(A67,Feriados!A:A,1,FALSE))","v":"n"}]
[{"$f":"A67+1","v":44628},45,{"$f":"IF(E68<>\"n\",COUNTIF(B68:$B$4018,B68),IF(D68<6,0,COUNTIF(B68:$B$4018,B68)))","v":0},2,{"$f":"IF(ISERROR(VLOOKUP(A68,Feriados!A:A,1,FALSE)),\"n\",VLOOKUP(A68,Feriados!A:A,1,FALSE))","v":"n"}]
[44629,46,{"$f":"IF(E69<>\"n\",COUNTIF(B69:$B$4018,B69),IF(D69<6,0,COUNTIF(B69:$B$4018,B69)))","v":0},3,{"$f":"IF(ISERROR(VLOOKUP(A69,Feriados!A:A,1,FALSE)),\"n\",VLOOKUP(A69,Feriados!A:A,1,FALSE))","v":"n"}]
[44630,47,{"$f":"IF(E70<>\"n\",COUNTIF(B70:$B$4018,B70),IF(D70<6,0,COUNTIF(B70:$B$4018,B70)))","v":0},4,{"$f":"IF(ISERROR(VLOOKUP(A70,Feriados!A:A,1,FALSE)),\"n\",VLOOKUP(A70,Feriados!A:A,1,FALSE))","v":"n"}]
[44631,48,{"$f":"IF(E71<>\"n\",COUNTIF(B71:$B$4018,B71),IF(D71<6,0,COUNTIF(B71:$B$4018,B71)))","v":0},5,{"$f":"IF(ISERROR(VLOOKUP(A71,Feriados!A:A,1,FALSE)),\"n\",VLOOKUP(A71,Feriados!A:A,1,FALSE))","v":"n"}]
[44632,48,{"$f":"IF(E72<>\"n\",COUNTIF(B72:$B$4018,B72),IF(D72<6,0,COUNTIF(B72:$B$4018,B72)))","v":2},6,{"$f":"IF(ISERROR(VLOOKUP(A72,Feriados!A:A,1,FALSE)),\"n\",VLOOKUP(A72,Feriados!A:A,1,FALSE))","v":"n"}]
[44633,48,{"$f":"IF(E73<>\"n\",COUNTIF(B73:$B$4018,B73),IF(D73<6,0,COUNTIF(B73:$B$4018,B73)))","v":1},7,{"$f":"IF(ISERROR(VLOOKUP(A73,Feriados!A:A,1,FALSE)),\"n\",VLOOKUP(A73,Feriados!A:A,1,FALSE))","v":"n"}]
[44634,49,{"$f":"IF(E74<>\"n\",COUNTIF(B74:$B$4018,B74),IF(D74<6,0,COUNTIF(B74:$B$4018,B74)))","v":0},1,{"$f":"IF(ISERROR(VLOOKUP(A74,Feriados!A:A,1,FALSE)),\"n\",VLOOKUP(A74,Feriados!A:A,1,FALSE))","v":"n"}]
[44635,50,{"$f":"IF(E75<>\"n\",COUNTIF(B75:$B$4018,B75),IF(D75<6,0,COUNTIF(B75:$B$4018,B75)))","v":0},2,{"$f":"IF(ISERROR(VLOOKUP(A75,Feriados!A:A,1,FALSE)),\"n\",VLOOKUP(A75,Feriados!A:A,1,FALSE))","v":"n"}]
[44636,51,{"$f":"IF(E76<>\"n\",COUNTIF(B76:$B$4018,B76),IF(D76<6,0,COUNTIF(B76:$B$4018,B76)))","v":0},3,{"$f":"IF(ISERROR(VLOOKUP(A76,Feriados!A:A,1,FALSE)),\"n\",VLOOKUP(A76,Feriados!A:A,1,FALSE))","v":"n"}]
[44637,52,{"$f":"IF(E77<>\"n\",COUNTIF(B77:$B$4018,B77),IF(D77<6,0,COUNTIF(B77:$B$4018,B77)))","v":0},4,{"$f":"IF(ISERROR(VLOOKUP(A77,Feriados!A:A,1,FALSE)),\"n\",VLOOKUP(A77,Feriados!A:A,1,FALSE))","v":"n"}]
[44638,53,{"$f":"IF(E78<>\"n\",COUNTIF(B78:$B$4018,B78),IF(D78<6,0,COUNTIF(B78:$B$4018,B78)))","v":0},5,{"$f":"IF(ISERROR(VLOOKUP(A78,Feriados!A:A,1,FALSE)),\"n\",VLOOKUP(A78,Feriados!A:A,1,FALSE))","v":"n"}]
[44639,53,{"$f":"IF(E79<>\"n\",COUNTIF(B79:$B$4018,B79),IF(D79<6,0,COUNTIF(B79:$B$4018,B79)))","v":2},6,{"$f":"IF(ISERROR(VLOOKUP(A79,Feriados!A:A,1,FALSE)),\"n\",VLOOKUP(A79,Feriados!A:A,1,FALSE))","v":"n"}]
[44640,53,{"$f":"IF(E80<>\"n\",COUNTIF(B80:$B$4018,B80),IF(D80<6,0,COUNTIF(B80:$B$4018,B80)))","v":1},7,{"$f":"IF(ISERROR(VLOOKUP(A80,Feriados!A:A,1,FALSE)),\"n\",VLOOKUP(A80,Feriados!A:A,1,FALSE))","v":"n"}]
[44641,54,{"$f":"IF(E81<>\"n\",COUNTIF(B81:$B$4018,B81),IF(D81<6,0,COUNTIF(B81:$B$4018,B81)))","v":0},1,{"$f":"IF(ISERROR(VLOOKUP(A81,Feriados!A:A,1,FALSE)),\"n\",VLOOKUP(A81,Feriados!A:A,1,FALSE))","v":"n"}]
[44642,55,{"$f":"IF(E82<>\"n\",COUNTIF(B82:$B$4018,B82),IF(D82<6,0,COUNTIF(B82:$B$4018,B82)))","v":0},2,{"$f":"IF(ISERROR(VLOOKUP(A82,Feriados!A:A,1,FALSE)),\"n\",VLOOKUP(A82,Feriados!A:A,1,FALSE))","v":"n"}]
[44643,56,{"$f":"IF(E83<>\"n\",COUNTIF(B83:$B$4018,B83),IF(D83<6,0,COUNTIF(B83:$B$4018,B83)))","v":0},3,{"$f":"IF(ISERROR(VLOOKUP(A83,Feriados!A:A,1,FALSE)),\"n\",VLOOKUP(A83,Feriados!A:A,1,FALSE))","v":"n"}]
[44644,57,{"$f":"IF(E84<>\"n\",COUNTIF(B84:$B$4018,B84),IF(D84<6,0,COUNTIF(B84:$B$4018,B84)))","v":0},4,{"$f":"IF(ISERROR(VLOOKUP(A84,Feriados!A:A,1,FALSE)),\"n\",VLOOKUP(A84,Feriados!A:A,1,FALSE))","v":"n"}]
[44645,58,{"$f":"IF(E85<>\"n\",COUNTIF(B85:$B$4018,B85),IF(D85<6,0,COUNTIF(B85:$B$4018,B85)))","v":0},5,{"$f":"IF(ISERROR(VLOOKUP(A85,Feriados!A:A,1,FALSE)),\"n\",VLOOKUP(A85,Feriados!A:A,1,FALSE))","v":"n"}]
[44646,58,{"$f":"IF(E86<>\"n\",COUNTIF(B86:$B$4018,B86),IF(D86<6,0,COUNTIF(B86:$B$4018,B86)))","v":2},6,{"$f":"IF(ISERROR(VLOOKUP(A86,Feriados!A:A,1,FALSE)),\"n\",VLOOKUP(A86,Feriados!A:A,1,FALSE))","v":"n"}]
[44647,58,{"$f":"IF(E87<>\"n\",COUNTIF(B87:$B$4018,B87),IF(D87<6,0,COUNTIF(B87:$B$4018,B87)))","v":1},7,{"$f":"IF(ISERROR(VLOOKUP(A87,Feriados!A:A,1,FALSE)),\"n\",VLOOKUP(A87,Feriados!A:A,1,FALSE))","v":"n"}]
[44648,59,{"$f":"IF(E88<>\"n\",COUNTIF(B88:$B$4018,B88),IF(D88<6,0,COUNTIF(B88:$B$4018,B88)))","v":0},1,{"$f":"IF(ISERROR(VLOOKUP(A88,Feriados!A:A,1,FALSE)),\"n\",VLOOKUP(A88,Feriados!A:A,1,FALSE))","v":"n"}]
[44649,60,{"$f":"IF(E89<>\"n\",COUNTIF(B89:$B$4018,B89),IF(D89<6,0,COUNTIF(B89:$B$4018,B89)))","v":0},2,{"$f":"IF(ISERROR(VLOOKUP(A89,Feriados!A:A,1,FALSE)),\"n\",VLOOKUP(A89,Feriados!A:A,1,FALSE))","v":"n"}]
[44650,61,{"$f":"IF(E90<>\"n\",COUNTIF(B90:$B$4018,B90),IF(D90<6,0,COUNTIF(B90:$B$4018,B90)))","v":0},3,{"$f":"IF(ISERROR(VLOOKUP(A90,Feriados!A:A,1,FALSE)),\"n\",VLOOKUP(A90,Feriados!A:A,1,FALSE))","v":"n"}]
[44651,62,{"$f":"IF(E91<>\"n\",COUNTIF(B91:$B$4018,B91),IF(D91<6,0,COUNTIF(B91:$B$4018,B91)))","v":0},4,{"$f":"IF(ISERROR(VLOOKUP(A91,Feriados!A:A,1,FALSE)),\"n\",VLOOKUP(A91,Feriados!A:A,1,FALSE))","v":"n"}]
[44652,63,{"$f":"IF(E92<>\"n\",COUNTIF(B92:$B$4018,B92),IF(D92<6,0,COUNTIF(B92:$B$4018,B92)))","v":0},5,{"$f":"IF(ISERROR(VLOOKUP(A92,Feriados!A:A,1,FALSE)),\"n\",VLOOKUP(A92,Feriados!A:A,1,FALSE))","v":"n"}]
[44653,63,{"$f":"IF(E93<>\"n\",COUNTIF(B93:$B$4018,B93),IF(D93<6,0,COUNTIF(B93:$B$4018,B93)))","v":2},6,{"$f":"IF(ISERROR(VLOOKUP(A93,Feriados!A:A,1,FALSE)),\"n\",VLOOKUP(A93,Feriados!A:A,1,FALSE))","v":"n"}]
[44654,63,{"$f":"IF(E94<>\"n\",COUNTIF(B94:$B$4018,B94),IF(D94<6,0,COUNTIF(B94:$B$4018,B94)))","v":1},7,{"$f":"IF(ISERROR(VLOOKUP(A94,Feriados!A:A,1,FALSE)),\"n\",VLOOKUP(A94,Feriados!A:A,1,FALSE))","v":"n"}]
[44655,64,{"$f":"IF(E95<>\"n\",COUNTIF(B95:$B$4018,B95),IF(D95<6,0,COUNTIF(B95:$B$4018,B95)))","v":0},1,{"$f":"IF(ISERROR(VLOOKUP(A95,Feriados!A:A,1,FALSE)),\"n\",VLOOKUP(A95,Feriados!A:A,1,FALSE))","v":"n"}]
[44656,65,{"$f":"IF(E96<>\"n\",COUNTIF(B96:$B$4018,B96),IF(D96<6,0,COUNTIF(B96:$B$4018,B96)))","v":0},2,{"$f":"IF(ISERROR(VLOOKUP(A96,Feriados!A:A,1,FALSE)),\"n\",VLOOKUP(A96,Feriados!A:A,1,FALSE))","v":"n"}]
[44657,66,{"$f":"IF(E97<>\"n\",COUNTIF(B97:$B$4018,B97),IF(D97<6,0,COUNTIF(B97:$B$4018,B97)))","v":0},3,{"$f":"IF(ISERROR(VLOOKUP(A97,Feriados!A:A,1,FALSE)),\"n\",VLOOKUP(A97,Feriados!A:A,1,FALSE))","v":"n"}]
[44658,67,{"$f":"IF(E98<>\"n\",COUNTIF(B98:$B$4018,B98),IF(D98<6,0,COUNTIF(B98:$B$4018,B98)))","v":0},4,{"$f":"IF(ISERROR(VLOOKUP(A98,Feriados!A:A,1,FALSE)),\"n\",VLOOKUP(A98,Feriados!A:A,1,FALSE))","v":"n"}]
[44659,68,{"$f":"IF(E99<>\"n\",COUNTIF(B99:$B$4018,B99),IF(D99<6,0,COUNTIF(B99:$B$4018,B99)))","v":0},5,{"$f":"IF(ISERROR(VLOOKUP(A99,Feriados!A:A,1,FALSE)),\"n\",VLOOKUP(A99,Feriados!A:A,1,FALSE))","v":"n"}]
[44660,68,{"$f":"IF(E100<>\"n\",COUNTIF(B100:$B$4018,B100),IF(D100<6,0,COUNTIF(B100:$B$4018,B100)))","v":2},6,{"$f":"IF(ISERROR(VLOOKUP(A100,Feriados!A:A,1,FALSE)),\"n\",VLOOKUP(A100,Feriados!A:A,1,FALSE))","v":"n"}]
[44661,68,{"$f":"IF(E101<>\"n\",COUNTIF(B101:$B$4018,B101),IF(D101<6,0,COUNTIF(B101:$B$4018,B101)))","v":1},7,{"$f":"IF(ISERROR(VLOOKUP(A101,Feriados!A:A,1,FALSE)),\"n\",VLOOKUP(A101,Feriados!A:A,1,FALSE))","v":"n"}]
[44662,69,{"$f":"IF(E102<>\"n\",COUNTIF(B102:$B$4018,B102),IF(D102<6,0,COUNTIF(B102:$B$4018,B102)))","v":0},1,{"$f":"IF(ISERROR(VLOOKUP(A102,Feriados!A:A,1,FALSE)),\"n\",VLOOKUP(A102,Feriados!A:A,1,FALSE))","v":"n"}]
[44663,70,{"$f":"IF(E103<>\"n\",COUNTIF(B103:$B$4018,B103),IF(D103<6,0,COUNTIF(B103:$B$4018,B103)))","v":0},2,{"$f":"IF(ISERROR(VLOOKUP(A103,Feriados!A:A,1,FALSE)),\"n\",VLOOKUP(A103,Feriados!A:A,1,FALSE))","v":"n"}]
[44664,71,{"$f":"IF(E104<>\"n\",COUNTIF(B104:$B$4018,B104),IF(D104<6,0,COUNTIF(B104:$B$4018,B104)))","v":0},3,{"$f":"IF(ISERROR(VLOOKUP(A104,Feriados!A:A,1,FALSE)),\"n\",VLOOKUP(A104,Feriados!A:A,1,FALSE))","v":"n"}]
[44665,72,{"$f":"IF(E105<>\"n\",COUNTIF(B105:$B$4018,B105),IF(D105<6,0,COUNTIF(B105:$B$4018,B105)))","v":0},4,{"$f":"IF(ISERROR(VLOOKUP(A105,Feriados!A:A,1,FALSE)),\"n\",VLOOKUP(A105,Feriados!A:A,1,FALSE))","v":"n"}]
[44666,72,{"$f":"IF(E106<>\"n\",COUNTIF(B106:$B$4018,B106),IF(D106<6,0,COUNTIF(B106:$B$4018,B106)))","v":3},5,{"$f":"IF(ISERROR(VLOOKUP(A106,Feriados!A:A,1,FALSE)),\"n\",VLOOKUP(A106,Feriados!A:A,1,FALSE))","v":"2022-04-15"}]
[44667,72,{"$f":"IF(E107<>\"n\",COUNTIF(B107:$B$4018,B107),IF(D107<6,0,COUNTIF(B107:$B$4018,B107)))","v":2},6,{"$f":"IF(ISERROR(VLOOKUP(A107,Feriados!A:A,1,FALSE)),\"n\",VLOOKUP(A107,Feriados!A:A,1,FALSE))","v":"n"}]
[44668,72,{"$f":"IF(E108<>\"n\",COUNTIF(B108:$B$4018,B108),IF(D108<6,0,COUNTIF(B108:$B$4018,B108)))","v":1},7,{"$f":"IF(ISERROR(VLOOKUP(A108,Feriados!A:A,1,FALSE)),\"n\",VLOOKUP(A108,Feriados!A:A,1,FALSE))","v":"n"}]
[44669,73,{"$f":"IF(E109<>\"n\",COUNTIF(B109:$B$4018,B109),IF(D109<6,0,COUNTIF(B109:$B$4018,B109)))","v":0},1,{"$f":"IF(ISERROR(VLOOKUP(A109,Feriados!A:A,1,FALSE)),\"n\",VLOOKUP(A109,Feriados!A:A,1,FALSE))","v":"n"}]
[44670,74,{"$f":"IF(E110<>\"n\",COUNTIF(B110:$B$4018,B110),IF(D110<6,0,COUNTIF(B110:$B$4018,B110)))","v":0},2,{"$f":"IF(ISERROR(VLOOKUP(A110,Feriados!A:A,1,FALSE)),\"n\",VLOOKUP(A110,Feriados!A:A,1,FALSE))","v":"n"}]
[44671,75,{"$f":"IF(E111<>\"n\",COUNTIF(B111:$B$4018,B111),IF(D111<6,0,COUNTIF(B111:$B$4018,B111)))","v":0},3,{"$f":"IF(ISERROR(VLOOKUP(A111,Feriados!A:A,1,FALSE)),\"n\",VLOOKUP(A111,Feriados!A:A,1,FALSE))","v":"n"}]
[44672,75,{"$f":"IF(E112<>\"n\",COUNTIF(B112:$B$4018,B112),IF(D112<6,0,COUNTIF(B112:$B$4018,B112)))","v":1},4,{"$f":"IF(ISERROR(VLOOKUP(A112,Feriados!A:A,1,FALSE)),\"n\",VLOOKUP(A112,Feriados!A:A,1,FALSE))","v":"2022-04-21"}]
[44673,76,{"$f":"IF(E113<>\"n\",COUNTIF(B113:$B$4018,B113),IF(D113<6,0,COUNTIF(B113:$B$4018,B113)))","v":0},5,{"$f":"IF(ISERROR(VLOOKUP(A113,Feriados!A:A,1,FALSE)),\"n\",VLOOKUP(A113,Feriados!A:A,1,FALSE))","v":"n"}]
[44674,76,{"$f":"IF(E114<>\"n\",COUNTIF(B114:$B$4018,B114),IF(D114<6,0,COUNTIF(B114:$B$4018,B114)))","v":2},6,{"$f":"IF(ISERROR(VLOOKUP(A114,Feriados!A:A,1,FALSE)),\"n\",VLOOKUP(A114,Feriados!A:A,1,FALSE))","v":"n"}]
[44675,76,{"$f":"IF(E115<>\"n\",COUNTIF(B115:$B$4018,B115),IF(D115<6,0,COUNTIF(B115:$B$4018,B115)))","v":1},7,{"$f":"IF(ISERROR(VLOOKUP(A115,Feriados!A:A,1,FALSE)),\"n\",VLOOKUP(A115,Feriados!A:A,1,FALSE))","v":"n"}]
[44676,77,{"$f":"IF(E116<>\"n\",COUNTIF(B116:$B$4018,B116),IF(D116<6,0,COUNTIF(B116:$B$4018,B116)))","v":0},1,{"$f":"IF(ISERROR(VLOOKUP(A116,Feriados!A:A,1,FALSE)),\"n\",VLOOKUP(A116,Feriados!A:A,1,FALSE))","v":"n"}]
[44677,78,{"$f":"IF(E117<>\"n\",COUNTIF(B117:$B$4018,B117),IF(D117<6,0,COUNTIF(B117:$B$4018,B117)))","v":0},2,{"$f":"IF(ISERROR(VLOOKUP(A117,Feriados!A:A,1,FALSE)),\"n\",VLOOKUP(A117,Feriados!A:A,1,FALSE))","v":"n"}]
[44678,79,{"$f":"IF(E118<>\"n\",COUNTIF(B118:$B$4018,B118),IF(D118<6,0,COUNTIF(B118:$B$4018,B118)))","v":0},3,{"$f":"IF(ISERROR(VLOOKUP(A118,Feriados!A:A,1,FALSE)),\"n\",VLOOKUP(A118,Feriados!A:A,1,FALSE))","v":"n"}]
[44679,80,{"$f":"IF(E119<>\"n\",COUNTIF(B119:$B$4018,B119),IF(D119<6,0,COUNTIF(B119:$B$4018,B119)))","v":0},4,{"$f":"IF(ISERROR(VLOOKUP(A119,Feriados!A:A,1,FALSE)),\"n\",VLOOKUP(A119,Feriados!A:A,1,FALSE))","v":"n"}]
[44680,81,{"$f":"IF(E120<>\"n\",COUNTIF(B120:$B$4018,B120),IF(D120<6,0,COUNTIF(B120:$B$4018,B120)))","v":0},5,{"$f":"IF(ISERROR(VLOOKUP(A120,Feriados!A:A,1,FALSE)),\"n\",VLOOKUP(A120,Feriados!A:A,1,FALSE))","v":"n"}]
[44681,81,{"$f":"IF(E121<>\"n\",COUNTIF(B121:$B$4018,B121),IF(D121<6,0,COUNTIF(B121:$B$4018,B121)))","v":2},6,{"$f":"IF(ISERROR(VLOOKUP(A121,Feriados!A:A,1,FALSE)),\"n\",VLOOKUP(A121,Feriados!A:A,1,FALSE))","v":"n"}]
[44682,81,{"$f":"IF(E122<>\"n\",COUNTIF(B122:$B$4018,B122),IF(D122<6,0,COUNTIF(B122:$B$4018,B122)))","v":1},7,{"$f":"IF(ISERROR(VLOOKUP(A122,Feriados!A:A,1,FALSE)),\"n\",VLOOKUP(A122,Feriados!A:A,1,FALSE))","v":"2022-05-01"}]
[44683,82,{"$f":"IF(E123<>\"n\",COUNTIF(B123:$B$4018,B123),IF(D123<6,0,COUNTIF(B123:$B$4018,B123)))","v":0},1,{"$f":"IF(ISERROR(VLOOKUP(A123,Feriados!A:A,1,FALSE)),\"n\",VLOOKUP(A123,Feriados!A:A,1,FALSE))","v":"n"}]
[44684,83,{"$f":"IF(E124<>\"n\",COUNTIF(B124:$B$4018,B124),IF(D124<6,0,COUNTIF(B124:$B$4018,B124)))","v":0},2,{"$f":"IF(ISERROR(VLOOKUP(A124,Feriados!A:A,1,FALSE)),\"n\",VLOOKUP(A124,Feriados!A:A,1,FALSE))","v":"n"}]
[44685,84,{"$f":"IF(E125<>\"n\",COUNTIF(B125:$B$4018,B125),IF(D125<6,0,COUNTIF(B125:$B$4018,B125)))","v":0},3,{"$f":"IF(ISERROR(VLOOKUP(A125,Feriados!A:A,1,FALSE)),\"n\",VLOOKUP(A125,Feriados!A:A,1,FALSE))","v":"n"}]
[44686,85,{"$f":"IF(E126<>\"n\",COUNTIF(B126:$B$4018,B126),IF(D126<6,0,COUNTIF(B126:$B$4018,B126)))","v":0},4,{"$f":"IF(ISERROR(VLOOKUP(A126,Feriados!A:A,1,FALSE)),\"n\",VLOOKUP(A126,Feriados!A:A,1,FALSE))","v":"n"}]
[44687,86,{"$f":"IF(E127<>\"n\",COUNTIF(B127:$B$4018,B127),IF(D127<6,0,COUNTIF(B127:$B$4018,B127)))","v":0},5,{"$f":"IF(ISERROR(VLOOKUP(A127,Feriados!A:A,1,FALSE)),\"n\",VLOOKUP(A127,Feriados!A:A,1,FALSE))","v":"n"}]
[44688,86,{"$f":"IF(E128<>\"n\",COUNTIF(B128:$B$4018,B128),IF(D128<6,0,COUNTIF(B128:$B$4018,B128)))","v":2},6,{"$f":"IF(ISERROR(VLOOKUP(A128,Feriados!A:A,1,FALSE)),\"n\",VLOOKUP(A128,Feriados!A:A,1,FALSE))","v":"n"}]
[44689,86,{"$f":"IF(E129<>\"n\",COUNTIF(B129:$B$4018,B129),IF(D129<6,0,COUNTIF(B129:$B$4018,B129)))","v":1},7,{"$f":"IF(ISERROR(VLOOKUP(A129,Feriados!A:A,1,FALSE)),\"n\",VLOOKUP(A129,Feriados!A:A,1,FALSE))","v":"n"}]
[44690,87,{"$f":"IF(E130<>\"n\",COUNTIF(B130:$B$4018,B130),IF(D130<6,0,COUNTIF(B130:$B$4018,B130)))","v":0},1,{"$f":"IF(ISERROR(VLOOKUP(A130,Feriados!A:A,1,FALSE)),\"n\",VLOOKUP(A130,Feriados!A:A,1,FALSE))","v":"n"}]
[44691,{"$f":"NETWORKDAYS($A$2,A131,feriados)","v":88},{"$f":"IF(E131<>\"n\",COUNTIF(B131:$B$4018,B131),IF(D131<6,0,COUNTIF(B131:$B$4018,B131)))","v":0},{"$f":"WEEKDAY(A131,2)","v":2},{"$f":"IF(ISERROR(VLOOKUP(A131,Feriados!A:A,1,FALSE)),\"n\",VLOOKUP(A131,Feriados!A:A,1,FALSE))","v":"n"}]
[{"$f":"A131+1","v":44692},89,{"$f":"IF(E132<>\"n\",COUNTIF(B132:$B$4018,B132),IF(D132<6,0,COUNTIF(B132:$B$4018,B132)))","v":0},3,{"$f":"IF(ISERROR(VLOOKUP(A132,Feriados!A:A,1,FALSE)),\"n\",VLOOKUP(A132,Feriados!A:A,1,FALSE))","v":"n"}]
[44693,90,{"$f":"IF(E133<>\"n\",COUNTIF(B133:$B$4018,B133),IF(D133<6,0,COUNTIF(B133:$B$4018,B133)))","v":0},4,{"$f":"IF(ISERROR(VLOOKUP(A133,Feriados!A:A,1,FALSE)),\"n\",VLOOKUP(A133,Feriados!A:A,1,FALSE))","v":"n"}]
[44694,91,{"$f":"IF(E134<>\"n\",COUNTIF(B134:$B$4018,B134),IF(D134<6,0,COUNTIF(B134:$B$4018,B134)))","v":0},5,{"$f":"IF(ISERROR(VLOOKUP(A134,Feriados!A:A,1,FALSE)),\"n\",VLOOKUP(A134,Feriados!A:A,1,FALSE))","v":"n"}]
[44695,91,{"$f":"IF(E135<>\"n\",COUNTIF(B135:$B$4018,B135),IF(D135<6,0,COUNTIF(B135:$B$4018,B135)))","v":2},6,{"$f":"IF(ISERROR(VLOOKUP(A135,Feriados!A:A,1,FALSE)),\"n\",VLOOKUP(A135,Feriados!A:A,1,FALSE))","v":"n"}]
[44696,91,{"$f":"IF(E136<>\"n\",COUNTIF(B136:$B$4018,B136),IF(D136<6,0,COUNTIF(B136:$B$4018,B136)))","v":1},7,{"$f":"IF(ISERROR(VLOOKUP(A136,Feriados!A:A,1,FALSE)),\"n\",VLOOKUP(A136,Feriados!A:A,1,FALSE))","v":"n"}]
[44697,92,{"$f":"IF(E137<>\"n\",COUNTIF(B137:$B$4018,B137),IF(D137<6,0,COUNTIF(B137:$B$4018,B137)))","v":0},1,{"$f":"IF(ISERROR(VLOOKUP(A137,Feriados!A:A,1,FALSE)),\"n\",VLOOKUP(A137,Feriados!A:A,1,FALSE))","v":"n"}]
[44698,93,{"$f":"IF(E138<>\"n\",COUNTIF(B138:$B$4018,B138),IF(D138<6,0,COUNTIF(B138:$B$4018,B138)))","v":0},2,{"$f":"IF(ISERROR(VLOOKUP(A138,Feriados!A:A,1,FALSE)),\"n\",VLOOKUP(A138,Feriados!A:A,1,FALSE))","v":"n"}]
[44699,94,{"$f":"IF(E139<>\"n\",COUNTIF(B139:$B$4018,B139),IF(D139<6,0,COUNTIF(B139:$B$4018,B139)))","v":0},3,{"$f":"IF(ISERROR(VLOOKUP(A139,Feriados!A:A,1,FALSE)),\"n\",VLOOKUP(A139,Feriados!A:A,1,FALSE))","v":"n"}]
[44700,95,{"$f":"IF(E140<>\"n\",COUNTIF(B140:$B$4018,B140),IF(D140<6,0,COUNTIF(B140:$B$4018,B140)))","v":0},4,{"$f":"IF(ISERROR(VLOOKUP(A140,Feriados!A:A,1,FALSE)),\"n\",VLOOKUP(A140,Feriados!A:A,1,FALSE))","v":"n"}]
[44701,96,{"$f":"IF(E141<>\"n\",COUNTIF(B141:$B$4018,B141),IF(D141<6,0,COUNTIF(B141:$B$4018,B141)))","v":0},5,{"$f":"IF(ISERROR(VLOOKUP(A141,Feriados!A:A,1,FALSE)),\"n\",VLOOKUP(A141,Feriados!A:A,1,FALSE))","v":"n"}]
[44702,96,{"$f":"IF(E142<>\"n\",COUNTIF(B142:$B$4018,B142),IF(D142<6,0,COUNTIF(B142:$B$4018,B142)))","v":2},6,{"$f":"IF(ISERROR(VLOOKUP(A142,Feriados!A:A,1,FALSE)),\"n\",VLOOKUP(A142,Feriados!A:A,1,FALSE))","v":"n"}]
[44703,96,{"$f":"IF(E143<>\"n\",COUNTIF(B143:$B$4018,B143),IF(D143<6,0,COUNTIF(B143:$B$4018,B143)))","v":1},7,{"$f":"IF(ISERROR(VLOOKUP(A143,Feriados!A:A,1,FALSE)),\"n\",VLOOKUP(A143,Feriados!A:A,1,FALSE))","v":"n"}]
[44704,97,{"$f":"IF(E144<>\"n\",COUNTIF(B144:$B$4018,B144),IF(D144<6,0,COUNTIF(B144:$B$4018,B144)))","v":0},1,{"$f":"IF(ISERROR(VLOOKUP(A144,Feriados!A:A,1,FALSE)),\"n\",VLOOKUP(A144,Feriados!A:A,1,FALSE))","v":"n"}]
[44705,98,{"$f":"IF(E145<>\"n\",COUNTIF(B145:$B$4018,B145),IF(D145<6,0,COUNTIF(B145:$B$4018,B145)))","v":0},2,{"$f":"IF(ISERROR(VLOOKUP(A145,Feriados!A:A,1,FALSE)),\"n\",VLOOKUP(A145,Feriados!A:A,1,FALSE))","v":"n"}]
[44706,99,{"$f":"IF(E146<>\"n\",COUNTIF(B146:$B$4018,B146),IF(D146<6,0,COUNTIF(B146:$B$4018,B146)))","v":0},3,{"$f":"IF(ISERROR(VLOOKUP(A146,Feriados!A:A,1,FALSE)),\"n\",VLOOKUP(A146,Feriados!A:A,1,FALSE))","v":"n"}]
[44707,100,{"$f":"IF(E147<>\"n\",COUNTIF(B147:$B$4018,B147),IF(D147<6,0,COUNTIF(B147:$B$4018,B147)))","v":0},4,{"$f":"IF(ISERROR(VLOOKUP(A147,Feriados!A:A,1,FALSE)),\"n\",VLOOKUP(A147,Feriados!A:A,1,FALSE))","v":"n"}]
[44708,101,{"$f":"IF(E148<>\"n\",COUNTIF(B148:$B$4018,B148),IF(D148<6,0,COUNTIF(B148:$B$4018,B148)))","v":0},5,{"$f":"IF(ISERROR(VLOOKUP(A148,Feriados!A:A,1,FALSE)),\"n\",VLOOKUP(A148,Feriados!A:A,1,FALSE))","v":"n"}]
[44709,101,{"$f":"IF(E149<>\"n\",COUNTIF(B149:$B$4018,B149),IF(D149<6,0,COUNTIF(B149:$B$4018,B149)))","v":2},6,{"$f":"IF(ISERROR(VLOOKUP(A149,Feriados!A:A,1,FALSE)),\"n\",VLOOKUP(A149,Feriados!A:A,1,FALSE))","v":"n"}]
[44710,101,{"$f":"IF(E150<>\"n\",COUNTIF(B150:$B$4018,B150),IF(D150<6,0,COUNTIF(B150:$B$4018,B150)))","v":1},7,{"$f":"IF(ISERROR(VLOOKUP(A150,Feriados!A:A,1,FALSE)),\"n\",VLOOKUP(A150,Feriados!A:A,1,FALSE))","v":"n"}]
[44711,102,{"$f":"IF(E151<>\"n\",COUNTIF(B151:$B$4018,B151),IF(D151<6,0,COUNTIF(B151:$B$4018,B151)))","v":0},1,{"$f":"IF(ISERROR(VLOOKUP(A151,Feriados!A:A,1,FALSE)),\"n\",VLOOKUP(A151,Feriados!A:A,1,FALSE))","v":"n"}]
[44712,103,{"$f":"IF(E152<>\"n\",COUNTIF(B152:$B$4018,B152),IF(D152<6,0,COUNTIF(B152:$B$4018,B152)))","v":0},2,{"$f":"IF(ISERROR(VLOOKUP(A152,Feriados!A:A,1,FALSE)),\"n\",VLOOKUP(A152,Feriados!A:A,1,FALSE))","v":"n"}]
[44713,104,{"$f":"IF(E153<>\"n\",COUNTIF(B153:$B$4018,B153),IF(D153<6,0,COUNTIF(B153:$B$4018,B153)))","v":0},3,{"$f":"IF(ISERROR(VLOOKUP(A153,Feriados!A:A,1,FALSE)),\"n\",VLOOKUP(A153,Feriados!A:A,1,FALSE))","v":"n"}]
[44714,105,{"$f":"IF(E154<>\"n\",COUNTIF(B154:$B$4018,B154),IF(D154<6,0,COUNTIF(B154:$B$4018,B154)))","v":0},4,{"$f":"IF(ISERROR(VLOOKUP(A154,Feriados!A:A,1,FALSE)),\"n\",VLOOKUP(A154,Feriados!A:A,1,FALSE))","v":"n"}]
[44715,106,{"$f":"IF(E155<>\"n\",COUNTIF(B155:$B$4018,B155),IF(D155<6,0,COUNTIF(B155:$B$4018,B155)))","v":0},5,{"$f":"IF(ISERROR(VLOOKUP(A155,Feriados!A:A,1,FALSE)),\"n\",VLOOKUP(A155,Feriados!A:A,1,FALSE))","v":"n"}]
[44716,106,{"$f":"IF(E156<>\"n\",COUNTIF(B156:$B$4018,B156),IF(D156<6,0,COUNTIF(B156:$B$4018,B156)))","v":2},6,{"$f":"IF(ISERROR(VLOOKUP(A156,Feriados!A:A,1,FALSE)),\"n\",VLOOKUP(A156,Feriados!A:A,1,FALSE))","v":"n"}]
[44717,106,{"$f":"IF(E157<>\"n\",COUNTIF(B157:$B$4018,B157),IF(D157<6,0,COUNTIF(B157:$B$4018,B157)))","v":1},7,{"$f":"IF(ISERROR(VLOOKUP(A157,Feriados!A:A,1,FALSE)),\"n\",VLOOKUP(A157,Feriados!A:A,1,FALSE))","v":"n"}]
[44718,107,{"$f":"IF(E158<>\"n\",COUNTIF(B158:$B$4018,B158),IF(D158<6,0,COUNTIF(B158:$B$4018,B158)))","v":0},1,{"$f":"IF(ISERROR(VLOOKUP(A158,Feriados!A:A,1,FALSE)),\"n\",VLOOKUP(A158,Feriados!A:A,1,FALSE))","v":"n"}]
[44719,108,{"$f":"IF(E159<>\"n\",COUNTIF(B159:$B$4018,B159),IF(D159<6,0,COUNTIF(B159:$B$4018,B159)))","v":0},2,{"$f":"IF(ISERROR(VLOOKUP(A159,Feriados!A:A,1,FALSE)),\"n\",VLOOKUP(A159,Feriados!A:A,1,FALSE))","v":"n"}]
[44720,109,{"$f":"IF(E160<>\"n\",COUNTIF(B160:$B$4018,B160),IF(D160<6,0,COUNTIF(B160:$B$4018,B160)))","v":0},3,{"$f":"IF(ISERROR(VLOOKUP(A160,Feriados!A:A,1,FALSE)),\"n\",VLOOKUP(A160,Feriados!A:A,1,FALSE))","v":"n"}]
[44721,110,{"$f":"IF(E161<>\"n\",COUNTIF(B161:$B$4018,B161),IF(D161<6,0,COUNTIF(B161:$B$4018,B161)))","v":0},4,{"$f":"IF(ISERROR(VLOOKUP(A161,Feriados!A:A,1,FALSE)),\"n\",VLOOKUP(A161,Feriados!A:A,1,FALSE))","v":"n"}]
[44722,111,{"$f":"IF(E162<>\"n\",COUNTIF(B162:$B$4018,B162),IF(D162<6,0,COUNTIF(B162:$B$4018,B162)))","v":0},5,{"$f":"IF(ISERROR(VLOOKUP(A162,Feriados!A:A,1,FALSE)),\"n\",VLOOKUP(A162,Feriados!A:A,1,FALSE))","v":"n"}]
[44723,111,{"$f":"IF(E163<>\"n\",COUNTIF(B163:$B$4018,B163),IF(D163<6,0,COUNTIF(B163:$B$4018,B163)))","v":2},6,{"$f":"IF(ISERROR(VLOOKUP(A163,Feriados!A:A,1,FALSE)),\"n\",VLOOKUP(A163,Feriados!A:A,1,FALSE))","v":"n"}]
[44724,111,{"$f":"IF(E164<>\"n\",COUNTIF(B164:$B$4018,B164),IF(D164<6,0,COUNTIF(B164:$B$4018,B164)))","v":1},7,{"$f":"IF(ISERROR(VLOOKUP(A164,Feriados!A:A,1,FALSE)),\"n\",VLOOKUP(A164,Feriados!A:A,1,FALSE))","v":"n"}]
[44725,112,{"$f":"IF(E165<>\"n\",COUNTIF(B165:$B$4018,B165),IF(D165<6,0,COUNTIF(B165:$B$4018,B165)))","v":0},1,{"$f":"IF(ISERROR(VLOOKUP(A165,Feriados!A:A,1,FALSE)),\"n\",VLOOKUP(A165,Feriados!A:A,1,FALSE))","v":"n"}]
[44726,113,{"$f":"IF(E166<>\"n\",COUNTIF(B166:$B$4018,B166),IF(D166<6,0,COUNTIF(B166:$B$4018,B166)))","v":0},2,{"$f":"IF(ISERROR(VLOOKUP(A166,Feriados!A:A,1,FALSE)),\"n\",VLOOKUP(A166,Feriados!A:A,1,FALSE))","v":"n"}]
[44727,114,{"$f":"IF(E167<>\"n\",COUNTIF(B167:$B$4018,B167),IF(D167<6,0,COUNTIF(B167:$B$4018,B167)))","v":0},3,{"$f":"IF(ISERROR(VLOOKUP(A167,Feriados!A:A,1,FALSE)),\"n\",VLOOKUP(A167,Feriados!A:A,1,FALSE))","v":"n"}]
[44728,114,{"$f":"IF(E168<>\"n\",COUNTIF(B168:$B$4018,B168),IF(D168<6,0,COUNTIF(B168:$B$4018,B168)))","v":1},4,{"$f":"IF(ISERROR(VLOOKUP(A168,Feriados!A:A,1,FALSE)),\"n\",VLOOKUP(A168,Feriados!A:A,1,FALSE))","v":"2022-06-16"}]
[44729,115,{"$f":"IF(E169<>\"n\",COUNTIF(B169:$B$4018,B169),IF(D169<6,0,COUNTIF(B169:$B$4018,B169)))","v":0},5,{"$f":"IF(ISERROR(VLOOKUP(A169,Feriados!A:A,1,FALSE)),\"n\",VLOOKUP(A169,Feriados!A:A,1,FALSE))","v":"n"}]
[44730,115,{"$f":"IF(E170<>\"n\",COUNTIF(B170:$B$4018,B170),IF(D170<6,0,COUNTIF(B170:$B$4018,B170)))","v":2},6,{"$f":"IF(ISERROR(VLOOKUP(A170,Feriados!A:A,1,FALSE)),\"n\",VLOOKUP(A170,Feriados!A:A,1,FALSE))","v":"n"}]
[44731,115,{"$f":"IF(E171<>\"n\",COUNTIF(B171:$B$4018,B171),IF(D171<6,0,COUNTIF(B171:$B$4018,B171)))","v":1},7,{"$f":"IF(ISERROR(VLOOKUP(A171,Feriados!A:A,1,FALSE)),\"n\",VLOOKUP(A171,Feriados!A:A,1,FALSE))","v":"n"}]
[44732,116,{"$f":"IF(E172<>\"n\",COUNTIF(B172:$B$4018,B172),IF(D172<6,0,COUNTIF(B172:$B$4018,B172)))","v":0},1,{"$f":"IF(ISERROR(VLOOKUP(A172,Feriados!A:A,1,FALSE)),\"n\",VLOOKUP(A172,Feriados!A:A,1,FALSE))","v":"n"}]
[44733,117,{"$f":"IF(E173<>\"n\",COUNTIF(B173:$B$4018,B173),IF(D173<6,0,COUNTIF(B173:$B$4018,B173)))","v":0},2,{"$f":"IF(ISERROR(VLOOKUP(A173,Feriados!A:A,1,FALSE)),\"n\",VLOOKUP(A173,Feriados!A:A,1,FALSE))","v":"n"}]
[44734,118,{"$f":"IF(E174<>\"n\",COUNTIF(B174:$B$4018,B174),IF(D174<6,0,COUNTIF(B174:$B$4018,B174)))","v":0},3,{"$f":"IF(ISERROR(VLOOKUP(A174,Feriados!A:A,1,FALSE)),\"n\",VLOOKUP(A174,Feriados!A:A,1,FALSE))","v":"n"}]
[44735,119,{"$f":"IF(E175<>\"n\",COUNTIF(B175:$B$4018,B175),IF(D175<6,0,COUNTIF(B175:$B$4018,B175)))","v":0},4,{"$f":"IF(ISERROR(VLOOKUP(A175,Feriados!A:A,1,FALSE)),\"n\",VLOOKUP(A175,Feriados!A:A,1,FALSE))","v":"n"}]
[44736,120,{"$f":"IF(E176<>\"n\",COUNTIF(B176:$B$4018,B176),IF(D176<6,0,COUNTIF(B176:$B$4018,B176)))","v":0},5,{"$f":"IF(ISERROR(VLOOKUP(A176,Feriados!A:A,1,FALSE)),\"n\",VLOOKUP(A176,Feriados!A:A,1,FALSE))","v":"n"}]
[44737,120,{"$f":"IF(E177<>\"n\",COUNTIF(B177:$B$4018,B177),IF(D177<6,0,COUNTIF(B177:$B$4018,B177)))","v":2},6,{"$f":"IF(ISERROR(VLOOKUP(A177,Feriados!A:A,1,FALSE)),\"n\",VLOOKUP(A177,Feriados!A:A,1,FALSE))","v":"n"}]
[44738,120,{"$f":"IF(E178<>\"n\",COUNTIF(B178:$B$4018,B178),IF(D178<6,0,COUNTIF(B178:$B$4018,B178)))","v":1},7,{"$f":"IF(ISERROR(VLOOKUP(A178,Feriados!A:A,1,FALSE)),\"n\",VLOOKUP(A178,Feriados!A:A,1,FALSE))","v":"n"}]
[44739,121,{"$f":"IF(E179<>\"n\",COUNTIF(B179:$B$4018,B179),IF(D179<6,0,COUNTIF(B179:$B$4018,B179)))","v":0},1,{"$f":"IF(ISERROR(VLOOKUP(A179,Feriados!A:A,1,FALSE)),\"n\",VLOOKUP(A179,Feriados!A:A,1,FALSE))","v":"n"}]
[44740,122,{"$f":"IF(E180<>\"n\",COUNTIF(B180:$B$4018,B180),IF(D180<6,0,COUNTIF(B180:$B$4018,B180)))","v":0},2,{"$f":"IF(ISERROR(VLOOKUP(A180,Feriados!A:A,1,FALSE)),\"n\",VLOOKUP(A180,Feriados!A:A,1,FALSE))","v":"n"}]
[44741,123,{"$f":"IF(E181<>\"n\",COUNTIF(B181:$B$4018,B181),IF(D181<6,0,COUNTIF(B181:$B$4018,B181)))","v":0},3,{"$f":"IF(ISERROR(VLOOKUP(A181,Feriados!A:A,1,FALSE)),\"n\",VLOOKUP(A181,Feriados!A:A,1,FALSE))","v":"n"}]
[44742,124,{"$f":"IF(E182<>\"n\",COUNTIF(B182:$B$4018,B182),IF(D182<6,0,COUNTIF(B182:$B$4018,B182)))","v":0},4,{"$f":"IF(ISERROR(VLOOKUP(A182,Feriados!A:A,1,FALSE)),\"n\",VLOOKUP(A182,Feriados!A:A,1,FALSE))","v":"n"}]
[44743,125,{"$f":"IF(E183<>\"n\",COUNTIF(B183:$B$4018,B183),IF(D183<6,0,COUNTIF(B183:$B$4018,B183)))","v":0},5,{"$f":"IF(ISERROR(VLOOKUP(A183,Feriados!A:A,1,FALSE)),\"n\",VLOOKUP(A183,Feriados!A:A,1,FALSE))","v":"n"}]
[44744,125,{"$f":"IF(E184<>\"n\",COUNTIF(B184:$B$4018,B184),IF(D184<6,0,COUNTIF(B184:$B$4018,B184)))","v":2},6,{"$f":"IF(ISERROR(VLOOKUP(A184,Feriados!A:A,1,FALSE)),\"n\",VLOOKUP(A184,Feriados!A:A,1,FALSE))","v":"n"}]
[44745,125,{"$f":"IF(E185<>\"n\",COUNTIF(B185:$B$4018,B185),IF(D185<6,0,COUNTIF(B185:$B$4018,B185)))","v":1},7,{"$f":"IF(ISERROR(VLOOKUP(A185,Feriados!A:A,1,FALSE)),\"n\",VLOOKUP(A185,Feriados!A:A,1,FALSE))","v":"n"}]
[44746,126,{"$f":"IF(E186<>\"n\",COUNTIF(B186:$B$4018,B186),IF(D186<6,0,COUNTIF(B186:$B$4018,B186)))","v":0},1,{"$f":"IF(ISERROR(VLOOKUP(A186,Feriados!A:A,1,FALSE)),\"n\",VLOOKUP(A186,Feriados!A:A,1,FALSE))","v":"n"}]
[44747,127,{"$f":"IF(E187<>\"n\",COUNTIF(B187:$B$4018,B187),IF(D187<6,0,COUNTIF(B187:$B$4018,B187)))","v":0},2,{"$f":"IF(ISERROR(VLOOKUP(A187,Feriados!A:A,1,FALSE)),\"n\",VLOOKUP(A187,Feriados!A:A,1,FALSE))","v":"n"}]
[44748,128,{"$f":"IF(E188<>\"n\",COUNTIF(B188:$B$4018,B188),IF(D188<6,0,COUNTIF(B188:$B$4018,B188)))","v":0},3,{"$f":"IF(ISERROR(VLOOKUP(A188,Feriados!A:A,1,FALSE)),\"n\",VLOOKUP(A188,Feriados!A:A,1,FALSE))","v":"n"}]
[44749,129,{"$f":"IF(E189<>\"n\",COUNTIF(B189:$B$4018,B189),IF(D189<6,0,COUNTIF(B189:$B$4018,B189)))","v":0},4,{"$f":"IF(ISERROR(VLOOKUP(A189,Feriados!A:A,1,FALSE)),\"n\",VLOOKUP(A189,Feriados!A:A,1,FALSE))","v":"n"}]
[44750,130,{"$f":"IF(E190<>\"n\",COUNTIF(B190:$B$4018,B190),IF(D190<6,0,COUNTIF(B190:$B$4018,B190)))","v":0},5,{"$f":"IF(ISERROR(VLOOKUP(A190,Feriados!A:A,1,FALSE)),\"n\",VLOOKUP(A190,Feriados!A:A,1,FALSE))","v":"n"}]
[44751,130,{"$f":"IF(E191<>\"n\",COUNTIF(B191:$B$4018,B191),IF(D191<6,0,COUNTIF(B191:$B$4018,B191)))","v":2},6,{"$f":"IF(ISERROR(VLOOKUP(A191,Feriados!A:A,1,FALSE)),\"n\",VLOOKUP(A191,Feriados!A:A,1,FALSE))","v":"n"}]
[44752,130,{"$f":"IF(E192<>\"n\",COUNTIF(B192:$B$4018,B192),IF(D192<6,0,COUNTIF(B192:$B$4018,B192)))","v":1},7,{"$f":"IF(ISERROR(VLOOKUP(A192,Feriados!A:A,1,FALSE)),\"n\",VLOOKUP(A192,Feriados!A:A,1,FALSE))","v":"n"}]
[44753,131,{"$f":"IF(E193<>\"n\",COUNTIF(B193:$B$4018,B193),IF(D193<6,0,COUNTIF(B193:$B$4018,B193)))","v":0},1,{"$f":"IF(ISERROR(VLOOKUP(A193,Feriados!A:A,1,FALSE)),\"n\",VLOOKUP(A193,Feriados!A:A,1,FALSE))","v":"n"}]
[44754,132,{"$f":"IF(E194<>\"n\",COUNTIF(B194:$B$4018,B194),IF(D194<6,0,COUNTIF(B194:$B$4018,B194)))","v":0},2,{"$f":"IF(ISERROR(VLOOKUP(A194,Feriados!A:A,1,FALSE)),\"n\",VLOOKUP(A194,Feriados!A:A,1,FALSE))","v":"n"}]
[44755,{"$f":"NETWORKDAYS($A$2,A195,feriados)","v":133},{"$f":"IF(E195<>\"n\",COUNTIF(B195:$B$4018,B195),IF(D195<6,0,COUNTIF(B195:$B$4018,B195)))","v":0},{"$f":"WEEKDAY(A195,2)","v":3},{"$f":"IF(ISERROR(VLOOKUP(A195,Feriados!A:A,1,FALSE)),\"n\",VLOOKUP(A195,Feriados!A:A,1,FALSE))","v":"n"}]
[{"$f":"A195+1","v":44756},134,{"$f":"IF(E196<>\"n\",COUNTIF(B196:$B$4018,B196),IF(D196<6,0,COUNTIF(B196:$B$4018,B196)))","v":0},4,{"$f":"IF(ISERROR(VLOOKUP(A196,Feriados!A:A,1,FALSE)),\"n\",VLOOKUP(A196,Feriados!A:A,1,FALSE))","v":"n"}]
[44757,135,{"$f":"IF(E197<>\"n\",COUNTIF(B197:$B$4018,B197),IF(D197<6,0,COUNTIF(B197:$B$4018,B197)))","v":0},5,{"$f":"IF(ISERROR(VLOOKUP(A197,Feriados!A:A,1,FALSE)),\"n\",VLOOKUP(A197,Feriados!A:A,1,FALSE))","v":"n"}]
[44758,135,{"$f":"IF(E198<>\"n\",COUNTIF(B198:$B$4018,B198),IF(D198<6,0,COUNTIF(B198:$B$4018,B198)))","v":2},6,{"$f":"IF(ISERROR(VLOOKUP(A198,Feriados!A:A,1,FALSE)),\"n\",VLOOKUP(A198,Feriados!A:A,1,FALSE))","v":"n"}]
[44759,135,{"$f":"IF(E199<>\"n\",COUNTIF(B199:$B$4018,B199),IF(D199<6,0,COUNTIF(B199:$B$4018,B199)))","v":1},7,{"$f":"IF(ISERROR(VLOOKUP(A199,Feriados!A:A,1,FALSE)),\"n\",VLOOKUP(A199,Feriados!A:A,1,FALSE))","v":"n"}]
[44760,136,{"$f":"IF(E200<>\"n\",COUNTIF(B200:$B$4018,B200),IF(D200<6,0,COUNTIF(B200:$B$4018,B200)))","v":0},1,{"$f":"IF(ISERROR(VLOOKUP(A200,Feriados!A:A,1,FALSE)),\"n\",VLOOKUP(A200,Feriados!A:A,1,FALSE))","v":"n"}]
[44761,137,{"$f":"IF(E201<>\"n\",COUNTIF(B201:$B$4018,B201),IF(D201<6,0,COUNTIF(B201:$B$4018,B201)))","v":0},2,{"$f":"IF(ISERROR(VLOOKUP(A201,Feriados!A:A,1,FALSE)),\"n\",VLOOKUP(A201,Feriados!A:A,1,FALSE))","v":"n"}]
[44762,138,{"$f":"IF(E202<>\"n\",COUNTIF(B202:$B$4018,B202),IF(D202<6,0,COUNTIF(B202:$B$4018,B202)))","v":0},3,{"$f":"IF(ISERROR(VLOOKUP(A202,Feriados!A:A,1,FALSE)),\"n\",VLOOKUP(A202,Feriados!A:A,1,FALSE))","v":"n"}]
[44763,139,{"$f":"IF(E203<>\"n\",COUNTIF(B203:$B$4018,B203),IF(D203<6,0,COUNTIF(B203:$B$4018,B203)))","v":0},4,{"$f":"IF(ISERROR(VLOOKUP(A203,Feriados!A:A,1,FALSE)),\"n\",VLOOKUP(A203,Feriados!A:A,1,FALSE))","v":"n"}]
[44764,140,{"$f":"IF(E204<>\"n\",COUNTIF(B204:$B$4018,B204),IF(D204<6,0,COUNTIF(B204:$B$4018,B204)))","v":0},5,{"$f":"IF(ISERROR(VLOOKUP(A204,Feriados!A:A,1,FALSE)),\"n\",VLOOKUP(A204,Feriados!A:A,1,FALSE))","v":"n"}]
[44765,140,{"$f":"IF(E205<>\"n\",COUNTIF(B205:$B$4018,B205),IF(D205<6,0,COUNTIF(B205:$B$4018,B205)))","v":2},6,{"$f":"IF(ISERROR(VLOOKUP(A205,Feriados!A:A,1,FALSE)),\"n\",VLOOKUP(A205,Feriados!A:A,1,FALSE))","v":"n"}]
[44766,140,{"$f":"IF(E206<>\"n\",COUNTIF(B206:$B$4018,B206),IF(D206<6,0,COUNTIF(B206:$B$4018,B206)))","v":1},7,{"$f":"IF(ISERROR(VLOOKUP(A206,Feriados!A:A,1,FALSE)),\"n\",VLOOKUP(A206,Feriados!A:A,1,FALSE))","v":"n"}]
[44767,141,{"$f":"IF(E207<>\"n\",COUNTIF(B207:$B$4018,B207),IF(D207<6,0,COUNTIF(B207:$B$4018,B207)))","v":0},1,{"$f":"IF(ISERROR(VLOOKUP(A207,Feriados!A:A,1,FALSE)),\"n\",VLOOKUP(A207,Feriados!A:A,1,FALSE))","v":"n"}]
[44768,142,{"$f":"IF(E208<>\"n\",COUNTIF(B208:$B$4018,B208),IF(D208<6,0,COUNTIF(B208:$B$4018,B208)))","v":0},2,{"$f":"IF(ISERROR(VLOOKUP(A208,Feriados!A:A,1,FALSE)),\"n\",VLOOKUP(A208,Feriados!A:A,1,FALSE))","v":"n"}]
[44769,143,{"$f":"IF(E209<>\"n\",COUNTIF(B209:$B$4018,B209),IF(D209<6,0,COUNTIF(B209:$B$4018,B209)))","v":0},3,{"$f":"IF(ISERROR(VLOOKUP(A209,Feriados!A:A,1,FALSE)),\"n\",VLOOKUP(A209,Feriados!A:A,1,FALSE))","v":"n"}]
[44770,144,{"$f":"IF(E210<>\"n\",COUNTIF(B210:$B$4018,B210),IF(D210<6,0,COUNTIF(B210:$B$4018,B210)))","v":0},4,{"$f":"IF(ISERROR(VLOOKUP(A210,Feriados!A:A,1,FALSE)),\"n\",VLOOKUP(A210,Feriados!A:A,1,FALSE))","v":"n"}]
[44771,145,{"$f":"IF(E211<>\"n\",COUNTIF(B211:$B$4018,B211),IF(D211<6,0,COUNTIF(B211:$B$4018,B211)))","v":0},5,{"$f":"IF(ISERROR(VLOOKUP(A211,Feriados!A:A,1,FALSE)),\"n\",VLOOKUP(A211,Feriados!A:A,1,FALSE))","v":"n"}]
[44772,145,{"$f":"IF(E212<>\"n\",COUNTIF(B212:$B$4018,B212),IF(D212<6,0,COUNTIF(B212:$B$4018,B212)))","v":2},6,{"$f":"IF(ISERROR(VLOOKUP(A212,Feriados!A:A,1,FALSE)),\"n\",VLOOKUP(A212,Feriados!A:A,1,FALSE))","v":"n"}]
[44773,145,{"$f":"IF(E213<>\"n\",COUNTIF(B213:$B$4018,B213),IF(D213<6,0,COUNTIF(B213:$B$4018,B213)))","v":1},7,{"$f":"IF(ISERROR(VLOOKUP(A213,Feriados!A:A,1,FALSE)),\"n\",VLOOKUP(A213,Feriados!A:A,1,FALSE))","v":"n"}]
[44774,146,{"$f":"IF(E214<>\"n\",COUNTIF(B214:$B$4018,B214),IF(D214<6,0,COUNTIF(B214:$B$4018,B214)))","v":0},1,{"$f":"IF(ISERROR(VLOOKUP(A214,Feriados!A:A,1,FALSE)),\"n\",VLOOKUP(A214,Feriados!A:A,1,FALSE))","v":"n"}]
[44775,147,{"$f":"IF(E215<>\"n\",COUNTIF(B215:$B$4018,B215),IF(D215<6,0,COUNTIF(B215:$B$4018,B215)))","v":0},2,{"$f":"IF(ISERROR(VLOOKUP(A215,Feriados!A:A,1,FALSE)),\"n\",VLOOKUP(A215,Feriados!A:A,1,FALSE))","v":"n"}]
[44776,148,{"$f":"IF(E216<>\"n\",COUNTIF(B216:$B$4018,B216),IF(D216<6,0,COUNTIF(B216:$B$4018,B216)))","v":0},3,{"$f":"IF(ISERROR(VLOOKUP(A216,Feriados!A:A,1,FALSE)),\"n\",VLOOKUP(A216,Feriados!A:A,1,FALSE))","v":"n"}]
[44777,149,{"$f":"IF(E217<>\"n\",COUNTIF(B217:$B$4018,B217),IF(D217<6,0,COUNTIF(B217:$B$4018,B217)))","v":0},4,{"$f":"IF(ISERROR(VLOOKUP(A217,Feriados!A:A,1,FALSE)),\"n\",VLOOKUP(A217,Feriados!A:A,1,FALSE))","v":"n"}]
[44778,150,{"$f":"IF(E218<>\"n\",COUNTIF(B218:$B$4018,B218),IF(D218<6,0,COUNTIF(B218:$B$4018,B218)))","v":0},5,{"$f":"IF(ISERROR(VLOOKUP(A218,Feriados!A:A,1,FALSE)),\"n\",VLOOKUP(A218,Feriados!A:A,1,FALSE))","v":"n"}]
[44779,150,{"$f":"IF(E219<>\"n\",COUNTIF(B219:$B$4018,B219),IF(D219<6,0,COUNTIF(B219:$B$4018,B219)))","v":2},6,{"$f":"IF(ISERROR(VLOOKUP(A219,Feriados!A:A,1,FALSE)),\"n\",VLOOKUP(A219,Feriados!A:A,1,FALSE))","v":"n"}]
[44780,150,{"$f":"IF(E220<>\"n\",COUNTIF(B220:$B$4018,B220),IF(D220<6,0,COUNTIF(B220:$B$4018,B220)))","v":1},7,{"$f":"IF(ISERROR(VLOOKUP(A220,Feriados!A:A,1,FALSE)),\"n\",VLOOKUP(A220,Feriados!A:A,1,FALSE))","v":"n"}]
[44781,151,{"$f":"IF(E221<>\"n\",COUNTIF(B221:$B$4018,B221),IF(D221<6,0,COUNTIF(B221:$B$4018,B221)))","v":0},1,{"$f":"IF(ISERROR(VLOOKUP(A221,Feriados!A:A,1,FALSE)),\"n\",VLOOKUP(A221,Feriados!A:A,1,FALSE))","v":"n"}]
[44782,152,{"$f":"IF(E222<>\"n\",COUNTIF(B222:$B$4018,B222),IF(D222<6,0,COUNTIF(B222:$B$4018,B222)))","v":0},2,{"$f":"IF(ISERROR(VLOOKUP(A222,Feriados!A:A,1,FALSE)),\"n\",VLOOKUP(A222,Feriados!A:A,1,FALSE))","v":"n"}]
[44783,153,{"$f":"IF(E223<>\"n\",COUNTIF(B223:$B$4018,B223),IF(D223<6,0,COUNTIF(B223:$B$4018,B223)))","v":0},3,{"$f":"IF(ISERROR(VLOOKUP(A223,Feriados!A:A,1,FALSE)),\"n\",VLOOKUP(A223,Feriados!A:A,1,FALSE))","v":"n"}]
[44784,154,{"$f":"IF(E224<>\"n\",COUNTIF(B224:$B$4018,B224),IF(D224<6,0,COUNTIF(B224:$B$4018,B224)))","v":0},4,{"$f":"IF(ISERROR(VLOOKUP(A224,Feriados!A:A,1,FALSE)),\"n\",VLOOKUP(A224,Feriados!A:A,1,FALSE))","v":"n"}]
[44785,155,{"$f":"IF(E225<>\"n\",COUNTIF(B225:$B$4018,B225),IF(D225<6,0,COUNTIF(B225:$B$4018,B225)))","v":0},5,{"$f":"IF(ISERROR(VLOOKUP(A225,Feriados!A:A,1,FALSE)),\"n\",VLOOKUP(A225,Feriados!A:A,1,FALSE))","v":"n"}]
[44786,155,{"$f":"IF(E226<>\"n\",COUNTIF(B226:$B$4018,B226),IF(D226<6,0,COUNTIF(B226:$B$4018,B226)))","v":2},6,{"$f":"IF(ISERROR(VLOOKUP(A226,Feriados!A:A,1,FALSE)),\"n\",VLOOKUP(A226,Feriados!A:A,1,FALSE))","v":"n"}]
[44787,155,{"$f":"IF(E227<>\"n\",COUNTIF(B227:$B$4018,B227),IF(D227<6,0,COUNTIF(B227:$B$4018,B227)))","v":1},7,{"$f":"IF(ISERROR(VLOOKUP(A227,Feriados!A:A,1,FALSE)),\"n\",VLOOKUP(A227,Feriados!A:A,1,FALSE))","v":"n"}]
[44788,156,{"$f":"IF(E228<>\"n\",COUNTIF(B228:$B$4018,B228),IF(D228<6,0,COUNTIF(B228:$B$4018,B228)))","v":0},1,{"$f":"IF(ISERROR(VLOOKUP(A228,Feriados!A:A,1,FALSE)),\"n\",VLOOKUP(A228,Feriados!A:A,1,FALSE))","v":"n"}]
[44789,157,{"$f":"IF(E229<>\"n\",COUNTIF(B229:$B$4018,B229),IF(D229<6,0,COUNTIF(B229:$B$4018,B229)))","v":0},2,{"$f":"IF(ISERROR(VLOOKUP(A229,Feriados!A:A,1,FALSE)),\"n\",VLOOKUP(A229,Feriados!A:A,1,FALSE))","v":"n"}]
[44790,158,{"$f":"IF(E230<>\"n\",COUNTIF(B230:$B$4018,B230),IF(D230<6,0,COUNTIF(B230:$B$4018,B230)))","v":0},3,{"$f":"IF(ISERROR(VLOOKUP(A230,Feriados!A:A,1,FALSE)),\"n\",VLOOKUP(A230,Feriados!A:A,1,FALSE))","v":"n"}]
[44791,159,{"$f":"IF(E231<>\"n\",COUNTIF(B231:$B$4018,B231),IF(D231<6,0,COUNTIF(B231:$B$4018,B231)))","v":0},4,{"$f":"IF(ISERROR(VLOOKUP(A231,Feriados!A:A,1,FALSE)),\"n\",VLOOKUP(A231,Feriados!A:A,1,FALSE))","v":"n"}]
[44792,160,{"$f":"IF(E232<>\"n\",COUNTIF(B232:$B$4018,B232),IF(D232<6,0,COUNTIF(B232:$B$4018,B232)))","v":0},5,{"$f":"IF(ISERROR(VLOOKUP(A232,Feriados!A:A,1,FALSE)),\"n\",VLOOKUP(A232,Feriados!A:A,1,FALSE))","v":"n"}]
[44793,160,{"$f":"IF(E233<>\"n\",COUNTIF(B233:$B$4018,B233),IF(D233<6,0,COUNTIF(B233:$B$4018,B233)))","v":2},6,{"$f":"IF(ISERROR(VLOOKUP(A233,Feriados!A:A,1,FALSE)),\"n\",VLOOKUP(A233,Feriados!A:A,1,FALSE))","v":"n"}]
[44794,160,{"$f":"IF(E234<>\"n\",COUNTIF(B234:$B$4018,B234),IF(D234<6,0,COUNTIF(B234:$B$4018,B234)))","v":1},7,{"$f":"IF(ISERROR(VLOOKUP(A234,Feriados!A:A,1,FALSE)),\"n\",VLOOKUP(A234,Feriados!A:A,1,FALSE))","v":"n"}]
[44795,161,{"$f":"IF(E235<>\"n\",COUNTIF(B235:$B$4018,B235),IF(D235<6,0,COUNTIF(B235:$B$4018,B235)))","v":0},1,{"$f":"IF(ISERROR(VLOOKUP(A235,Feriados!A:A,1,FALSE)),\"n\",VLOOKUP(A235,Feriados!A:A,1,FALSE))","v":"n"}]
[44796,162,{"$f":"IF(E236<>\"n\",COUNTIF(B236:$B$4018,B236),IF(D236<6,0,COUNTIF(B236:$B$4018,B236)))","v":0},2,{"$f":"IF(ISERROR(VLOOKUP(A236,Feriados!A:A,1,FALSE)),\"n\",VLOOKUP(A236,Feriados!A:A,1,FALSE))","v":"n"}]
[44797,163,{"$f":"IF(E237<>\"n\",COUNTIF(B237:$B$4018,B237),IF(D237<6,0,COUNTIF(B237:$B$4018,B237)))","v":0},3,{"$f":"IF(ISERROR(VLOOKUP(A237,Feriados!A:A,1,FALSE)),\"n\",VLOOKUP(A237,Feriados!A:A,1,FALSE))","v":"n"}]
[44798,164,{"$f":"IF(E238<>\"n\",COUNTIF(B238:$B$4018,B238),IF(D238<6,0,COUNTIF(B238:$B$4018,B238)))","v":0},4,{"$f":"IF(ISERROR(VLOOKUP(A238,Feriados!A:A,1,FALSE)),\"n\",VLOOKUP(A238,Feriados!A:A,1,FALSE))","v":"n"}]
[44799,165,{"$f":"IF(E239<>\"n\",COUNTIF(B239:$B$4018,B239),IF(D239<6,0,COUNTIF(B239:$B$4018,B239)))","v":0},5,{"$f":"IF(ISERROR(VLOOKUP(A239,Feriados!A:A,1,FALSE)),\"n\",VLOOKUP(A239,Feriados!A:A,1,FALSE))","v":"n"}]
[44800,165,{"$f":"IF(E240<>\"n\",COUNTIF(B240:$B$4018,B240),IF(D240<6,0,COUNTIF(B240:$B$4018,B240)))","v":2},6,{"$f":"IF(ISERROR(VLOOKUP(A240,Feriados!A:A,1,FALSE)),\"n\",VLOOKUP(A240,Feriados!A:A,1,FALSE))","v":"n"}]
[44801,165,{"$f":"IF(E241<>\"n\",COUNTIF(B241:$B$4018,B241),IF(D241<6,0,COUNTIF(B241:$B$4018,B241)))","v":1},7,{"$f":"IF(ISERROR(VLOOKUP(A241,Feriados!A:A,1,FALSE)),\"n\",VLOOKUP(A241,Feriados!A:A,1,FALSE))","v":"n"}]
[44802,166,{"$f":"IF(E242<>\"n\",COUNTIF(B242:$B$4018,B242),IF(D242<6,0,COUNTIF(B242:$B$4018,B242)))","v":0},1,{"$f":"IF(ISERROR(VLOOKUP(A242,Feriados!A:A,1,FALSE)),\"n\",VLOOKUP(A242,Feriados!A:A,1,FALSE))","v":"n"}]
[44803,167,{"$f":"IF(E243<>\"n\",COUNTIF(B243:$B$4018,B243),IF(D243<6,0,COUNTIF(B243:$B$4018,B243)))","v":0},2,{"$f":"IF(ISERROR(VLOOKUP(A243,Feriados!A:A,1,FALSE)),\"n\",VLOOKUP(A243,Feriados!A:A,1,FALSE))","v":"n"}]
[44804,168,{"$f":"IF(E244<>\"n\",COUNTIF(B244:$B$4018,B244),IF(D244<6,0,COUNTIF(B244:$B$4018,B244)))","v":0},3,{"$f":"IF(ISERROR(VLOOKUP(A244,Feriados!A:A,1,FALSE)),\"n\",VLOOKUP(A244,Feriados!A:A,1,FALSE))","v":"n"}]
[44805,169,{"$f":"IF(E245<>\"n\",COUNTIF(B245:$B$4018,B245),IF(D245<6,0,COUNTIF(B245:$B$4018,B245)))","v":0},4,{"$f":"IF(ISERROR(VLOOKUP(A245,Feriados!A:A,1,FALSE)),\"n\",VLOOKUP(A245,Feriados!A:A,1,FALSE))","v":"n"}]
[44806,170,{"$f":"IF(E246<>\"n\",COUNTIF(B246:$B$4018,B246),IF(D246<6,0,COUNTIF(B246:$B$4018,B246)))","v":0},5,{"$f":"IF(ISERROR(VLOOKUP(A246,Feriados!A:A,1,FALSE)),\"n\",VLOOKUP(A246,Feriados!A:A,1,FALSE))","v":"n"}]
[44807,170,{"$f":"IF(E247<>\"n\",COUNTIF(B247:$B$4018,B247),IF(D247<6,0,COUNTIF(B247:$B$4018,B247)))","v":2},6,{"$f":"IF(ISERROR(VLOOKUP(A247,Feriados!A:A,1,FALSE)),\"n\",VLOOKUP(A247,Feriados!A:A,1,FALSE))","v":"n"}]
[44808,170,{"$f":"IF(E248<>\"n\",COUNTIF(B248:$B$4018,B248),IF(D248<6,0,COUNTIF(B248:$B$4018,B248)))","v":1},7,{"$f":"IF(ISERROR(VLOOKUP(A248,Feriados!A:A,1,FALSE)),\"n\",VLOOKUP(A248,Feriados!A:A,1,FALSE))","v":"n"}]
[44809,171,{"$f":"IF(E249<>\"n\",COUNTIF(B249:$B$4018,B249),IF(D249<6,0,COUNTIF(B249:$B$4018,B249)))","v":0},1,{"$f":"IF(ISERROR(VLOOKUP(A249,Feriados!A:A,1,FALSE)),\"n\",VLOOKUP(A249,Feriados!A:A,1,FALSE))","v":"n"}]
[44810,172,{"$f":"IF(E250<>\"n\",COUNTIF(B250:$B$4018,B250),IF(D250<6,0,COUNTIF(B250:$B$4018,B250)))","v":0},2,{"$f":"IF(ISERROR(VLOOKUP(A250,Feriados!A:A,1,FALSE)),\"n\",VLOOKUP(A250,Feriados!A:A,1,FALSE))","v":"n"}]
[44811,172,{"$f":"IF(E251<>\"n\",COUNTIF(B251:$B$4018,B251),IF(D251<6,0,COUNTIF(B251:$B$4018,B251)))","v":1},3,{"$f":"IF(ISERROR(VLOOKUP(A251,Feriados!A:A,1,FALSE)),\"n\",VLOOKUP(A251,Feriados!A:A,1,FALSE))","v":"2022-09-07"}]
[44812,173,{"$f":"IF(E252<>\"n\",COUNTIF(B252:$B$4018,B252),IF(D252<6,0,COUNTIF(B252:$B$4018,B252)))","v":0},4,{"$f":"IF(ISERROR(VLOOKUP(A252,Feriados!A:A,1,FALSE)),\"n\",VLOOKUP(A252,Feriados!A:A,1,FALSE))","v":"n"}]
[44813,174,{"$f":"IF(E253<>\"n\",COUNTIF(B253:$B$4018,B253),IF(D253<6,0,COUNTIF(B253:$B$4018,B253)))","v":0},5,{"$f":"IF(ISERROR(VLOOKUP(A253,Feriados!A:A,1,FALSE)),\"n\",VLOOKUP(A253,Feriados!A:A,1,FALSE))","v":"n"}]
[44814,174,{"$f":"IF(E254<>\"n\",COUNTIF(B254:$B$4018,B254),IF(D254<6,0,COUNTIF(B254:$B$4018,B254)))","v":2},6,{"$f":"IF(ISERROR(VLOOKUP(A254,Feriados!A:A,1,FALSE)),\"n\",VLOOKUP(A254,Feriados!A:A,1,FALSE))","v":"n"}]
[44815,174,{"$f":"IF(E255<>\"n\",COUNTIF(B255:$B$4018,B255),IF(D255<6,0,COUNTIF(B255:$B$4018,B255)))","v":1},7,{"$f":"IF(ISERROR(VLOOKUP(A255,Feriados!A:A,1,FALSE)),\"n\",VLOOKUP(A255,Feriados!A:A,1,FALSE))","v":"n"}]
[44816,175,{"$f":"IF(E256<>\"n\",COUNTIF(B256:$B$4018,B256),IF(D256<6,0,COUNTIF(B256:$B$4018,B256)))","v":0},1,{"$f":"IF(ISERROR(VLOOKUP(A256,Feriados!A:A,1,FALSE)),\"n\",VLOOKUP(A256,Feriados!A:A,1,FALSE))","v":"n"}]
[44817,176,{"$f":"IF(E257<>\"n\",COUNTIF(B257:$B$4018,B257),IF(D257<6,0,COUNTIF(B257:$B$4018,B257)))","v":0},2,{"$f":"IF(ISERROR(VLOOKUP(A257,Feriados!A:A,1,FALSE)),\"n\",VLOOKUP(A257,Feriados!A:A,1,FALSE))","v":"n"}]
[44818,177,{"$f":"IF(E258<>\"n\",COUNTIF(B258:$B$4018,B258),IF(D258<6,0,COUNTIF(B258:$B$4018,B258)))","v":0},3,{"$f":"IF(ISERROR(VLOOKUP(A258,Feriados!A:A,1,FALSE)),\"n\",VLOOKUP(A258,Feriados!A:A,1,FALSE))","v":"n"}]
[44819,{"$f":"NETWORKDAYS($A$2,A259,feriados)","v":178},{"$f":"IF(E259<>\"n\",COUNTIF(B259:$B$4018,B259),IF(D259<6,0,COUNTIF(B259:$B$4018,B259)))","v":0},{"$f":"WEEKDAY(A259,2)","v":4},{"$f":"IF(ISERROR(VLOOKUP(A259,Feriados!A:A,1,FALSE)),\"n\",VLOOKUP(A259,Feriados!A:A,1,FALSE))","v":"n"}]
[{"$f":"A259+1","v":44820},179,{"$f":"IF(E260<>\"n\",COUNTIF(B260:$B$4018,B260),IF(D260<6,0,COUNTIF(B260:$B$4018,B260)))","v":0},5,{"$f":"IF(ISERROR(VLOOKUP(A260,Feriados!A:A,1,FALSE)),\"n\",VLOOKUP(A260,Feriados!A:A,1,FALSE))","v":"n"}]
[44821,179,{"$f":"IF(E261<>\"n\",COUNTIF(B261:$B$4018,B261),IF(D261<6,0,COUNTIF(B261:$B$4018,B261)))","v":2},6,{"$f":"IF(ISERROR(VLOOKUP(A261,Feriados!A:A,1,FALSE)),\"n\",VLOOKUP(A261,Feriados!A:A,1,FALSE))","v":"n"}]
[44822,179,{"$f":"IF(E262<>\"n\",COUNTIF(B262:$B$4018,B262),IF(D262<6,0,COUNTIF(B262:$B$4018,B262)))","v":1},7,{"$f":"IF(ISERROR(VLOOKUP(A262,Feriados!A:A,1,FALSE)),\"n\",VLOOKUP(A262,Feriados!A:A,1,FALSE))","v":"n"}]
[44823,180,{"$f":"IF(E263<>\"n\",COUNTIF(B263:$B$4018,B263),IF(D263<6,0,COUNTIF(B263:$B$4018,B263)))","v":0},1,{"$f":"IF(ISERROR(VLOOKUP(A263,Feriados!A:A,1,FALSE)),\"n\",VLOOKUP(A263,Feriados!A:A,1,FALSE))","v":"n"}]
[44824,181,{"$f":"IF(E264<>\"n\",COUNTIF(B264:$B$4018,B264),IF(D264<6,0,COUNTIF(B264:$B$4018,B264)))","v":0},2,{"$f":"IF(ISERROR(VLOOKUP(A264,Feriados!A:A,1,FALSE)),\"n\",VLOOKUP(A264,Feriados!A:A,1,FALSE))","v":"n"}]
[44825,182,{"$f":"IF(E265<>\"n\",COUNTIF(B265:$B$4018,B265),IF(D265<6,0,COUNTIF(B265:$B$4018,B265)))","v":0},3,{"$f":"IF(ISERROR(VLOOKUP(A265,Feriados!A:A,1,FALSE)),\"n\",VLOOKUP(A265,Feriados!A:A,1,FALSE))","v":"n"}]
[44826,183,{"$f":"IF(E266<>\"n\",COUNTIF(B266:$B$4018,B266),IF(D266<6,0,COUNTIF(B266:$B$4018,B266)))","v":0},4,{"$f":"IF(ISERROR(VLOOKUP(A266,Feriados!A:A,1,FALSE)),\"n\",VLOOKUP(A266,Feriados!A:A,1,FALSE))","v":"n"}]
[44827,184,{"$f":"IF(E267<>\"n\",COUNTIF(B267:$B$4018,B267),IF(D267<6,0,COUNTIF(B267:$B$4018,B267)))","v":0},5,{"$f":"IF(ISERROR(VLOOKUP(A267,Feriados!A:A,1,FALSE)),\"n\",VLOOKUP(A267,Feriados!A:A,1,FALSE))","v":"n"}]
[44828,184,{"$f":"IF(E268<>\"n\",COUNTIF(B268:$B$4018,B268),IF(D268<6,0,COUNTIF(B268:$B$4018,B268)))","v":2},6,{"$f":"IF(ISERROR(VLOOKUP(A268,Feriados!A:A,1,FALSE)),\"n\",VLOOKUP(A268,Feriados!A:A,1,FALSE))","v":"n"}]
[44829,184,{"$f":"IF(E269<>\"n\",COUNTIF(B269:$B$4018,B269),IF(D269<6,0,COUNTIF(B269:$B$4018,B269)))","v":1},7,{"$f":"IF(ISERROR(VLOOKUP(A269,Feriados!A:A,1,FALSE)),\"n\",VLOOKUP(A269,Feriados!A:A,1,FALSE))","v":"n"}]
[44830,185,{"$f":"IF(E270<>\"n\",COUNTIF(B270:$B$4018,B270),IF(D270<6,0,COUNTIF(B270:$B$4018,B270)))","v":0},1,{"$f":"IF(ISERROR(VLOOKUP(A270,Feriados!A:A,1,FALSE)),\"n\",VLOOKUP(A270,Feriados!A:A,1,FALSE))","v":"n"}]
[44831,186,{"$f":"IF(E271<>\"n\",COUNTIF(B271:$B$4018,B271),IF(D271<6,0,COUNTIF(B271:$B$4018,B271)))","v":0},2,{"$f":"IF(ISERROR(VLOOKUP(A271,Feriados!A:A,1,FALSE)),\"n\",VLOOKUP(A271,Feriados!A:A,1,FALSE))","v":"n"}]
[44832,187,{"$f":"IF(E272<>\"n\",COUNTIF(B272:$B$4018,B272),IF(D272<6,0,COUNTIF(B272:$B$4018,B272)))","v":0},3,{"$f":"IF(ISERROR(VLOOKUP(A272,Feriados!A:A,1,FALSE)),\"n\",VLOOKUP(A272,Feriados!A:A,1,FALSE))","v":"n"}]
[44833,188,{"$f":"IF(E273<>\"n\",COUNTIF(B273:$B$4018,B273),IF(D273<6,0,COUNTIF(B273:$B$4018,B273)))","v":0},4,{"$f":"IF(ISERROR(VLOOKUP(A273,Feriados!A:A,1,FALSE)),\"n\",VLOOKUP(A273,Feriados!A:A,1,FALSE))","v":"n"}]
[44834,189,{"$f":"IF(E274<>\"n\",COUNTIF(B274:$B$4018,B274),IF(D274<6,0,COUNTIF(B274:$B$4018,B274)))","v":0},5,{"$f":"IF(ISERROR(VLOOKUP(A274,Feriados!A:A,1,FALSE)),\"n\",VLOOKUP(A274,Feriados!A:A,1,FALSE))","v":"n"}]
[44835,189,{"$f":"IF(E275<>\"n\",COUNTIF(B275:$B$4018,B275),IF(D275<6,0,COUNTIF(B275:$B$4018,B275)))","v":2},6,{"$f":"IF(ISERROR(VLOOKUP(A275,Feriados!A:A,1,FALSE)),\"n\",VLOOKUP(A275,Feriados!A:A,1,FALSE))","v":"n"}]
[44836,189,{"$f":"IF(E276<>\"n\",COUNTIF(B276:$B$4018,B276),IF(D276<6,0,COUNTIF(B276:$B$4018,B276)))","v":1},7,{"$f":"IF(ISERROR(VLOOKUP(A276,Feriados!A:A,1,FALSE)),\"n\",VLOOKUP(A276,Feriados!A:A,1,FALSE))","v":"n"}]
[44837,190,{"$f":"IF(E277<>\"n\",COUNTIF(B277:$B$4018,B277),IF(D277<6,0,COUNTIF(B277:$B$4018,B277)))","v":0},1,{"$f":"IF(ISERROR(VLOOKUP(A277,Feriados!A:A,1,FALSE)),\"n\",VLOOKUP(A277,Feriados!A:A,1,FALSE))","v":"n"}]
[44838,191,{"$f":"IF(E278<>\"n\",COUNTIF(B278:$B$4018,B278),IF(D278<6,0,COUNTIF(B278:$B$4018,B278)))","v":0},2,{"$f":"IF(ISERROR(VLOOKUP(A278,Feriados!A:A,1,FALSE)),\"n\",VLOOKUP(A278,Feriados!A:A,1,FALSE))","v":"n"}]
[44839,192,{"$f":"IF(E279<>\"n\",COUNTIF(B279:$B$4018,B279),IF(D279<6,0,COUNTIF(B279:$B$4018,B279)))","v":0},3,{"$f":"IF(ISERROR(VLOOKUP(A279,Feriados!A:A,1,FALSE)),\"n\",VLOOKUP(A279,Feriados!A:A,1,FALSE))","v":"n"}]
[44840,193,{"$f":"IF(E280<>\"n\",COUNTIF(B280:$B$4018,B280),IF(D280<6,0,COUNTIF(B280:$B$4018,B280)))","v":0},4,{"$f":"IF(ISERROR(VLOOKUP(A280,Feriados!A:A,1,FALSE)),\"n\",VLOOKUP(A280,Feriados!A:A,1,FALSE))","v":"n"}]
[44841,194,{"$f":"IF(E281<>\"n\",COUNTIF(B281:$B$4018,B281),IF(D281<6,0,COUNTIF(B281:$B$4018,B281)))","v":0},5,{"$f":"IF(ISERROR(VLOOKUP(A281,Feriados!A:A,1,FALSE)),\"n\",VLOOKUP(A281,Feriados!A:A,1,FALSE))","v":"n"}]
[44842,194,{"$f":"IF(E282<>\"n\",COUNTIF(B282:$B$4018,B282),IF(D282<6,0,COUNTIF(B282:$B$4018,B282)))","v":2},6,{"$f":"IF(ISERROR(VLOOKUP(A282,Feriados!A:A,1,FALSE)),\"n\",VLOOKUP(A282,Feriados!A:A,1,FALSE))","v":"n"}]
[44843,194,{"$f":"IF(E283<>\"n\",COUNTIF(B283:$B$4018,B283),IF(D283<6,0,COUNTIF(B283:$B$4018,B283)))","v":1},7,{"$f":"IF(ISERROR(VLOOKUP(A283,Feriados!A:A,1,FALSE)),\"n\",VLOOKUP(A283,Feriados!A:A,1,FALSE))","v":"n"}]
[44844,195,{"$f":"IF(E284<>\"n\",COUNTIF(B284:$B$4018,B284),IF(D284<6,0,COUNTIF(B284:$B$4018,B284)))","v":0},1,{"$f":"IF(ISERROR(VLOOKUP(A284,Feriados!A:A,1,FALSE)),\"n\",VLOOKUP(A284,Feriados!A:A,1,FALSE))","v":"n"}]
[44845,196,{"$f":"IF(E285<>\"n\",COUNTIF(B285:$B$4018,B285),IF(D285<6,0,COUNTIF(B285:$B$4018,B285)))","v":0},2,{"$f":"IF(ISERROR(VLOOKUP(A285,Feriados!A:A,1,FALSE)),\"n\",VLOOKUP(A285,Feriados!A:A,1,FALSE))","v":"n"}]
[44846,196,{"$f":"IF(E286<>\"n\",COUNTIF(B286:$B$4018,B286),IF(D286<6,0,COUNTIF(B286:$B$4018,B286)))","v":1},3,{"$f":"IF(ISERROR(VLOOKUP(A286,Feriados!A:A,1,FALSE)),\"n\",VLOOKUP(A286,Feriados!A:A,1,FALSE))","v":"2022-10-12"}]
[44847,197,{"$f":"IF(E287<>\"n\",COUNTIF(B287:$B$4018,B287),IF(D287<6,0,COUNTIF(B287:$B$4018,B287)))","v":0},4,{"$f":"IF(ISERROR(VLOOKUP(A287,Feriados!A:A,1,FALSE)),\"n\",VLOOKUP(A287,Feriados!A:A,1,FALSE))","v":"n"}]
[44848,198,{"$f":"IF(E288<>\"n\",COUNTIF(B288:$B$4018,B288),IF(D288<6,0,COUNTIF(B288:$B$4018,B288)))","v":0},5,{"$f":"IF(ISERROR(VLOOKUP(A288,Feriados!A:A,1,FALSE)),\"n\",VLOOKUP(A288,Feriados!A:A,1,FALSE))","v":"n"}]
[44849,198,{"$f":"IF(E289<>\"n\",COUNTIF(B289:$B$4018,B289),IF(D289<6,0,COUNTIF(B289:$B$4018,B289)))","v":2},6,{"$f":"IF(ISERROR(VLOOKUP(A289,Feriados!A:A,1,FALSE)),\"n\",VLOOKUP(A289,Feriados!A:A,1,FALSE))","v":"n"}]
[44850,198,{"$f":"IF(E290<>\"n\",COUNTIF(B290:$B$4018,B290),IF(D290<6,0,COUNTIF(B290:$B$4018,B290)))","v":1},7,{"$f":"IF(ISERROR(VLOOKUP(A290,Feriados!A:A,1,FALSE)),\"n\",VLOOKUP(A290,Feriados!A:A,1,FALSE))","v":"n"}]
[44851,199,{"$f":"IF(E291<>\"n\",COUNTIF(B291:$B$4018,B291),IF(D291<6,0,COUNTIF(B291:$B$4018,B291)))","v":0},1,{"$f":"IF(ISERROR(VLOOKUP(A291,Feriados!A:A,1,FALSE)),\"n\",VLOOKUP(A291,Feriados!A:A,1,FALSE))","v":"n"}]
[44852,200,{"$f":"IF(E292<>\"n\",COUNTIF(B292:$B$4018,B292),IF(D292<6,0,COUNTIF(B292:$B$4018,B292)))","v":0},2,{"$f":"IF(ISERROR(VLOOKUP(A292,Feriados!A:A,1,FALSE)),\"n\",VLOOKUP(A292,Feriados!A:A,1,FALSE))","v":"n"}]
[44853,201,{"$f":"IF(E293<>\"n\",COUNTIF(B293:$B$4018,B293),IF(D293<6,0,COUNTIF(B293:$B$4018,B293)))","v":0},3,{"$f":"IF(ISERROR(VLOOKUP(A293,Feriados!A:A,1,FALSE)),\"n\",VLOOKUP(A293,Feriados!A:A,1,FALSE))","v":"n"}]
[44854,202,{"$f":"IF(E294<>\"n\",COUNTIF(B294:$B$4018,B294),IF(D294<6,0,COUNTIF(B294:$B$4018,B294)))","v":0},4,{"$f":"IF(ISERROR(VLOOKUP(A294,Feriados!A:A,1,FALSE)),\"n\",VLOOKUP(A294,Feriados!A:A,1,FALSE))","v":"n"}]
[44855,203,{"$f":"IF(E295<>\"n\",COUNTIF(B295:$B$4018,B295),IF(D295<6,0,COUNTIF(B295:$B$4018,B295)))","v":0},5,{"$f":"IF(ISERROR(VLOOKUP(A295,Feriados!A:A,1,FALSE)),\"n\",VLOOKUP(A295,Feriados!A:A,1,FALSE))","v":"n"}]
[44856,203,{"$f":"IF(E296<>\"n\",COUNTIF(B296:$B$4018,B296),IF(D296<6,0,COUNTIF(B296:$B$4018,B296)))","v":2},6,{"$f":"IF(ISERROR(VLOOKUP(A296,Feriados!A:A,1,FALSE)),\"n\",VLOOKUP(A296,Feriados!A:A,1,FALSE))","v":"n"}]
[44857,203,{"$f":"IF(E297<>\"n\",COUNTIF(B297:$B$4018,B297),IF(D297<6,0,COUNTIF(B297:$B$4018,B297)))","v":1},7,{"$f":"IF(ISERROR(VLOOKUP(A297,Feriados!A:A,1,FALSE)),\"n\",VLOOKUP(A297,Feriados!A:A,1,FALSE))","v":"n"}]
[44858,204,{"$f":"IF(E298<>\"n\",COUNTIF(B298:$B$4018,B298),IF(D298<6,0,COUNTIF(B298:$B$4018,B298)))","v":0},1,{"$f":"IF(ISERROR(VLOOKUP(A298,Feriados!A:A,1,FALSE)),\"n\",VLOOKUP(A298,Feriados!A:A,1,FALSE))","v":"n"}]
[44859,205,{"$f":"IF(E299<>\"n\",COUNTIF(B299:$B$4018,B299),IF(D299<6,0,COUNTIF(B299:$B$4018,B299)))","v":0},2,{"$f":"IF(ISERROR(VLOOKUP(A299,Feriados!A:A,1,FALSE)),\"n\",VLOOKUP(A299,Feriados!A:A,1,FALSE))","v":"n"}]
[44860,206,{"$f":"IF(E300<>\"n\",COUNTIF(B300:$B$4018,B300),IF(D300<6,0,COUNTIF(B300:$B$4018,B300)))","v":0},3,{"$f":"IF(ISERROR(VLOOKUP(A300,Feriados!A:A,1,FALSE)),\"n\",VLOOKUP(A300,Feriados!A:A,1,FALSE))","v":"n"}]
[44861,207,{"$f":"IF(E301<>\"n\",COUNTIF(B301:$B$4018,B301),IF(D301<6,0,COUNTIF(B301:$B$4018,B301)))","v":0},4,{"$f":"IF(ISERROR(VLOOKUP(A301,Feriados!A:A,1,FALSE)),\"n\",VLOOKUP(A301,Feriados!A:A,1,FALSE))","v":"n"}]
[44862,208,{"$f":"IF(E302<>\"n\",COUNTIF(B302:$B$4018,B302),IF(D302<6,0,COUNTIF(B302:$B$4018,B302)))","v":0},5,{"$f":"IF(ISERROR(VLOOKUP(A302,Feriados!A:A,1,FALSE)),\"n\",VLOOKUP(A302,Feriados!A:A,1,FALSE))","v":"n"}]
[44863,208,{"$f":"IF(E303<>\"n\",COUNTIF(B303:$B$4018,B303),IF(D303<6,0,COUNTIF(B303:$B$4018,B303)))","v":2},6,{"$f":"IF(ISERROR(VLOOKUP(A303,Feriados!A:A,1,FALSE)),\"n\",VLOOKUP(A303,Feriados!A:A,1,FALSE))","v":"n"}]
[44864,208,{"$f":"IF(E304<>\"n\",COUNTIF(B304:$B$4018,B304),IF(D304<6,0,COUNTIF(B304:$B$4018,B304)))","v":1},7,{"$f":"IF(ISERROR(VLOOKUP(A304,Feriados!A:A,1,FALSE)),\"n\",VLOOKUP(A304,Feriados!A:A,1,FALSE))","v":"n"}]
[44865,209,{"$f":"IF(E305<>\"n\",COUNTIF(B305:$B$4018,B305),IF(D305<6,0,COUNTIF(B305:$B$4018,B305)))","v":0},1,{"$f":"IF(ISERROR(VLOOKUP(A305,Feriados!A:A,1,FALSE)),\"n\",VLOOKUP(A305,Feriados!A:A,1,FALSE))","v":"n"}]
[44866,210,{"$f":"IF(E306<>\"n\",COUNTIF(B306:$B$4018,B306),IF(D306<6,0,COUNTIF(B306:$B$4018,B306)))","v":0},2,{"$f":"IF(ISERROR(VLOOKUP(A306,Feriados!A:A,1,FALSE)),\"n\",VLOOKUP(A306,Feriados!A:A,1,FALSE))","v":"n"}]
[44867,210,{"$f":"IF(E307<>\"n\",COUNTIF(B307:$B$4018,B307),IF(D307<6,0,COUNTIF(B307:$B$4018,B307)))","v":1},3,{"$f":"IF(ISERROR(VLOOKUP(A307,Feriados!A:A,1,FALSE)),\"n\",VLOOKUP(A307,Feriados!A:A,1,FALSE))","v":"2022-11-02"}]
[44868,211,{"$f":"IF(E308<>\"n\",COUNTIF(B308:$B$4018,B308),IF(D308<6,0,COUNTIF(B308:$B$4018,B308)))","v":0},4,{"$f":"IF(ISERROR(VLOOKUP(A308,Feriados!A:A,1,FALSE)),\"n\",VLOOKUP(A308,Feriados!A:A,1,FALSE))","v":"n"}]
[44869,212,{"$f":"IF(E309<>\"n\",COUNTIF(B309:$B$4018,B309),IF(D309<6,0,COUNTIF(B309:$B$4018,B309)))","v":0},5,{"$f":"IF(ISERROR(VLOOKUP(A309,Feriados!A:A,1,FALSE)),\"n\",VLOOKUP(A309,Feriados!A:A,1,FALSE))","v":"n"}]
[44870,212,{"$f":"IF(E310<>\"n\",COUNTIF(B310:$B$4018,B310),IF(D310<6,0,COUNTIF(B310:$B$4018,B310)))","v":2},6,{"$f":"IF(ISERROR(VLOOKUP(A310,Feriados!A:A,1,FALSE)),\"n\",VLOOKUP(A310,Feriados!A:A,1,FALSE))","v":"n"}]
[44871,212,{"$f":"IF(E311<>\"n\",COUNTIF(B311:$B$4018,B311),IF(D311<6,0,COUNTIF(B311:$B$4018,B311)))","v":1},7,{"$f":"IF(ISERROR(VLOOKUP(A311,Feriados!A:A,1,FALSE)),\"n\",VLOOKUP(A311,Feriados!A:A,1,FALSE))","v":"n"}]
[44872,213,{"$f":"IF(E312<>\"n\",COUNTIF(B312:$B$4018,B312),IF(D312<6,0,COUNTIF(B312:$B$4018,B312)))","v":0},1,{"$f":"IF(ISERROR(VLOOKUP(A312,Feriados!A:A,1,FALSE)),\"n\",VLOOKUP(A312,Feriados!A:A,1,FALSE))","v":"n"}]
[44873,214,{"$f":"IF(E313<>\"n\",COUNTIF(B313:$B$4018,B313),IF(D313<6,0,COUNTIF(B313:$B$4018,B313)))","v":0},2,{"$f":"IF(ISERROR(VLOOKUP(A313,Feriados!A:A,1,FALSE)),\"n\",VLOOKUP(A313,Feriados!A:A,1,FALSE))","v":"n"}]
[44874,215,{"$f":"IF(E314<>\"n\",COUNTIF(B314:$B$4018,B314),IF(D314<6,0,COUNTIF(B314:$B$4018,B314)))","v":0},3,{"$f":"IF(ISERROR(VLOOKUP(A314,Feriados!A:A,1,FALSE)),\"n\",VLOOKUP(A314,Feriados!A:A,1,FALSE))","v":"n"}]
[44875,216,{"$f":"IF(E315<>\"n\",COUNTIF(B315:$B$4018,B315),IF(D315<6,0,COUNTIF(B315:$B$4018,B315)))","v":0},4,{"$f":"IF(ISERROR(VLOOKUP(A315,Feriados!A:A,1,FALSE)),\"n\",VLOOKUP(A315,Feriados!A:A,1,FALSE))","v":"n"}]
[44876,217,{"$f":"IF(E316<>\"n\",COUNTIF(B316:$B$4018,B316),IF(D316<6,0,COUNTIF(B316:$B$4018,B316)))","v":0},5,{"$f":"IF(ISERROR(VLOOKUP(A316,Feriados!A:A,1,FALSE)),\"n\",VLOOKUP(A316,Feriados!A:A,1,FALSE))","v":"n"}]
[44877,217,{"$f":"IF(E317<>\"n\",COUNTIF(B317:$B$4018,B317),IF(D317<6,0,COUNTIF(B317:$B$4018,B317)))","v":2},6,{"$f":"IF(ISERROR(VLOOKUP(A317,Feriados!A:A,1,FALSE)),\"n\",VLOOKUP(A317,Feriados!A:A,1,FALSE))","v":"n"}]
[44878,217,{"$f":"IF(E318<>\"n\",COUNTIF(B318:$B$4018,B318),IF(D318<6,0,COUNTIF(B318:$B$4018,B318)))","v":1},7,{"$f":"IF(ISERROR(VLOOKUP(A318,Feriados!A:A,1,FALSE)),\"n\",VLOOKUP(A318,Feriados!A:A,1,FALSE))","v":"n"}]
[44879,218,{"$f":"IF(E319<>\"n\",COUNTIF(B319:$B$4018,B319),IF(D319<6,0,COUNTIF(B319:$B$4018,B319)))","v":0},1,{"$f":"IF(ISERROR(VLOOKUP(A319,Feriados!A:A,1,FALSE)),\"n\",VLOOKUP(A319,Feriados!A:A,1,FALSE))","v":"n"}]
[44880,218,{"$f":"IF(E320<>\"n\",COUNTIF(B320:$B$4018,B320),IF(D320<6,0,COUNTIF(B320:$B$4018,B320)))","v":1},2,{"$f":"IF(ISERROR(VLOOKUP(A320,Feriados!A:A,1,FALSE)),\"n\",VLOOKUP(A320,Feriados!A:A,1,FALSE))","v":"2022-11-15"}]
[44881,219,{"$f":"IF(E321<>\"n\",COUNTIF(B321:$B$4018,B321),IF(D321<6,0,COUNTIF(B321:$B$4018,B321)))","v":0},3,{"$f":"IF(ISERROR(VLOOKUP(A321,Feriados!A:A,1,FALSE)),\"n\",VLOOKUP(A321,Feriados!A:A,1,FALSE))","v":"n"}]
[44882,220,{"$f":"IF(E322<>\"n\",COUNTIF(B322:$B$4018,B322),IF(D322<6,0,COUNTIF(B322:$B$4018,B322)))","v":0},4,{"$f":"IF(ISERROR(VLOOKUP(A322,Feriados!A:A,1,FALSE)),\"n\",VLOOKUP(A322,Feriados!A:A,1,FALSE))","v":"n"}]
[44883,{"$f":"NETWORKDAYS($A$2,A323,feriados)","v":221},{"$f":"IF(E323<>\"n\",COUNTIF(B323:$B$4018,B323),IF(D323<6,0,COUNTIF(B323:$B$4018,B323)))","v":0},{"$f":"WEEKDAY(A323,2)","v":5},{"$f":"IF(ISERROR(VLOOKUP(A323,Feriados!A:A,1,FALSE)),\"n\",VLOOKUP(A323,Feriados!A:A,1,FALSE))","v":"n"}]
[{"$f":"A323+1","v":44884},221,{"$f":"IF(E324<>\"n\",COUNTIF(B324:$B$4018,B324),IF(D324<6,0,COUNTIF(B324:$B$4018,B324)))","v":2},6,{"$f":"IF(ISERROR(VLOOKUP(A324,Feriados!A:A,1,FALSE)),\"n\",VLOOKUP(A324,Feriados!A:A,1,FALSE))","v":"n"}]
[44885,221,{"$f":"IF(E325<>\"n\",COUNTIF(B325:$B$4018,B325),IF(D325<6,0,COUNTIF(B325:$B$4018,B325)))","v":1},7,{"$f":"IF(ISERROR(VLOOKUP(A325,Feriados!A:A,1,FALSE)),\"n\",VLOOKUP(A325,Feriados!A:A,1,FALSE))","v":"n"}]
[44886,222,{"$f":"IF(E326<>\"n\",COUNTIF(B326:$B$4018,B326),IF(D326<6,0,COUNTIF(B326:$B$4018,B326)))","v":0},1,{"$f":"IF(ISERROR(VLOOKUP(A326,Feriados!A:A,1,FALSE)),\"n\",VLOOKUP(A326,Feriados!A:A,1,FALSE))","v":"n"}]
[44887,223,{"$f":"IF(E327<>\"n\",COUNTIF(B327:$B$4018,B327),IF(D327<6,0,COUNTIF(B327:$B$4018,B327)))","v":0},2,{"$f":"IF(ISERROR(VLOOKUP(A327,Feriados!A:A,1,FALSE)),\"n\",VLOOKUP(A327,Feriados!A:A,1,FALSE))","v":"n"}]
[44888,224,{"$f":"IF(E328<>\"n\",COUNTIF(B328:$B$4018,B328),IF(D328<6,0,COUNTIF(B328:$B$4018,B328)))","v":0},3,{"$f":"IF(ISERROR(VLOOKUP(A328,Feriados!A:A,1,FALSE)),\"n\",VLOOKUP(A328,Feriados!A:A,1,FALSE))","v":"n"}]
[44889,225,{"$f":"IF(E329<>\"n\",COUNTIF(B329:$B$4018,B329),IF(D329<6,0,COUNTIF(B329:$B$4018,B329)))","v":0},4,{"$f":"IF(ISERROR(VLOOKUP(A329,Feriados!A:A,1,FALSE)),\"n\",VLOOKUP(A329,Feriados!A:A,1,FALSE))","v":"n"}]
[44890,226,{"$f":"IF(E330<>\"n\",COUNTIF(B330:$B$4018,B330),IF(D330<6,0,COUNTIF(B330:$B$4018,B330)))","v":0},5,{"$f":"IF(ISERROR(VLOOKUP(A330,Feriados!A:A,1,FALSE)),\"n\",VLOOKUP(A330,Feriados!A:A,1,FALSE))","v":"n"}]
[44891,226,{"$f":"IF(E331<>\"n\",COUNTIF(B331:$B$4018,B331),IF(D331<6,0,COUNTIF(B331:$B$4018,B331)))","v":2},6,{"$f":"IF(ISERROR(VLOOKUP(A331,Feriados!A:A,1,FALSE)),\"n\",VLOOKUP(A331,Feriados!A:A,1,FALSE))","v":"n"}]
[44892,226,{"$f":"IF(E332<>\"n\",COUNTIF(B332:$B$4018,B332),IF(D332<6,0,COUNTIF(B332:$B$4018,B332)))","v":1},7,{"$f":"IF(ISERROR(VLOOKUP(A332,Feriados!A:A,1,FALSE)),\"n\",VLOOKUP(A332,Feriados!A:A,1,FALSE))","v":"n"}]
[44893,227,{"$f":"IF(E333<>\"n\",COUNTIF(B333:$B$4018,B333),IF(D333<6,0,COUNTIF(B333:$B$4018,B333)))","v":0},1,{"$f":"IF(ISERROR(VLOOKUP(A333,Feriados!A:A,1,FALSE)),\"n\",VLOOKUP(A333,Feriados!A:A,1,FALSE))","v":"n"}]
[44894,228,{"$f":"IF(E334<>\"n\",COUNTIF(B334:$B$4018,B334),IF(D334<6,0,COUNTIF(B334:$B$4018,B334)))","v":0},2,{"$f":"IF(ISERROR(VLOOKUP(A334,Feriados!A:A,1,FALSE)),\"n\",VLOOKUP(A334,Feriados!A:A,1,FALSE))","v":"n"}]
[44895,229,{"$f":"IF(E335<>\"n\",COUNTIF(B335:$B$4018,B335),IF(D335<6,0,COUNTIF(B335:$B$4018,B335)))","v":0},3,{"$f":"IF(ISERROR(VLOOKUP(A335,Feriados!A:A,1,FALSE)),\"n\",VLOOKUP(A335,Feriados!A:A,1,FALSE))","v":"n"}]
[44896,230,{"$f":"IF(E336<>\"n\",COUNTIF(B336:$B$4018,B336),IF(D336<6,0,COUNTIF(B336:$B$4018,B336)))","v":0},4,{"$f":"IF(ISERROR(VLOOKUP(A336,Feriados!A:A,1,FALSE)),\"n\",VLOOKUP(A336,Feriados!A:A,1,FALSE))","v":"n"}]
[44897,231,{"$f":"IF(E337<>\"n\",COUNTIF(B337:$B$4018,B337),IF(D337<6,0,COUNTIF(B337:$B$4018,B337)))","v":0},5,{"$f":"IF(ISERROR(VLOOKUP(A337,Feriados!A:A,1,FALSE)),\"n\",VLOOKUP(A337,Feriados!A:A,1,FALSE))","v":"n"}]
[44898,231,{"$f":"IF(E338<>\"n\",COUNTIF(B338:$B$4018,B338),IF(D338<6,0,COUNTIF(B338:$B$4018,B338)))","v":2},6,{"$f":"IF(ISERROR(VLOOKUP(A338,Feriados!A:A,1,FALSE)),\"n\",VLOOKUP(A338,Feriados!A:A,1,FALSE))","v":"n"}]
[44899,231,{"$f":"IF(E339<>\"n\",COUNTIF(B339:$B$4018,B339),IF(D339<6,0,COUNTIF(B339:$B$4018,B339)))","v":1},7,{"$f":"IF(ISERROR(VLOOKUP(A339,Feriados!A:A,1,FALSE)),\"n\",VLOOKUP(A339,Feriados!A:A,1,FALSE))","v":"n"}]
[44900,232,{"$f":"IF(E340<>\"n\",COUNTIF(B340:$B$4018,B340),IF(D340<6,0,COUNTIF(B340:$B$4018,B340)))","v":0},1,{"$f":"IF(ISERROR(VLOOKUP(A340,Feriados!A:A,1,FALSE)),\"n\",VLOOKUP(A340,Feriados!A:A,1,FALSE))","v":"n"}]
[44901,233,{"$f":"IF(E341<>\"n\",COUNTIF(B341:$B$4018,B341),IF(D341<6,0,COUNTIF(B341:$B$4018,B341)))","v":0},2,{"$f":"IF(ISERROR(VLOOKUP(A341,Feriados!A:A,1,FALSE)),\"n\",VLOOKUP(A341,Feriados!A:A,1,FALSE))","v":"n"}]
[44902,234,{"$f":"IF(E342<>\"n\",COUNTIF(B342:$B$4018,B342),IF(D342<6,0,COUNTIF(B342:$B$4018,B342)))","v":0},3,{"$f":"IF(ISERROR(VLOOKUP(A342,Feriados!A:A,1,FALSE)),\"n\",VLOOKUP(A342,Feriados!A:A,1,FALSE))","v":"n"}]
[44903,235,{"$f":"IF(E343<>\"n\",COUNTIF(B343:$B$4018,B343),IF(D343<6,0,COUNTIF(B343:$B$4018,B343)))","v":0},4,{"$f":"IF(ISERROR(VLOOKUP(A343,Feriados!A:A,1,FALSE)),\"n\",VLOOKUP(A343,Feriados!A:A,1,FALSE))","v":"n"}]
[44904,236,{"$f":"IF(E344<>\"n\",COUNTIF(B344:$B$4018,B344),IF(D344<6,0,COUNTIF(B344:$B$4018,B344)))","v":0},5,{"$f":"IF(ISERROR(VLOOKUP(A344,Feriados!A:A,1,FALSE)),\"n\",VLOOKUP(A344,Feriados!A:A,1,FALSE))","v":"n"}]
[44905,236,{"$f":"IF(E345<>\"n\",COUNTIF(B345:$B$4018,B345),IF(D345<6,0,COUNTIF(B345:$B$4018,B345)))","v":2},6,{"$f":"IF(ISERROR(VLOOKUP(A345,Feriados!A:A,1,FALSE)),\"n\",VLOOKUP(A345,Feriados!A:A,1,FALSE))","v":"n"}]
[44906,236,{"$f":"IF(E346<>\"n\",COUNTIF(B346:$B$4018,B346),IF(D346<6,0,COUNTIF(B346:$B$4018,B346)))","v":1},7,{"$f":"IF(ISERROR(VLOOKUP(A346,Feriados!A:A,1,FALSE)),\"n\",VLOOKUP(A346,Feriados!A:A,1,FALSE))","v":"n"}]
[44907,237,{"$f":"IF(E347<>\"n\",COUNTIF(B347:$B$4018,B347),IF(D347<6,0,COUNTIF(B347:$B$4018,B347)))","v":0},1,{"$f":"IF(ISERROR(VLOOKUP(A347,Feriados!A:A,1,FALSE)),\"n\",VLOOKUP(A347,Feriados!A:A,1,FALSE))","v":"n"}]
[44908,238,{"$f":"IF(E348<>\"n\",COUNTIF(B348:$B$4018,B348),IF(D348<6,0,COUNTIF(B348:$B$4018,B348)))","v":0},2,{"$f":"IF(ISERROR(VLOOKUP(A348,Feriados!A:A,1,FALSE)),\"n\",VLOOKUP(A348,Feriados!A:A,1,FALSE))","v":"n"}]
[44909,239,{"$f":"IF(E349<>\"n\",COUNTIF(B349:$B$4018,B349),IF(D349<6,0,COUNTIF(B349:$B$4018,B349)))","v":0},3,{"$f":"IF(ISERROR(VLOOKUP(A349,Feriados!A:A,1,FALSE)),\"n\",VLOOKUP(A349,Feriados!A:A,1,FALSE))","v":"n"}]
[44910,240,{"$f":"IF(E350<>\"n\",COUNTIF(B350:$B$4018,B350),IF(D350<6,0,COUNTIF(B350:$B$4018,B350)))","v":0},4,{"$f":"IF(ISERROR(VLOOKUP(A350,Feriados!A:A,1,FALSE)),\"n\",VLOOKUP(A350,Feriados!A:A,1,FALSE))","v":"n"}]
[44911,241,{"$f":"IF(E351<>\"n\",COUNTIF(B351:$B$4018,B351),IF(D351<6,0,COUNTIF(B351:$B$4018,B351)))","v":0},5,{"$f":"IF(ISERROR(VLOOKUP(A351,Feriados!A:A,1,FALSE)),\"n\",VLOOKUP(A351,Feriados!A:A,1,FALSE))","v":"n"}]
[44912,241,{"$f":"IF(E352<>\"n\",COUNTIF(B352:$B$4018,B352),IF(D352<6,0,COUNTIF(B352:$B$4018,B352)))","v":2},6,{"$f":"IF(ISERROR(VLOOKUP(A352,Feriados!A:A,1,FALSE)),\"n\",VLOOKUP(A352,Feriados!A:A,1,FALSE))","v":"n"}]
[44913,241,{"$f":"IF(E353<>\"n\",COUNTIF(B353:$B$4018,B353),IF(D353<6,0,COUNTIF(B353:$B$4018,B353)))","v":1},7,{"$f":"IF(ISERROR(VLOOKUP(A353,Feriados!A:A,1,FALSE)),\"n\",VLOOKUP(A353,Feriados!A:A,1,FALSE))","v":"n"}]
[44914,242,{"$f":"IF(E354<>\"n\",COUNTIF(B354:$B$4018,B354),IF(D354<6,0,COUNTIF(B354:$B$4018,B354)))","v":0},1,{"$f":"IF(ISERROR(VLOOKUP(A354,Feriados!A:A,1,FALSE)),\"n\",VLOOKUP(A354,Feriados!A:A,1,FALSE))","v":"n"}]
[44915,243,{"$f":"IF(E355<>\"n\",COUNTIF(B355:$B$4018,B355),IF(D355<6,0,COUNTIF(B355:$B$4018,B355)))","v":0},2,{"$f":"IF(ISERROR(VLOOKUP(A355,Feriados!A:A,1,FALSE)),\"n\",VLOOKUP(A355,Feriados!A:A,1,FALSE))","v":"n"}]
[44916,244,{"$f":"IF(E356<>\"n\",COUNTIF(B356:$B$4018,B356),IF(D356<6,0,COUNTIF(B356:$B$4018,B356)))","v":0},3,{"$f":"IF(ISERROR(VLOOKUP(A356,Feriados!A:A,1,FALSE)),\"n\",VLOOKUP(A356,Feriados!A:A,1,FALSE))","v":"n"}]
[44917,245,{"$f":"IF(E357<>\"n\",COUNTIF(B357:$B$4018,B357),IF(D357<6,0,COUNTIF(B357:$B$4018,B357)))","v":0},4,{"$f":"IF(ISERROR(VLOOKUP(A357,Feriados!A:A,1,FALSE)),\"n\",VLOOKUP(A357,Feriados!A:A,1,FALSE))","v":"n"}]
[44918,246,{"$f":"IF(E358<>\"n\",COUNTIF(B358:$B$4018,B358),IF(D358<6,0,COUNTIF(B358:$B$4018,B358)))","v":0},5,{"$f":"IF(ISERROR(VLOOKUP(A358,Feriados!A:A,1,FALSE)),\"n\",VLOOKUP(A358,Feriados!A:A,1,FALSE))","v":"n"}]
[44919,246,{"$f":"IF(E359<>\"n\",COUNTIF(B359:$B$4018,B359),IF(D359<6,0,COUNTIF(B359:$B$4018,B359)))","v":2},6,{"$f":"IF(ISERROR(VLOOKUP(A359,Feriados!A:A,1,FALSE)),\"n\",VLOOKUP(A359,Feriados!A:A,1,FALSE))","v":"n"}]
[44920,246,{"$f":"IF(E360<>\"n\",COUNTIF(B360:$B$4018,B360),IF(D360<6,0,COUNTIF(B360:$B$4018,B360)))","v":1},7,{"$f":"IF(ISERROR(VLOOKUP(A360,Feriados!A:A,1,FALSE)),\"n\",VLOOKUP(A360,Feriados!A:A,1,FALSE))","v":"2022-12-25"}]
[44921,247,{"$f":"IF(E361<>\"n\",COUNTIF(B361:$B$4018,B361),IF(D361<6,0,COUNTIF(B361:$B$4018,B361)))","v":0},1,{"$f":"IF(ISERROR(VLOOKUP(A361,Feriados!A:A,1,FALSE)),\"n\",VLOOKUP(A361,Feriados!A:A,1,FALSE))","v":"n"}]
[44922,248,{"$f":"IF(E362<>\"n\",COUNTIF(B362:$B$4018,B362),IF(D362<6,0,COUNTIF(B362:$B$4018,B362)))","v":0},2,{"$f":"IF(ISERROR(VLOOKUP(A362,Feriados!A:A,1,FALSE)),\"n\",VLOOKUP(A362,Feriados!A:A,1,FALSE))","v":"n"}]
[44923,249,{"$f":"IF(E363<>\"n\",COUNTIF(B363:$B$4018,B363),IF(D363<6,0,COUNTIF(B363:$B$4018,B363)))","v":0},3,{"$f":"IF(ISERROR(VLOOKUP(A363,Feriados!A:A,1,FALSE)),\"n\",VLOOKUP(A363,Feriados!A:A,1,FALSE))","v":"n"}]
[44924,250,{"$f":"IF(E364<>\"n\",COUNTIF(B364:$B$4018,B364),IF(D364<6,0,COUNTIF(B364:$B$4018,B364)))","v":0},4,{"$f":"IF(ISERROR(VLOOKUP(A364,Feriados!A:A,1,FALSE)),\"n\",VLOOKUP(A364,Feriados!A:A,1,FALSE))","v":"n"}]
[44925,251,{"$f":"IF(E365<>\"n\",COUNTIF(B365:$B$4018,B365),IF(D365<6,0,COUNTIF(B365:$B$4018,B365)))","v":0},5,{"$f":"IF(ISERROR(VLOOKUP(A365,Feriados!A:A,1,FALSE)),\"n\",VLOOKUP(A365,Feriados!A:A,1,FALSE))","v":"n"}]
[44926,251,{"$f":"IF(E366<>\"n\",COUNTIF(B366:$B$4018,B366),IF(D366<6,0,COUNTIF(B366:$B$4018,B366)))","v":2},6,{"$f":"IF(ISERROR(VLOOKUP(A366,Feriados!A:A,1,FALSE)),\"n\",VLOOKUP(A366,Feriados!A:A,1,FALSE))","v":"n"}]
[44927,251,{"$f":"IF(E367<>\"n\",COUNTIF(B367:$B$4018,B367),IF(D367<6,0,COUNTIF(B367:$B$4018,B367)))","v":1},7,{"$f":"IF(ISERROR(VLOOKUP(A367,Feriados!A:A,1,FALSE)),\"n\",VLOOKUP(A367,Feriados!A:A,1,FALSE))","v":"2023-01-01"}]
[44928,252,{"$f":"IF(E368<>\"n\",COUNTIF(B368:$B$4018,B368),IF(D368<6,0,COUNTIF(B368:$B$4018,B368)))","v":0},1,{"$f":"IF(ISERROR(VLOOKUP(A368,Feriados!A:A,1,FALSE)),\"n\",VLOOKUP(A368,Feriados!A:A,1,FALSE))","v":"n"}]
[44929,253,{"$f":"IF(E369<>\"n\",COUNTIF(B369:$B$4018,B369),IF(D369<6,0,COUNTIF(B369:$B$4018,B369)))","v":0},2,{"$f":"IF(ISERROR(VLOOKUP(A369,Feriados!A:A,1,FALSE)),\"n\",VLOOKUP(A369,Feriados!A:A,1,FALSE))","v":"n"}]
[44930,254,{"$f":"IF(E370<>\"n\",COUNTIF(B370:$B$4018,B370),IF(D370<6,0,COUNTIF(B370:$B$4018,B370)))","v":0},3,{"$f":"IF(ISERROR(VLOOKUP(A370,Feriados!A:A,1,FALSE)),\"n\",VLOOKUP(A370,Feriados!A:A,1,FALSE))","v":"n"}]
[44931,255,{"$f":"IF(E371<>\"n\",COUNTIF(B371:$B$4018,B371),IF(D371<6,0,COUNTIF(B371:$B$4018,B371)))","v":0},4,{"$f":"IF(ISERROR(VLOOKUP(A371,Feriados!A:A,1,FALSE)),\"n\",VLOOKUP(A371,Feriados!A:A,1,FALSE))","v":"n"}]
[44932,256,{"$f":"IF(E372<>\"n\",COUNTIF(B372:$B$4018,B372),IF(D372<6,0,COUNTIF(B372:$B$4018,B372)))","v":0},5,{"$f":"IF(ISERROR(VLOOKUP(A372,Feriados!A:A,1,FALSE)),\"n\",VLOOKUP(A372,Feriados!A:A,1,FALSE))","v":"n"}]
[44933,256,{"$f":"IF(E373<>\"n\",COUNTIF(B373:$B$4018,B373),IF(D373<6,0,COUNTIF(B373:$B$4018,B373)))","v":2},6,{"$f":"IF(ISERROR(VLOOKUP(A373,Feriados!A:A,1,FALSE)),\"n\",VLOOKUP(A373,Feriados!A:A,1,FALSE))","v":"n"}]
[44934,256,{"$f":"IF(E374<>\"n\",COUNTIF(B374:$B$4018,B374),IF(D374<6,0,COUNTIF(B374:$B$4018,B374)))","v":1},7,{"$f":"IF(ISERROR(VLOOKUP(A374,Feriados!A:A,1,FALSE)),\"n\",VLOOKUP(A374,Feriados!A:A,1,FALSE))","v":"n"}]
[44935,257,{"$f":"IF(E375<>\"n\",COUNTIF(B375:$B$4018,B375),IF(D375<6,0,COUNTIF(B375:$B$4018,B375)))","v":0},1,{"$f":"IF(ISERROR(VLOOKUP(A375,Feriados!A:A,1,FALSE)),\"n\",VLOOKUP(A375,Feriados!A:A,1,FALSE))","v":"n"}]
[44936,258,{"$f":"IF(E376<>\"n\",COUNTIF(B376:$B$4018,B376),IF(D376<6,0,COUNTIF(B376:$B$4018,B376)))","v":0},2,{"$f":"IF(ISERROR(VLOOKUP(A376,Feriados!A:A,1,FALSE)),\"n\",VLOOKUP(A376,Feriados!A:A,1,FALSE))","v":"n"}]
[44937,259,{"$f":"IF(E377<>\"n\",COUNTIF(B377:$B$4018,B377),IF(D377<6,0,COUNTIF(B377:$B$4018,B377)))","v":0},3,{"$f":"IF(ISERROR(VLOOKUP(A377,Feriados!A:A,1,FALSE)),\"n\",VLOOKUP(A377,Feriados!A:A,1,FALSE))","v":"n"}]
[44938,260,{"$f":"IF(E378<>\"n\",COUNTIF(B378:$B$4018,B378),IF(D378<6,0,COUNTIF(B378:$B$4018,B378)))","v":0},4,{"$f":"IF(ISERROR(VLOOKUP(A378,Feriados!A:A,1,FALSE)),\"n\",VLOOKUP(A378,Feriados!A:A,1,FALSE))","v":"n"}]
[44939,261,{"$f":"IF(E379<>\"n\",COUNTIF(B379:$B$4018,B379),IF(D379<6,0,COUNTIF(B379:$B$4018,B379)))","v":0},5,{"$f":"IF(ISERROR(VLOOKUP(A379,Feriados!A:A,1,FALSE)),\"n\",VLOOKUP(A379,Feriados!A:A,1,FALSE))","v":"n"}]
[44940,261,{"$f":"IF(E380<>\"n\",COUNTIF(B380:$B$4018,B380),IF(D380<6,0,COUNTIF(B380:$B$4018,B380)))","v":2},6,{"$f":"IF(ISERROR(VLOOKUP(A380,Feriados!A:A,1,FALSE)),\"n\",VLOOKUP(A380,Feriados!A:A,1,FALSE))","v":"n"}]
[44941,261,{"$f":"IF(E381<>\"n\",COUNTIF(B381:$B$4018,B381),IF(D381<6,0,COUNTIF(B381:$B$4018,B381)))","v":1},7,{"$f":"IF(ISERROR(VLOOKUP(A381,Feriados!A:A,1,FALSE)),\"n\",VLOOKUP(A381,Feriados!A:A,1,FALSE))","v":"n"}]
[44942,262,{"$f":"IF(E382<>\"n\",COUNTIF(B382:$B$4018,B382),IF(D382<6,0,COUNTIF(B382:$B$4018,B382)))","v":0},1,{"$f":"IF(ISERROR(VLOOKUP(A382,Feriados!A:A,1,FALSE)),\"n\",VLOOKUP(A382,Feriados!A:A,1,FALSE))","v":"n"}]
[44943,263,{"$f":"IF(E383<>\"n\",COUNTIF(B383:$B$4018,B383),IF(D383<6,0,COUNTIF(B383:$B$4018,B383)))","v":0},2,{"$f":"IF(ISERROR(VLOOKUP(A383,Feriados!A:A,1,FALSE)),\"n\",VLOOKUP(A383,Feriados!A:A,1,FALSE))","v":"n"}]
[44944,264,{"$f":"IF(E384<>\"n\",COUNTIF(B384:$B$4018,B384),IF(D384<6,0,COUNTIF(B384:$B$4018,B384)))","v":0},3,{"$f":"IF(ISERROR(VLOOKUP(A384,Feriados!A:A,1,FALSE)),\"n\",VLOOKUP(A384,Feriados!A:A,1,FALSE))","v":"n"}]
[44945,265,{"$f":"IF(E385<>\"n\",COUNTIF(B385:$B$4018,B385),IF(D385<6,0,COUNTIF(B385:$B$4018,B385)))","v":0},4,{"$f":"IF(ISERROR(VLOOKUP(A385,Feriados!A:A,1,FALSE)),\"n\",VLOOKUP(A385,Feriados!A:A,1,FALSE))","v":"n"}]
[44946,266,{"$f":"IF(E386<>\"n\",COUNTIF(B386:$B$4018,B386),IF(D386<6,0,COUNTIF(B386:$B$4018,B386)))","v":0},5,{"$f":"IF(ISERROR(VLOOKUP(A386,Feriados!A:A,1,FALSE)),\"n\",VLOOKUP(A386,Feriados!A:A,1,FALSE))","v":"n"}]
[44947,{"$f":"NETWORKDAYS($A$2,A387,feriados)","v":266},{"$f":"IF(E387<>\"n\",COUNTIF(B387:$B$4018,B387),IF(D387<6,0,COUNTIF(B387:$B$4018,B387)))","v":2},{"$f":"WEEKDAY(A387,2)","v":6},{"$f":"IF(ISERROR(VLOOKUP(A387,Feriados!A:A,1,FALSE)),\"n\",VLOOKUP(A387,Feriados!A:A,1,FALSE))","v":"n"}]
[{"$f":"A387+1","v":44948},266,{"$f":"IF(E388<>\"n\",COUNTIF(B388:$B$4018,B388),IF(D388<6,0,COUNTIF(B388:$B$4018,B388)))","v":1},7,{"$f":"IF(ISERROR(VLOOKUP(A388,Feriados!A:A,1,FALSE)),\"n\",VLOOKUP(A388,Feriados!A:A,1,FALSE))","v":"n"}]
[44949,267,{"$f":"IF(E389<>\"n\",COUNTIF(B389:$B$4018,B389),IF(D389<6,0,COUNTIF(B389:$B$4018,B389)))","v":0},1,{"$f":"IF(ISERROR(VLOOKUP(A389,Feriados!A:A,1,FALSE)),\"n\",VLOOKUP(A389,Feriados!A:A,1,FALSE))","v":"n"}]
[44950,268,{"$f":"IF(E390<>\"n\",COUNTIF(B390:$B$4018,B390),IF(D390<6,0,COUNTIF(B390:$B$4018,B390)))","v":0},2,{"$f":"IF(ISERROR(VLOOKUP(A390,Feriados!A:A,1,FALSE)),\"n\",VLOOKUP(A390,Feriados!A:A,1,FALSE))","v":"n"}]
[44951,269,{"$f":"IF(E391<>\"n\",COUNTIF(B391:$B$4018,B391),IF(D391<6,0,COUNTIF(B391:$B$4018,B391)))","v":0},3,{"$f":"IF(ISERROR(VLOOKUP(A391,Feriados!A:A,1,FALSE)),\"n\",VLOOKUP(A391,Feriados!A:A,1,FALSE))","v":"n"}]
[44952,270,{"$f":"IF(E392<>\"n\",COUNTIF(B392:$B$4018,B392),IF(D392<6,0,COUNTIF(B392:$B$4018,B392)))","v":0},4,{"$f":"IF(ISERROR(VLOOKUP(A392,Feriados!A:A,1,FALSE)),\"n\",VLOOKUP(A392,Feriados!A:A,1,FALSE))","v":"n"}]
[44953,271,{"$f":"IF(E393<>\"n\",COUNTIF(B393:$B$4018,B393),IF(D393<6,0,COUNTIF(B393:$B$4018,B393)))","v":0},5,{"$f":"IF(ISERROR(VLOOKUP(A393,Feriados!A:A,1,FALSE)),\"n\",VLOOKUP(A393,Feriados!A:A,1,FALSE))","v":"n"}]
[44954,271,{"$f":"IF(E394<>\"n\",COUNTIF(B394:$B$4018,B394),IF(D394<6,0,COUNTIF(B394:$B$4018,B394)))","v":2},6,{"$f":"IF(ISERROR(VLOOKUP(A394,Feriados!A:A,1,FALSE)),\"n\",VLOOKUP(A394,Feriados!A:A,1,FALSE))","v":"n"}]
[44955,271,{"$f":"IF(E395<>\"n\",COUNTIF(B395:$B$4018,B395),IF(D395<6,0,COUNTIF(B395:$B$4018,B395)))","v":1},7,{"$f":"IF(ISERROR(VLOOKUP(A395,Feriados!A:A,1,FALSE)),\"n\",VLOOKUP(A395,Feriados!A:A,1,FALSE))","v":"n"}]
[44956,272,{"$f":"IF(E396<>\"n\",COUNTIF(B396:$B$4018,B396),IF(D396<6,0,COUNTIF(B396:$B$4018,B396)))","v":0},1,{"$f":"IF(ISERROR(VLOOKUP(A396,Feriados!A:A,1,FALSE)),\"n\",VLOOKUP(A396,Feriados!A:A,1,FALSE))","v":"n"}]
[44957,273,{"$f":"IF(E397<>\"n\",COUNTIF(B397:$B$4018,B397),IF(D397<6,0,COUNTIF(B397:$B$4018,B397)))","v":0},2,{"$f":"IF(ISERROR(VLOOKUP(A397,Feriados!A:A,1,FALSE)),\"n\",VLOOKUP(A397,Feriados!A:A,1,FALSE))","v":"n"}]
[44958,274,{"$f":"IF(E398<>\"n\",COUNTIF(B398:$B$4018,B398),IF(D398<6,0,COUNTIF(B398:$B$4018,B398)))","v":0},3,{"$f":"IF(ISERROR(VLOOKUP(A398,Feriados!A:A,1,FALSE)),\"n\",VLOOKUP(A398,Feriados!A:A,1,FALSE))","v":"n"}]
[44959,275,{"$f":"IF(E399<>\"n\",COUNTIF(B399:$B$4018,B399),IF(D399<6,0,COUNTIF(B399:$B$4018,B399)))","v":0},4,{"$f":"IF(ISERROR(VLOOKUP(A399,Feriados!A:A,1,FALSE)),\"n\",VLOOKUP(A399,Feriados!A:A,1,FALSE))","v":"n"}]
[44960,276,{"$f":"IF(E400<>\"n\",COUNTIF(B400:$B$4018,B400),IF(D400<6,0,COUNTIF(B400:$B$4018,B400)))","v":0},5,{"$f":"IF(ISERROR(VLOOKUP(A400,Feriados!A:A,1,FALSE)),\"n\",VLOOKUP(A400,Feriados!A:A,1,FALSE))","v":"n"}]
[44961,276,{"$f":"IF(E401<>\"n\",COUNTIF(B401:$B$4018,B401),IF(D401<6,0,COUNTIF(B401:$B$4018,B401)))","v":2},6,{"$f":"IF(ISERROR(VLOOKUP(A401,Feriados!A:A,1,FALSE)),\"n\",VLOOKUP(A401,Feriados!A:A,1,FALSE))","v":"n"}]
[44962,276,{"$f":"IF(E402<>\"n\",COUNTIF(B402:$B$4018,B402),IF(D402<6,0,COUNTIF(B402:$B$4018,B402)))","v":1},7,{"$f":"IF(ISERROR(VLOOKUP(A402,Feriados!A:A,1,FALSE)),\"n\",VLOOKUP(A402,Feriados!A:A,1,FALSE))","v":"n"}]
[44963,277,{"$f":"IF(E403<>\"n\",COUNTIF(B403:$B$4018,B403),IF(D403<6,0,COUNTIF(B403:$B$4018,B403)))","v":0},1,{"$f":"IF(ISERROR(VLOOKUP(A403,Feriados!A:A,1,FALSE)),\"n\",VLOOKUP(A403,Feriados!A:A,1,FALSE))","v":"n"}]
[44964,278,{"$f":"IF(E404<>\"n\",COUNTIF(B404:$B$4018,B404),IF(D404<6,0,COUNTIF(B404:$B$4018,B404)))","v":0},2,{"$f":"IF(ISERROR(VLOOKUP(A404,Feriados!A:A,1,FALSE)),\"n\",VLOOKUP(A404,Feriados!A:A,1,FALSE))","v":"n"}]
[44965,279,{"$f":"IF(E405<>\"n\",COUNTIF(B405:$B$4018,B405),IF(D405<6,0,COUNTIF(B405:$B$4018,B405)))","v":0},3,{"$f":"IF(ISERROR(VLOOKUP(A405,Feriados!A:A,1,FALSE)),\"n\",VLOOKUP(A405,Feriados!A:A,1,FALSE))","v":"n"}]
[44966,280,{"$f":"IF(E406<>\"n\",COUNTIF(B406:$B$4018,B406),IF(D406<6,0,COUNTIF(B406:$B$4018,B406)))","v":0},4,{"$f":"IF(ISERROR(VLOOKUP(A406,Feriados!A:A,1,FALSE)),\"n\",VLOOKUP(A406,Feriados!A:A,1,FALSE))","v":"n"}]
[44967,281,{"$f":"IF(E407<>\"n\",COUNTIF(B407:$B$4018,B407),IF(D407<6,0,COUNTIF(B407:$B$4018,B407)))","v":0},5,{"$f":"IF(ISERROR(VLOOKUP(A407,Feriados!A:A,1,FALSE)),\"n\",VLOOKUP(A407,Feriados!A:A,1,FALSE))","v":"n"}]
[44968,281,{"$f":"IF(E408<>\"n\",COUNTIF(B408:$B$4018,B408),IF(D408<6,0,COUNTIF(B408:$B$4018,B408)))","v":2},6,{"$f":"IF(ISERROR(VLOOKUP(A408,Feriados!A:A,1,FALSE)),\"n\",VLOOKUP(A408,Feriados!A:A,1,FALSE))","v":"n"}]
[44969,{"$f":"NETWORKDAYS($A$2,A409,feriados)","v":281},{"$f":"IF(E409<>\"n\",COUNTIF(B409:$B$4018,B409),IF(D409<6,0,COUNTIF(B409:$B$4018,B409)))","v":1},{"$f":"WEEKDAY(A409,2)","v":7},{"$f":"IF(ISERROR(VLOOKUP(A409,Feriados!A:A,1,FALSE)),\"n\",VLOOKUP(A409,Feriados!A:A,1,FALSE))","v":"n"}]
[44970,282,{"$f":"IF(E410<>\"n\",COUNTIF(B410:$B$4018,B410),IF(D410<6,0,COUNTIF(B410:$B$4018,B410)))","v":0},1,{"$f":"IF(ISERROR(VLOOKUP(A410,Feriados!A:A,1,FALSE)),\"n\",VLOOKUP(A410,Feriados!A:A,1,FALSE))","v":"n"}]
[44971,283,{"$f":"IF(E411<>\"n\",COUNTIF(B411:$B$4018,B411),IF(D411<6,0,COUNTIF(B411:$B$4018,B411)))","v":0},2,{"$f":"IF(ISERROR(VLOOKUP(A411,Feriados!A:A,1,FALSE)),\"n\",VLOOKUP(A411,Feriados!A:A,1,FALSE))","v":"n"}]
[44972,284,{"$f":"IF(E412<>\"n\",COUNTIF(B412:$B$4018,B412),IF(D412<6,0,COUNTIF(B412:$B$4018,B412)))","v":0},3,{"$f":"IF(ISERROR(VLOOKUP(A412,Feriados!A:A,1,FALSE)),\"n\",VLOOKUP(A412,Feriados!A:A,1,FALSE))","v":"n"}]
[44973,285,{"$f":"IF(E413<>\"n\",COUNTIF(B413:$B$4018,B413),IF(D413<6,0,COUNTIF(B413:$B$4018,B413)))","v":0},4,{"$f":"IF(ISERROR(VLOOKUP(A413,Feriados!A:A,1,FALSE)),\"n\",VLOOKUP(A413,Feriados!A:A,1,FALSE))","v":"n"}]
[44974,{"$f":"NETWORKDAYS($A$2,A414,feriados)","v":286},{"$f":"IF(E414<>\"n\",COUNTIF(B414:$B$4018,B414),IF(D414<6,0,COUNTIF(B414:$B$4018,B414)))","v":0},{"$f":"WEEKDAY(A414,2)","v":5},{"$f":"IF(ISERROR(VLOOKUP(A414,Feriados!A:A,1,FALSE)),\"n\",VLOOKUP(A414,Feriados!A:A,1,FALSE))","v":"n"}]
[44975,286,{"$f":"IF(E415<>\"n\",COUNTIF(B415:$B$4018,B415),IF(D415<6,0,COUNTIF(B415:$B$4018,B415)))","v":4},6,{"$f":"IF(ISERROR(VLOOKUP(A415,Feriados!A:A,1,FALSE)),\"n\",VLOOKUP(A415,Feriados!A:A,1,FALSE))","v":"n"}]
[44976,286,{"$f":"IF(E416<>\"n\",COUNTIF(B416:$B$4018,B416),IF(D416<6,0,COUNTIF(B416:$B$4018,B416)))","v":3},7,{"$f":"IF(ISERROR(VLOOKUP(A416,Feriados!A:A,1,FALSE)),\"n\",VLOOKUP(A416,Feriados!A:A,1,FALSE))","v":"n"}]
[44977,286,{"$f":"IF(E417<>\"n\",COUNTIF(B417:$B$4018,B417),IF(D417<6,0,COUNTIF(B417:$B$4018,B417)))","v":2},1,{"$f":"IF(ISERROR(VLOOKUP(A417,Feriados!A:A,1,FALSE)),\"n\",VLOOKUP(A417,Feriados!A:A,1,FALSE))","v":"2023-02-20"}]
[44978,286,{"$f":"IF(E418<>\"n\",COUNTIF(B418:$B$4018,B418),IF(D418<6,0,COUNTIF(B418:$B$4018,B418)))","v":1},2,{"$f":"IF(ISERROR(VLOOKUP(A418,Feriados!A:A,1,FALSE)),\"n\",VLOOKUP(A418,Feriados!A:A,1,FALSE))","v":"2023-02-21"}]
[44979,287,{"$f":"IF(E419<>\"n\",COUNTIF(B419:$B$4018,B419),IF(D419<6,0,COUNTIF(B419:$B$4018,B419)))","v":0},3,{"$f":"IF(ISERROR(VLOOKUP(A419,Feriados!A:A,1,FALSE)),\"n\",VLOOKUP(A419,Feriados!A:A,1,FALSE))","v":"n"}]
[44980,288,{"$f":"IF(E420<>\"n\",COUNTIF(B420:$B$4018,B420),IF(D420<6,0,COUNTIF(B420:$B$4018,B420)))","v":0},4,{"$f":"IF(ISERROR(VLOOKUP(A420,Feriados!A:A,1,FALSE)),\"n\",VLOOKUP(A420,Feriados!A:A,1,FALSE))","v":"n"}]
[44981,289,{"$f":"IF(E421<>\"n\",COUNTIF(B421:$B$4018,B421),IF(D421<6,0,COUNTIF(B421:$B$4018,B421)))","v":0},5,{"$f":"IF(ISERROR(VLOOKUP(A421,Feriados!A:A,1,FALSE)),\"n\",VLOOKUP(A421,Feriados!A:A,1,FALSE))","v":"n"}]
[44982,289,{"$f":"IF(E422<>\"n\",COUNTIF(B422:$B$4018,B422),IF(D422<6,0,COUNTIF(B422:$B$4018,B422)))","v":2},6,{"$f":"IF(ISERROR(VLOOKUP(A422,Feriados!A:A,1,FALSE)),\"n\",VLOOKUP(A422,Feriados!A:A,1,FALSE))","v":"n"}]
[44983,289,{"$f":"IF(E423<>\"n\",COUNTIF(B423:$B$4018,B423),IF(D423<6,0,COUNTIF(B423:$B$4018,B423)))","v":1},7,{"$f":"IF(ISERROR(VLOOKUP(A423,Feriados!A:A,1,FALSE)),\"n\",VLOOKUP(A423,Feriados!A:A,1,FALSE))","v":"n"}]
[44984,290,{"$f":"IF(E424<>\"n\",COUNTIF(B424:$B$4018,B424),IF(D424<6,0,COUNTIF(B424:$B$4018,B424)))","v":0},1,{"$f":"IF(ISERROR(VLOOKUP(A424,Feriados!A:A,1,FALSE)),\"n\",VLOOKUP(A424,Feriados!A:A,1,FALSE))","v":"n"}]
[44985,291,{"$f":"IF(E425<>\"n\",COUNTIF(B425:$B$4018,B425),IF(D425<6,0,COUNTIF(B425:$B$4018,B425)))","v":0},2,{"$f":"IF(ISERROR(VLOOKUP(A425,Feriados!A:A,1,FALSE)),\"n\",VLOOKUP(A425,Feriados!A:A,1,FALSE))","v":"n"}]
[44986,292,{"$f":"IF(E426<>\"n\",COUNTIF(B426:$B$4018,B426),IF(D426<6,0,COUNTIF(B426:$B$4018,B426)))","v":0},3,{"$f":"IF(ISERROR(VLOOKUP(A426,Feriados!A:A,1,FALSE)),\"n\",VLOOKUP(A426,Feriados!A:A,1,FALSE))","v":"n"}]
[44987,293,{"$f":"IF(E427<>\"n\",COUNTIF(B427:$B$4018,B427),IF(D427<6,0,COUNTIF(B427:$B$4018,B427)))","v":0},4,{"$f":"IF(ISERROR(VLOOKUP(A427,Feriados!A:A,1,FALSE)),\"n\",VLOOKUP(A427,Feriados!A:A,1,FALSE))","v":"n"}]
[44988,294,{"$f":"IF(E428<>\"n\",COUNTIF(B428:$B$4018,B428),IF(D428<6,0,COUNTIF(B428:$B$4018,B428)))","v":0},5,{"$f":"IF(ISERROR(VLOOKUP(A428,Feriados!A:A,1,FALSE)),\"n\",VLOOKUP(A428,Feriados!A:A,1,FALSE))","v":"n"}]
[44989,294,{"$f":"IF(E429<>\"n\",COUNTIF(B429:$B$4018,B429),IF(D429<6,0,COUNTIF(B429:$B$4018,B429)))","v":2},6,{"$f":"IF(ISERROR(VLOOKUP(A429,Feriados!A:A,1,FALSE)),\"n\",VLOOKUP(A429,Feriados!A:A,1,FALSE))","v":"n"}]
[44990,294,{"$f":"IF(E430<>\"n\",COUNTIF(B430:$B$4018,B430),IF(D430<6,0,COUNTIF(B430:$B$4018,B430)))","v":1},7,{"$f":"IF(ISERROR(VLOOKUP(A430,Feriados!A:A,1,FALSE)),\"n\",VLOOKUP(A430,Feriados!A:A,1,FALSE))","v":"n"}]
[44991,295,{"$f":"IF(E431<>\"n\",COUNTIF(B431:$B$4018,B431),IF(D431<6,0,COUNTIF(B431:$B$4018,B431)))","v":0},1,{"$f":"IF(ISERROR(VLOOKUP(A431,Feriados!A:A,1,FALSE)),\"n\",VLOOKUP(A431,Feriados!A:A,1,FALSE))","v":"n"}]
[44992,296,{"$f":"IF(E432<>\"n\",COUNTIF(B432:$B$4018,B432),IF(D432<6,0,COUNTIF(B432:$B$4018,B432)))","v":0},2,{"$f":"IF(ISERROR(VLOOKUP(A432,Feriados!A:A,1,FALSE)),\"n\",VLOOKUP(A432,Feriados!A:A,1,FALSE))","v":"n"}]
[44993,297,{"$f":"IF(E433<>\"n\",COUNTIF(B433:$B$4018,B433),IF(D433<6,0,COUNTIF(B433:$B$4018,B433)))","v":0},3,{"$f":"IF(ISERROR(VLOOKUP(A433,Feriados!A:A,1,FALSE)),\"n\",VLOOKUP(A433,Feriados!A:A,1,FALSE))","v":"n"}]
[44994,298,{"$f":"IF(E434<>\"n\",COUNTIF(B434:$B$4018,B434),IF(D434<6,0,COUNTIF(B434:$B$4018,B434)))","v":0},4,{"$f":"IF(ISERROR(VLOOKUP(A434,Feriados!A:A,1,FALSE)),\"n\",VLOOKUP(A434,Feriados!A:A,1,FALSE))","v":"n"}]
[44995,299,{"$f":"IF(E435<>\"n\",COUNTIF(B435:$B$4018,B435),IF(D435<6,0,COUNTIF(B435:$B$4018,B435)))","v":0},5,{"$f":"IF(ISERROR(VLOOKUP(A435,Feriados!A:A,1,FALSE)),\"n\",VLOOKUP(A435,Feriados!A:A,1,FALSE))","v":"n"}]
[44996,299,{"$f":"IF(E436<>\"n\",COUNTIF(B436:$B$4018,B436),IF(D436<6,0,COUNTIF(B436:$B$4018,B436)))","v":2},6,{"$f":"IF(ISERROR(VLOOKUP(A436,Feriados!A:A,1,FALSE)),\"n\",VLOOKUP(A436,Feriados!A:A,1,FALSE))","v":"n"}]
[44997,299,{"$f":"IF(E437<>\"n\",COUNTIF(B437:$B$4018,B437),IF(D437<6,0,COUNTIF(B437:$B$4018,B437)))","v":1},7,{"$f":"IF(ISERROR(VLOOKUP(A437,Feriados!A:A,1,FALSE)),\"n\",VLOOKUP(A437,Feriados!A:A,1,FALSE))","v":"n"}]
[44998,300,{"$f":"IF(E438<>\"n\",COUNTIF(B438:$B$4018,B438),IF(D438<6,0,COUNTIF(B438:$B$4018,B438)))","v":0},1,{"$f":"IF(ISERROR(VLOOKUP(A438,Feriados!A:A,1,FALSE)),\"n\",VLOOKUP(A438,Feriados!A:A,1,FALSE))","v":"n"}]
[44999,301,{"$f":"IF(E439<>\"n\",COUNTIF(B439:$B$4018,B439),IF(D439<6,0,COUNTIF(B439:$B$4018,B439)))","v":0},2,{"$f":"IF(ISERROR(VLOOKUP(A439,Feriados!A:A,1,FALSE)),\"n\",VLOOKUP(A439,Feriados!A:A,1,FALSE))","v":"n"}]
[45000,302,{"$f":"IF(E440<>\"n\",COUNTIF(B440:$B$4018,B440),IF(D440<6,0,COUNTIF(B440:$B$4018,B440)))","v":0},3,{"$f":"IF(ISERROR(VLOOKUP(A440,Feriados!A:A,1,FALSE)),\"n\",VLOOKUP(A440,Feriados!A:A,1,FALSE))","v":"n"}]
[45001,303,{"$f":"IF(E441<>\"n\",COUNTIF(B441:$B$4018,B441),IF(D441<6,0,COUNTIF(B441:$B$4018,B441)))","v":0},4,{"$f":"IF(ISERROR(VLOOKUP(A441,Feriados!A:A,1,FALSE)),\"n\",VLOOKUP(A441,Feriados!A:A,1,FALSE))","v":"n"}]
[45002,304,{"$f":"IF(E442<>\"n\",COUNTIF(B442:$B$4018,B442),IF(D442<6,0,COUNTIF(B442:$B$4018,B442)))","v":0},5,{"$f":"IF(ISERROR(VLOOKUP(A442,Feriados!A:A,1,FALSE)),\"n\",VLOOKUP(A442,Feriados!A:A,1,FALSE))","v":"n"}]
[45003,304,{"$f":"IF(E443<>\"n\",COUNTIF(B443:$B$4018,B443),IF(D443<6,0,COUNTIF(B443:$B$4018,B443)))","v":2},6,{"$f":"IF(ISERROR(VLOOKUP(A443,Feriados!A:A,1,FALSE)),\"n\",VLOOKUP(A443,Feriados!A:A,1,FALSE))","v":"n"}]
[45004,304,{"$f":"IF(E444<>\"n\",COUNTIF(B444:$B$4018,B444),IF(D444<6,0,COUNTIF(B444:$B$4018,B444)))","v":1},7,{"$f":"IF(ISERROR(VLOOKUP(A444,Feriados!A:A,1,FALSE)),\"n\",VLOOKUP(A444,Feriados!A:A,1,FALSE))","v":"n"}]
[45005,305,{"$f":"IF(E445<>\"n\",COUNTIF(B445:$B$4018,B445),IF(D445<6,0,COUNTIF(B445:$B$4018,B445)))","v":0},1,{"$f":"IF(ISERROR(VLOOKUP(A445,Feriados!A:A,1,FALSE)),\"n\",VLOOKUP(A445,Feriados!A:A,1,FALSE))","v":"n"}]
[45006,306,{"$f":"IF(E446<>\"n\",COUNTIF(B446:$B$4018,B446),IF(D446<6,0,COUNTIF(B446:$B$4018,B446)))","v":0},2,{"$f":"IF(ISERROR(VLOOKUP(A446,Feriados!A:A,1,FALSE)),\"n\",VLOOKUP(A446,Feriados!A:A,1,FALSE))","v":"n"}]
[45007,307,{"$f":"IF(E447<>\"n\",COUNTIF(B447:$B$4018,B447),IF(D447<6,0,COUNTIF(B447:$B$4018,B447)))","v":0},3,{"$f":"IF(ISERROR(VLOOKUP(A447,Feriados!A:A,1,FALSE)),\"n\",VLOOKUP(A447,Feriados!A:A,1,FALSE))","v":"n"}]
[45008,308,{"$f":"IF(E448<>\"n\",COUNTIF(B448:$B$4018,B448),IF(D448<6,0,COUNTIF(B448:$B$4018,B448)))","v":0},4,{"$f":"IF(ISERROR(VLOOKUP(A448,Feriados!A:A,1,FALSE)),\"n\",VLOOKUP(A448,Feriados!A:A,1,FALSE))","v":"n"}]
[45009,309,{"$f":"IF(E449<>\"n\",COUNTIF(B449:$B$4018,B449),IF(D449<6,0,COUNTIF(B449:$B$4018,B449)))","v":0},5,{"$f":"IF(ISERROR(VLOOKUP(A449,Feriados!A:A,1,FALSE)),\"n\",VLOOKUP(A449,Feriados!A:A,1,FALSE))","v":"n"}]
[45010,309,{"$f":"IF(E450<>\"n\",COUNTIF(B450:$B$4018,B450),IF(D450<6,0,COUNTIF(B450:$B$4018,B450)))","v":2},6,{"$f":"IF(ISERROR(VLOOKUP(A450,Feriados!A:A,1,FALSE)),\"n\",VLOOKUP(A450,Feriados!A:A,1,FALSE))","v":"n"}]
[45011,309,{"$f":"IF(E451<>\"n\",COUNTIF(B451:$B$4018,B451),IF(D451<6,0,COUNTIF(B451:$B$4018,B451)))","v":1},7,{"$f":"IF(ISERROR(VLOOKUP(A451,Feriados!A:A,1,FALSE)),\"n\",VLOOKUP(A451,Feriados!A:A,1,FALSE))","v":"n"}]
[{"$f":"A451+1","v":45012},310,{"$f":"IF(E452<>\"n\",COUNTIF(B452:$B$4018,B452),IF(D452<6,0,COUNTIF(B452:$B$4018,B452)))","v":0},1,{"$f":"IF(ISERROR(VLOOKUP(A452,Feriados!A:A,1,FALSE)),\"n\",VLOOKUP(A452,Feriados!A:A,1,FALSE))","v":"n"}]
[45013,311,{"$f":"IF(E453<>\"n\",COUNTIF(B453:$B$4018,B453),IF(D453<6,0,COUNTIF(B453:$B$4018,B453)))","v":0},2,{"$f":"IF(ISERROR(VLOOKUP(A453,Feriados!A:A,1,FALSE)),\"n\",VLOOKUP(A453,Feriados!A:A,1,FALSE))","v":"n"}]
[45014,312,{"$f":"IF(E454<>\"n\",COUNTIF(B454:$B$4018,B454),IF(D454<6,0,COUNTIF(B454:$B$4018,B454)))","v":0},3,{"$f":"IF(ISERROR(VLOOKUP(A454,Feriados!A:A,1,FALSE)),\"n\",VLOOKUP(A454,Feriados!A:A,1,FALSE))","v":"n"}]
[45015,313,{"$f":"IF(E455<>\"n\",COUNTIF(B455:$B$4018,B455),IF(D455<6,0,COUNTIF(B455:$B$4018,B455)))","v":0},4,{"$f":"IF(ISERROR(VLOOKUP(A455,Feriados!A:A,1,FALSE)),\"n\",VLOOKUP(A455,Feriados!A:A,1,FALSE))","v":"n"}]
[45016,314,{"$f":"IF(E456<>\"n\",COUNTIF(B456:$B$4018,B456),IF(D456<6,0,COUNTIF(B456:$B$4018,B456)))","v":0},5,{"$f":"IF(ISERROR(VLOOKUP(A456,Feriados!A:A,1,FALSE)),\"n\",VLOOKUP(A456,Feriados!A:A,1,FALSE))","v":"n"}]
[45017,314,{"$f":"IF(E457<>\"n\",COUNTIF(B457:$B$4018,B457),IF(D457<6,0,COUNTIF(B457:$B$4018,B457)))","v":2},6,{"$f":"IF(ISERROR(VLOOKUP(A457,Feriados!A:A,1,FALSE)),\"n\",VLOOKUP(A457,Feriados!A:A,1,FALSE))","v":"n"}]
[45018,314,{"$f":"IF(E458<>\"n\",COUNTIF(B458:$B$4018,B458),IF(D458<6,0,COUNTIF(B458:$B$4018,B458)))","v":1},7,{"$f":"IF(ISERROR(VLOOKUP(A458,Feriados!A:A,1,FALSE)),\"n\",VLOOKUP(A458,Feriados!A:A,1,FALSE))","v":"n"}]
[45019,315,{"$f":"IF(E459<>\"n\",COUNTIF(B459:$B$4018,B459),IF(D459<6,0,COUNTIF(B459:$B$4018,B459)))","v":0},1,{"$f":"IF(ISERROR(VLOOKUP(A459,Feriados!A:A,1,FALSE)),\"n\",VLOOKUP(A459,Feriados!A:A,1,FALSE))","v":"n"}]
[45020,316,{"$f":"IF(E460<>\"n\",COUNTIF(B460:$B$4018,B460),IF(D460<6,0,COUNTIF(B460:$B$4018,B460)))","v":0},2,{"$f":"IF(ISERROR(VLOOKUP(A460,Feriados!A:A,1,FALSE)),\"n\",VLOOKUP(A460,Feriados!A:A,1,FALSE))","v":"n"}]
[45021,317,{"$f":"IF(E461<>\"n\",COUNTIF(B461:$B$4018,B461),IF(D461<6,0,COUNTIF(B461:$B$4018,B461)))","v":0},3,{"$f":"IF(ISERROR(VLOOKUP(A461,Feriados!A:A,1,FALSE)),\"n\",VLOOKUP(A461,Feriados!A:A,1,FALSE))","v":"n"}]
[45022,318,{"$f":"IF(E462<>\"n\",COUNTIF(B462:$B$4018,B462),IF(D462<6,0,COUNTIF(B462:$B$4018,B462)))","v":0},4,{"$f":"IF(ISERROR(VLOOKUP(A462,Feriados!A:A,1,FALSE)),\"n\",VLOOKUP(A462,Feriados!A:A,1,FALSE))","v":"n"}]
[45023,318,{"$f":"IF(E463<>\"n\",COUNTIF(B463:$B$4018,B463),IF(D463<6,0,COUNTIF(B463:$B$4018,B463)))","v":3},5,{"$f":"IF(ISERROR(VLOOKUP(A463,Feriados!A:A,1,FALSE)),\"n\",VLOOKUP(A463,Feriados!A:A,1,FALSE))","v":"2023-04-07"}]
[45024,318,{"$f":"IF(E464<>\"n\",COUNTIF(B464:$B$4018,B464),IF(D464<6,0,COUNTIF(B464:$B$4018,B464)))","v":2},6,{"$f":"IF(ISERROR(VLOOKUP(A464,Feriados!A:A,1,FALSE)),\"n\",VLOOKUP(A464,Feriados!A:A,1,FALSE))","v":"n"}]
[45025,318,{"$f":"IF(E465<>\"n\",COUNTIF(B465:$B$4018,B465),IF(D465<6,0,COUNTIF(B465:$B$4018,B465)))","v":1},7,{"$f":"IF(ISERROR(VLOOKUP(A465,Feriados!A:A,1,FALSE)),\"n\",VLOOKUP(A465,Feriados!A:A,1,FALSE))","v":"n"}]
[45026,319,{"$f":"IF(E466<>\"n\",COUNTIF(B466:$B$4018,B466),IF(D466<6,0,COUNTIF(B466:$B$4018,B466)))","v":0},1,{"$f":"IF(ISERROR(VLOOKUP(A466,Feriados!A:A,1,FALSE)),\"n\",VLOOKUP(A466,Feriados!A:A,1,FALSE))","v":"n"}]
[45027,320,{"$f":"IF(E467<>\"n\",COUNTIF(B467:$B$4018,B467),IF(D467<6,0,COUNTIF(B467:$B$4018,B467)))","v":0},2,{"$f":"IF(ISERROR(VLOOKUP(A467,Feriados!A:A,1,FALSE)),\"n\",VLOOKUP(A467,Feriados!A:A,1,FALSE))","v":"n"}]
[45028,321,{"$f":"IF(E468<>\"n\",COUNTIF(B468:$B$4018,B468),IF(D468<6,0,COUNTIF(B468:$B$4018,B468)))","v":0},3,{"$f":"IF(ISERROR(VLOOKUP(A468,Feriados!A:A,1,FALSE)),\"n\",VLOOKUP(A468,Feriados!A:A,1,FALSE))","v":"n"}]
[45029,322,{"$f":"IF(E469<>\"n\",COUNTIF(B469:$B$4018,B469),IF(D469<6,0,COUNTIF(B469:$B$4018,B469)))","v":0},4,{"$f":"IF(ISERROR(VLOOKUP(A469,Feriados!A:A,1,FALSE)),\"n\",VLOOKUP(A469,Feriados!A:A,1,FALSE))","v":"n"}]
[45030,323,{"$f":"IF(E470<>\"n\",COUNTIF(B470:$B$4018,B470),IF(D470<6,0,COUNTIF(B470:$B$4018,B470)))","v":0},5,{"$f":"IF(ISERROR(VLOOKUP(A470,Feriados!A:A,1,FALSE)),\"n\",VLOOKUP(A470,Feriados!A:A,1,FALSE))","v":"n"}]
[45031,323,{"$f":"IF(E471<>\"n\",COUNTIF(B471:$B$4018,B471),IF(D471<6,0,COUNTIF(B471:$B$4018,B471)))","v":2},6,{"$f":"IF(ISERROR(VLOOKUP(A471,Feriados!A:A,1,FALSE)),\"n\",VLOOKUP(A471,Feriados!A:A,1,FALSE))","v":"n"}]
[45032,323,{"$f":"IF(E472<>\"n\",COUNTIF(B472:$B$4018,B472),IF(D472<6,0,COUNTIF(B472:$B$4018,B472)))","v":1},7,{"$f":"IF(ISERROR(VLOOKUP(A472,Feriados!A:A,1,FALSE)),\"n\",VLOOKUP(A472,Feriados!A:A,1,FALSE))","v":"n"}]
[45033,324,{"$f":"IF(E473<>\"n\",COUNTIF(B473:$B$4018,B473),IF(D473<6,0,COUNTIF(B473:$B$4018,B473)))","v":0},1,{"$f":"IF(ISERROR(VLOOKUP(A473,Feriados!A:A,1,FALSE)),\"n\",VLOOKUP(A473,Feriados!A:A,1,FALSE))","v":"n"}]
[45034,325,{"$f":"IF(E474<>\"n\",COUNTIF(B474:$B$4018,B474),IF(D474<6,0,COUNTIF(B474:$B$4018,B474)))","v":0},2,{"$f":"IF(ISERROR(VLOOKUP(A474,Feriados!A:A,1,FALSE)),\"n\",VLOOKUP(A474,Feriados!A:A,1,FALSE))","v":"n"}]
[45035,326,{"$f":"IF(E475<>\"n\",COUNTIF(B475:$B$4018,B475),IF(D475<6,0,COUNTIF(B475:$B$4018,B475)))","v":0},3,{"$f":"IF(ISERROR(VLOOKUP(A475,Feriados!A:A,1,FALSE)),\"n\",VLOOKUP(A475,Feriados!A:A,1,FALSE))","v":"n"}]
[45036,327,{"$f":"IF(E476<>\"n\",COUNTIF(B476:$B$4018,B476),IF(D476<6,0,COUNTIF(B476:$B$4018,B476)))","v":0},4,{"$f":"IF(ISERROR(VLOOKUP(A476,Feriados!A:A,1,FALSE)),\"n\",VLOOKUP(A476,Feriados!A:A,1,FALSE))","v":"n"}]
[45037,327,{"$f":"IF(E477<>\"n\",COUNTIF(B477:$B$4018,B477),IF(D477<6,0,COUNTIF(B477:$B$4018,B477)))","v":3},5,{"$f":"IF(ISERROR(VLOOKUP(A477,Feriados!A:A,1,FALSE)),\"n\",VLOOKUP(A477,Feriados!A:A,1,FALSE))","v":"2023-04-21"}]
[45038,{"$f":"NETWORKDAYS($A$2,A478,feriados)","v":327},{"$f":"IF(E478<>\"n\",COUNTIF(B478:$B$4018,B478),IF(D478<6,0,COUNTIF(B478:$B$4018,B478)))","v":2},{"$f":"WEEKDAY(A478,2)","v":6},{"$f":"IF(ISERROR(VLOOKUP(A478,Feriados!A:A,1,FALSE)),\"n\",VLOOKUP(A478,Feriados!A:A,1,FALSE))","v":"n"}]
[45039,327,{"$f":"IF(E479<>\"n\",COUNTIF(B479:$B$4018,B479),IF(D479<6,0,COUNTIF(B479:$B$4018,B479)))","v":1},7,{"$f":"IF(ISERROR(VLOOKUP(A479,Feriados!A:A,1,FALSE)),\"n\",VLOOKUP(A479,Feriados!A:A,1,FALSE))","v":"n"}]
[45040,328,{"$f":"IF(E480<>\"n\",COUNTIF(B480:$B$4018,B480),IF(D480<6,0,COUNTIF(B480:$B$4018,B480)))","v":0},1,{"$f":"IF(ISERROR(VLOOKUP(A480,Feriados!A:A,1,FALSE)),\"n\",VLOOKUP(A480,Feriados!A:A,1,FALSE))","v":"n"}]
[45041,329,{"$f":"IF(E481<>\"n\",COUNTIF(B481:$B$4018,B481),IF(D481<6,0,COUNTIF(B481:$B$4018,B481)))","v":0},2,{"$f":"IF(ISERROR(VLOOKUP(A481,Feriados!A:A,1,FALSE)),\"n\",VLOOKUP(A481,Feriados!A:A,1,FALSE))","v":"n"}]
[45042,330,{"$f":"IF(E482<>\"n\",COUNTIF(B482:$B$4018,B482),IF(D482<6,0,COUNTIF(B482:$B$4018,B482)))","v":0},3,{"$f":"IF(ISERROR(VLOOKUP(A482,Feriados!A:A,1,FALSE)),\"n\",VLOOKUP(A482,Feriados!A:A,1,FALSE))","v":"n"}]
[45043,331,{"$f":"IF(E483<>\"n\",COUNTIF(B483:$B$4018,B483),IF(D483<6,0,COUNTIF(B483:$B$4018,B483)))","v":0},4,{"$f":"IF(ISERROR(VLOOKUP(A483,Feriados!A:A,1,FALSE)),\"n\",VLOOKUP(A483,Feriados!A:A,1,FALSE))","v":"n"}]
[45044,332,{"$f":"IF(E484<>\"n\",COUNTIF(B484:$B$4018,B484),IF(D484<6,0,COUNTIF(B484:$B$4018,B484)))","v":0},5,{"$f":"IF(ISERROR(VLOOKUP(A484,Feriados!A:A,1,FALSE)),\"n\",VLOOKUP(A484,Feriados!A:A,1,FALSE))","v":"n"}]
[45045,332,{"$f":"IF(E485<>\"n\",COUNTIF(B485:$B$4018,B485),IF(D485<6,0,COUNTIF(B485:$B$4018,B485)))","v":3},6,{"$f":"IF(ISERROR(VLOOKUP(A485,Feriados!A:A,1,FALSE)),\"n\",VLOOKUP(A485,Feriados!A:A,1,FALSE))","v":"n"}]
[45046,332,{"$f":"IF(E486<>\"n\",COUNTIF(B486:$B$4018,B486),IF(D486<6,0,COUNTIF(B486:$B$4018,B486)))","v":2},7,{"$f":"IF(ISERROR(VLOOKUP(A486,Feriados!A:A,1,FALSE)),\"n\",VLOOKUP(A486,Feriados!A:A,1,FALSE))","v":"n"}]
[45047,332,{"$f":"IF(E487<>\"n\",COUNTIF(B487:$B$4018,B487),IF(D487<6,0,COUNTIF(B487:$B$4018,B487)))","v":1},1,{"$f":"IF(ISERROR(VLOOKUP(A487,Feriados!A:A,1,FALSE)),\"n\",VLOOKUP(A487,Feriados!A:A,1,FALSE))","v":"2023-05-01"}]
[45048,333,{"$f":"IF(E488<>\"n\",COUNTIF(B488:$B$4018,B488),IF(D488<6,0,COUNTIF(B488:$B$4018,B488)))","v":0},2,{"$f":"IF(ISERROR(VLOOKUP(A488,Feriados!A:A,1,FALSE)),\"n\",VLOOKUP(A488,Feriados!A:A,1,FALSE))","v":"n"}]
[45049,334,{"$f":"IF(E489<>\"n\",COUNTIF(B489:$B$4018,B489),IF(D489<6,0,COUNTIF(B489:$B$4018,B489)))","v":0},3,{"$f":"IF(ISERROR(VLOOKUP(A489,Feriados!A:A,1,FALSE)),\"n\",VLOOKUP(A489,Feriados!A:A,1,FALSE))","v":"n"}]
[45050,335,{"$f":"IF(E490<>\"n\",COUNTIF(B490:$B$4018,B490),IF(D490<6,0,COUNTIF(B490:$B$4018,B490)))","v":0},4,{"$f":"IF(ISERROR(VLOOKUP(A490,Feriados!A:A,1,FALSE)),\"n\",VLOOKUP(A490,Feriados!A:A,1,FALSE))","v":"n"}]
[45051,336,{"$f":"IF(E491<>\"n\",COUNTIF(B491:$B$4018,B491),IF(D491<6,0,COUNTIF(B491:$B$4018,B491)))","v":0},5,{"$f":"IF(ISERROR(VLOOKUP(A491,Feriados!A:A,1,FALSE)),\"n\",VLOOKUP(A491,Feriados!A:A,1,FALSE))","v":"n"}]
[45052,336,{"$f":"IF(E492<>\"n\",COUNTIF(B492:$B$4018,B492),IF(D492<6,0,COUNTIF(B492:$B$4018,B492)))","v":2},6,{"$f":"IF(ISERROR(VLOOKUP(A492,Feriados!A:A,1,FALSE)),\"n\",VLOOKUP(A492,Feriados!A:A,1,FALSE))","v":"n"}]
[45053,336,{"$f":"IF(E493<>\"n\",COUNTIF(B493:$B$4018,B493),IF(D493<6,0,COUNTIF(B493:$B$4018,B493)))","v":1},7,{"$f":"IF(ISERROR(VLOOKUP(A493,Feriados!A:A,1,FALSE)),\"n\",VLOOKUP(A493,Feriados!A:A,1,FALSE))","v":"n"}]
[45054,337,{"$f":"IF(E494<>\"n\",COUNTIF(B494:$B$4018,B494),IF(D494<6,0,COUNTIF(B494:$B$4018,B494)))","v":0},1,{"$f":"IF(ISERROR(VLOOKUP(A494,Feriados!A:A,1,FALSE)),\"n\",VLOOKUP(A494,Feriados!A:A,1,FALSE))","v":"n"}]
[45055,338,{"$f":"IF(E495<>\"n\",COUNTIF(B495:$B$4018,B495),IF(D495<6,0,COUNTIF(B495:$B$4018,B495)))","v":0},2,{"$f":"IF(ISERROR(VLOOKUP(A495,Feriados!A:A,1,FALSE)),\"n\",VLOOKUP(A495,Feriados!A:A,1,FALSE))","v":"n"}]
[45056,339,{"$f":"IF(E496<>\"n\",COUNTIF(B496:$B$4018,B496),IF(D496<6,0,COUNTIF(B496:$B$4018,B496)))","v":0},3,{"$f":"IF(ISERROR(VLOOKUP(A496,Feriados!A:A,1,FALSE)),\"n\",VLOOKUP(A496,Feriados!A:A,1,FALSE))","v":"n"}]
[45057,340,{"$f":"IF(E497<>\"n\",COUNTIF(B497:$B$4018,B497),IF(D497<6,0,COUNTIF(B497:$B$4018,B497)))","v":0},4,{"$f":"IF(ISERROR(VLOOKUP(A497,Feriados!A:A,1,FALSE)),\"n\",VLOOKUP(A497,Feriados!A:A,1,FALSE))","v":"n"}]
[45058,341,{"$f":"IF(E498<>\"n\",COUNTIF(B498:$B$4018,B498),IF(D498<6,0,COUNTIF(B498:$B$4018,B498)))","v":0},5,{"$f":"IF(ISERROR(VLOOKUP(A498,Feriados!A:A,1,FALSE)),\"n\",VLOOKUP(A498,Feriados!A:A,1,FALSE))","v":"n"}]
[45059,341,{"$f":"IF(E499<>\"n\",COUNTIF(B499:$B$4018,B499),IF(D499<6,0,COUNTIF(B499:$B$4018,B499)))","v":2},6,{"$f":"IF(ISERROR(VLOOKUP(A499,Feriados!A:A,1,FALSE)),\"n\",VLOOKUP(A499,Feriados!A:A,1,FALSE))","v":"n"}]
[45060,341,{"$f":"IF(E500<>\"n\",COUNTIF(B500:$B$4018,B500),IF(D500<6,0,COUNTIF(B500:$B$4018,B500)))","v":1},7,{"$f":"IF(ISERROR(VLOOKUP(A500,Feriados!A:A,1,FALSE)),\"n\",VLOOKUP(A500,Feriados!A:A,1,FALSE))","v":"n"}]
[45061,342,{"$f":"IF(E501<>\"n\",COUNTIF(B501:$B$4018,B501),IF(D501<6,0,COUNTIF(B501:$B$4018,B501)))","v":0},1,{"$f":"IF(ISERROR(VLOOKUP(A501,Feriados!A:A,1,FALSE)),\"n\",VLOOKUP(A501,Feriados!A:A,1,FALSE))","v":"n"}]
[45062,343,{"$f":"IF(E502<>\"n\",COUNTIF(B502:$B$4018,B502),IF(D502<6,0,COUNTIF(B502:$B$4018,B502)))","v":0},2,{"$f":"IF(ISERROR(VLOOKUP(A502,Feriados!A:A,1,FALSE)),\"n\",VLOOKUP(A502,Feriados!A:A,1,FALSE))","v":"n"}]
[45063,344,{"$f":"IF(E503<>\"n\",COUNTIF(B503:$B$4018,B503),IF(D503<6,0,COUNTIF(B503:$B$4018,B503)))","v":0},3,{"$f":"IF(ISERROR(VLOOKUP(A503,Feriados!A:A,1,FALSE)),\"n\",VLOOKUP(A503,Feriados!A:A,1,FALSE))","v":"n"}]
[45064,345,{"$f":"IF(E504<>\"n\",COUNTIF(B504:$B$4018,B504),IF(D504<6,0,COUNTIF(B504:$B$4018,B504)))","v":0},4,{"$f":"IF(ISERROR(VLOOKUP(A504,Feriados!A:A,1,FALSE)),\"n\",VLOOKUP(A504,Feriados!A:A,1,FALSE))","v":"n"}]
[45065,346,{"$f":"IF(E505<>\"n\",COUNTIF(B505:$B$4018,B505),IF(D505<6,0,COUNTIF(B505:$B$4018,B505)))","v":0},5,{"$f":"IF(ISERROR(VLOOKUP(A505,Feriados!A:A,1,FALSE)),\"n\",VLOOKUP(A505,Feriados!A:A,1,FALSE))","v":"n"}]
[45066,346,{"$f":"IF(E506<>\"n\",COUNTIF(B506:$B$4018,B506),IF(D506<6,0,COUNTIF(B506:$B$4018,B506)))","v":2},6,{"$f":"IF(ISERROR(VLOOKUP(A506,Feriados!A:A,1,FALSE)),\"n\",VLOOKUP(A506,Feriados!A:A,1,FALSE))","v":"n"}]
[45067,346,{"$f":"IF(E507<>\"n\",COUNTIF(B507:$B$4018,B507),IF(D507<6,0,COUNTIF(B507:$B$4018,B507)))","v":1},7,{"$f":"IF(ISERROR(VLOOKUP(A507,Feriados!A:A,1,FALSE)),\"n\",VLOOKUP(A507,Feriados!A:A,1,FALSE))","v":"n"}]
[45068,347,{"$f":"IF(E508<>\"n\",COUNTIF(B508:$B$4018,B508),IF(D508<6,0,COUNTIF(B508:$B$4018,B508)))","v":0},1,{"$f":"IF(ISERROR(VLOOKUP(A508,Feriados!A:A,1,FALSE)),\"n\",VLOOKUP(A508,Feriados!A:A,1,FALSE))","v":"n"}]
[45069,348,{"$f":"IF(E509<>\"n\",COUNTIF(B509:$B$4018,B509),IF(D509<6,0,COUNTIF(B509:$B$4018,B509)))","v":0},2,{"$f":"IF(ISERROR(VLOOKUP(A509,Feriados!A:A,1,FALSE)),\"n\",VLOOKUP(A509,Feriados!A:A,1,FALSE))","v":"n"}]
[45070,349,{"$f":"IF(E510<>\"n\",COUNTIF(B510:$B$4018,B510),IF(D510<6,0,COUNTIF(B510:$B$4018,B510)))","v":0},3,{"$f":"IF(ISERROR(VLOOKUP(A510,Feriados!A:A,1,FALSE)),\"n\",VLOOKUP(A510,Feriados!A:A,1,FALSE))","v":"n"}]
[45071,350,{"$f":"IF(E511<>\"n\",COUNTIF(B511:$B$4018,B511),IF(D511<6,0,COUNTIF(B511:$B$4018,B511)))","v":0},4,{"$f":"IF(ISERROR(VLOOKUP(A511,Feriados!A:A,1,FALSE)),\"n\",VLOOKUP(A511,Feriados!A:A,1,FALSE))","v":"n"}]
[45072,351,{"$f":"IF(E512<>\"n\",COUNTIF(B512:$B$4018,B512),IF(D512<6,0,COUNTIF(B512:$B$4018,B512)))","v":0},5,{"$f":"IF(ISERROR(VLOOKUP(A512,Feriados!A:A,1,FALSE)),\"n\",VLOOKUP(A512,Feriados!A:A,1,FALSE))","v":"n"}]
[45073,351,{"$f":"IF(E513<>\"n\",COUNTIF(B513:$B$4018,B513),IF(D513<6,0,COUNTIF(B513:$B$4018,B513)))","v":2},6,{"$f":"IF(ISERROR(VLOOKUP(A513,Feriados!A:A,1,FALSE)),\"n\",VLOOKUP(A513,Feriados!A:A,1,FALSE))","v":"n"}]
[45074,351,{"$f":"IF(E514<>\"n\",COUNTIF(B514:$B$4018,B514),IF(D514<6,0,COUNTIF(B514:$B$4018,B514)))","v":1},7,{"$f":"IF(ISERROR(VLOOKUP(A514,Feriados!A:A,1,FALSE)),\"n\",VLOOKUP(A514,Feriados!A:A,1,FALSE))","v":"n"}]
[45075,352,{"$f":"IF(E515<>\"n\",COUNTIF(B515:$B$4018,B515),IF(D515<6,0,COUNTIF(B515:$B$4018,B515)))","v":0},1,{"$f":"IF(ISERROR(VLOOKUP(A515,Feriados!A:A,1,FALSE)),\"n\",VLOOKUP(A515,Feriados!A:A,1,FALSE))","v":"n"}]
[{"$f":"A515+1","v":45076},353,{"$f":"IF(E516<>\"n\",COUNTIF(B516:$B$4018,B516),IF(D516<6,0,COUNTIF(B516:$B$4018,B516)))","v":0},2,{"$f":"IF(ISERROR(VLOOKUP(A516,Feriados!A:A,1,FALSE)),\"n\",VLOOKUP(A516,Feriados!A:A,1,FALSE))","v":"n"}]
[45077,354,{"$f":"IF(E517<>\"n\",COUNTIF(B517:$B$4018,B517),IF(D517<6,0,COUNTIF(B517:$B$4018,B517)))","v":0},3,{"$f":"IF(ISERROR(VLOOKUP(A517,Feriados!A:A,1,FALSE)),\"n\",VLOOKUP(A517,Feriados!A:A,1,FALSE))","v":"n"}]
[45078,355,{"$f":"IF(E518<>\"n\",COUNTIF(B518:$B$4018,B518),IF(D518<6,0,COUNTIF(B518:$B$4018,B518)))","v":0},4,{"$f":"IF(ISERROR(VLOOKUP(A518,Feriados!A:A,1,FALSE)),\"n\",VLOOKUP(A518,Feriados!A:A,1,FALSE))","v":"n"}]
[45079,356,{"$f":"IF(E519<>\"n\",COUNTIF(B519:$B$4018,B519),IF(D519<6,0,COUNTIF(B519:$B$4018,B519)))","v":0},5,{"$f":"IF(ISERROR(VLOOKUP(A519,Feriados!A:A,1,FALSE)),\"n\",VLOOKUP(A519,Feriados!A:A,1,FALSE))","v":"n"}]
[45080,356,{"$f":"IF(E520<>\"n\",COUNTIF(B520:$B$4018,B520),IF(D520<6,0,COUNTIF(B520:$B$4018,B520)))","v":2},6,{"$f":"IF(ISERROR(VLOOKUP(A520,Feriados!A:A,1,FALSE)),\"n\",VLOOKUP(A520,Feriados!A:A,1,FALSE))","v":"n"}]
[45081,356,{"$f":"IF(E521<>\"n\",COUNTIF(B521:$B$4018,B521),IF(D521<6,0,COUNTIF(B521:$B$4018,B521)))","v":1},7,{"$f":"IF(ISERROR(VLOOKUP(A521,Feriados!A:A,1,FALSE)),\"n\",VLOOKUP(A521,Feriados!A:A,1,FALSE))","v":"n"}]
[45082,357,{"$f":"IF(E522<>\"n\",COUNTIF(B522:$B$4018,B522),IF(D522<6,0,COUNTIF(B522:$B$4018,B522)))","v":0},1,{"$f":"IF(ISERROR(VLOOKUP(A522,Feriados!A:A,1,FALSE)),\"n\",VLOOKUP(A522,Feriados!A:A,1,FALSE))","v":"n"}]
[45083,358,{"$f":"IF(E523<>\"n\",COUNTIF(B523:$B$4018,B523),IF(D523<6,0,COUNTIF(B523:$B$4018,B523)))","v":0},2,{"$f":"IF(ISERROR(VLOOKUP(A523,Feriados!A:A,1,FALSE)),\"n\",VLOOKUP(A523,Feriados!A:A,1,FALSE))","v":"n"}]
[45084,359,{"$f":"IF(E524<>\"n\",COUNTIF(B524:$B$4018,B524),IF(D524<6,0,COUNTIF(B524:$B$4018,B524)))","v":0},3,{"$f":"IF(ISERROR(VLOOKUP(A524,Feriados!A:A,1,FALSE)),\"n\",VLOOKUP(A524,Feriados!A:A,1,FALSE))","v":"n"}]
[45085,359,{"$f":"IF(E525<>\"n\",COUNTIF(B525:$B$4018,B525),IF(D525<6,0,COUNTIF(B525:$B$4018,B525)))","v":1},4,{"$f":"IF(ISERROR(VLOOKUP(A525,Feriados!A:A,1,FALSE)),\"n\",VLOOKUP(A525,Feriados!A:A,1,FALSE))","v":"2023-06-08"}]
[45086,360,{"$f":"IF(E526<>\"n\",COUNTIF(B526:$B$4018,B526),IF(D526<6,0,COUNTIF(B526:$B$4018,B526)))","v":0},5,{"$f":"IF(ISERROR(VLOOKUP(A526,Feriados!A:A,1,FALSE)),\"n\",VLOOKUP(A526,Feriados!A:A,1,FALSE))","v":"n"}]
[45087,360,{"$f":"IF(E527<>\"n\",COUNTIF(B527:$B$4018,B527),IF(D527<6,0,COUNTIF(B527:$B$4018,B527)))","v":2},6,{"$f":"IF(ISERROR(VLOOKUP(A527,Feriados!A:A,1,FALSE)),\"n\",VLOOKUP(A527,Feriados!A:A,1,FALSE))","v":"n"}]
[45088,360,{"$f":"IF(E528<>\"n\",COUNTIF(B528:$B$4018,B528),IF(D528<6,0,COUNTIF(B528:$B$4018,B528)))","v":1},7,{"$f":"IF(ISERROR(VLOOKUP(A528,Feriados!A:A,1,FALSE)),\"n\",VLOOKUP(A528,Feriados!A:A,1,FALSE))","v":"n"}]
[45089,361,{"$f":"IF(E529<>\"n\",COUNTIF(B529:$B$4018,B529),IF(D529<6,0,COUNTIF(B529:$B$4018,B529)))","v":0},1,{"$f":"IF(ISERROR(VLOOKUP(A529,Feriados!A:A,1,FALSE)),\"n\",VLOOKUP(A529,Feriados!A:A,1,FALSE))","v":"n"}]
[45090,362,{"$f":"IF(E530<>\"n\",COUNTIF(B530:$B$4018,B530),IF(D530<6,0,COUNTIF(B530:$B$4018,B530)))","v":0},2,{"$f":"IF(ISERROR(VLOOKUP(A530,Feriados!A:A,1,FALSE)),\"n\",VLOOKUP(A530,Feriados!A:A,1,FALSE))","v":"n"}]
[45091,363,{"$f":"IF(E531<>\"n\",COUNTIF(B531:$B$4018,B531),IF(D531<6,0,COUNTIF(B531:$B$4018,B531)))","v":0},3,{"$f":"IF(ISERROR(VLOOKUP(A531,Feriados!A:A,1,FALSE)),\"n\",VLOOKUP(A531,Feriados!A:A,1,FALSE))","v":"n"}]
[45092,364,{"$f":"IF(E532<>\"n\",COUNTIF(B532:$B$4018,B532),IF(D532<6,0,COUNTIF(B532:$B$4018,B532)))","v":0},4,{"$f":"IF(ISERROR(VLOOKUP(A532,Feriados!A:A,1,FALSE)),\"n\",VLOOKUP(A532,Feriados!A:A,1,FALSE))","v":"n"}]
[45093,365,{"$f":"IF(E533<>\"n\",COUNTIF(B533:$B$4018,B533),IF(D533<6,0,COUNTIF(B533:$B$4018,B533)))","v":0},5,{"$f":"IF(ISERROR(VLOOKUP(A533,Feriados!A:A,1,FALSE)),\"n\",VLOOKUP(A533,Feriados!A:A,1,FALSE))","v":"n"}]
[45094,365,{"$f":"IF(E534<>\"n\",COUNTIF(B534:$B$4018,B534),IF(D534<6,0,COUNTIF(B534:$B$4018,B534)))","v":2},6,{"$f":"IF(ISERROR(VLOOKUP(A534,Feriados!A:A,1,FALSE)),\"n\",VLOOKUP(A534,Feriados!A:A,1,FALSE))","v":"n"}]
[45095,365,{"$f":"IF(E535<>\"n\",COUNTIF(B535:$B$4018,B535),IF(D535<6,0,COUNTIF(B535:$B$4018,B535)))","v":1},7,{"$f":"IF(ISERROR(VLOOKUP(A535,Feriados!A:A,1,FALSE)),\"n\",VLOOKUP(A535,Feriados!A:A,1,FALSE))","v":"n"}]
[45096,366,{"$f":"IF(E536<>\"n\",COUNTIF(B536:$B$4018,B536),IF(D536<6,0,COUNTIF(B536:$B$4018,B536)))","v":0},1,{"$f":"IF(ISERROR(VLOOKUP(A536,Feriados!A:A,1,FALSE)),\"n\",VLOOKUP(A536,Feriados!A:A,1,FALSE))","v":"n"}]
[45097,367,{"$f":"IF(E537<>\"n\",COUNTIF(B537:$B$4018,B537),IF(D537<6,0,COUNTIF(B537:$B$4018,B537)))","v":0},2,{"$f":"IF(ISERROR(VLOOKUP(A537,Feriados!A:A,1,FALSE)),\"n\",VLOOKUP(A537,Feriados!A:A,1,FALSE))","v":"n"}]
[45098,368,{"$f":"IF(E538<>\"n\",COUNTIF(B538:$B$4018,B538),IF(D538<6,0,COUNTIF(B538:$B$4018,B538)))","v":0},3,{"$f":"IF(ISERROR(VLOOKUP(A538,Feriados!A:A,1,FALSE)),\"n\",VLOOKUP(A538,Feriados!A:A,1,FALSE))","v":"n"}]
[45099,369,{"$f":"IF(E539<>\"n\",COUNTIF(B539:$B$4018,B539),IF(D539<6,0,COUNTIF(B539:$B$4018,B539)))","v":0},4,{"$f":"IF(ISERROR(VLOOKUP(A539,Feriados!A:A,1,FALSE)),\"n\",VLOOKUP(A539,Feriados!A:A,1,FALSE))","v":"n"}]
[45100,370,{"$f":"IF(E540<>\"n\",COUNTIF(B540:$B$4018,B540),IF(D540<6,0,COUNTIF(B540:$B$4018,B540)))","v":0},5,{"$f":"IF(ISERROR(VLOOKUP(A540,Feriados!A:A,1,FALSE)),\"n\",VLOOKUP(A540,Feriados!A:A,1,FALSE))","v":"n"}]
[45101,370,{"$f":"IF(E541<>\"n\",COUNTIF(B541:$B$4018,B541),IF(D541<6,0,COUNTIF(B541:$B$4018,B541)))","v":2},6,{"$f":"IF(ISERROR(VLOOKUP(A541,Feriados!A:A,1,FALSE)),\"n\",VLOOKUP(A541,Feriados!A:A,1,FALSE))","v":"n"}]
[45102,{"$f":"NETWORKDAYS($A$2,A542,feriados)","v":370},{"$f":"IF(E542<>\"n\",COUNTIF(B542:$B$4018,B542),IF(D542<6,0,COUNTIF(B542:$B$4018,B542)))","v":1},{"$f":"WEEKDAY(A542,2)","v":7},{"$f":"IF(ISERROR(VLOOKUP(A542,Feriados!A:A,1,FALSE)),\"n\",VLOOKUP(A542,Feriados!A:A,1,FALSE))","v":"n"}]
[45103,371,{"$f":"IF(E543<>\"n\",COUNTIF(B543:$B$4018,B543),IF(D543<6,0,COUNTIF(B543:$B$4018,B543)))","v":0},1,{"$f":"IF(ISERROR(VLOOKUP(A543,Feriados!A:A,1,FALSE)),\"n\",VLOOKUP(A543,Feriados!A:A,1,FALSE))","v":"n"}]
[45104,372,{"$f":"IF(E544<>\"n\",COUNTIF(B544:$B$4018,B544),IF(D544<6,0,COUNTIF(B544:$B$4018,B544)))","v":0},2,{"$f":"IF(ISERROR(VLOOKUP(A544,Feriados!A:A,1,FALSE)),\"n\",VLOOKUP(A544,Feriados!A:A,1,FALSE))","v":"n"}]
[45105,373,{"$f":"IF(E545<>\"n\",COUNTIF(B545:$B$4018,B545),IF(D545<6,0,COUNTIF(B545:$B$4018,B545)))","v":0},3,{"$f":"IF(ISERROR(VLOOKUP(A545,Feriados!A:A,1,FALSE)),\"n\",VLOOKUP(A545,Feriados!A:A,1,FALSE))","v":"n"}]
[45106,374,{"$f":"IF(E546<>\"n\",COUNTIF(B546:$B$4018,B546),IF(D546<6,0,COUNTIF(B546:$B$4018,B546)))","v":0},4,{"$f":"IF(ISERROR(VLOOKUP(A546,Feriados!A:A,1,FALSE)),\"n\",VLOOKUP(A546,Feriados!A:A,1,FALSE))","v":"n"}]
[45107,375,{"$f":"IF(E547<>\"n\",COUNTIF(B547:$B$4018,B547),IF(D547<6,0,COUNTIF(B547:$B$4018,B547)))","v":0},5,{"$f":"IF(ISERROR(VLOOKUP(A547,Feriados!A:A,1,FALSE)),\"n\",VLOOKUP(A547,Feriados!A:A,1,FALSE))","v":"n"}]
[45108,375,{"$f":"IF(E548<>\"n\",COUNTIF(B548:$B$4018,B548),IF(D548<6,0,COUNTIF(B548:$B$4018,B548)))","v":2},6,{"$f":"IF(ISERROR(VLOOKUP(A548,Feriados!A:A,1,FALSE)),\"n\",VLOOKUP(A548,Feriados!A:A,1,FALSE))","v":"n"}]
[45109,375,{"$f":"IF(E549<>\"n\",COUNTIF(B549:$B$4018,B549),IF(D549<6,0,COUNTIF(B549:$B$4018,B549)))","v":1},7,{"$f":"IF(ISERROR(VLOOKUP(A549,Feriados!A:A,1,FALSE)),\"n\",VLOOKUP(A549,Feriados!A:A,1,FALSE))","v":"n"}]
[45110,376,{"$f":"IF(E550<>\"n\",COUNTIF(B550:$B$4018,B550),IF(D550<6,0,COUNTIF(B550:$B$4018,B550)))","v":0},1,{"$f":"IF(ISERROR(VLOOKUP(A550,Feriados!A:A,1,FALSE)),\"n\",VLOOKUP(A550,Feriados!A:A,1,FALSE))","v":"n"}]
[45111,377,{"$f":"IF(E551<>\"n\",COUNTIF(B551:$B$4018,B551),IF(D551<6,0,COUNTIF(B551:$B$4018,B551)))","v":0},2,{"$f":"IF(ISERROR(VLOOKUP(A551,Feriados!A:A,1,FALSE)),\"n\",VLOOKUP(A551,Feriados!A:A,1,FALSE))","v":"n"}]
[45112,378,{"$f":"IF(E552<>\"n\",COUNTIF(B552:$B$4018,B552),IF(D552<6,0,COUNTIF(B552:$B$4018,B552)))","v":0},3,{"$f":"IF(ISERROR(VLOOKUP(A552,Feriados!A:A,1,FALSE)),\"n\",VLOOKUP(A552,Feriados!A:A,1,FALSE))","v":"n"}]
[45113,379,{"$f":"IF(E553<>\"n\",COUNTIF(B553:$B$4018,B553),IF(D553<6,0,COUNTIF(B553:$B$4018,B553)))","v":0},4,{"$f":"IF(ISERROR(VLOOKUP(A553,Feriados!A:A,1,FALSE)),\"n\",VLOOKUP(A553,Feriados!A:A,1,FALSE))","v":"n"}]
[45114,380,{"$f":"IF(E554<>\"n\",COUNTIF(B554:$B$4018,B554),IF(D554<6,0,COUNTIF(B554:$B$4018,B554)))","v":0},5,{"$f":"IF(ISERROR(VLOOKUP(A554,Feriados!A:A,1,FALSE)),\"n\",VLOOKUP(A554,Feriados!A:A,1,FALSE))","v":"n"}]
[45115,380,{"$f":"IF(E555<>\"n\",COUNTIF(B555:$B$4018,B555),IF(D555<6,0,COUNTIF(B555:$B$4018,B555)))","v":2},6,{"$f":"IF(ISERROR(VLOOKUP(A555,Feriados!A:A,1,FALSE)),\"n\",VLOOKUP(A555,Feriados!A:A,1,FALSE))","v":"n"}]
[45116,380,{"$f":"IF(E556<>\"n\",COUNTIF(B556:$B$4018,B556),IF(D556<6,0,COUNTIF(B556:$B$4018,B556)))","v":1},7,{"$f":"IF(ISERROR(VLOOKUP(A556,Feriados!A:A,1,FALSE)),\"n\",VLOOKUP(A556,Feriados!A:A,1,FALSE))","v":"n"}]
[45117,381,{"$f":"IF(E557<>\"n\",COUNTIF(B557:$B$4018,B557),IF(D557<6,0,COUNTIF(B557:$B$4018,B557)))","v":0},1,{"$f":"IF(ISERROR(VLOOKUP(A557,Feriados!A:A,1,FALSE)),\"n\",VLOOKUP(A557,Feriados!A:A,1,FALSE))","v":"n"}]
[45118,382,{"$f":"IF(E558<>\"n\",COUNTIF(B558:$B$4018,B558),IF(D558<6,0,COUNTIF(B558:$B$4018,B558)))","v":0},2,{"$f":"IF(ISERROR(VLOOKUP(A558,Feriados!A:A,1,FALSE)),\"n\",VLOOKUP(A558,Feriados!A:A,1,FALSE))","v":"n"}]
[45119,383,{"$f":"IF(E559<>\"n\",COUNTIF(B559:$B$4018,B559),IF(D559<6,0,COUNTIF(B559:$B$4018,B559)))","v":0},3,{"$f":"IF(ISERROR(VLOOKUP(A559,Feriados!A:A,1,FALSE)),\"n\",VLOOKUP(A559,Feriados!A:A,1,FALSE))","v":"n"}]
[45120,384,{"$f":"IF(E560<>\"n\",COUNTIF(B560:$B$4018,B560),IF(D560<6,0,COUNTIF(B560:$B$4018,B560)))","v":0},4,{"$f":"IF(ISERROR(VLOOKUP(A560,Feriados!A:A,1,FALSE)),\"n\",VLOOKUP(A560,Feriados!A:A,1,FALSE))","v":"n"}]
[45121,385,{"$f":"IF(E561<>\"n\",COUNTIF(B561:$B$4018,B561),IF(D561<6,0,COUNTIF(B561:$B$4018,B561)))","v":0},5,{"$f":"IF(ISERROR(VLOOKUP(A561,Feriados!A:A,1,FALSE)),\"n\",VLOOKUP(A561,Feriados!A:A,1,FALSE))","v":"n"}]
[45122,385,{"$f":"IF(E562<>\"n\",COUNTIF(B562:$B$4018,B562),IF(D562<6,0,COUNTIF(B562:$B$4018,B562)))","v":2},6,{"$f":"IF(ISERROR(VLOOKUP(A562,Feriados!A:A,1,FALSE)),\"n\",VLOOKUP(A562,Feriados!A:A,1,FALSE))","v":"n"}]
[45123,385,{"$f":"IF(E563<>\"n\",COUNTIF(B563:$B$4018,B563),IF(D563<6,0,COUNTIF(B563:$B$4018,B563)))","v":1},7,{"$f":"IF(ISERROR(VLOOKUP(A563,Feriados!A:A,1,FALSE)),\"n\",VLOOKUP(A563,Feriados!A:A,1,FALSE))","v":"n"}]
[45124,386,{"$f":"IF(E564<>\"n\",COUNTIF(B564:$B$4018,B564),IF(D564<6,0,COUNTIF(B564:$B$4018,B564)))","v":0},1,{"$f":"IF(ISERROR(VLOOKUP(A564,Feriados!A:A,1,FALSE)),\"n\",VLOOKUP(A564,Feriados!A:A,1,FALSE))","v":"n"}]
[45125,387,{"$f":"IF(E565<>\"n\",COUNTIF(B565:$B$4018,B565),IF(D565<6,0,COUNTIF(B565:$B$4018,B565)))","v":0},2,{"$f":"IF(ISERROR(VLOOKUP(A565,Feriados!A:A,1,FALSE)),\"n\",VLOOKUP(A565,Feriados!A:A,1,FALSE))","v":"n"}]
[45126,388,{"$f":"IF(E566<>\"n\",COUNTIF(B566:$B$4018,B566),IF(D566<6,0,COUNTIF(B566:$B$4018,B566)))","v":0},3,{"$f":"IF(ISERROR(VLOOKUP(A566,Feriados!A:A,1,FALSE)),\"n\",VLOOKUP(A566,Feriados!A:A,1,FALSE))","v":"n"}]
[45127,389,{"$f":"IF(E567<>\"n\",COUNTIF(B567:$B$4018,B567),IF(D567<6,0,COUNTIF(B567:$B$4018,B567)))","v":0},4,{"$f":"IF(ISERROR(VLOOKUP(A567,Feriados!A:A,1,FALSE)),\"n\",VLOOKUP(A567,Feriados!A:A,1,FALSE))","v":"n"}]
[45128,390,{"$f":"IF(E568<>\"n\",COUNTIF(B568:$B$4018,B568),IF(D568<6,0,COUNTIF(B568:$B$4018,B568)))","v":0},5,{"$f":"IF(ISERROR(VLOOKUP(A568,Feriados!A:A,1,FALSE)),\"n\",VLOOKUP(A568,Feriados!A:A,1,FALSE))","v":"n"}]
[45129,390,{"$f":"IF(E569<>\"n\",COUNTIF(B569:$B$4018,B569),IF(D569<6,0,COUNTIF(B569:$B$4018,B569)))","v":2},6,{"$f":"IF(ISERROR(VLOOKUP(A569,Feriados!A:A,1,FALSE)),\"n\",VLOOKUP(A569,Feriados!A:A,1,FALSE))","v":"n"}]
[45130,390,{"$f":"IF(E570<>\"n\",COUNTIF(B570:$B$4018,B570),IF(D570<6,0,COUNTIF(B570:$B$4018,B570)))","v":1},7,{"$f":"IF(ISERROR(VLOOKUP(A570,Feriados!A:A,1,FALSE)),\"n\",VLOOKUP(A570,Feriados!A:A,1,FALSE))","v":"n"}]
[45131,391,{"$f":"IF(E571<>\"n\",COUNTIF(B571:$B$4018,B571),IF(D571<6,0,COUNTIF(B571:$B$4018,B571)))","v":0},1,{"$f":"IF(ISERROR(VLOOKUP(A571,Feriados!A:A,1,FALSE)),\"n\",VLOOKUP(A571,Feriados!A:A,1,FALSE))","v":"n"}]
[45132,392,{"$f":"IF(E572<>\"n\",COUNTIF(B572:$B$4018,B572),IF(D572<6,0,COUNTIF(B572:$B$4018,B572)))","v":0},2,{"$f":"IF(ISERROR(VLOOKUP(A572,Feriados!A:A,1,FALSE)),\"n\",VLOOKUP(A572,Feriados!A:A,1,FALSE))","v":"n"}]
[45133,393,{"$f":"IF(E573<>\"n\",COUNTIF(B573:$B$4018,B573),IF(D573<6,0,COUNTIF(B573:$B$4018,B573)))","v":0},3,{"$f":"IF(ISERROR(VLOOKUP(A573,Feriados!A:A,1,FALSE)),\"n\",VLOOKUP(A573,Feriados!A:A,1,FALSE))","v":"n"}]
[45134,394,{"$f":"IF(E574<>\"n\",COUNTIF(B574:$B$4018,B574),IF(D574<6,0,COUNTIF(B574:$B$4018,B574)))","v":0},4,{"$f":"IF(ISERROR(VLOOKUP(A574,Feriados!A:A,1,FALSE)),\"n\",VLOOKUP(A574,Feriados!A:A,1,FALSE))","v":"n"}]
[45135,395,{"$f":"IF(E575<>\"n\",COUNTIF(B575:$B$4018,B575),IF(D575<6,0,COUNTIF(B575:$B$4018,B575)))","v":0},5,{"$f":"IF(ISERROR(VLOOKUP(A575,Feriados!A:A,1,FALSE)),\"n\",VLOOKUP(A575,Feriados!A:A,1,FALSE))","v":"n"}]
[45136,395,{"$f":"IF(E576<>\"n\",COUNTIF(B576:$B$4018,B576),IF(D576<6,0,COUNTIF(B576:$B$4018,B576)))","v":2},6,{"$f":"IF(ISERROR(VLOOKUP(A576,Feriados!A:A,1,FALSE)),\"n\",VLOOKUP(A576,Feriados!A:A,1,FALSE))","v":"n"}]
[45137,395,{"$f":"IF(E577<>\"n\",COUNTIF(B577:$B$4018,B577),IF(D577<6,0,COUNTIF(B577:$B$4018,B577)))","v":1},7,{"$f":"IF(ISERROR(VLOOKUP(A577,Feriados!A:A,1,FALSE)),\"n\",VLOOKUP(A577,Feriados!A:A,1,FALSE))","v":"n"}]
[45138,396,{"$f":"IF(E578<>\"n\",COUNTIF(B578:$B$4018,B578),IF(D578<6,0,COUNTIF(B578:$B$4018,B578)))","v":0},1,{"$f":"IF(ISERROR(VLOOKUP(A578,Feriados!A:A,1,FALSE)),\"n\",VLOOKUP(A578,Feriados!A:A,1,FALSE))","v":"n"}]
[45139,397,{"$f":"IF(E579<>\"n\",COUNTIF(B579:$B$4018,B579),IF(D579<6,0,COUNTIF(B579:$B$4018,B579)))","v":0},2,{"$f":"IF(ISERROR(VLOOKUP(A579,Feriados!A:A,1,FALSE)),\"n\",VLOOKUP(A579,Feriados!A:A,1,FALSE))","v":"n"}]
[{"$f":"A579+1","v":45140},398,{"$f":"IF(E580<>\"n\",COUNTIF(B580:$B$4018,B580),IF(D580<6,0,COUNTIF(B580:$B$4018,B580)))","v":0},3,{"$f":"IF(ISERROR(VLOOKUP(A580,Feriados!A:A,1,FALSE)),\"n\",VLOOKUP(A580,Feriados!A:A,1,FALSE))","v":"n"}]
[45141,399,{"$f":"IF(E581<>\"n\",COUNTIF(B581:$B$4018,B581),IF(D581<6,0,COUNTIF(B581:$B$4018,B581)))","v":0},4,{"$f":"IF(ISERROR(VLOOKUP(A581,Feriados!A:A,1,FALSE)),\"n\",VLOOKUP(A581,Feriados!A:A,1,FALSE))","v":"n"}]
[45142,400,{"$f":"IF(E582<>\"n\",COUNTIF(B582:$B$4018,B582),IF(D582<6,0,COUNTIF(B582:$B$4018,B582)))","v":0},5,{"$f":"IF(ISERROR(VLOOKUP(A582,Feriados!A:A,1,FALSE)),\"n\",VLOOKUP(A582,Feriados!A:A,1,FALSE))","v":"n"}]
[45143,400,{"$f":"IF(E583<>\"n\",COUNTIF(B583:$B$4018,B583),IF(D583<6,0,COUNTIF(B583:$B$4018,B583)))","v":2},6,{"$f":"IF(ISERROR(VLOOKUP(A583,Feriados!A:A,1,FALSE)),\"n\",VLOOKUP(A583,Feriados!A:A,1,FALSE))","v":"n"}]
[45144,400,{"$f":"IF(E584<>\"n\",COUNTIF(B584:$B$4018,B584),IF(D584<6,0,COUNTIF(B584:$B$4018,B584)))","v":1},7,{"$f":"IF(ISERROR(VLOOKUP(A584,Feriados!A:A,1,FALSE)),\"n\",VLOOKUP(A584,Feriados!A:A,1,FALSE))","v":"n"}]
[45145,401,{"$f":"IF(E585<>\"n\",COUNTIF(B585:$B$4018,B585),IF(D585<6,0,COUNTIF(B585:$B$4018,B585)))","v":0},1,{"$f":"IF(ISERROR(VLOOKUP(A585,Feriados!A:A,1,FALSE)),\"n\",VLOOKUP(A585,Feriados!A:A,1,FALSE))","v":"n"}]
[45146,402,{"$f":"IF(E586<>\"n\",COUNTIF(B586:$B$4018,B586),IF(D586<6,0,COUNTIF(B586:$B$4018,B586)))","v":0},2,{"$f":"IF(ISERROR(VLOOKUP(A586,Feriados!A:A,1,FALSE)),\"n\",VLOOKUP(A586,Feriados!A:A,1,FALSE))","v":"n"}]
[45147,403,{"$f":"IF(E587<>\"n\",COUNTIF(B587:$B$4018,B587),IF(D587<6,0,COUNTIF(B587:$B$4018,B587)))","v":0},3,{"$f":"IF(ISERROR(VLOOKUP(A587,Feriados!A:A,1,FALSE)),\"n\",VLOOKUP(A587,Feriados!A:A,1,FALSE))","v":"n"}]
[45148,404,{"$f":"IF(E588<>\"n\",COUNTIF(B588:$B$4018,B588),IF(D588<6,0,COUNTIF(B588:$B$4018,B588)))","v":0},4,{"$f":"IF(ISERROR(VLOOKUP(A588,Feriados!A:A,1,FALSE)),\"n\",VLOOKUP(A588,Feriados!A:A,1,FALSE))","v":"n"}]
[45149,405,{"$f":"IF(E589<>\"n\",COUNTIF(B589:$B$4018,B589),IF(D589<6,0,COUNTIF(B589:$B$4018,B589)))","v":0},5,{"$f":"IF(ISERROR(VLOOKUP(A589,Feriados!A:A,1,FALSE)),\"n\",VLOOKUP(A589,Feriados!A:A,1,FALSE))","v":"n"}]
[45150,405,{"$f":"IF(E590<>\"n\",COUNTIF(B590:$B$4018,B590),IF(D590<6,0,COUNTIF(B590:$B$4018,B590)))","v":2},6,{"$f":"IF(ISERROR(VLOOKUP(A590,Feriados!A:A,1,FALSE)),\"n\",VLOOKUP(A590,Feriados!A:A,1,FALSE))","v":"n"}]
[45151,405,{"$f":"IF(E591<>\"n\",COUNTIF(B591:$B$4018,B591),IF(D591<6,0,COUNTIF(B591:$B$4018,B591)))","v":1},7,{"$f":"IF(ISERROR(VLOOKUP(A591,Feriados!A:A,1,FALSE)),\"n\",VLOOKUP(A591,Feriados!A:A,1,FALSE))","v":"n"}]
[45152,406,{"$f":"IF(E592<>\"n\",COUNTIF(B592:$B$4018,B592),IF(D592<6,0,COUNTIF(B592:$B$4018,B592)))","v":0},1,{"$f":"IF(ISERROR(VLOOKUP(A592,Feriados!A:A,1,FALSE)),\"n\",VLOOKUP(A592,Feriados!A:A,1,FALSE))","v":"n"}]
[45153,407,{"$f":"IF(E593<>\"n\",COUNTIF(B593:$B$4018,B593),IF(D593<6,0,COUNTIF(B593:$B$4018,B593)))","v":0},2,{"$f":"IF(ISERROR(VLOOKUP(A593,Feriados!A:A,1,FALSE)),\"n\",VLOOKUP(A593,Feriados!A:A,1,FALSE))","v":"n"}]
[45154,408,{"$f":"IF(E594<>\"n\",COUNTIF(B594:$B$4018,B594),IF(D594<6,0,COUNTIF(B594:$B$4018,B594)))","v":0},3,{"$f":"IF(ISERROR(VLOOKUP(A594,Feriados!A:A,1,FALSE)),\"n\",VLOOKUP(A594,Feriados!A:A,1,FALSE))","v":"n"}]
[45155,409,{"$f":"IF(E595<>\"n\",COUNTIF(B595:$B$4018,B595),IF(D595<6,0,COUNTIF(B595:$B$4018,B595)))","v":0},4,{"$f":"IF(ISERROR(VLOOKUP(A595,Feriados!A:A,1,FALSE)),\"n\",VLOOKUP(A595,Feriados!A:A,1,FALSE))","v":"n"}]
[45156,410,{"$f":"IF(E596<>\"n\",COUNTIF(B596:$B$4018,B596),IF(D596<6,0,COUNTIF(B596:$B$4018,B596)))","v":0},5,{"$f":"IF(ISERROR(VLOOKUP(A596,Feriados!A:A,1,FALSE)),\"n\",VLOOKUP(A596,Feriados!A:A,1,FALSE))","v":"n"}]
[45157,410,{"$f":"IF(E597<>\"n\",COUNTIF(B597:$B$4018,B597),IF(D597<6,0,COUNTIF(B597:$B$4018,B597)))","v":2},6,{"$f":"IF(ISERROR(VLOOKUP(A597,Feriados!A:A,1,FALSE)),\"n\",VLOOKUP(A597,Feriados!A:A,1,FALSE))","v":"n"}]
[45158,410,{"$f":"IF(E598<>\"n\",COUNTIF(B598:$B$4018,B598),IF(D598<6,0,COUNTIF(B598:$B$4018,B598)))","v":1},7,{"$f":"IF(ISERROR(VLOOKUP(A598,Feriados!A:A,1,FALSE)),\"n\",VLOOKUP(A598,Feriados!A:A,1,FALSE))","v":"n"}]
[45159,411,{"$f":"IF(E599<>\"n\",COUNTIF(B599:$B$4018,B599),IF(D599<6,0,COUNTIF(B599:$B$4018,B599)))","v":0},1,{"$f":"IF(ISERROR(VLOOKUP(A599,Feriados!A:A,1,FALSE)),\"n\",VLOOKUP(A599,Feriados!A:A,1,FALSE))","v":"n"}]
[45160,412,{"$f":"IF(E600<>\"n\",COUNTIF(B600:$B$4018,B600),IF(D600<6,0,COUNTIF(B600:$B$4018,B600)))","v":0},2,{"$f":"IF(ISERROR(VLOOKUP(A600,Feriados!A:A,1,FALSE)),\"n\",VLOOKUP(A600,Feriados!A:A,1,FALSE))","v":"n"}]
[45161,413,{"$f":"IF(E601<>\"n\",COUNTIF(B601:$B$4018,B601),IF(D601<6,0,COUNTIF(B601:$B$4018,B601)))","v":0},3,{"$f":"IF(ISERROR(VLOOKUP(A601,Feriados!A:A,1,FALSE)),\"n\",VLOOKUP(A601,Feriados!A:A,1,FALSE))","v":"n"}]
[45162,414,{"$f":"IF(E602<>\"n\",COUNTIF(B602:$B$4018,B602),IF(D602<6,0,COUNTIF(B602:$B$4018,B602)))","v":0},4,{"$f":"IF(ISERROR(VLOOKUP(A602,Feriados!A:A,1,FALSE)),\"n\",VLOOKUP(A602,Feriados!A:A,1,FALSE))","v":"n"}]
[45163,415,{"$f":"IF(E603<>\"n\",COUNTIF(B603:$B$4018,B603),IF(D603<6,0,COUNTIF(B603:$B$4018,B603)))","v":0},5,{"$f":"IF(ISERROR(VLOOKUP(A603,Feriados!A:A,1,FALSE)),\"n\",VLOOKUP(A603,Feriados!A:A,1,FALSE))","v":"n"}]
[45164,415,{"$f":"IF(E604<>\"n\",COUNTIF(B604:$B$4018,B604),IF(D604<6,0,COUNTIF(B604:$B$4018,B604)))","v":2},6,{"$f":"IF(ISERROR(VLOOKUP(A604,Feriados!A:A,1,FALSE)),\"n\",VLOOKUP(A604,Feriados!A:A,1,FALSE))","v":"n"}]
[45165,415,{"$f":"IF(E605<>\"n\",COUNTIF(B605:$B$4018,B605),IF(D605<6,0,COUNTIF(B605:$B$4018,B605)))","v":1},7,{"$f":"IF(ISERROR(VLOOKUP(A605,Feriados!A:A,1,FALSE)),\"n\",VLOOKUP(A605,Feriados!A:A,1,FALSE))","v":"n"}]
[45166,{"$f":"NETWORKDAYS($A$2,A606,feriados)","v":416},{"$f":"IF(E606<>\"n\",COUNTIF(B606:$B$4018,B606),IF(D606<6,0,COUNTIF(B606:$B$4018,B606)))","v":0},{"$f":"WEEKDAY(A606,2)","v":1},{"$f":"IF(ISERROR(VLOOKUP(A606,Feriados!A:A,1,FALSE)),\"n\",VLOOKUP(A606,Feriados!A:A,1,FALSE))","v":"n"}]
[45167,417,{"$f":"IF(E607<>\"n\",COUNTIF(B607:$B$4018,B607),IF(D607<6,0,COUNTIF(B607:$B$4018,B607)))","v":0},2,{"$f":"IF(ISERROR(VLOOKUP(A607,Feriados!A:A,1,FALSE)),\"n\",VLOOKUP(A607,Feriados!A:A,1,FALSE))","v":"n"}]
[45168,418,{"$f":"IF(E608<>\"n\",COUNTIF(B608:$B$4018,B608),IF(D608<6,0,COUNTIF(B608:$B$4018,B608)))","v":0},3,{"$f":"IF(ISERROR(VLOOKUP(A608,Feriados!A:A,1,FALSE)),\"n\",VLOOKUP(A608,Feriados!A:A,1,FALSE))","v":"n"}]
[45169,419,{"$f":"IF(E609<>\"n\",COUNTIF(B609:$B$4018,B609),IF(D609<6,0,COUNTIF(B609:$B$4018,B609)))","v":0},4,{"$f":"IF(ISERROR(VLOOKUP(A609,Feriados!A:A,1,FALSE)),\"n\",VLOOKUP(A609,Feriados!A:A,1,FALSE))","v":"n"}]
[45170,420,{"$f":"IF(E610<>\"n\",COUNTIF(B610:$B$4018,B610),IF(D610<6,0,COUNTIF(B610:$B$4018,B610)))","v":0},5,{"$f":"IF(ISERROR(VLOOKUP(A610,Feriados!A:A,1,FALSE)),\"n\",VLOOKUP(A610,Feriados!A:A,1,FALSE))","v":"n"}]
[45171,420,{"$f":"IF(E611<>\"n\",COUNTIF(B611:$B$4018,B611),IF(D611<6,0,COUNTIF(B611:$B$4018,B611)))","v":2},6,{"$f":"IF(ISERROR(VLOOKUP(A611,Feriados!A:A,1,FALSE)),\"n\",VLOOKUP(A611,Feriados!A:A,1,FALSE))","v":"n"}]
[45172,420,{"$f":"IF(E612<>\"n\",COUNTIF(B612:$B$4018,B612),IF(D612<6,0,COUNTIF(B612:$B$4018,B612)))","v":1},7,{"$f":"IF(ISERROR(VLOOKUP(A612,Feriados!A:A,1,FALSE)),\"n\",VLOOKUP(A612,Feriados!A:A,1,FALSE))","v":"n"}]
[45173,421,{"$f":"IF(E613<>\"n\",COUNTIF(B613:$B$4018,B613),IF(D613<6,0,COUNTIF(B613:$B$4018,B613)))","v":0},1,{"$f":"IF(ISERROR(VLOOKUP(A613,Feriados!A:A,1,FALSE)),\"n\",VLOOKUP(A613,Feriados!A:A,1,FALSE))","v":"n"}]
[45174,422,{"$f":"IF(E614<>\"n\",COUNTIF(B614:$B$4018,B614),IF(D614<6,0,COUNTIF(B614:$B$4018,B614)))","v":0},2,{"$f":"IF(ISERROR(VLOOKUP(A614,Feriados!A:A,1,FALSE)),\"n\",VLOOKUP(A614,Feriados!A:A,1,FALSE))","v":"n"}]
[45175,423,{"$f":"IF(E615<>\"n\",COUNTIF(B615:$B$4018,B615),IF(D615<6,0,COUNTIF(B615:$B$4018,B615)))","v":0},3,{"$f":"IF(ISERROR(VLOOKUP(A615,Feriados!A:A,1,FALSE)),\"n\",VLOOKUP(A615,Feriados!A:A,1,FALSE))","v":"n"}]
[45176,423,{"$f":"IF(E616<>\"n\",COUNTIF(B616:$B$4018,B616),IF(D616<6,0,COUNTIF(B616:$B$4018,B616)))","v":1},4,{"$f":"IF(ISERROR(VLOOKUP(A616,Feriados!A:A,1,FALSE)),\"n\",VLOOKUP(A616,Feriados!A:A,1,FALSE))","v":"2023-09-07"}]
[45177,424,{"$f":"IF(E617<>\"n\",COUNTIF(B617:$B$4018,B617),IF(D617<6,0,COUNTIF(B617:$B$4018,B617)))","v":0},5,{"$f":"IF(ISERROR(VLOOKUP(A617,Feriados!A:A,1,FALSE)),\"n\",VLOOKUP(A617,Feriados!A:A,1,FALSE))","v":"n"}]
[45178,424,{"$f":"IF(E618<>\"n\",COUNTIF(B618:$B$4018,B618),IF(D618<6,0,COUNTIF(B618:$B$4018,B618)))","v":2},6,{"$f":"IF(ISERROR(VLOOKUP(A618,Feriados!A:A,1,FALSE)),\"n\",VLOOKUP(A618,Feriados!A:A,1,FALSE))","v":"n"}]
[45179,424,{"$f":"IF(E619<>\"n\",COUNTIF(B619:$B$4018,B619),IF(D619<6,0,COUNTIF(B619:$B$4018,B619)))","v":1},7,{"$f":"IF(ISERROR(VLOOKUP(A619,Feriados!A:A,1,FALSE)),\"n\",VLOOKUP(A619,Feriados!A:A,1,FALSE))","v":"n"}]
[45180,425,{"$f":"IF(E620<>\"n\",COUNTIF(B620:$B$4018,B620),IF(D620<6,0,COUNTIF(B620:$B$4018,B620)))","v":0},1,{"$f":"IF(ISERROR(VLOOKUP(A620,Feriados!A:A,1,FALSE)),\"n\",VLOOKUP(A620,Feriados!A:A,1,FALSE))","v":"n"}]
[45181,426,{"$f":"IF(E621<>\"n\",COUNTIF(B621:$B$4018,B621),IF(D621<6,0,COUNTIF(B621:$B$4018,B621)))","v":0},2,{"$f":"IF(ISERROR(VLOOKUP(A621,Feriados!A:A,1,FALSE)),\"n\",VLOOKUP(A621,Feriados!A:A,1,FALSE))","v":"n"}]
[45182,427,{"$f":"IF(E622<>\"n\",COUNTIF(B622:$B$4018,B622),IF(D622<6,0,COUNTIF(B622:$B$4018,B622)))","v":0},3,{"$f":"IF(ISERROR(VLOOKUP(A622,Feriados!A:A,1,FALSE)),\"n\",VLOOKUP(A622,Feriados!A:A,1,FALSE))","v":"n"}]
[45183,428,{"$f":"IF(E623<>\"n\",COUNTIF(B623:$B$4018,B623),IF(D623<6,0,COUNTIF(B623:$B$4018,B623)))","v":0},4,{"$f":"IF(ISERROR(VLOOKUP(A623,Feriados!A:A,1,FALSE)),\"n\",VLOOKUP(A623,Feriados!A:A,1,FALSE))","v":"n"}]
[45184,429,{"$f":"IF(E624<>\"n\",COUNTIF(B624:$B$4018,B624),IF(D624<6,0,COUNTIF(B624:$B$4018,B624)))","v":0},5,{"$f":"IF(ISERROR(VLOOKUP(A624,Feriados!A:A,1,FALSE)),\"n\",VLOOKUP(A624,Feriados!A:A,1,FALSE))","v":"n"}]
[45185,429,{"$f":"IF(E625<>\"n\",COUNTIF(B625:$B$4018,B625),IF(D625<6,0,COUNTIF(B625:$B$4018,B625)))","v":2},6,{"$f":"IF(ISERROR(VLOOKUP(A625,Feriados!A:A,1,FALSE)),\"n\",VLOOKUP(A625,Feriados!A:A,1,FALSE))","v":"n"}]
[45186,429,{"$f":"IF(E626<>\"n\",COUNTIF(B626:$B$4018,B626),IF(D626<6,0,COUNTIF(B626:$B$4018,B626)))","v":1},7,{"$f":"IF(ISERROR(VLOOKUP(A626,Feriados!A:A,1,FALSE)),\"n\",VLOOKUP(A626,Feriados!A:A,1,FALSE))","v":"n"}]
[45187,430,{"$f":"IF(E627<>\"n\",COUNTIF(B627:$B$4018,B627),IF(D627<6,0,COUNTIF(B627:$B$4018,B627)))","v":0},1,{"$f":"IF(ISERROR(VLOOKUP(A627,Feriados!A:A,1,FALSE)),\"n\",VLOOKUP(A627,Feriados!A:A,1,FALSE))","v":"n"}]
[45188,431,{"$f":"IF(E628<>\"n\",COUNTIF(B628:$B$4018,B628),IF(D628<6,0,COUNTIF(B628:$B$4018,B628)))","v":0},2,{"$f":"IF(ISERROR(VLOOKUP(A628,Feriados!A:A,1,FALSE)),\"n\",VLOOKUP(A628,Feriados!A:A,1,FALSE))","v":"n"}]
[45189,432,{"$f":"IF(E629<>\"n\",COUNTIF(B629:$B$4018,B629),IF(D629<6,0,COUNTIF(B629:$B$4018,B629)))","v":0},3,{"$f":"IF(ISERROR(VLOOKUP(A629,Feriados!A:A,1,FALSE)),\"n\",VLOOKUP(A629,Feriados!A:A,1,FALSE))","v":"n"}]
[45190,433,{"$f":"IF(E630<>\"n\",COUNTIF(B630:$B$4018,B630),IF(D630<6,0,COUNTIF(B630:$B$4018,B630)))","v":0},4,{"$f":"IF(ISERROR(VLOOKUP(A630,Feriados!A:A,1,FALSE)),\"n\",VLOOKUP(A630,Feriados!A:A,1,FALSE))","v":"n"}]
[45191,434,{"$f":"IF(E631<>\"n\",COUNTIF(B631:$B$4018,B631),IF(D631<6,0,COUNTIF(B631:$B$4018,B631)))","v":0},5,{"$f":"IF(ISERROR(VLOOKUP(A631,Feriados!A:A,1,FALSE)),\"n\",VLOOKUP(A631,Feriados!A:A,1,FALSE))","v":"n"}]
[45192,434,{"$f":"IF(E632<>\"n\",COUNTIF(B632:$B$4018,B632),IF(D632<6,0,COUNTIF(B632:$B$4018,B632)))","v":2},6,{"$f":"IF(ISERROR(VLOOKUP(A632,Feriados!A:A,1,FALSE)),\"n\",VLOOKUP(A632,Feriados!A:A,1,FALSE))","v":"n"}]
[45193,434,{"$f":"IF(E633<>\"n\",COUNTIF(B633:$B$4018,B633),IF(D633<6,0,COUNTIF(B633:$B$4018,B633)))","v":1},7,{"$f":"IF(ISERROR(VLOOKUP(A633,Feriados!A:A,1,FALSE)),\"n\",VLOOKUP(A633,Feriados!A:A,1,FALSE))","v":"n"}]
[45194,435,{"$f":"IF(E634<>\"n\",COUNTIF(B634:$B$4018,B634),IF(D634<6,0,COUNTIF(B634:$B$4018,B634)))","v":0},1,{"$f":"IF(ISERROR(VLOOKUP(A634,Feriados!A:A,1,FALSE)),\"n\",VLOOKUP(A634,Feriados!A:A,1,FALSE))","v":"n"}]
[45195,436,{"$f":"IF(E635<>\"n\",COUNTIF(B635:$B$4018,B635),IF(D635<6,0,COUNTIF(B635:$B$4018,B635)))","v":0},2,{"$f":"IF(ISERROR(VLOOKUP(A635,Feriados!A:A,1,FALSE)),\"n\",VLOOKUP(A635,Feriados!A:A,1,FALSE))","v":"n"}]
[45196,437,{"$f":"IF(E636<>\"n\",COUNTIF(B636:$B$4018,B636),IF(D636<6,0,COUNTIF(B636:$B$4018,B636)))","v":0},3,{"$f":"IF(ISERROR(VLOOKUP(A636,Feriados!A:A,1,FALSE)),\"n\",VLOOKUP(A636,Feriados!A:A,1,FALSE))","v":"n"}]
[45197,438,{"$f":"IF(E637<>\"n\",COUNTIF(B637:$B$4018,B637),IF(D637<6,0,COUNTIF(B637:$B$4018,B637)))","v":0},4,{"$f":"IF(ISERROR(VLOOKUP(A637,Feriados!A:A,1,FALSE)),\"n\",VLOOKUP(A637,Feriados!A:A,1,FALSE))","v":"n"}]
[45198,439,{"$f":"IF(E638<>\"n\",COUNTIF(B638:$B$4018,B638),IF(D638<6,0,COUNTIF(B638:$B$4018,B638)))","v":0},5,{"$f":"IF(ISERROR(VLOOKUP(A638,Feriados!A:A,1,FALSE)),\"n\",VLOOKUP(A638,Feriados!A:A,1,FALSE))","v":"n"}]
[45199,439,{"$f":"IF(E639<>\"n\",COUNTIF(B639:$B$4018,B639),IF(D639<6,0,COUNTIF(B639:$B$4018,B639)))","v":2},6,{"$f":"IF(ISERROR(VLOOKUP(A639,Feriados!A:A,1,FALSE)),\"n\",VLOOKUP(A639,Feriados!A:A,1,FALSE))","v":"n"}]
[45200,439,{"$f":"IF(E640<>\"n\",COUNTIF(B640:$B$4018,B640),IF(D640<6,0,COUNTIF(B640:$B$4018,B640)))","v":1},7,{"$f":"IF(ISERROR(VLOOKUP(A640,Feriados!A:A,1,FALSE)),\"n\",VLOOKUP(A640,Feriados!A:A,1,FALSE))","v":"n"}]
[45201,440,{"$f":"IF(E641<>\"n\",COUNTIF(B641:$B$4018,B641),IF(D641<6,0,COUNTIF(B641:$B$4018,B641)))","v":0},1,{"$f":"IF(ISERROR(VLOOKUP(A641,Feriados!A:A,1,FALSE)),\"n\",VLOOKUP(A641,Feriados!A:A,1,FALSE))","v":"n"}]
[45202,441,{"$f":"IF(E642<>\"n\",COUNTIF(B642:$B$4018,B642),IF(D642<6,0,COUNTIF(B642:$B$4018,B642)))","v":0},2,{"$f":"IF(ISERROR(VLOOKUP(A642,Feriados!A:A,1,FALSE)),\"n\",VLOOKUP(A642,Feriados!A:A,1,FALSE))","v":"n"}]
[45203,442,{"$f":"IF(E643<>\"n\",COUNTIF(B643:$B$4018,B643),IF(D643<6,0,COUNTIF(B643:$B$4018,B643)))","v":0},3,{"$f":"IF(ISERROR(VLOOKUP(A643,Feriados!A:A,1,FALSE)),\"n\",VLOOKUP(A643,Feriados!A:A,1,FALSE))","v":"n"}]
[{"$f":"A643+1","v":45204},443,{"$f":"IF(E644<>\"n\",COUNTIF(B644:$B$4018,B644),IF(D644<6,0,COUNTIF(B644:$B$4018,B644)))","v":0},4,{"$f":"IF(ISERROR(VLOOKUP(A644,Feriados!A:A,1,FALSE)),\"n\",VLOOKUP(A644,Feriados!A:A,1,FALSE))","v":"n"}]
[45205,444,{"$f":"IF(E645<>\"n\",COUNTIF(B645:$B$4018,B645),IF(D645<6,0,COUNTIF(B645:$B$4018,B645)))","v":0},5,{"$f":"IF(ISERROR(VLOOKUP(A645,Feriados!A:A,1,FALSE)),\"n\",VLOOKUP(A645,Feriados!A:A,1,FALSE))","v":"n"}]
[45206,444,{"$f":"IF(E646<>\"n\",COUNTIF(B646:$B$4018,B646),IF(D646<6,0,COUNTIF(B646:$B$4018,B646)))","v":2},6,{"$f":"IF(ISERROR(VLOOKUP(A646,Feriados!A:A,1,FALSE)),\"n\",VLOOKUP(A646,Feriados!A:A,1,FALSE))","v":"n"}]
[45207,444,{"$f":"IF(E647<>\"n\",COUNTIF(B647:$B$4018,B647),IF(D647<6,0,COUNTIF(B647:$B$4018,B647)))","v":1},7,{"$f":"IF(ISERROR(VLOOKUP(A647,Feriados!A:A,1,FALSE)),\"n\",VLOOKUP(A647,Feriados!A:A,1,FALSE))","v":"n"}]
[45208,445,{"$f":"IF(E648<>\"n\",COUNTIF(B648:$B$4018,B648),IF(D648<6,0,COUNTIF(B648:$B$4018,B648)))","v":0},1,{"$f":"IF(ISERROR(VLOOKUP(A648,Feriados!A:A,1,FALSE)),\"n\",VLOOKUP(A648,Feriados!A:A,1,FALSE))","v":"n"}]
[45209,446,{"$f":"IF(E649<>\"n\",COUNTIF(B649:$B$4018,B649),IF(D649<6,0,COUNTIF(B649:$B$4018,B649)))","v":0},2,{"$f":"IF(ISERROR(VLOOKUP(A649,Feriados!A:A,1,FALSE)),\"n\",VLOOKUP(A649,Feriados!A:A,1,FALSE))","v":"n"}]
[45210,447,{"$f":"IF(E650<>\"n\",COUNTIF(B650:$B$4018,B650),IF(D650<6,0,COUNTIF(B650:$B$4018,B650)))","v":0},3,{"$f":"IF(ISERROR(VLOOKUP(A650,Feriados!A:A,1,FALSE)),\"n\",VLOOKUP(A650,Feriados!A:A,1,FALSE))","v":"n"}]
[45211,447,{"$f":"IF(E651<>\"n\",COUNTIF(B651:$B$4018,B651),IF(D651<6,0,COUNTIF(B651:$B$4018,B651)))","v":1},4,{"$f":"IF(ISERROR(VLOOKUP(A651,Feriados!A:A,1,FALSE)),\"n\",VLOOKUP(A651,Feriados!A:A,1,FALSE))","v":"2023-10-12"}]
[45212,448,{"$f":"IF(E652<>\"n\",COUNTIF(B652:$B$4018,B652),IF(D652<6,0,COUNTIF(B652:$B$4018,B652)))","v":0},5,{"$f":"IF(ISERROR(VLOOKUP(A652,Feriados!A:A,1,FALSE)),\"n\",VLOOKUP(A652,Feriados!A:A,1,FALSE))","v":"n"}]
[45213,448,{"$f":"IF(E653<>\"n\",COUNTIF(B653:$B$4018,B653),IF(D653<6,0,COUNTIF(B653:$B$4018,B653)))","v":2},6,{"$f":"IF(ISERROR(VLOOKUP(A653,Feriados!A:A,1,FALSE)),\"n\",VLOOKUP(A653,Feriados!A:A,1,FALSE))","v":"n"}]
[45214,448,{"$f":"IF(E654<>\"n\",COUNTIF(B654:$B$4018,B654),IF(D654<6,0,COUNTIF(B654:$B$4018,B654)))","v":1},7,{"$f":"IF(ISERROR(VLOOKUP(A654,Feriados!A:A,1,FALSE)),\"n\",VLOOKUP(A654,Feriados!A:A,1,FALSE))","v":"n"}]
[45215,449,{"$f":"IF(E655<>\"n\",COUNTIF(B655:$B$4018,B655),IF(D655<6,0,COUNTIF(B655:$B$4018,B655)))","v":0},1,{"$f":"IF(ISERROR(VLOOKUP(A655,Feriados!A:A,1,FALSE)),\"n\",VLOOKUP(A655,Feriados!A:A,1,FALSE))","v":"n"}]
[45216,450,{"$f":"IF(E656<>\"n\",COUNTIF(B656:$B$4018,B656),IF(D656<6,0,COUNTIF(B656:$B$4018,B656)))","v":0},2,{"$f":"IF(ISERROR(VLOOKUP(A656,Feriados!A:A,1,FALSE)),\"n\",VLOOKUP(A656,Feriados!A:A,1,FALSE))","v":"n"}]
[45217,451,{"$f":"IF(E657<>\"n\",COUNTIF(B657:$B$4018,B657),IF(D657<6,0,COUNTIF(B657:$B$4018,B657)))","v":0},3,{"$f":"IF(ISERROR(VLOOKUP(A657,Feriados!A:A,1,FALSE)),\"n\",VLOOKUP(A657,Feriados!A:A,1,FALSE))","v":"n"}]
[45218,452,{"$f":"IF(E658<>\"n\",COUNTIF(B658:$B$4018,B658),IF(D658<6,0,COUNTIF(B658:$B$4018,B658)))","v":0},4,{"$f":"IF(ISERROR(VLOOKUP(A658,Feriados!A:A,1,FALSE)),\"n\",VLOOKUP(A658,Feriados!A:A,1,FALSE))","v":"n"}]
[45219,453,{"$f":"IF(E659<>\"n\",COUNTIF(B659:$B$4018,B659),IF(D659<6,0,COUNTIF(B659:$B$4018,B659)))","v":0},5,{"$f":"IF(ISERROR(VLOOKUP(A659,Feriados!A:A,1,FALSE)),\"n\",VLOOKUP(A659,Feriados!A:A,1,FALSE))","v":"n"}]
[45220,453,{"$f":"IF(E660<>\"n\",COUNTIF(B660:$B$4018,B660),IF(D660<6,0,COUNTIF(B660:$B$4018,B660)))","v":2},6,{"$f":"IF(ISERROR(VLOOKUP(A660,Feriados!A:A,1,FALSE)),\"n\",VLOOKUP(A660,Feriados!A:A,1,FALSE))","v":"n"}]
[45221,453,{"$f":"IF(E661<>\"n\",COUNTIF(B661:$B$4018,B661),IF(D661<6,0,COUNTIF(B661:$B$4018,B661)))","v":1},7,{"$f":"IF(ISERROR(VLOOKUP(A661,Feriados!A:A,1,FALSE)),\"n\",VLOOKUP(A661,Feriados!A:A,1,FALSE))","v":"n"}]
[45222,454,{"$f":"IF(E662<>\"n\",COUNTIF(B662:$B$4018,B662),IF(D662<6,0,COUNTIF(B662:$B$4018,B662)))","v":0},1,{"$f":"IF(ISERROR(VLOOKUP(A662,Feriados!A:A,1,FALSE)),\"n\",VLOOKUP(A662,Feriados!A:A,1,FALSE))","v":"n"}]
[45223,455,{"$f":"IF(E663<>\"n\",COUNTIF(B663:$B$4018,B663),IF(D663<6,0,COUNTIF(B663:$B$4018,B663)))","v":0},2,{"$f":"IF(ISERROR(VLOOKUP(A663,Feriados!A:A,1,FALSE)),\"n\",VLOOKUP(A663,Feriados!A:A,1,FALSE))","v":"n"}]
[45224,456,{"$f":"IF(E664<>\"n\",COUNTIF(B664:$B$4018,B664),IF(D664<6,0,COUNTIF(B664:$B$4018,B664)))","v":0},3,{"$f":"IF(ISERROR(VLOOKUP(A664,Feriados!A:A,1,FALSE)),\"n\",VLOOKUP(A664,Feriados!A:A,1,FALSE))","v":"n"}]
[45225,457,{"$f":"IF(E665<>\"n\",COUNTIF(B665:$B$4018,B665),IF(D665<6,0,COUNTIF(B665:$B$4018,B665)))","v":0},4,{"$f":"IF(ISERROR(VLOOKUP(A665,Feriados!A:A,1,FALSE)),\"n\",VLOOKUP(A665,Feriados!A:A,1,FALSE))","v":"n"}]
[45226,458,{"$f":"IF(E666<>\"n\",COUNTIF(B666:$B$4018,B666),IF(D666<6,0,COUNTIF(B666:$B$4018,B666)))","v":0},5,{"$f":"IF(ISERROR(VLOOKUP(A666,Feriados!A:A,1,FALSE)),\"n\",VLOOKUP(A666,Feriados!A:A,1,FALSE))","v":"n"}]
[45227,458,{"$f":"IF(E667<>\"n\",COUNTIF(B667:$B$4018,B667),IF(D667<6,0,COUNTIF(B667:$B$4018,B667)))","v":2},6,{"$f":"IF(ISERROR(VLOOKUP(A667,Feriados!A:A,1,FALSE)),\"n\",VLOOKUP(A667,Feriados!A:A,1,FALSE))","v":"n"}]
[45228,458,{"$f":"IF(E668<>\"n\",COUNTIF(B668:$B$4018,B668),IF(D668<6,0,COUNTIF(B668:$B$4018,B668)))","v":1},7,{"$f":"IF(ISERROR(VLOOKUP(A668,Feriados!A:A,1,FALSE)),\"n\",VLOOKUP(A668,Feriados!A:A,1,FALSE))","v":"n"}]
[45229,459,{"$f":"IF(E669<>\"n\",COUNTIF(B669:$B$4018,B669),IF(D669<6,0,COUNTIF(B669:$B$4018,B669)))","v":0},1,{"$f":"IF(ISERROR(VLOOKUP(A669,Feriados!A:A,1,FALSE)),\"n\",VLOOKUP(A669,Feriados!A:A,1,FALSE))","v":"n"}]
[45230,{"$f":"NETWORKDAYS($A$2,A670,feriados)","v":460},{"$f":"IF(E670<>\"n\",COUNTIF(B670:$B$4018,B670),IF(D670<6,0,COUNTIF(B670:$B$4018,B670)))","v":0},{"$f":"WEEKDAY(A670,2)","v":2},{"$f":"IF(ISERROR(VLOOKUP(A670,Feriados!A:A,1,FALSE)),\"n\",VLOOKUP(A670,Feriados!A:A,1,FALSE))","v":"n"}]
[45231,461,{"$f":"IF(E671<>\"n\",COUNTIF(B671:$B$4018,B671),IF(D671<6,0,COUNTIF(B671:$B$4018,B671)))","v":0},3,{"$f":"IF(ISERROR(VLOOKUP(A671,Feriados!A:A,1,FALSE)),\"n\",VLOOKUP(A671,Feriados!A:A,1,FALSE))","v":"n"}]
[45232,461,{"$f":"IF(E672<>\"n\",COUNTIF(B672:$B$4018,B672),IF(D672<6,0,COUNTIF(B672:$B$4018,B672)))","v":1},4,{"$f":"IF(ISERROR(VLOOKUP(A672,Feriados!A:A,1,FALSE)),\"n\",VLOOKUP(A672,Feriados!A:A,1,FALSE))","v":"2023-11-02"}]
[45233,462,{"$f":"IF(E673<>\"n\",COUNTIF(B673:$B$4018,B673),IF(D673<6,0,COUNTIF(B673:$B$4018,B673)))","v":0},5,{"$f":"IF(ISERROR(VLOOKUP(A673,Feriados!A:A,1,FALSE)),\"n\",VLOOKUP(A673,Feriados!A:A,1,FALSE))","v":"n"}]
[45234,462,{"$f":"IF(E674<>\"n\",COUNTIF(B674:$B$4018,B674),IF(D674<6,0,COUNTIF(B674:$B$4018,B674)))","v":2},6,{"$f":"IF(ISERROR(VLOOKUP(A674,Feriados!A:A,1,FALSE)),\"n\",VLOOKUP(A674,Feriados!A:A,1,FALSE))","v":"n"}]
[45235,462,{"$f":"IF(E675<>\"n\",COUNTIF(B675:$B$4018,B675),IF(D675<6,0,COUNTIF(B675:$B$4018,B675)))","v":1},7,{"$f":"IF(ISERROR(VLOOKUP(A675,Feriados!A:A,1,FALSE)),\"n\",VLOOKUP(A675,Feriados!A:A,1,FALSE))","v":"n"}]
[45236,463,{"$f":"IF(E676<>\"n\",COUNTIF(B676:$B$4018,B676),IF(D676<6,0,COUNTIF(B676:$B$4018,B676)))","v":0},1,{"$f":"IF(ISERROR(VLOOKUP(A676,Feriados!A:A,1,FALSE)),\"n\",VLOOKUP(A676,Feriados!A:A,1,FALSE))","v":"n"}]
[45237,464,{"$f":"IF(E677<>\"n\",COUNTIF(B677:$B$4018,B677),IF(D677<6,0,COUNTIF(B677:$B$4018,B677)))","v":0},2,{"$f":"IF(ISERROR(VLOOKUP(A677,Feriados!A:A,1,FALSE)),\"n\",VLOOKUP(A677,Feriados!A:A,1,FALSE))","v":"n"}]
[45238,465,{"$f":"IF(E678<>\"n\",COUNTIF(B678:$B$4018,B678),IF(D678<6,0,COUNTIF(B678:$B$4018,B678)))","v":0},3,{"$f":"IF(ISERROR(VLOOKUP(A678,Feriados!A:A,1,FALSE)),\"n\",VLOOKUP(A678,Feriados!A:A,1,FALSE))","v":"n"}]
[45239,466,{"$f":"IF(E679<>\"n\",COUNTIF(B679:$B$4018,B679),IF(D679<6,0,COUNTIF(B679:$B$4018,B679)))","v":0},4,{"$f":"IF(ISERROR(VLOOKUP(A679,Feriados!A:A,1,FALSE)),\"n\",VLOOKUP(A679,Feriados!A:A,1,FALSE))","v":"n"}]
[45240,467,{"$f":"IF(E680<>\"n\",COUNTIF(B680:$B$4018,B680),IF(D680<6,0,COUNTIF(B680:$B$4018,B680)))","v":0},5,{"$f":"IF(ISERROR(VLOOKUP(A680,Feriados!A:A,1,FALSE)),\"n\",VLOOKUP(A680,Feriados!A:A,1,FALSE))","v":"n"}]
[45241,467,{"$f":"IF(E681<>\"n\",COUNTIF(B681:$B$4018,B681),IF(D681<6,0,COUNTIF(B681:$B$4018,B681)))","v":2},6,{"$f":"IF(ISERROR(VLOOKUP(A681,Feriados!A:A,1,FALSE)),\"n\",VLOOKUP(A681,Feriados!A:A,1,FALSE))","v":"n"}]
[45242,467,{"$f":"IF(E682<>\"n\",COUNTIF(B682:$B$4018,B682),IF(D682<6,0,COUNTIF(B682:$B$4018,B682)))","v":1},7,{"$f":"IF(ISERROR(VLOOKUP(A682,Feriados!A:A,1,FALSE)),\"n\",VLOOKUP(A682,Feriados!A:A,1,FALSE))","v":"n"}]
[45243,468,{"$f":"IF(E683<>\"n\",COUNTIF(B683:$B$4018,B683),IF(D683<6,0,COUNTIF(B683:$B$4018,B683)))","v":0},1,{"$f":"IF(ISERROR(VLOOKUP(A683,Feriados!A:A,1,FALSE)),\"n\",VLOOKUP(A683,Feriados!A:A,1,FALSE))","v":"n"}]
[45244,469,{"$f":"IF(E684<>\"n\",COUNTIF(B684:$B$4018,B684),IF(D684<6,0,COUNTIF(B684:$B$4018,B684)))","v":0},2,{"$f":"IF(ISERROR(VLOOKUP(A684,Feriados!A:A,1,FALSE)),\"n\",VLOOKUP(A684,Feriados!A:A,1,FALSE))","v":"n"}]
[45245,469,{"$f":"IF(E685<>\"n\",COUNTIF(B685:$B$4018,B685),IF(D685<6,0,COUNTIF(B685:$B$4018,B685)))","v":1},3,{"$f":"IF(ISERROR(VLOOKUP(A685,Feriados!A:A,1,FALSE)),\"n\",VLOOKUP(A685,Feriados!A:A,1,FALSE))","v":"2023-11-15"}]
[45246,470,{"$f":"IF(E686<>\"n\",COUNTIF(B686:$B$4018,B686),IF(D686<6,0,COUNTIF(B686:$B$4018,B686)))","v":0},4,{"$f":"IF(ISERROR(VLOOKUP(A686,Feriados!A:A,1,FALSE)),\"n\",VLOOKUP(A686,Feriados!A:A,1,FALSE))","v":"n"}]
[45247,471,{"$f":"IF(E687<>\"n\",COUNTIF(B687:$B$4018,B687),IF(D687<6,0,COUNTIF(B687:$B$4018,B687)))","v":0},5,{"$f":"IF(ISERROR(VLOOKUP(A687,Feriados!A:A,1,FALSE)),\"n\",VLOOKUP(A687,Feriados!A:A,1,FALSE))","v":"n"}]
[45248,471,{"$f":"IF(E688<>\"n\",COUNTIF(B688:$B$4018,B688),IF(D688<6,0,COUNTIF(B688:$B$4018,B688)))","v":2},6,{"$f":"IF(ISERROR(VLOOKUP(A688,Feriados!A:A,1,FALSE)),\"n\",VLOOKUP(A688,Feriados!A:A,1,FALSE))","v":"n"}]
[45249,471,{"$f":"IF(E689<>\"n\",COUNTIF(B689:$B$4018,B689),IF(D689<6,0,COUNTIF(B689:$B$4018,B689)))","v":1},7,{"$f":"IF(ISERROR(VLOOKUP(A689,Feriados!A:A,1,FALSE)),\"n\",VLOOKUP(A689,Feriados!A:A,1,FALSE))","v":"n"}]
[45250,472,{"$f":"IF(E690<>\"n\",COUNTIF(B690:$B$4018,B690),IF(D690<6,0,COUNTIF(B690:$B$4018,B690)))","v":0},1,{"$f":"IF(ISERROR(VLOOKUP(A690,Feriados!A:A,1,FALSE)),\"n\",VLOOKUP(A690,Feriados!A:A,1,FALSE))","v":"n"}]
[45251,473,{"$f":"IF(E691<>\"n\",COUNTIF(B691:$B$4018,B691),IF(D691<6,0,COUNTIF(B691:$B$4018,B691)))","v":0},2,{"$f":"IF(ISERROR(VLOOKUP(A691,Feriados!A:A,1,FALSE)),\"n\",VLOOKUP(A691,Feriados!A:A,1,FALSE))","v":"n"}]
[45252,474,{"$f":"IF(E692<>\"n\",COUNTIF(B692:$B$4018,B692),IF(D692<6,0,COUNTIF(B692:$B$4018,B692)))","v":0},3,{"$f":"IF(ISERROR(VLOOKUP(A692,Feriados!A:A,1,FALSE)),\"n\",VLOOKUP(A692,Feriados!A:A,1,FALSE))","v":"n"}]
[45253,475,{"$f":"IF(E693<>\"n\",COUNTIF(B693:$B$4018,B693),IF(D693<6,0,COUNTIF(B693:$B$4018,B693)))","v":0},4,{"$f":"IF(ISERROR(VLOOKUP(A693,Feriados!A:A,1,FALSE)),\"n\",VLOOKUP(A693,Feriados!A:A,1,FALSE))","v":"n"}]
[45254,476,{"$f":"IF(E694<>\"n\",COUNTIF(B694:$B$4018,B694),IF(D694<6,0,COUNTIF(B694:$B$4018,B694)))","v":0},5,{"$f":"IF(ISERROR(VLOOKUP(A694,Feriados!A:A,1,FALSE)),\"n\",VLOOKUP(A694,Feriados!A:A,1,FALSE))","v":"n"}]
[45255,476,{"$f":"IF(E695<>\"n\",COUNTIF(B695:$B$4018,B695),IF(D695<6,0,COUNTIF(B695:$B$4018,B695)))","v":2},6,{"$f":"IF(ISERROR(VLOOKUP(A695,Feriados!A:A,1,FALSE)),\"n\",VLOOKUP(A695,Feriados!A:A,1,FALSE))","v":"n"}]
[45256,476,{"$f":"IF(E696<>\"n\",COUNTIF(B696:$B$4018,B696),IF(D696<6,0,COUNTIF(B696:$B$4018,B696)))","v":1},7,{"$f":"IF(ISERROR(VLOOKUP(A696,Feriados!A:A,1,FALSE)),\"n\",VLOOKUP(A696,Feriados!A:A,1,FALSE))","v":"n"}]
[45257,477,{"$f":"IF(E697<>\"n\",COUNTIF(B697:$B$4018,B697),IF(D697<6,0,COUNTIF(B697:$B$4018,B697)))","v":0},1,{"$f":"IF(ISERROR(VLOOKUP(A697,Feriados!A:A,1,FALSE)),\"n\",VLOOKUP(A697,Feriados!A:A,1,FALSE))","v":"n"}]
[45258,478,{"$f":"IF(E698<>\"n\",COUNTIF(B698:$B$4018,B698),IF(D698<6,0,COUNTIF(B698:$B$4018,B698)))","v":0},2,{"$f":"IF(ISERROR(VLOOKUP(A698,Feriados!A:A,1,FALSE)),\"n\",VLOOKUP(A698,Feriados!A:A,1,FALSE))","v":"n"}]
[45259,479,{"$f":"IF(E699<>\"n\",COUNTIF(B699:$B$4018,B699),IF(D699<6,0,COUNTIF(B699:$B$4018,B699)))","v":0},3,{"$f":"IF(ISERROR(VLOOKUP(A699,Feriados!A:A,1,FALSE)),\"n\",VLOOKUP(A699,Feriados!A:A,1,FALSE))","v":"n"}]
[45260,480,{"$f":"IF(E700<>\"n\",COUNTIF(B700:$B$4018,B700),IF(D700<6,0,COUNTIF(B700:$B$4018,B700)))","v":0},4,{"$f":"IF(ISERROR(VLOOKUP(A700,Feriados!A:A,1,FALSE)),\"n\",VLOOKUP(A700,Feriados!A:A,1,FALSE))","v":"n"}]
[45261,481,{"$f":"IF(E701<>\"n\",COUNTIF(B701:$B$4018,B701),IF(D701<6,0,COUNTIF(B701:$B$4018,B701)))","v":0},5,{"$f":"IF(ISERROR(VLOOKUP(A701,Feriados!A:A,1,FALSE)),\"n\",VLOOKUP(A701,Feriados!A:A,1,FALSE))","v":"n"}]
[45262,481,{"$f":"IF(E702<>\"n\",COUNTIF(B702:$B$4018,B702),IF(D702<6,0,COUNTIF(B702:$B$4018,B702)))","v":2},6,{"$f":"IF(ISERROR(VLOOKUP(A702,Feriados!A:A,1,FALSE)),\"n\",VLOOKUP(A702,Feriados!A:A,1,FALSE))","v":"n"}]
[45263,481,{"$f":"IF(E703<>\"n\",COUNTIF(B703:$B$4018,B703),IF(D703<6,0,COUNTIF(B703:$B$4018,B703)))","v":1},7,{"$f":"IF(ISERROR(VLOOKUP(A703,Feriados!A:A,1,FALSE)),\"n\",VLOOKUP(A703,Feriados!A:A,1,FALSE))","v":"n"}]
[45264,482,{"$f":"IF(E704<>\"n\",COUNTIF(B704:$B$4018,B704),IF(D704<6,0,COUNTIF(B704:$B$4018,B704)))","v":0},1,{"$f":"IF(ISERROR(VLOOKUP(A704,Feriados!A:A,1,FALSE)),\"n\",VLOOKUP(A704,Feriados!A:A,1,FALSE))","v":"n"}]
[45265,483,{"$f":"IF(E705<>\"n\",COUNTIF(B705:$B$4018,B705),IF(D705<6,0,COUNTIF(B705:$B$4018,B705)))","v":0},2,{"$f":"IF(ISERROR(VLOOKUP(A705,Feriados!A:A,1,FALSE)),\"n\",VLOOKUP(A705,Feriados!A:A,1,FALSE))","v":"n"}]
[45266,484,{"$f":"IF(E706<>\"n\",COUNTIF(B706:$B$4018,B706),IF(D706<6,0,COUNTIF(B706:$B$4018,B706)))","v":0},3,{"$f":"IF(ISERROR(VLOOKUP(A706,Feriados!A:A,1,FALSE)),\"n\",VLOOKUP(A706,Feriados!A:A,1,FALSE))","v":"n"}]
[45267,485,{"$f":"IF(E707<>\"n\",COUNTIF(B707:$B$4018,B707),IF(D707<6,0,COUNTIF(B707:$B$4018,B707)))","v":0},4,{"$f":"IF(ISERROR(VLOOKUP(A707,Feriados!A:A,1,FALSE)),\"n\",VLOOKUP(A707,Feriados!A:A,1,FALSE))","v":"n"}]
[{"$f":"A707+1","v":45268},486,{"$f":"IF(E708<>\"n\",COUNTIF(B708:$B$4018,B708),IF(D708<6,0,COUNTIF(B708:$B$4018,B708)))","v":0},5,{"$f":"IF(ISERROR(VLOOKUP(A708,Feriados!A:A,1,FALSE)),\"n\",VLOOKUP(A708,Feriados!A:A,1,FALSE))","v":"n"}]
[45269,486,{"$f":"IF(E709<>\"n\",COUNTIF(B709:$B$4018,B709),IF(D709<6,0,COUNTIF(B709:$B$4018,B709)))","v":2},6,{"$f":"IF(ISERROR(VLOOKUP(A709,Feriados!A:A,1,FALSE)),\"n\",VLOOKUP(A709,Feriados!A:A,1,FALSE))","v":"n"}]
[45270,486,{"$f":"IF(E710<>\"n\",COUNTIF(B710:$B$4018,B710),IF(D710<6,0,COUNTIF(B710:$B$4018,B710)))","v":1},7,{"$f":"IF(ISERROR(VLOOKUP(A710,Feriados!A:A,1,FALSE)),\"n\",VLOOKUP(A710,Feriados!A:A,1,FALSE))","v":"n"}]
[45271,487,{"$f":"IF(E711<>\"n\",COUNTIF(B711:$B$4018,B711),IF(D711<6,0,COUNTIF(B711:$B$4018,B711)))","v":0},1,{"$f":"IF(ISERROR(VLOOKUP(A711,Feriados!A:A,1,FALSE)),\"n\",VLOOKUP(A711,Feriados!A:A,1,FALSE))","v":"n"}]
[45272,488,{"$f":"IF(E712<>\"n\",COUNTIF(B712:$B$4018,B712),IF(D712<6,0,COUNTIF(B712:$B$4018,B712)))","v":0},2,{"$f":"IF(ISERROR(VLOOKUP(A712,Feriados!A:A,1,FALSE)),\"n\",VLOOKUP(A712,Feriados!A:A,1,FALSE))","v":"n"}]
[45273,489,{"$f":"IF(E713<>\"n\",COUNTIF(B713:$B$4018,B713),IF(D713<6,0,COUNTIF(B713:$B$4018,B713)))","v":0},3,{"$f":"IF(ISERROR(VLOOKUP(A713,Feriados!A:A,1,FALSE)),\"n\",VLOOKUP(A713,Feriados!A:A,1,FALSE))","v":"n"}]
[45274,490,{"$f":"IF(E714<>\"n\",COUNTIF(B714:$B$4018,B714),IF(D714<6,0,COUNTIF(B714:$B$4018,B714)))","v":0},4,{"$f":"IF(ISERROR(VLOOKUP(A714,Feriados!A:A,1,FALSE)),\"n\",VLOOKUP(A714,Feriados!A:A,1,FALSE))","v":"n"}]
[45275,491,{"$f":"IF(E715<>\"n\",COUNTIF(B715:$B$4018,B715),IF(D715<6,0,COUNTIF(B715:$B$4018,B715)))","v":0},5,{"$f":"IF(ISERROR(VLOOKUP(A715,Feriados!A:A,1,FALSE)),\"n\",VLOOKUP(A715,Feriados!A:A,1,FALSE))","v":"n"}]
[45276,491,{"$f":"IF(E716<>\"n\",COUNTIF(B716:$B$4018,B716),IF(D716<6,0,COUNTIF(B716:$B$4018,B716)))","v":2},6,{"$f":"IF(ISERROR(VLOOKUP(A716,Feriados!A:A,1,FALSE)),\"n\",VLOOKUP(A716,Feriados!A:A,1,FALSE))","v":"n"}]
[45277,491,{"$f":"IF(E717<>\"n\",COUNTIF(B717:$B$4018,B717),IF(D717<6,0,COUNTIF(B717:$B$4018,B717)))","v":1},7,{"$f":"IF(ISERROR(VLOOKUP(A717,Feriados!A:A,1,FALSE)),\"n\",VLOOKUP(A717,Feriados!A:A,1,FALSE))","v":"n"}]
[45278,492,{"$f":"IF(E718<>\"n\",COUNTIF(B718:$B$4018,B718),IF(D718<6,0,COUNTIF(B718:$B$4018,B718)))","v":0},1,{"$f":"IF(ISERROR(VLOOKUP(A718,Feriados!A:A,1,FALSE)),\"n\",VLOOKUP(A718,Feriados!A:A,1,FALSE))","v":"n"}]
[45279,493,{"$f":"IF(E719<>\"n\",COUNTIF(B719:$B$4018,B719),IF(D719<6,0,COUNTIF(B719:$B$4018,B719)))","v":0},2,{"$f":"IF(ISERROR(VLOOKUP(A719,Feriados!A:A,1,FALSE)),\"n\",VLOOKUP(A719,Feriados!A:A,1,FALSE))","v":"n"}]
[45280,494,{"$f":"IF(E720<>\"n\",COUNTIF(B720:$B$4018,B720),IF(D720<6,0,COUNTIF(B720:$B$4018,B720)))","v":0},3,{"$f":"IF(ISERROR(VLOOKUP(A720,Feriados!A:A,1,FALSE)),\"n\",VLOOKUP(A720,Feriados!A:A,1,FALSE))","v":"n"}]
[45281,495,{"$f":"IF(E721<>\"n\",COUNTIF(B721:$B$4018,B721),IF(D721<6,0,COUNTIF(B721:$B$4018,B721)))","v":0},4,{"$f":"IF(ISERROR(VLOOKUP(A721,Feriados!A:A,1,FALSE)),\"n\",VLOOKUP(A721,Feriados!A:A,1,FALSE))","v":"n"}]
[45282,496,{"$f":"IF(E722<>\"n\",COUNTIF(B722:$B$4018,B722),IF(D722<6,0,COUNTIF(B722:$B$4018,B722)))","v":0},5,{"$f":"IF(ISERROR(VLOOKUP(A722,Feriados!A:A,1,FALSE)),\"n\",VLOOKUP(A722,Feriados!A:A,1,FALSE))","v":"n"}]
[45283,496,{"$f":"IF(E723<>\"n\",COUNTIF(B723:$B$4018,B723),IF(D723<6,0,COUNTIF(B723:$B$4018,B723)))","v":3},6,{"$f":"IF(ISERROR(VLOOKUP(A723,Feriados!A:A,1,FALSE)),\"n\",VLOOKUP(A723,Feriados!A:A,1,FALSE))","v":"n"}]
[45284,496,{"$f":"IF(E724<>\"n\",COUNTIF(B724:$B$4018,B724),IF(D724<6,0,COUNTIF(B724:$B$4018,B724)))","v":2},7,{"$f":"IF(ISERROR(VLOOKUP(A724,Feriados!A:A,1,FALSE)),\"n\",VLOOKUP(A724,Feriados!A:A,1,FALSE))","v":"n"}]
[45285,496,{"$f":"IF(E725<>\"n\",COUNTIF(B725:$B$4018,B725),IF(D725<6,0,COUNTIF(B725:$B$4018,B725)))","v":1},1,{"$f":"IF(ISERROR(VLOOKUP(A725,Feriados!A:A,1,FALSE)),\"n\",VLOOKUP(A725,Feriados!A:A,1,FALSE))","v":"2023-12-25"}]
[45286,497,{"$f":"IF(E726<>\"n\",COUNTIF(B726:$B$4018,B726),IF(D726<6,0,COUNTIF(B726:$B$4018,B726)))","v":0},2,{"$f":"IF(ISERROR(VLOOKUP(A726,Feriados!A:A,1,FALSE)),\"n\",VLOOKUP(A726,Feriados!A:A,1,FALSE))","v":"n"}]
[45287,498,{"$f":"IF(E727<>\"n\",COUNTIF(B727:$B$4018,B727),IF(D727<6,0,COUNTIF(B727:$B$4018,B727)))","v":0},3,{"$f":"IF(ISERROR(VLOOKUP(A727,Feriados!A:A,1,FALSE)),\"n\",VLOOKUP(A727,Feriados!A:A,1,FALSE))","v":"n"}]
[45288,499,{"$f":"IF(E728<>\"n\",COUNTIF(B728:$B$4018,B728),IF(D728<6,0,COUNTIF(B728:$B$4018,B728)))","v":0},4,{"$f":"IF(ISERROR(VLOOKUP(A728,Feriados!A:A,1,FALSE)),\"n\",VLOOKUP(A728,Feriados!A:A,1,FALSE))","v":"n"}]
[45289,500,{"$f":"IF(E729<>\"n\",COUNTIF(B729:$B$4018,B729),IF(D729<6,0,COUNTIF(B729:$B$4018,B729)))","v":0},5,{"$f":"IF(ISERROR(VLOOKUP(A729,Feriados!A:A,1,FALSE)),\"n\",VLOOKUP(A729,Feriados!A:A,1,FALSE))","v":"n"}]
[45290,500,{"$f":"IF(E730<>\"n\",COUNTIF(B730:$B$4018,B730),IF(D730<6,0,COUNTIF(B730:$B$4018,B730)))","v":3},6,{"$f":"IF(ISERROR(VLOOKUP(A730,Feriados!A:A,1,FALSE)),\"n\",VLOOKUP(A730,Feriados!A:A,1,FALSE))","v":"n"}]
[45291,500,{"$f":"IF(E731<>\"n\",COUNTIF(B731:$B$4018,B731),IF(D731<6,0,COUNTIF(B731:$B$4018,B731)))","v":2},7,{"$f":"IF(ISERROR(VLOOKUP(A731,Feriados!A:A,1,FALSE)),\"n\",VLOOKUP(A731,Feriados!A:A,1,FALSE))","v":"n"}]
[45292,500,{"$f":"IF(E732<>\"n\",COUNTIF(B732:$B$4018,B732),IF(D732<6,0,COUNTIF(B732:$B$4018,B732)))","v":1},1,{"$f":"IF(ISERROR(VLOOKUP(A732,Feriados!A:A,1,FALSE)),\"n\",VLOOKUP(A732,Feriados!A:A,1,FALSE))","v":"2024-01-01"}]
[45293,501,{"$f":"IF(E733<>\"n\",COUNTIF(B733:$B$4018,B733),IF(D733<6,0,COUNTIF(B733:$B$4018,B733)))","v":0},2,{"$f":"IF(ISERROR(VLOOKUP(A733,Feriados!A:A,1,FALSE)),\"n\",VLOOKUP(A733,Feriados!A:A,1,FALSE))","v":"n"}]
[45294,{"$f":"NETWORKDAYS($A$2,A734,feriados)","v":502},{"$f":"IF(E734<>\"n\",COUNTIF(B734:$B$4018,B734),IF(D734<6,0,COUNTIF(B734:$B$4018,B734)))","v":0},{"$f":"WEEKDAY(A734,2)","v":3},{"$f":"IF(ISERROR(VLOOKUP(A734,Feriados!A:A,1,FALSE)),\"n\",VLOOKUP(A734,Feriados!A:A,1,FALSE))","v":"n"}]
[45295,503,{"$f":"IF(E735<>\"n\",COUNTIF(B735:$B$4018,B735),IF(D735<6,0,COUNTIF(B735:$B$4018,B735)))","v":0},4,{"$f":"IF(ISERROR(VLOOKUP(A735,Feriados!A:A,1,FALSE)),\"n\",VLOOKUP(A735,Feriados!A:A,1,FALSE))","v":"n"}]
[45296,504,{"$f":"IF(E736<>\"n\",COUNTIF(B736:$B$4018,B736),IF(D736<6,0,COUNTIF(B736:$B$4018,B736)))","v":0},5,{"$f":"IF(ISERROR(VLOOKUP(A736,Feriados!A:A,1,FALSE)),\"n\",VLOOKUP(A736,Feriados!A:A,1,FALSE))","v":"n"}]
[45297,504,{"$f":"IF(E737<>\"n\",COUNTIF(B737:$B$4018,B737),IF(D737<6,0,COUNTIF(B737:$B$4018,B737)))","v":2},6,{"$f":"IF(ISERROR(VLOOKUP(A737,Feriados!A:A,1,FALSE)),\"n\",VLOOKUP(A737,Feriados!A:A,1,FALSE))","v":"n"}]
[45298,504,{"$f":"IF(E738<>\"n\",COUNTIF(B738:$B$4018,B738),IF(D738<6,0,COUNTIF(B738:$B$4018,B738)))","v":1},7,{"$f":"IF(ISERROR(VLOOKUP(A738,Feriados!A:A,1,FALSE)),\"n\",VLOOKUP(A738,Feriados!A:A,1,FALSE))","v":"n"}]
[45299,505,{"$f":"IF(E739<>\"n\",COUNTIF(B739:$B$4018,B739),IF(D739<6,0,COUNTIF(B739:$B$4018,B739)))","v":0},1,{"$f":"IF(ISERROR(VLOOKUP(A739,Feriados!A:A,1,FALSE)),\"n\",VLOOKUP(A739,Feriados!A:A,1,FALSE))","v":"n"}]
[45300,506,{"$f":"IF(E740<>\"n\",COUNTIF(B740:$B$4018,B740),IF(D740<6,0,COUNTIF(B740:$B$4018,B740)))","v":0},2,{"$f":"IF(ISERROR(VLOOKUP(A740,Feriados!A:A,1,FALSE)),\"n\",VLOOKUP(A740,Feriados!A:A,1,FALSE))","v":"n"}]
[45301,507,{"$f":"IF(E741<>\"n\",COUNTIF(B741:$B$4018,B741),IF(D741<6,0,COUNTIF(B741:$B$4018,B741)))","v":0},3,{"$f":"IF(ISERROR(VLOOKUP(A741,Feriados!A:A,1,FALSE)),\"n\",VLOOKUP(A741,Feriados!A:A,1,FALSE))","v":"n"}]
[45302,508,{"$f":"IF(E742<>\"n\",COUNTIF(B742:$B$4018,B742),IF(D742<6,0,COUNTIF(B742:$B$4018,B742)))","v":0},4,{"$f":"IF(ISERROR(VLOOKUP(A742,Feriados!A:A,1,FALSE)),\"n\",VLOOKUP(A742,Feriados!A:A,1,FALSE))","v":"n"}]
[45303,509,{"$f":"IF(E743<>\"n\",COUNTIF(B743:$B$4018,B743),IF(D743<6,0,COUNTIF(B743:$B$4018,B743)))","v":0},5,{"$f":"IF(ISERROR(VLOOKUP(A743,Feriados!A:A,1,FALSE)),\"n\",VLOOKUP(A743,Feriados!A:A,1,FALSE))","v":"n"}]
[45304,509,{"$f":"IF(E744<>\"n\",COUNTIF(B744:$B$4018,B744),IF(D744<6,0,COUNTIF(B744:$B$4018,B744)))","v":2},6,{"$f":"IF(ISERROR(VLOOKUP(A744,Feriados!A:A,1,FALSE)),\"n\",VLOOKUP(A744,Feriados!A:A,1,FALSE))","v":"n"}]
[45305,509,{"$f":"IF(E745<>\"n\",COUNTIF(B745:$B$4018,B745),IF(D745<6,0,COUNTIF(B745:$B$4018,B745)))","v":1},7,{"$f":"IF(ISERROR(VLOOKUP(A745,Feriados!A:A,1,FALSE)),\"n\",VLOOKUP(A745,Feriados!A:A,1,FALSE))","v":"n"}]
[45306,510,{"$f":"IF(E746<>\"n\",COUNTIF(B746:$B$4018,B746),IF(D746<6,0,COUNTIF(B746:$B$4018,B746)))","v":0},1,{"$f":"IF(ISERROR(VLOOKUP(A746,Feriados!A:A,1,FALSE)),\"n\",VLOOKUP(A746,Feriados!A:A,1,FALSE))","v":"n"}]
[45307,511,{"$f":"IF(E747<>\"n\",COUNTIF(B747:$B$4018,B747),IF(D747<6,0,COUNTIF(B747:$B$4018,B747)))","v":0},2,{"$f":"IF(ISERROR(VLOOKUP(A747,Feriados!A:A,1,FALSE)),\"n\",VLOOKUP(A747,Feriados!A:A,1,FALSE))","v":"n"}]
[45308,512,{"$f":"IF(E748<>\"n\",COUNTIF(B748:$B$4018,B748),IF(D748<6,0,COUNTIF(B748:$B$4018,B748)))","v":0},3,{"$f":"IF(ISERROR(VLOOKUP(A748,Feriados!A:A,1,FALSE)),\"n\",VLOOKUP(A748,Feriados!A:A,1,FALSE))","v":"n"}]
[45309,513,{"$f":"IF(E749<>\"n\",COUNTIF(B749:$B$4018,B749),IF(D749<6,0,COUNTIF(B749:$B$4018,B749)))","v":0},4,{"$f":"IF(ISERROR(VLOOKUP(A749,Feriados!A:A,1,FALSE)),\"n\",VLOOKUP(A749,Feriados!A:A,1,FALSE))","v":"n"}]
[45310,514,{"$f":"IF(E750<>\"n\",COUNTIF(B750:$B$4018,B750),IF(D750<6,0,COUNTIF(B750:$B$4018,B750)))","v":0},5,{"$f":"IF(ISERROR(VLOOKUP(A750,Feriados!A:A,1,FALSE)),\"n\",VLOOKUP(A750,Feriados!A:A,1,FALSE))","v":"n"}]
[45311,514,{"$f":"IF(E751<>\"n\",COUNTIF(B751:$B$4018,B751),IF(D751<6,0,COUNTIF(B751:$B$4018,B751)))","v":2},6,{"$f":"IF(ISERROR(VLOOKUP(A751,Feriados!A:A,1,FALSE)),\"n\",VLOOKUP(A751,Feriados!A:A,1,FALSE))","v":"n"}]
[45312,514,{"$f":"IF(E752<>\"n\",COUNTIF(B752:$B$4018,B752),IF(D752<6,0,COUNTIF(B752:$B$4018,B752)))","v":1},7,{"$f":"IF(ISERROR(VLOOKUP(A752,Feriados!A:A,1,FALSE)),\"n\",VLOOKUP(A752,Feriados!A:A,1,FALSE))","v":"n"}]
[45313,515,{"$f":"IF(E753<>\"n\",COUNTIF(B753:$B$4018,B753),IF(D753<6,0,COUNTIF(B753:$B$4018,B753)))","v":0},1,{"$f":"IF(ISERROR(VLOOKUP(A753,Feriados!A:A,1,FALSE)),\"n\",VLOOKUP(A753,Feriados!A:A,1,FALSE))","v":"n"}]
[45314,516,{"$f":"IF(E754<>\"n\",COUNTIF(B754:$B$4018,B754),IF(D754<6,0,COUNTIF(B754:$B$4018,B754)))","v":0},2,{"$f":"IF(ISERROR(VLOOKUP(A754,Feriados!A:A,1,FALSE)),\"n\",VLOOKUP(A754,Feriados!A:A,1,FALSE))","v":"n"}]
[45315,517,{"$f":"IF(E755<>\"n\",COUNTIF(B755:$B$4018,B755),IF(D755<6,0,COUNTIF(B755:$B$4018,B755)))","v":0},3,{"$f":"IF(ISERROR(VLOOKUP(A755,Feriados!A:A,1,FALSE)),\"n\",VLOOKUP(A755,Feriados!A:A,1,FALSE))","v":"n"}]
[45316,518,{"$f":"IF(E756<>\"n\",COUNTIF(B756:$B$4018,B756),IF(D756<6,0,COUNTIF(B756:$B$4018,B756)))","v":0},4,{"$f":"IF(ISERROR(VLOOKUP(A756,Feriados!A:A,1,FALSE)),\"n\",VLOOKUP(A756,Feriados!A:A,1,FALSE))","v":"n"}]
[45317,519,{"$f":"IF(E757<>\"n\",COUNTIF(B757:$B$4018,B757),IF(D757<6,0,COUNTIF(B757:$B$4018,B757)))","v":0},5,{"$f":"IF(ISERROR(VLOOKUP(A757,Feriados!A:A,1,FALSE)),\"n\",VLOOKUP(A757,Feriados!A:A,1,FALSE))","v":"n"}]
[45318,519,{"$f":"IF(E758<>\"n\",COUNTIF(B758:$B$4018,B758),IF(D758<6,0,COUNTIF(B758:$B$4018,B758)))","v":2},6,{"$f":"IF(ISERROR(VLOOKUP(A758,Feriados!A:A,1,FALSE)),\"n\",VLOOKUP(A758,Feriados!A:A,1,FALSE))","v":"n"}]
[45319,519,{"$f":"IF(E759<>\"n\",COUNTIF(B759:$B$4018,B759),IF(D759<6,0,COUNTIF(B759:$B$4018,B759)))","v":1},7,{"$f":"IF(ISERROR(VLOOKUP(A759,Feriados!A:A,1,FALSE)),\"n\",VLOOKUP(A759,Feriados!A:A,1,FALSE))","v":"n"}]
[45320,520,{"$f":"IF(E760<>\"n\",COUNTIF(B760:$B$4018,B760),IF(D760<6,0,COUNTIF(B760:$B$4018,B760)))","v":0},1,{"$f":"IF(ISERROR(VLOOKUP(A760,Feriados!A:A,1,FALSE)),\"n\",VLOOKUP(A760,Feriados!A:A,1,FALSE))","v":"n"}]
[45321,521,{"$f":"IF(E761<>\"n\",COUNTIF(B761:$B$4018,B761),IF(D761<6,0,COUNTIF(B761:$B$4018,B761)))","v":0},2,{"$f":"IF(ISERROR(VLOOKUP(A761,Feriados!A:A,1,FALSE)),\"n\",VLOOKUP(A761,Feriados!A:A,1,FALSE))","v":"n"}]
[45322,522,{"$f":"IF(E762<>\"n\",COUNTIF(B762:$B$4018,B762),IF(D762<6,0,COUNTIF(B762:$B$4018,B762)))","v":0},3,{"$f":"IF(ISERROR(VLOOKUP(A762,Feriados!A:A,1,FALSE)),\"n\",VLOOKUP(A762,Feriados!A:A,1,FALSE))","v":"n"}]
[45323,523,{"$f":"IF(E763<>\"n\",COUNTIF(B763:$B$4018,B763),IF(D763<6,0,COUNTIF(B763:$B$4018,B763)))","v":0},4,{"$f":"IF(ISERROR(VLOOKUP(A763,Feriados!A:A,1,FALSE)),\"n\",VLOOKUP(A763,Feriados!A:A,1,FALSE))","v":"n"}]
[45324,524,{"$f":"IF(E764<>\"n\",COUNTIF(B764:$B$4018,B764),IF(D764<6,0,COUNTIF(B764:$B$4018,B764)))","v":0},5,{"$f":"IF(ISERROR(VLOOKUP(A764,Feriados!A:A,1,FALSE)),\"n\",VLOOKUP(A764,Feriados!A:A,1,FALSE))","v":"n"}]
[45325,524,{"$f":"IF(E765<>\"n\",COUNTIF(B765:$B$4018,B765),IF(D765<6,0,COUNTIF(B765:$B$4018,B765)))","v":2},6,{"$f":"IF(ISERROR(VLOOKUP(A765,Feriados!A:A,1,FALSE)),\"n\",VLOOKUP(A765,Feriados!A:A,1,FALSE))","v":"n"}]
[45326,524,{"$f":"IF(E766<>\"n\",COUNTIF(B766:$B$4018,B766),IF(D766<6,0,COUNTIF(B766:$B$4018,B766)))","v":1},7,{"$f":"IF(ISERROR(VLOOKUP(A766,Feriados!A:A,1,FALSE)),\"n\",VLOOKUP(A766,Feriados!A:A,1,FALSE))","v":"n"}]
[45327,525,{"$f":"IF(E767<>\"n\",COUNTIF(B767:$B$4018,B767),IF(D767<6,0,COUNTIF(B767:$B$4018,B767)))","v":0},1,{"$f":"IF(ISERROR(VLOOKUP(A767,Feriados!A:A,1,FALSE)),\"n\",VLOOKUP(A767,Feriados!A:A,1,FALSE))","v":"n"}]
[45328,526,{"$f":"IF(E768<>\"n\",COUNTIF(B768:$B$4018,B768),IF(D768<6,0,COUNTIF(B768:$B$4018,B768)))","v":0},2,{"$f":"IF(ISERROR(VLOOKUP(A768,Feriados!A:A,1,FALSE)),\"n\",VLOOKUP(A768,Feriados!A:A,1,FALSE))","v":"n"}]
[45329,527,{"$f":"IF(E769<>\"n\",COUNTIF(B769:$B$4018,B769),IF(D769<6,0,COUNTIF(B769:$B$4018,B769)))","v":0},3,{"$f":"IF(ISERROR(VLOOKUP(A769,Feriados!A:A,1,FALSE)),\"n\",VLOOKUP(A769,Feriados!A:A,1,FALSE))","v":"n"}]
[45330,528,{"$f":"IF(E770<>\"n\",COUNTIF(B770:$B$4018,B770),IF(D770<6,0,COUNTIF(B770:$B$4018,B770)))","v":0},4,{"$f":"IF(ISERROR(VLOOKUP(A770,Feriados!A:A,1,FALSE)),\"n\",VLOOKUP(A770,Feriados!A:A,1,FALSE))","v":"n"}]
[45331,529,{"$f":"IF(E771<>\"n\",COUNTIF(B771:$B$4018,B771),IF(D771<6,0,COUNTIF(B771:$B$4018,B771)))","v":0},5,{"$f":"IF(ISERROR(VLOOKUP(A771,Feriados!A:A,1,FALSE)),\"n\",VLOOKUP(A771,Feriados!A:A,1,FALSE))","v":"n"}]
[{"$f":"A771+1","v":45332},529,{"$f":"IF(E772<>\"n\",COUNTIF(B772:$B$4018,B772),IF(D772<6,0,COUNTIF(B772:$B$4018,B772)))","v":4},6,{"$f":"IF(ISERROR(VLOOKUP(A772,Feriados!A:A,1,FALSE)),\"n\",VLOOKUP(A772,Feriados!A:A,1,FALSE))","v":"n"}]
[45333,529,{"$f":"IF(E773<>\"n\",COUNTIF(B773:$B$4018,B773),IF(D773<6,0,COUNTIF(B773:$B$4018,B773)))","v":3},7,{"$f":"IF(ISERROR(VLOOKUP(A773,Feriados!A:A,1,FALSE)),\"n\",VLOOKUP(A773,Feriados!A:A,1,FALSE))","v":"n"}]
[45334,529,{"$f":"IF(E774<>\"n\",COUNTIF(B774:$B$4018,B774),IF(D774<6,0,COUNTIF(B774:$B$4018,B774)))","v":2},1,{"$f":"IF(ISERROR(VLOOKUP(A774,Feriados!A:A,1,FALSE)),\"n\",VLOOKUP(A774,Feriados!A:A,1,FALSE))","v":"2024-02-12"}]
[45335,529,{"$f":"IF(E775<>\"n\",COUNTIF(B775:$B$4018,B775),IF(D775<6,0,COUNTIF(B775:$B$4018,B775)))","v":1},2,{"$f":"IF(ISERROR(VLOOKUP(A775,Feriados!A:A,1,FALSE)),\"n\",VLOOKUP(A775,Feriados!A:A,1,FALSE))","v":"2024-02-13"}]
[45336,530,{"$f":"IF(E776<>\"n\",COUNTIF(B776:$B$4018,B776),IF(D776<6,0,COUNTIF(B776:$B$4018,B776)))","v":0},3,{"$f":"IF(ISERROR(VLOOKUP(A776,Feriados!A:A,1,FALSE)),\"n\",VLOOKUP(A776,Feriados!A:A,1,FALSE))","v":"n"}]
[45337,531,{"$f":"IF(E777<>\"n\",COUNTIF(B777:$B$4018,B777),IF(D777<6,0,COUNTIF(B777:$B$4018,B777)))","v":0},4,{"$f":"IF(ISERROR(VLOOKUP(A777,Feriados!A:A,1,FALSE)),\"n\",VLOOKUP(A777,Feriados!A:A,1,FALSE))","v":"n"}]
[45338,532,{"$f":"IF(E778<>\"n\",COUNTIF(B778:$B$4018,B778),IF(D778<6,0,COUNTIF(B778:$B$4018,B778)))","v":0},5,{"$f":"IF(ISERROR(VLOOKUP(A778,Feriados!A:A,1,FALSE)),\"n\",VLOOKUP(A778,Feriados!A:A,1,FALSE))","v":"n"}]
[45339,532,{"$f":"IF(E779<>\"n\",COUNTIF(B779:$B$4018,B779),IF(D779<6,0,COUNTIF(B779:$B$4018,B779)))","v":2},6,{"$f":"IF(ISERROR(VLOOKUP(A779,Feriados!A:A,1,FALSE)),\"n\",VLOOKUP(A779,Feriados!A:A,1,FALSE))","v":"n"}]
[45340,532,{"$f":"IF(E780<>\"n\",COUNTIF(B780:$B$4018,B780),IF(D780<6,0,COUNTIF(B780:$B$4018,B780)))","v":1},7,{"$f":"IF(ISERROR(VLOOKUP(A780,Feriados!A:A,1,FALSE)),\"n\",VLOOKUP(A780,Feriados!A:A,1,FALSE))","v":"n"}]
[45341,533,{"$f":"IF(E781<>\"n\",COUNTIF(B781:$B$4018,B781),IF(D781<6,0,COUNTIF(B781:$B$4018,B781)))","v":0},1,{"$f":"IF(ISERROR(VLOOKUP(A781,Feriados!A:A,1,FALSE)),\"n\",VLOOKUP(A781,Feriados!A:A,1,FALSE))","v":"n"}]
[45342,534,{"$f":"IF(E782<>\"n\",COUNTIF(B782:$B$4018,B782),IF(D782<6,0,COUNTIF(B782:$B$4018,B782)))","v":0},2,{"$f":"IF(ISERROR(VLOOKUP(A782,Feriados!A:A,1,FALSE)),\"n\",VLOOKUP(A782,Feriados!A:A,1,FALSE))","v":"n"}]
[45343,535,{"$f":"IF(E783<>\"n\",COUNTIF(B783:$B$4018,B783),IF(D783<6,0,COUNTIF(B783:$B$4018,B783)))","v":0},3,{"$f":"IF(ISERROR(VLOOKUP(A783,Feriados!A:A,1,FALSE)),\"n\",VLOOKUP(A783,Feriados!A:A,1,FALSE))","v":"n"}]
[45344,536,{"$f":"IF(E784<>\"n\",COUNTIF(B784:$B$4018,B784),IF(D784<6,0,COUNTIF(B784:$B$4018,B784)))","v":0},4,{"$f":"IF(ISERROR(VLOOKUP(A784,Feriados!A:A,1,FALSE)),\"n\",VLOOKUP(A784,Feriados!A:A,1,FALSE))","v":"n"}]
[45345,537,{"$f":"IF(E785<>\"n\",COUNTIF(B785:$B$4018,B785),IF(D785<6,0,COUNTIF(B785:$B$4018,B785)))","v":0},5,{"$f":"IF(ISERROR(VLOOKUP(A785,Feriados!A:A,1,FALSE)),\"n\",VLOOKUP(A785,Feriados!A:A,1,FALSE))","v":"n"}]
[45346,537,{"$f":"IF(E786<>\"n\",COUNTIF(B786:$B$4018,B786),IF(D786<6,0,COUNTIF(B786:$B$4018,B786)))","v":2},6,{"$f":"IF(ISERROR(VLOOKUP(A786,Feriados!A:A,1,FALSE)),\"n\",VLOOKUP(A786,Feriados!A:A,1,FALSE))","v":"n"}]
[45347,537,{"$f":"IF(E787<>\"n\",COUNTIF(B787:$B$4018,B787),IF(D787<6,0,COUNTIF(B787:$B$4018,B787)))","v":1},7,{"$f":"IF(ISERROR(VLOOKUP(A787,Feriados!A:A,1,FALSE)),\"n\",VLOOKUP(A787,Feriados!A:A,1,FALSE))","v":"n"}]
[45348,538,{"$f":"IF(E788<>\"n\",COUNTIF(B788:$B$4018,B788),IF(D788<6,0,COUNTIF(B788:$B$4018,B788)))","v":0},1,{"$f":"IF(ISERROR(VLOOKUP(A788,Feriados!A:A,1,FALSE)),\"n\",VLOOKUP(A788,Feriados!A:A,1,FALSE))","v":"n"}]
[45349,539,{"$f":"IF(E789<>\"n\",COUNTIF(B789:$B$4018,B789),IF(D789<6,0,COUNTIF(B789:$B$4018,B789)))","v":0},2,{"$f":"IF(ISERROR(VLOOKUP(A789,Feriados!A:A,1,FALSE)),\"n\",VLOOKUP(A789,Feriados!A:A,1,FALSE))","v":"n"}]
[45350,540,{"$f":"IF(E790<>\"n\",COUNTIF(B790:$B$4018,B790),IF(D790<6,0,COUNTIF(B790:$B$4018,B790)))","v":0},3,{"$f":"IF(ISERROR(VLOOKUP(A790,Feriados!A:A,1,FALSE)),\"n\",VLOOKUP(A790,Feriados!A:A,1,FALSE))","v":"n"}]
[45351,541,{"$f":"IF(E791<>\"n\",COUNTIF(B791:$B$4018,B791),IF(D791<6,0,COUNTIF(B791:$B$4018,B791)))","v":0},4,{"$f":"IF(ISERROR(VLOOKUP(A791,Feriados!A:A,1,FALSE)),\"n\",VLOOKUP(A791,Feriados!A:A,1,FALSE))","v":"n"}]
[45352,542,{"$f":"IF(E792<>\"n\",COUNTIF(B792:$B$4018,B792),IF(D792<6,0,COUNTIF(B792:$B$4018,B792)))","v":0},5,{"$f":"IF(ISERROR(VLOOKUP(A792,Feriados!A:A,1,FALSE)),\"n\",VLOOKUP(A792,Feriados!A:A,1,FALSE))","v":"n"}]
[45353,542,{"$f":"IF(E793<>\"n\",COUNTIF(B793:$B$4018,B793),IF(D793<6,0,COUNTIF(B793:$B$4018,B793)))","v":2},6,{"$f":"IF(ISERROR(VLOOKUP(A793,Feriados!A:A,1,FALSE)),\"n\",VLOOKUP(A793,Feriados!A:A,1,FALSE))","v":"n"}]
[45354,542,{"$f":"IF(E794<>\"n\",COUNTIF(B794:$B$4018,B794),IF(D794<6,0,COUNTIF(B794:$B$4018,B794)))","v":1},7,{"$f":"IF(ISERROR(VLOOKUP(A794,Feriados!A:A,1,FALSE)),\"n\",VLOOKUP(A794,Feriados!A:A,1,FALSE))","v":"n"}]
[45355,543,{"$f":"IF(E795<>\"n\",COUNTIF(B795:$B$4018,B795),IF(D795<6,0,COUNTIF(B795:$B$4018,B795)))","v":0},1,{"$f":"IF(ISERROR(VLOOKUP(A795,Feriados!A:A,1,FALSE)),\"n\",VLOOKUP(A795,Feriados!A:A,1,FALSE))","v":"n"}]
[45356,544,{"$f":"IF(E796<>\"n\",COUNTIF(B796:$B$4018,B796),IF(D796<6,0,COUNTIF(B796:$B$4018,B796)))","v":0},2,{"$f":"IF(ISERROR(VLOOKUP(A796,Feriados!A:A,1,FALSE)),\"n\",VLOOKUP(A796,Feriados!A:A,1,FALSE))","v":"n"}]
[45357,545,{"$f":"IF(E797<>\"n\",COUNTIF(B797:$B$4018,B797),IF(D797<6,0,COUNTIF(B797:$B$4018,B797)))","v":0},3,{"$f":"IF(ISERROR(VLOOKUP(A797,Feriados!A:A,1,FALSE)),\"n\",VLOOKUP(A797,Feriados!A:A,1,FALSE))","v":"n"}]
[45358,{"$f":"NETWORKDAYS($A$2,A798,feriados)","v":546},{"$f":"IF(E798<>\"n\",COUNTIF(B798:$B$4018,B798),IF(D798<6,0,COUNTIF(B798:$B$4018,B798)))","v":0},{"$f":"WEEKDAY(A798,2)","v":4},{"$f":"IF(ISERROR(VLOOKUP(A798,Feriados!A:A,1,FALSE)),\"n\",VLOOKUP(A798,Feriados!A:A,1,FALSE))","v":"n"}]
[45359,547,{"$f":"IF(E799<>\"n\",COUNTIF(B799:$B$4018,B799),IF(D799<6,0,COUNTIF(B799:$B$4018,B799)))","v":0},5,{"$f":"IF(ISERROR(VLOOKUP(A799,Feriados!A:A,1,FALSE)),\"n\",VLOOKUP(A799,Feriados!A:A,1,FALSE))","v":"n"}]
[45360,547,{"$f":"IF(E800<>\"n\",COUNTIF(B800:$B$4018,B800),IF(D800<6,0,COUNTIF(B800:$B$4018,B800)))","v":2},6,{"$f":"IF(ISERROR(VLOOKUP(A800,Feriados!A:A,1,FALSE)),\"n\",VLOOKUP(A800,Feriados!A:A,1,FALSE))","v":"n"}]
[45361,547,{"$f":"IF(E801<>\"n\",COUNTIF(B801:$B$4018,B801),IF(D801<6,0,COUNTIF(B801:$B$4018,B801)))","v":1},7,{"$f":"IF(ISERROR(VLOOKUP(A801,Feriados!A:A,1,FALSE)),\"n\",VLOOKUP(A801,Feriados!A:A,1,FALSE))","v":"n"}]
[45362,548,{"$f":"IF(E802<>\"n\",COUNTIF(B802:$B$4018,B802),IF(D802<6,0,COUNTIF(B802:$B$4018,B802)))","v":0},1,{"$f":"IF(ISERROR(VLOOKUP(A802,Feriados!A:A,1,FALSE)),\"n\",VLOOKUP(A802,Feriados!A:A,1,FALSE))","v":"n"}]
[45363,549,{"$f":"IF(E803<>\"n\",COUNTIF(B803:$B$4018,B803),IF(D803<6,0,COUNTIF(B803:$B$4018,B803)))","v":0},2,{"$f":"IF(ISERROR(VLOOKUP(A803,Feriados!A:A,1,FALSE)),\"n\",VLOOKUP(A803,Feriados!A:A,1,FALSE))","v":"n"}]
[45364,550,{"$f":"IF(E804<>\"n\",COUNTIF(B804:$B$4018,B804),IF(D804<6,0,COUNTIF(B804:$B$4018,B804)))","v":0},3,{"$f":"IF(ISERROR(VLOOKUP(A804,Feriados!A:A,1,FALSE)),\"n\",VLOOKUP(A804,Feriados!A:A,1,FALSE))","v":"n"}]
[45365,551,{"$f":"IF(E805<>\"n\",COUNTIF(B805:$B$4018,B805),IF(D805<6,0,COUNTIF(B805:$B$4018,B805)))","v":0},4,{"$f":"IF(ISERROR(VLOOKUP(A805,Feriados!A:A,1,FALSE)),\"n\",VLOOKUP(A805,Feriados!A:A,1,FALSE))","v":"n"}]
[45366,552,{"$f":"IF(E806<>\"n\",COUNTIF(B806:$B$4018,B806),IF(D806<6,0,COUNTIF(B806:$B$4018,B806)))","v":0},5,{"$f":"IF(ISERROR(VLOOKUP(A806,Feriados!A:A,1,FALSE)),\"n\",VLOOKUP(A806,Feriados!A:A,1,FALSE))","v":"n"}]
[45367,552,{"$f":"IF(E807<>\"n\",COUNTIF(B807:$B$4018,B807),IF(D807<6,0,COUNTIF(B807:$B$4018,B807)))","v":2},6,{"$f":"IF(ISERROR(VLOOKUP(A807,Feriados!A:A,1,FALSE)),\"n\",VLOOKUP(A807,Feriados!A:A,1,FALSE))","v":"n"}]
[45368,552,{"$f":"IF(E808<>\"n\",COUNTIF(B808:$B$4018,B808),IF(D808<6,0,COUNTIF(B808:$B$4018,B808)))","v":1},7,{"$f":"IF(ISERROR(VLOOKUP(A808,Feriados!A:A,1,FALSE)),\"n\",VLOOKUP(A808,Feriados!A:A,1,FALSE))","v":"n"}]
[45369,553,{"$f":"IF(E809<>\"n\",COUNTIF(B809:$B$4018,B809),IF(D809<6,0,COUNTIF(B809:$B$4018,B809)))","v":0},1,{"$f":"IF(ISERROR(VLOOKUP(A809,Feriados!A:A,1,FALSE)),\"n\",VLOOKUP(A809,Feriados!A:A,1,FALSE))","v":"n"}]
[45370,554,{"$f":"IF(E810<>\"n\",COUNTIF(B810:$B$4018,B810),IF(D810<6,0,COUNTIF(B810:$B$4018,B810)))","v":0},2,{"$f":"IF(ISERROR(VLOOKUP(A810,Feriados!A:A,1,FALSE)),\"n\",VLOOKUP(A810,Feriados!A:A,1,FALSE))","v":"n"}]
[45371,555,{"$f":"IF(E811<>\"n\",COUNTIF(B811:$B$4018,B811),IF(D811<6,0,COUNTIF(B811:$B$4018,B811)))","v":0},3,{"$f":"IF(ISERROR(VLOOKUP(A811,Feriados!A:A,1,FALSE)),\"n\",VLOOKUP(A811,Feriados!A:A,1,FALSE))","v":"n"}]
[45372,556,{"$f":"IF(E812<>\"n\",COUNTIF(B812:$B$4018,B812),IF(D812<6,0,COUNTIF(B812:$B$4018,B812)))","v":0},4,{"$f":"IF(ISERROR(VLOOKUP(A812,Feriados!A:A,1,FALSE)),\"n\",VLOOKUP(A812,Feriados!A:A,1,FALSE))","v":"n"}]
[45373,557,{"$f":"IF(E813<>\"n\",COUNTIF(B813:$B$4018,B813),IF(D813<6,0,COUNTIF(B813:$B$4018,B813)))","v":0},5,{"$f":"IF(ISERROR(VLOOKUP(A813,Feriados!A:A,1,FALSE)),\"n\",VLOOKUP(A813,Feriados!A:A,1,FALSE))","v":"n"}]
[45374,557,{"$f":"IF(E814<>\"n\",COUNTIF(B814:$B$4018,B814),IF(D814<6,0,COUNTIF(B814:$B$4018,B814)))","v":2},6,{"$f":"IF(ISERROR(VLOOKUP(A814,Feriados!A:A,1,FALSE)),\"n\",VLOOKUP(A814,Feriados!A:A,1,FALSE))","v":"n"}]
[45375,557,{"$f":"IF(E815<>\"n\",COUNTIF(B815:$B$4018,B815),IF(D815<6,0,COUNTIF(B815:$B$4018,B815)))","v":1},7,{"$f":"IF(ISERROR(VLOOKUP(A815,Feriados!A:A,1,FALSE)),\"n\",VLOOKUP(A815,Feriados!A:A,1,FALSE))","v":"n"}]
[45376,558,{"$f":"IF(E816<>\"n\",COUNTIF(B816:$B$4018,B816),IF(D816<6,0,COUNTIF(B816:$B$4018,B816)))","v":0},1,{"$f":"IF(ISERROR(VLOOKUP(A816,Feriados!A:A,1,FALSE)),\"n\",VLOOKUP(A816,Feriados!A:A,1,FALSE))","v":"n"}]
[45377,559,{"$f":"IF(E817<>\"n\",COUNTIF(B817:$B$4018,B817),IF(D817<6,0,COUNTIF(B817:$B$4018,B817)))","v":0},2,{"$f":"IF(ISERROR(VLOOKUP(A817,Feriados!A:A,1,FALSE)),\"n\",VLOOKUP(A817,Feriados!A:A,1,FALSE))","v":"n"}]
[45378,560,{"$f":"IF(E818<>\"n\",COUNTIF(B818:$B$4018,B818),IF(D818<6,0,COUNTIF(B818:$B$4018,B818)))","v":0},3,{"$f":"IF(ISERROR(VLOOKUP(A818,Feriados!A:A,1,FALSE)),\"n\",VLOOKUP(A818,Feriados!A:A,1,FALSE))","v":"n"}]
[45379,561,{"$f":"IF(E819<>\"n\",COUNTIF(B819:$B$4018,B819),IF(D819<6,0,COUNTIF(B819:$B$4018,B819)))","v":0},4,{"$f":"IF(ISERROR(VLOOKUP(A819,Feriados!A:A,1,FALSE)),\"n\",VLOOKUP(A819,Feriados!A:A,1,FALSE))","v":"n"}]
[45380,561,{"$f":"IF(E820<>\"n\",COUNTIF(B820:$B$4018,B820),IF(D820<6,0,COUNTIF(B820:$B$4018,B820)))","v":3},5,{"$f":"IF(ISERROR(VLOOKUP(A820,Feriados!A:A,1,FALSE)),\"n\",VLOOKUP(A820,Feriados!A:A,1,FALSE))","v":"2024-03-29"}]
[45381,561,{"$f":"IF(E821<>\"n\",COUNTIF(B821:$B$4018,B821),IF(D821<6,0,COUNTIF(B821:$B$4018,B821)))","v":2},6,{"$f":"IF(ISERROR(VLOOKUP(A821,Feriados!A:A,1,FALSE)),\"n\",VLOOKUP(A821,Feriados!A:A,1,FALSE))","v":"n"}]
[45382,561,{"$f":"IF(E822<>\"n\",COUNTIF(B822:$B$4018,B822),IF(D822<6,0,COUNTIF(B822:$B$4018,B822)))","v":1},7,{"$f":"IF(ISERROR(VLOOKUP(A822,Feriados!A:A,1,FALSE)),\"n\",VLOOKUP(A822,Feriados!A:A,1,FALSE))","v":"n"}]
[45383,562,{"$f":"IF(E823<>\"n\",COUNTIF(B823:$B$4018,B823),IF(D823<6,0,COUNTIF(B823:$B$4018,B823)))","v":0},1,{"$f":"IF(ISERROR(VLOOKUP(A823,Feriados!A:A,1,FALSE)),\"n\",VLOOKUP(A823,Feriados!A:A,1,FALSE))","v":"n"}]
[45384,563,{"$f":"IF(E824<>\"n\",COUNTIF(B824:$B$4018,B824),IF(D824<6,0,COUNTIF(B824:$B$4018,B824)))","v":0},2,{"$f":"IF(ISERROR(VLOOKUP(A824,Feriados!A:A,1,FALSE)),\"n\",VLOOKUP(A824,Feriados!A:A,1,FALSE))","v":"n"}]
[45385,564,{"$f":"IF(E825<>\"n\",COUNTIF(B825:$B$4018,B825),IF(D825<6,0,COUNTIF(B825:$B$4018,B825)))","v":0},3,{"$f":"IF(ISERROR(VLOOKUP(A825,Feriados!A:A,1,FALSE)),\"n\",VLOOKUP(A825,Feriados!A:A,1,FALSE))","v":"n"}]
[45386,565,{"$f":"IF(E826<>\"n\",COUNTIF(B826:$B$4018,B826),IF(D826<6,0,COUNTIF(B826:$B$4018,B826)))","v":0},4,{"$f":"IF(ISERROR(VLOOKUP(A826,Feriados!A:A,1,FALSE)),\"n\",VLOOKUP(A826,Feriados!A:A,1,FALSE))","v":"n"}]
[45387,566,{"$f":"IF(E827<>\"n\",COUNTIF(B827:$B$4018,B827),IF(D827<6,0,COUNTIF(B827:$B$4018,B827)))","v":0},5,{"$f":"IF(ISERROR(VLOOKUP(A827,Feriados!A:A,1,FALSE)),\"n\",VLOOKUP(A827,Feriados!A:A,1,FALSE))","v":"n"}]
[45388,566,{"$f":"IF(E828<>\"n\",COUNTIF(B828:$B$4018,B828),IF(D828<6,0,COUNTIF(B828:$B$4018,B828)))","v":2},6,{"$f":"IF(ISERROR(VLOOKUP(A828,Feriados!A:A,1,FALSE)),\"n\",VLOOKUP(A828,Feriados!A:A,1,FALSE))","v":"n"}]
[45389,566,{"$f":"IF(E829<>\"n\",COUNTIF(B829:$B$4018,B829),IF(D829<6,0,COUNTIF(B829:$B$4018,B829)))","v":1},7,{"$f":"IF(ISERROR(VLOOKUP(A829,Feriados!A:A,1,FALSE)),\"n\",VLOOKUP(A829,Feriados!A:A,1,FALSE))","v":"n"}]
[45390,567,{"$f":"IF(E830<>\"n\",COUNTIF(B830:$B$4018,B830),IF(D830<6,0,COUNTIF(B830:$B$4018,B830)))","v":0},1,{"$f":"IF(ISERROR(VLOOKUP(A830,Feriados!A:A,1,FALSE)),\"n\",VLOOKUP(A830,Feriados!A:A,1,FALSE))","v":"n"}]
[45391,568,{"$f":"IF(E831<>\"n\",COUNTIF(B831:$B$4018,B831),IF(D831<6,0,COUNTIF(B831:$B$4018,B831)))","v":0},2,{"$f":"IF(ISERROR(VLOOKUP(A831,Feriados!A:A,1,FALSE)),\"n\",VLOOKUP(A831,Feriados!A:A,1,FALSE))","v":"n"}]
[45392,569,{"$f":"IF(E832<>\"n\",COUNTIF(B832:$B$4018,B832),IF(D832<6,0,COUNTIF(B832:$B$4018,B832)))","v":0},3,{"$f":"IF(ISERROR(VLOOKUP(A832,Feriados!A:A,1,FALSE)),\"n\",VLOOKUP(A832,Feriados!A:A,1,FALSE))","v":"n"}]
[45393,570,{"$f":"IF(E833<>\"n\",COUNTIF(B833:$B$4018,B833),IF(D833<6,0,COUNTIF(B833:$B$4018,B833)))","v":0},4,{"$f":"IF(ISERROR(VLOOKUP(A833,Feriados!A:A,1,FALSE)),\"n\",VLOOKUP(A833,Feriados!A:A,1,FALSE))","v":"n"}]
[45394,571,{"$f":"IF(E834<>\"n\",COUNTIF(B834:$B$4018,B834),IF(D834<6,0,COUNTIF(B834:$B$4018,B834)))","v":0},5,{"$f":"IF(ISERROR(VLOOKUP(A834,Feriados!A:A,1,FALSE)),\"n\",VLOOKUP(A834,Feriados!A:A,1,FALSE))","v":"n"}]
[45395,571,{"$f":"IF(E835<>\"n\",COUNTIF(B835:$B$4018,B835),IF(D835<6,0,COUNTIF(B835:$B$4018,B835)))","v":2},6,{"$f":"IF(ISERROR(VLOOKUP(A835,Feriados!A:A,1,FALSE)),\"n\",VLOOKUP(A835,Feriados!A:A,1,FALSE))","v":"n"}]
[{"$f":"A835+1","v":45396},571,{"$f":"IF(E836<>\"n\",COUNTIF(B836:$B$4018,B836),IF(D836<6,0,COUNTIF(B836:$B$4018,B836)))","v":1},7,{"$f":"IF(ISERROR(VLOOKUP(A836,Feriados!A:A,1,FALSE)),\"n\",VLOOKUP(A836,Feriados!A:A,1,FALSE))","v":"n"}]
[45397,572,{"$f":"IF(E837<>\"n\",COUNTIF(B837:$B$4018,B837),IF(D837<6,0,COUNTIF(B837:$B$4018,B837)))","v":0},1,{"$f":"IF(ISERROR(VLOOKUP(A837,Feriados!A:A,1,FALSE)),\"n\",VLOOKUP(A837,Feriados!A:A,1,FALSE))","v":"n"}]
[45398,573,{"$f":"IF(E838<>\"n\",COUNTIF(B838:$B$4018,B838),IF(D838<6,0,COUNTIF(B838:$B$4018,B838)))","v":0},2,{"$f":"IF(ISERROR(VLOOKUP(A838,Feriados!A:A,1,FALSE)),\"n\",VLOOKUP(A838,Feriados!A:A,1,FALSE))","v":"n"}]
[45399,574,{"$f":"IF(E839<>\"n\",COUNTIF(B839:$B$4018,B839),IF(D839<6,0,COUNTIF(B839:$B$4018,B839)))","v":0},3,{"$f":"IF(ISERROR(VLOOKUP(A839,Feriados!A:A,1,FALSE)),\"n\",VLOOKUP(A839,Feriados!A:A,1,FALSE))","v":"n"}]
[45400,575,{"$f":"IF(E840<>\"n\",COUNTIF(B840:$B$4018,B840),IF(D840<6,0,COUNTIF(B840:$B$4018,B840)))","v":0},4,{"$f":"IF(ISERROR(VLOOKUP(A840,Feriados!A:A,1,FALSE)),\"n\",VLOOKUP(A840,Feriados!A:A,1,FALSE))","v":"n"}]
[45401,576,{"$f":"IF(E841<>\"n\",COUNTIF(B841:$B$4018,B841),IF(D841<6,0,COUNTIF(B841:$B$4018,B841)))","v":0},5,{"$f":"IF(ISERROR(VLOOKUP(A841,Feriados!A:A,1,FALSE)),\"n\",VLOOKUP(A841,Feriados!A:A,1,FALSE))","v":"n"}]
[45402,576,{"$f":"IF(E842<>\"n\",COUNTIF(B842:$B$4018,B842),IF(D842<6,0,COUNTIF(B842:$B$4018,B842)))","v":2},6,{"$f":"IF(ISERROR(VLOOKUP(A842,Feriados!A:A,1,FALSE)),\"n\",VLOOKUP(A842,Feriados!A:A,1,FALSE))","v":"n"}]
[45403,576,{"$f":"IF(E843<>\"n\",COUNTIF(B843:$B$4018,B843),IF(D843<6,0,COUNTIF(B843:$B$4018,B843)))","v":1},7,{"$f":"IF(ISERROR(VLOOKUP(A843,Feriados!A:A,1,FALSE)),\"n\",VLOOKUP(A843,Feriados!A:A,1,FALSE))","v":"2024-04-21"}]
[45404,577,{"$f":"IF(E844<>\"n\",COUNTIF(B844:$B$4018,B844),IF(D844<6,0,COUNTIF(B844:$B$4018,B844)))","v":0},1,{"$f":"IF(ISERROR(VLOOKUP(A844,Feriados!A:A,1,FALSE)),\"n\",VLOOKUP(A844,Feriados!A:A,1,FALSE))","v":"n"}]
[45405,578,{"$f":"IF(E845<>\"n\",COUNTIF(B845:$B$4018,B845),IF(D845<6,0,COUNTIF(B845:$B$4018,B845)))","v":0},2,{"$f":"IF(ISERROR(VLOOKUP(A845,Feriados!A:A,1,FALSE)),\"n\",VLOOKUP(A845,Feriados!A:A,1,FALSE))","v":"n"}]
[45406,579,{"$f":"IF(E846<>\"n\",COUNTIF(B846:$B$4018,B846),IF(D846<6,0,COUNTIF(B846:$B$4018,B846)))","v":0},3,{"$f":"IF(ISERROR(VLOOKUP(A846,Feriados!A:A,1,FALSE)),\"n\",VLOOKUP(A846,Feriados!A:A,1,FALSE))","v":"n"}]
[45407,580,{"$f":"IF(E847<>\"n\",COUNTIF(B847:$B$4018,B847),IF(D847<6,0,COUNTIF(B847:$B$4018,B847)))","v":0},4,{"$f":"IF(ISERROR(VLOOKUP(A847,Feriados!A:A,1,FALSE)),\"n\",VLOOKUP(A847,Feriados!A:A,1,FALSE))","v":"n"}]
[45408,581,{"$f":"IF(E848<>\"n\",COUNTIF(B848:$B$4018,B848),IF(D848<6,0,COUNTIF(B848:$B$4018,B848)))","v":0},5,{"$f":"IF(ISERROR(VLOOKUP(A848,Feriados!A:A,1,FALSE)),\"n\",VLOOKUP(A848,Feriados!A:A,1,FALSE))","v":"n"}]
[45409,581,{"$f":"IF(E849<>\"n\",COUNTIF(B849:$B$4018,B849),IF(D849<6,0,COUNTIF(B849:$B$4018,B849)))","v":2},6,{"$f":"IF(ISERROR(VLOOKUP(A849,Feriados!A:A,1,FALSE)),\"n\",VLOOKUP(A849,Feriados!A:A,1,FALSE))","v":"n"}]
[45410,581,{"$f":"IF(E850<>\"n\",COUNTIF(B850:$B$4018,B850),IF(D850<6,0,COUNTIF(B850:$B$4018,B850)))","v":1},7,{"$f":"IF(ISERROR(VLOOKUP(A850,Feriados!A:A,1,FALSE)),\"n\",VLOOKUP(A850,Feriados!A:A,1,FALSE))","v":"n"}]
[45411,582,{"$f":"IF(E851<>\"n\",COUNTIF(B851:$B$4018,B851),IF(D851<6,0,COUNTIF(B851:$B$4018,B851)))","v":0},1,{"$f":"IF(ISERROR(VLOOKUP(A851,Feriados!A:A,1,FALSE)),\"n\",VLOOKUP(A851,Feriados!A:A,1,FALSE))","v":"n"}]
[45412,583,{"$f":"IF(E852<>\"n\",COUNTIF(B852:$B$4018,B852),IF(D852<6,0,COUNTIF(B852:$B$4018,B852)))","v":0},2,{"$f":"IF(ISERROR(VLOOKUP(A852,Feriados!A:A,1,FALSE)),\"n\",VLOOKUP(A852,Feriados!A:A,1,FALSE))","v":"n"}]
[45413,583,{"$f":"IF(E853<>\"n\",COUNTIF(B853:$B$4018,B853),IF(D853<6,0,COUNTIF(B853:$B$4018,B853)))","v":1},3,{"$f":"IF(ISERROR(VLOOKUP(A853,Feriados!A:A,1,FALSE)),\"n\",VLOOKUP(A853,Feriados!A:A,1,FALSE))","v":"2024-05-01"}]
[45414,584,{"$f":"IF(E854<>\"n\",COUNTIF(B854:$B$4018,B854),IF(D854<6,0,COUNTIF(B854:$B$4018,B854)))","v":0},4,{"$f":"IF(ISERROR(VLOOKUP(A854,Feriados!A:A,1,FALSE)),\"n\",VLOOKUP(A854,Feriados!A:A,1,FALSE))","v":"n"}]
[45415,585,{"$f":"IF(E855<>\"n\",COUNTIF(B855:$B$4018,B855),IF(D855<6,0,COUNTIF(B855:$B$4018,B855)))","v":0},5,{"$f":"IF(ISERROR(VLOOKUP(A855,Feriados!A:A,1,FALSE)),\"n\",VLOOKUP(A855,Feriados!A:A,1,FALSE))","v":"n"}]
[45416,585,{"$f":"IF(E856<>\"n\",COUNTIF(B856:$B$4018,B856),IF(D856<6,0,COUNTIF(B856:$B$4018,B856)))","v":2},6,{"$f":"IF(ISERROR(VLOOKUP(A856,Feriados!A:A,1,FALSE)),\"n\",VLOOKUP(A856,Feriados!A:A,1,FALSE))","v":"n"}]
[45417,585,{"$f":"IF(E857<>\"n\",COUNTIF(B857:$B$4018,B857),IF(D857<6,0,COUNTIF(B857:$B$4018,B857)))","v":1},7,{"$f":"IF(ISERROR(VLOOKUP(A857,Feriados!A:A,1,FALSE)),\"n\",VLOOKUP(A857,Feriados!A:A,1,FALSE))","v":"n"}]
[45418,586,{"$f":"IF(E858<>\"n\",COUNTIF(B858:$B$4018,B858),IF(D858<6,0,COUNTIF(B858:$B$4018,B858)))","v":0},1,{"$f":"IF(ISERROR(VLOOKUP(A858,Feriados!A:A,1,FALSE)),\"n\",VLOOKUP(A858,Feriados!A:A,1,FALSE))","v":"n"}]
[45419,587,{"$f":"IF(E859<>\"n\",COUNTIF(B859:$B$4018,B859),IF(D859<6,0,COUNTIF(B859:$B$4018,B859)))","v":0},2,{"$f":"IF(ISERROR(VLOOKUP(A859,Feriados!A:A,1,FALSE)),\"n\",VLOOKUP(A859,Feriados!A:A,1,FALSE))","v":"n"}]
[45420,588,{"$f":"IF(E860<>\"n\",COUNTIF(B860:$B$4018,B860),IF(D860<6,0,COUNTIF(B860:$B$4018,B860)))","v":0},3,{"$f":"IF(ISERROR(VLOOKUP(A860,Feriados!A:A,1,FALSE)),\"n\",VLOOKUP(A860,Feriados!A:A,1,FALSE))","v":"n"}]
[45421,589,{"$f":"IF(E861<>\"n\",COUNTIF(B861:$B$4018,B861),IF(D861<6,0,COUNTIF(B861:$B$4018,B861)))","v":0},4,{"$f":"IF(ISERROR(VLOOKUP(A861,Feriados!A:A,1,FALSE)),\"n\",VLOOKUP(A861,Feriados!A:A,1,FALSE))","v":"n"}]
[45422,{"$f":"NETWORKDAYS($A$2,A862,feriados)","v":590},{"$f":"IF(E862<>\"n\",COUNTIF(B862:$B$4018,B862),IF(D862<6,0,COUNTIF(B862:$B$4018,B862)))","v":0},{"$f":"WEEKDAY(A862,2)","v":5},{"$f":"IF(ISERROR(VLOOKUP(A862,Feriados!A:A,1,FALSE)),\"n\",VLOOKUP(A862,Feriados!A:A,1,FALSE))","v":"n"}]
[45423,590,{"$f":"IF(E863<>\"n\",COUNTIF(B863:$B$4018,B863),IF(D863<6,0,COUNTIF(B863:$B$4018,B863)))","v":2},6,{"$f":"IF(ISERROR(VLOOKUP(A863,Feriados!A:A,1,FALSE)),\"n\",VLOOKUP(A863,Feriados!A:A,1,FALSE))","v":"n"}]
[45424,590,{"$f":"IF(E864<>\"n\",COUNTIF(B864:$B$4018,B864),IF(D864<6,0,COUNTIF(B864:$B$4018,B864)))","v":1},7,{"$f":"IF(ISERROR(VLOOKUP(A864,Feriados!A:A,1,FALSE)),\"n\",VLOOKUP(A864,Feriados!A:A,1,FALSE))","v":"n"}]
[45425,591,{"$f":"IF(E865<>\"n\",COUNTIF(B865:$B$4018,B865),IF(D865<6,0,COUNTIF(B865:$B$4018,B865)))","v":0},1,{"$f":"IF(ISERROR(VLOOKUP(A865,Feriados!A:A,1,FALSE)),\"n\",VLOOKUP(A865,Feriados!A:A,1,FALSE))","v":"n"}]
[45426,592,{"$f":"IF(E866<>\"n\",COUNTIF(B866:$B$4018,B866),IF(D866<6,0,COUNTIF(B866:$B$4018,B866)))","v":0},2,{"$f":"IF(ISERROR(VLOOKUP(A866,Feriados!A:A,1,FALSE)),\"n\",VLOOKUP(A866,Feriados!A:A,1,FALSE))","v":"n"}]
[45427,593,{"$f":"IF(E867<>\"n\",COUNTIF(B867:$B$4018,B867),IF(D867<6,0,COUNTIF(B867:$B$4018,B867)))","v":0},3,{"$f":"IF(ISERROR(VLOOKUP(A867,Feriados!A:A,1,FALSE)),\"n\",VLOOKUP(A867,Feriados!A:A,1,FALSE))","v":"n"}]
[45428,594,{"$f":"IF(E868<>\"n\",COUNTIF(B868:$B$4018,B868),IF(D868<6,0,COUNTIF(B868:$B$4018,B868)))","v":0},4,{"$f":"IF(ISERROR(VLOOKUP(A868,Feriados!A:A,1,FALSE)),\"n\",VLOOKUP(A868,Feriados!A:A,1,FALSE))","v":"n"}]
[45429,595,{"$f":"IF(E869<>\"n\",COUNTIF(B869:$B$4018,B869),IF(D869<6,0,COUNTIF(B869:$B$4018,B869)))","v":0},5,{"$f":"IF(ISERROR(VLOOKUP(A869,Feriados!A:A,1,FALSE)),\"n\",VLOOKUP(A869,Feriados!A:A,1,FALSE))","v":"n"}]
[45430,595,{"$f":"IF(E870<>\"n\",COUNTIF(B870:$B$4018,B870),IF(D870<6,0,COUNTIF(B870:$B$4018,B870)))","v":2},6,{"$f":"IF(ISERROR(VLOOKUP(A870,Feriados!A:A,1,FALSE)),\"n\",VLOOKUP(A870,Feriados!A:A,1,FALSE))","v":"n"}]
[45431,595,{"$f":"IF(E871<>\"n\",COUNTIF(B871:$B$4018,B871),IF(D871<6,0,COUNTIF(B871:$B$4018,B871)))","v":1},7,{"$f":"IF(ISERROR(VLOOKUP(A871,Feriados!A:A,1,FALSE)),\"n\",VLOOKUP(A871,Feriados!A:A,1,FALSE))","v":"n"}]
[45432,596,{"$f":"IF(E872<>\"n\",COUNTIF(B872:$B$4018,B872),IF(D872<6,0,COUNTIF(B872:$B$4018,B872)))","v":0},1,{"$f":"IF(ISERROR(VLOOKUP(A872,Feriados!A:A,1,FALSE)),\"n\",VLOOKUP(A872,Feriados!A:A,1,FALSE))","v":"n"}]
[45433,597,{"$f":"IF(E873<>\"n\",COUNTIF(B873:$B$4018,B873),IF(D873<6,0,COUNTIF(B873:$B$4018,B873)))","v":0},2,{"$f":"IF(ISERROR(VLOOKUP(A873,Feriados!A:A,1,FALSE)),\"n\",VLOOKUP(A873,Feriados!A:A,1,FALSE))","v":"n"}]
[45434,598,{"$f":"IF(E874<>\"n\",COUNTIF(B874:$B$4018,B874),IF(D874<6,0,COUNTIF(B874:$B$4018,B874)))","v":0},3,{"$f":"IF(ISERROR(VLOOKUP(A874,Feriados!A:A,1,FALSE)),\"n\",VLOOKUP(A874,Feriados!A:A,1,FALSE))","v":"n"}]
[45435,599,{"$f":"IF(E875<>\"n\",COUNTIF(B875:$B$4018,B875),IF(D875<6,0,COUNTIF(B875:$B$4018,B875)))","v":0},4,{"$f":"IF(ISERROR(VLOOKUP(A875,Feriados!A:A,1,FALSE)),\"n\",VLOOKUP(A875,Feriados!A:A,1,FALSE))","v":"n"}]
[45436,600,{"$f":"IF(E876<>\"n\",COUNTIF(B876:$B$4018,B876),IF(D876<6,0,COUNTIF(B876:$B$4018,B876)))","v":0},5,{"$f":"IF(ISERROR(VLOOKUP(A876,Feriados!A:A,1,FALSE)),\"n\",VLOOKUP(A876,Feriados!A:A,1,FALSE))","v":"n"}]
[45437,600,{"$f":"IF(E877<>\"n\",COUNTIF(B877:$B$4018,B877),IF(D877<6,0,COUNTIF(B877:$B$4018,B877)))","v":2},6,{"$f":"IF(ISERROR(VLOOKUP(A877,Feriados!A:A,1,FALSE)),\"n\",VLOOKUP(A877,Feriados!A:A,1,FALSE))","v":"n"}]
[45438,600,{"$f":"IF(E878<>\"n\",COUNTIF(B878:$B$4018,B878),IF(D878<6,0,COUNTIF(B878:$B$4018,B878)))","v":1},7,{"$f":"IF(ISERROR(VLOOKUP(A878,Feriados!A:A,1,FALSE)),\"n\",VLOOKUP(A878,Feriados!A:A,1,FALSE))","v":"n"}]
[45439,601,{"$f":"IF(E879<>\"n\",COUNTIF(B879:$B$4018,B879),IF(D879<6,0,COUNTIF(B879:$B$4018,B879)))","v":0},1,{"$f":"IF(ISERROR(VLOOKUP(A879,Feriados!A:A,1,FALSE)),\"n\",VLOOKUP(A879,Feriados!A:A,1,FALSE))","v":"n"}]
[45440,602,{"$f":"IF(E880<>\"n\",COUNTIF(B880:$B$4018,B880),IF(D880<6,0,COUNTIF(B880:$B$4018,B880)))","v":0},2,{"$f":"IF(ISERROR(VLOOKUP(A880,Feriados!A:A,1,FALSE)),\"n\",VLOOKUP(A880,Feriados!A:A,1,FALSE))","v":"n"}]
[45441,603,{"$f":"IF(E881<>\"n\",COUNTIF(B881:$B$4018,B881),IF(D881<6,0,COUNTIF(B881:$B$4018,B881)))","v":0},3,{"$f":"IF(ISERROR(VLOOKUP(A881,Feriados!A:A,1,FALSE)),\"n\",VLOOKUP(A881,Feriados!A:A,1,FALSE))","v":"n"}]
[45442,603,{"$f":"IF(E882<>\"n\",COUNTIF(B882:$B$4018,B882),IF(D882<6,0,COUNTIF(B882:$B$4018,B882)))","v":1},4,{"$f":"IF(ISERROR(VLOOKUP(A882,Feriados!A:A,1,FALSE)),\"n\",VLOOKUP(A882,Feriados!A:A,1,FALSE))","v":"2024-05-30"}]
[45443,604,{"$f":"IF(E883<>\"n\",COUNTIF(B883:$B$4018,B883),IF(D883<6,0,COUNTIF(B883:$B$4018,B883)))","v":0},5,{"$f":"IF(ISERROR(VLOOKUP(A883,Feriados!A:A,1,FALSE)),\"n\",VLOOKUP(A883,Feriados!A:A,1,FALSE))","v":"n"}]
[45444,604,{"$f":"IF(E884<>\"n\",COUNTIF(B884:$B$4018,B884),IF(D884<6,0,COUNTIF(B884:$B$4018,B884)))","v":2},6,{"$f":"IF(ISERROR(VLOOKUP(A884,Feriados!A:A,1,FALSE)),\"n\",VLOOKUP(A884,Feriados!A:A,1,FALSE))","v":"n"}]
[45445,604,{"$f":"IF(E885<>\"n\",COUNTIF(B885:$B$4018,B885),IF(D885<6,0,COUNTIF(B885:$B$4018,B885)))","v":1},7,{"$f":"IF(ISERROR(VLOOKUP(A885,Feriados!A:A,1,FALSE)),\"n\",VLOOKUP(A885,Feriados!A:A,1,FALSE))","v":"n"}]
[45446,605,{"$f":"IF(E886<>\"n\",COUNTIF(B886:$B$4018,B886),IF(D886<6,0,COUNTIF(B886:$B$4018,B886)))","v":0},1,{"$f":"IF(ISERROR(VLOOKUP(A886,Feriados!A:A,1,FALSE)),\"n\",VLOOKUP(A886,Feriados!A:A,1,FALSE))","v":"n"}]
[45447,606,{"$f":"IF(E887<>\"n\",COUNTIF(B887:$B$4018,B887),IF(D887<6,0,COUNTIF(B887:$B$4018,B887)))","v":0},2,{"$f":"IF(ISERROR(VLOOKUP(A887,Feriados!A:A,1,FALSE)),\"n\",VLOOKUP(A887,Feriados!A:A,1,FALSE))","v":"n"}]
[45448,607,{"$f":"IF(E888<>\"n\",COUNTIF(B888:$B$4018,B888),IF(D888<6,0,COUNTIF(B888:$B$4018,B888)))","v":0},3,{"$f":"IF(ISERROR(VLOOKUP(A888,Feriados!A:A,1,FALSE)),\"n\",VLOOKUP(A888,Feriados!A:A,1,FALSE))","v":"n"}]
[45449,608,{"$f":"IF(E889<>\"n\",COUNTIF(B889:$B$4018,B889),IF(D889<6,0,COUNTIF(B889:$B$4018,B889)))","v":0},4,{"$f":"IF(ISERROR(VLOOKUP(A889,Feriados!A:A,1,FALSE)),\"n\",VLOOKUP(A889,Feriados!A:A,1,FALSE))","v":"n"}]
[45450,609,{"$f":"IF(E890<>\"n\",COUNTIF(B890:$B$4018,B890),IF(D890<6,0,COUNTIF(B890:$B$4018,B890)))","v":0},5,{"$f":"IF(ISERROR(VLOOKUP(A890,Feriados!A:A,1,FALSE)),\"n\",VLOOKUP(A890,Feriados!A:A,1,FALSE))","v":"n"}]
[45451,609,{"$f":"IF(E891<>\"n\",COUNTIF(B891:$B$4018,B891),IF(D891<6,0,COUNTIF(B891:$B$4018,B891)))","v":2},6,{"$f":"IF(ISERROR(VLOOKUP(A891,Feriados!A:A,1,FALSE)),\"n\",VLOOKUP(A891,Feriados!A:A,1,FALSE))","v":"n"}]
[45452,609,{"$f":"IF(E892<>\"n\",COUNTIF(B892:$B$4018,B892),IF(D892<6,0,COUNTIF(B892:$B$4018,B892)))","v":1},7,{"$f":"IF(ISERROR(VLOOKUP(A892,Feriados!A:A,1,FALSE)),\"n\",VLOOKUP(A892,Feriados!A:A,1,FALSE))","v":"n"}]
[45453,610,{"$f":"IF(E893<>\"n\",COUNTIF(B893:$B$4018,B893),IF(D893<6,0,COUNTIF(B893:$B$4018,B893)))","v":0},1,{"$f":"IF(ISERROR(VLOOKUP(A893,Feriados!A:A,1,FALSE)),\"n\",VLOOKUP(A893,Feriados!A:A,1,FALSE))","v":"n"}]
[45454,611,{"$f":"IF(E894<>\"n\",COUNTIF(B894:$B$4018,B894),IF(D894<6,0,COUNTIF(B894:$B$4018,B894)))","v":0},2,{"$f":"IF(ISERROR(VLOOKUP(A894,Feriados!A:A,1,FALSE)),\"n\",VLOOKUP(A894,Feriados!A:A,1,FALSE))","v":"n"}]
[45455,612,{"$f":"IF(E895<>\"n\",COUNTIF(B895:$B$4018,B895),IF(D895<6,0,COUNTIF(B895:$B$4018,B895)))","v":0},3,{"$f":"IF(ISERROR(VLOOKUP(A895,Feriados!A:A,1,FALSE)),\"n\",VLOOKUP(A895,Feriados!A:A,1,FALSE))","v":"n"}]
[45456,613,{"$f":"IF(E896<>\"n\",COUNTIF(B896:$B$4018,B896),IF(D896<6,0,COUNTIF(B896:$B$4018,B896)))","v":0},4,{"$f":"IF(ISERROR(VLOOKUP(A896,Feriados!A:A,1,FALSE)),\"n\",VLOOKUP(A896,Feriados!A:A,1,FALSE))","v":"n"}]
[45457,614,{"$f":"IF(E897<>\"n\",COUNTIF(B897:$B$4018,B897),IF(D897<6,0,COUNTIF(B897:$B$4018,B897)))","v":0},5,{"$f":"IF(ISERROR(VLOOKUP(A897,Feriados!A:A,1,FALSE)),\"n\",VLOOKUP(A897,Feriados!A:A,1,FALSE))","v":"n"}]
[45458,614,{"$f":"IF(E898<>\"n\",COUNTIF(B898:$B$4018,B898),IF(D898<6,0,COUNTIF(B898:$B$4018,B898)))","v":2},6,{"$f":"IF(ISERROR(VLOOKUP(A898,Feriados!A:A,1,FALSE)),\"n\",VLOOKUP(A898,Feriados!A:A,1,FALSE))","v":"n"}]
[45459,614,{"$f":"IF(E899<>\"n\",COUNTIF(B899:$B$4018,B899),IF(D899<6,0,COUNTIF(B899:$B$4018,B899)))","v":1},7,{"$f":"IF(ISERROR(VLOOKUP(A899,Feriados!A:A,1,FALSE)),\"n\",VLOOKUP(A899,Feriados!A:A,1,FALSE))","v":"n"}]
[{"$f":"A899+1","v":45460},615,{"$f":"IF(E900<>\"n\",COUNTIF(B900:$B$4018,B900),IF(D900<6,0,COUNTIF(B900:$B$4018,B900)))","v":0},1,{"$f":"IF(ISERROR(VLOOKUP(A900,Feriados!A:A,1,FALSE)),\"n\",VLOOKUP(A900,Feriados!A:A,1,FALSE))","v":"n"}]
[45461,616,{"$f":"IF(E901<>\"n\",COUNTIF(B901:$B$4018,B901),IF(D901<6,0,COUNTIF(B901:$B$4018,B901)))","v":0},2,{"$f":"IF(ISERROR(VLOOKUP(A901,Feriados!A:A,1,FALSE)),\"n\",VLOOKUP(A901,Feriados!A:A,1,FALSE))","v":"n"}]
[45462,617,{"$f":"IF(E902<>\"n\",COUNTIF(B902:$B$4018,B902),IF(D902<6,0,COUNTIF(B902:$B$4018,B902)))","v":0},3,{"$f":"IF(ISERROR(VLOOKUP(A902,Feriados!A:A,1,FALSE)),\"n\",VLOOKUP(A902,Feriados!A:A,1,FALSE))","v":"n"}]
[45463,618,{"$f":"IF(E903<>\"n\",COUNTIF(B903:$B$4018,B903),IF(D903<6,0,COUNTIF(B903:$B$4018,B903)))","v":0},4,{"$f":"IF(ISERROR(VLOOKUP(A903,Feriados!A:A,1,FALSE)),\"n\",VLOOKUP(A903,Feriados!A:A,1,FALSE))","v":"n"}]
[45464,619,{"$f":"IF(E904<>\"n\",COUNTIF(B904:$B$4018,B904),IF(D904<6,0,COUNTIF(B904:$B$4018,B904)))","v":0},5,{"$f":"IF(ISERROR(VLOOKUP(A904,Feriados!A:A,1,FALSE)),\"n\",VLOOKUP(A904,Feriados!A:A,1,FALSE))","v":"n"}]
[45465,619,{"$f":"IF(E905<>\"n\",COUNTIF(B905:$B$4018,B905),IF(D905<6,0,COUNTIF(B905:$B$4018,B905)))","v":2},6,{"$f":"IF(ISERROR(VLOOKUP(A905,Feriados!A:A,1,FALSE)),\"n\",VLOOKUP(A905,Feriados!A:A,1,FALSE))","v":"n"}]
[45466,619,{"$f":"IF(E906<>\"n\",COUNTIF(B906:$B$4018,B906),IF(D906<6,0,COUNTIF(B906:$B$4018,B906)))","v":1},7,{"$f":"IF(ISERROR(VLOOKUP(A906,Feriados!A:A,1,FALSE)),\"n\",VLOOKUP(A906,Feriados!A:A,1,FALSE))","v":"n"}]
[45467,620,{"$f":"IF(E907<>\"n\",COUNTIF(B907:$B$4018,B907),IF(D907<6,0,COUNTIF(B907:$B$4018,B907)))","v":0},1,{"$f":"IF(ISERROR(VLOOKUP(A907,Feriados!A:A,1,FALSE)),\"n\",VLOOKUP(A907,Feriados!A:A,1,FALSE))","v":"n"}]
[45468,621,{"$f":"IF(E908<>\"n\",COUNTIF(B908:$B$4018,B908),IF(D908<6,0,COUNTIF(B908:$B$4018,B908)))","v":0},2,{"$f":"IF(ISERROR(VLOOKUP(A908,Feriados!A:A,1,FALSE)),\"n\",VLOOKUP(A908,Feriados!A:A,1,FALSE))","v":"n"}]
[45469,622,{"$f":"IF(E909<>\"n\",COUNTIF(B909:$B$4018,B909),IF(D909<6,0,COUNTIF(B909:$B$4018,B909)))","v":0},3,{"$f":"IF(ISERROR(VLOOKUP(A909,Feriados!A:A,1,FALSE)),\"n\",VLOOKUP(A909,Feriados!A:A,1,FALSE))","v":"n"}]
[45470,623,{"$f":"IF(E910<>\"n\",COUNTIF(B910:$B$4018,B910),IF(D910<6,0,COUNTIF(B910:$B$4018,B910)))","v":0},4,{"$f":"IF(ISERROR(VLOOKUP(A910,Feriados!A:A,1,FALSE)),\"n\",VLOOKUP(A910,Feriados!A:A,1,FALSE))","v":"n"}]
[45471,624,{"$f":"IF(E911<>\"n\",COUNTIF(B911:$B$4018,B911),IF(D911<6,0,COUNTIF(B911:$B$4018,B911)))","v":0},5,{"$f":"IF(ISERROR(VLOOKUP(A911,Feriados!A:A,1,FALSE)),\"n\",VLOOKUP(A911,Feriados!A:A,1,FALSE))","v":"n"}]
[45472,624,{"$f":"IF(E912<>\"n\",COUNTIF(B912:$B$4018,B912),IF(D912<6,0,COUNTIF(B912:$B$4018,B912)))","v":2},6,{"$f":"IF(ISERROR(VLOOKUP(A912,Feriados!A:A,1,FALSE)),\"n\",VLOOKUP(A912,Feriados!A:A,1,FALSE))","v":"n"}]
[45473,624,{"$f":"IF(E913<>\"n\",COUNTIF(B913:$B$4018,B913),IF(D913<6,0,COUNTIF(B913:$B$4018,B913)))","v":1},7,{"$f":"IF(ISERROR(VLOOKUP(A913,Feriados!A:A,1,FALSE)),\"n\",VLOOKUP(A913,Feriados!A:A,1,FALSE))","v":"n"}]
[45474,625,{"$f":"IF(E914<>\"n\",COUNTIF(B914:$B$4018,B914),IF(D914<6,0,COUNTIF(B914:$B$4018,B914)))","v":0},1,{"$f":"IF(ISERROR(VLOOKUP(A914,Feriados!A:A,1,FALSE)),\"n\",VLOOKUP(A914,Feriados!A:A,1,FALSE))","v":"n"}]
[45475,626,{"$f":"IF(E915<>\"n\",COUNTIF(B915:$B$4018,B915),IF(D915<6,0,COUNTIF(B915:$B$4018,B915)))","v":0},2,{"$f":"IF(ISERROR(VLOOKUP(A915,Feriados!A:A,1,FALSE)),\"n\",VLOOKUP(A915,Feriados!A:A,1,FALSE))","v":"n"}]
[45476,627,{"$f":"IF(E916<>\"n\",COUNTIF(B916:$B$4018,B916),IF(D916<6,0,COUNTIF(B916:$B$4018,B916)))","v":0},3,{"$f":"IF(ISERROR(VLOOKUP(A916,Feriados!A:A,1,FALSE)),\"n\",VLOOKUP(A916,Feriados!A:A,1,FALSE))","v":"n"}]
[45477,628,{"$f":"IF(E917<>\"n\",COUNTIF(B917:$B$4018,B917),IF(D917<6,0,COUNTIF(B917:$B$4018,B917)))","v":0},4,{"$f":"IF(ISERROR(VLOOKUP(A917,Feriados!A:A,1,FALSE)),\"n\",VLOOKUP(A917,Feriados!A:A,1,FALSE))","v":"n"}]
[45478,629,{"$f":"IF(E918<>\"n\",COUNTIF(B918:$B$4018,B918),IF(D918<6,0,COUNTIF(B918:$B$4018,B918)))","v":0},5,{"$f":"IF(ISERROR(VLOOKUP(A918,Feriados!A:A,1,FALSE)),\"n\",VLOOKUP(A918,Feriados!A:A,1,FALSE))","v":"n"}]
[45479,629,{"$f":"IF(E919<>\"n\",COUNTIF(B919:$B$4018,B919),IF(D919<6,0,COUNTIF(B919:$B$4018,B919)))","v":2},6,{"$f":"IF(ISERROR(VLOOKUP(A919,Feriados!A:A,1,FALSE)),\"n\",VLOOKUP(A919,Feriados!A:A,1,FALSE))","v":"n"}]
[45480,629,{"$f":"IF(E920<>\"n\",COUNTIF(B920:$B$4018,B920),IF(D920<6,0,COUNTIF(B920:$B$4018,B920)))","v":1},7,{"$f":"IF(ISERROR(VLOOKUP(A920,Feriados!A:A,1,FALSE)),\"n\",VLOOKUP(A920,Feriados!A:A,1,FALSE))","v":"n"}]
[45481,630,{"$f":"IF(E921<>\"n\",COUNTIF(B921:$B$4018,B921),IF(D921<6,0,COUNTIF(B921:$B$4018,B921)))","v":0},1,{"$f":"IF(ISERROR(VLOOKUP(A921,Feriados!A:A,1,FALSE)),\"n\",VLOOKUP(A921,Feriados!A:A,1,FALSE))","v":"n"}]
[45482,631,{"$f":"IF(E922<>\"n\",COUNTIF(B922:$B$4018,B922),IF(D922<6,0,COUNTIF(B922:$B$4018,B922)))","v":0},2,{"$f":"IF(ISERROR(VLOOKUP(A922,Feriados!A:A,1,FALSE)),\"n\",VLOOKUP(A922,Feriados!A:A,1,FALSE))","v":"n"}]
[45483,632,{"$f":"IF(E923<>\"n\",COUNTIF(B923:$B$4018,B923),IF(D923<6,0,COUNTIF(B923:$B$4018,B923)))","v":0},3,{"$f":"IF(ISERROR(VLOOKUP(A923,Feriados!A:A,1,FALSE)),\"n\",VLOOKUP(A923,Feriados!A:A,1,FALSE))","v":"n"}]
[45484,633,{"$f":"IF(E924<>\"n\",COUNTIF(B924:$B$4018,B924),IF(D924<6,0,COUNTIF(B924:$B$4018,B924)))","v":0},4,{"$f":"IF(ISERROR(VLOOKUP(A924,Feriados!A:A,1,FALSE)),\"n\",VLOOKUP(A924,Feriados!A:A,1,FALSE))","v":"n"}]
[45485,634,{"$f":"IF(E925<>\"n\",COUNTIF(B925:$B$4018,B925),IF(D925<6,0,COUNTIF(B925:$B$4018,B925)))","v":0},5,{"$f":"IF(ISERROR(VLOOKUP(A925,Feriados!A:A,1,FALSE)),\"n\",VLOOKUP(A925,Feriados!A:A,1,FALSE))","v":"n"}]
[45486,{"$f":"NETWORKDAYS($A$2,A926,feriados)","v":634},{"$f":"IF(E926<>\"n\",COUNTIF(B926:$B$4018,B926),IF(D926<6,0,COUNTIF(B926:$B$4018,B926)))","v":2},{"$f":"WEEKDAY(A926,2)","v":6},{"$f":"IF(ISERROR(VLOOKUP(A926,Feriados!A:A,1,FALSE)),\"n\",VLOOKUP(A926,Feriados!A:A,1,FALSE))","v":"n"}]
[45487,634,{"$f":"IF(E927<>\"n\",COUNTIF(B927:$B$4018,B927),IF(D927<6,0,COUNTIF(B927:$B$4018,B927)))","v":1},7,{"$f":"IF(ISERROR(VLOOKUP(A927,Feriados!A:A,1,FALSE)),\"n\",VLOOKUP(A927,Feriados!A:A,1,FALSE))","v":"n"}]
[45488,635,{"$f":"IF(E928<>\"n\",COUNTIF(B928:$B$4018,B928),IF(D928<6,0,COUNTIF(B928:$B$4018,B928)))","v":0},1,{"$f":"IF(ISERROR(VLOOKUP(A928,Feriados!A:A,1,FALSE)),\"n\",VLOOKUP(A928,Feriados!A:A,1,FALSE))","v":"n"}]
[45489,636,{"$f":"IF(E929<>\"n\",COUNTIF(B929:$B$4018,B929),IF(D929<6,0,COUNTIF(B929:$B$4018,B929)))","v":0},2,{"$f":"IF(ISERROR(VLOOKUP(A929,Feriados!A:A,1,FALSE)),\"n\",VLOOKUP(A929,Feriados!A:A,1,FALSE))","v":"n"}]
[45490,637,{"$f":"IF(E930<>\"n\",COUNTIF(B930:$B$4018,B930),IF(D930<6,0,COUNTIF(B930:$B$4018,B930)))","v":0},3,{"$f":"IF(ISERROR(VLOOKUP(A930,Feriados!A:A,1,FALSE)),\"n\",VLOOKUP(A930,Feriados!A:A,1,FALSE))","v":"n"}]
[45491,638,{"$f":"IF(E931<>\"n\",COUNTIF(B931:$B$4018,B931),IF(D931<6,0,COUNTIF(B931:$B$4018,B931)))","v":0},4,{"$f":"IF(ISERROR(VLOOKUP(A931,Feriados!A:A,1,FALSE)),\"n\",VLOOKUP(A931,Feriados!A:A,1,FALSE))","v":"n"}]
[45492,639,{"$f":"IF(E932<>\"n\",COUNTIF(B932:$B$4018,B932),IF(D932<6,0,COUNTIF(B932:$B$4018,B932)))","v":0},5,{"$f":"IF(ISERROR(VLOOKUP(A932,Feriados!A:A,1,FALSE)),\"n\",VLOOKUP(A932,Feriados!A:A,1,FALSE))","v":"n"}]
[45493,639,{"$f":"IF(E933<>\"n\",COUNTIF(B933:$B$4018,B933),IF(D933<6,0,COUNTIF(B933:$B$4018,B933)))","v":2},6,{"$f":"IF(ISERROR(VLOOKUP(A933,Feriados!A:A,1,FALSE)),\"n\",VLOOKUP(A933,Feriados!A:A,1,FALSE))","v":"n"}]
[45494,639,{"$f":"IF(E934<>\"n\",COUNTIF(B934:$B$4018,B934),IF(D934<6,0,COUNTIF(B934:$B$4018,B934)))","v":1},7,{"$f":"IF(ISERROR(VLOOKUP(A934,Feriados!A:A,1,FALSE)),\"n\",VLOOKUP(A934,Feriados!A:A,1,FALSE))","v":"n"}]
[45495,640,{"$f":"IF(E935<>\"n\",COUNTIF(B935:$B$4018,B935),IF(D935<6,0,COUNTIF(B935:$B$4018,B935)))","v":0},1,{"$f":"IF(ISERROR(VLOOKUP(A935,Feriados!A:A,1,FALSE)),\"n\",VLOOKUP(A935,Feriados!A:A,1,FALSE))","v":"n"}]
[45496,641,{"$f":"IF(E936<>\"n\",COUNTIF(B936:$B$4018,B936),IF(D936<6,0,COUNTIF(B936:$B$4018,B936)))","v":0},2,{"$f":"IF(ISERROR(VLOOKUP(A936,Feriados!A:A,1,FALSE)),\"n\",VLOOKUP(A936,Feriados!A:A,1,FALSE))","v":"n"}]
[45497,642,{"$f":"IF(E937<>\"n\",COUNTIF(B937:$B$4018,B937),IF(D937<6,0,COUNTIF(B937:$B$4018,B937)))","v":0},3,{"$f":"IF(ISERROR(VLOOKUP(A937,Feriados!A:A,1,FALSE)),\"n\",VLOOKUP(A937,Feriados!A:A,1,FALSE))","v":"n"}]
[45498,643,{"$f":"IF(E938<>\"n\",COUNTIF(B938:$B$4018,B938),IF(D938<6,0,COUNTIF(B938:$B$4018,B938)))","v":0},4,{"$f":"IF(ISERROR(VLOOKUP(A938,Feriados!A:A,1,FALSE)),\"n\",VLOOKUP(A938,Feriados!A:A,1,FALSE))","v":"n"}]
[45499,644,{"$f":"IF(E939<>\"n\",COUNTIF(B939:$B$4018,B939),IF(D939<6,0,COUNTIF(B939:$B$4018,B939)))","v":0},5,{"$f":"IF(ISERROR(VLOOKUP(A939,Feriados!A:A,1,FALSE)),\"n\",VLOOKUP(A939,Feriados!A:A,1,FALSE))","v":"n"}]
[45500,644,{"$f":"IF(E940<>\"n\",COUNTIF(B940:$B$4018,B940),IF(D940<6,0,COUNTIF(B940:$B$4018,B940)))","v":2},6,{"$f":"IF(ISERROR(VLOOKUP(A940,Feriados!A:A,1,FALSE)),\"n\",VLOOKUP(A940,Feriados!A:A,1,FALSE))","v":"n"}]
[45501,644,{"$f":"IF(E941<>\"n\",COUNTIF(B941:$B$4018,B941),IF(D941<6,0,COUNTIF(B941:$B$4018,B941)))","v":1},7,{"$f":"IF(ISERROR(VLOOKUP(A941,Feriados!A:A,1,FALSE)),\"n\",VLOOKUP(A941,Feriados!A:A,1,FALSE))","v":"n"}]
[45502,645,{"$f":"IF(E942<>\"n\",COUNTIF(B942:$B$4018,B942),IF(D942<6,0,COUNTIF(B942:$B$4018,B942)))","v":0},1,{"$f":"IF(ISERROR(VLOOKUP(A942,Feriados!A:A,1,FALSE)),\"n\",VLOOKUP(A942,Feriados!A:A,1,FALSE))","v":"n"}]
[45503,646,{"$f":"IF(E943<>\"n\",COUNTIF(B943:$B$4018,B943),IF(D943<6,0,COUNTIF(B943:$B$4018,B943)))","v":0},2,{"$f":"IF(ISERROR(VLOOKUP(A943,Feriados!A:A,1,FALSE)),\"n\",VLOOKUP(A943,Feriados!A:A,1,FALSE))","v":"n"}]
[45504,647,{"$f":"IF(E944<>\"n\",COUNTIF(B944:$B$4018,B944),IF(D944<6,0,COUNTIF(B944:$B$4018,B944)))","v":0},3,{"$f":"IF(ISERROR(VLOOKUP(A944,Feriados!A:A,1,FALSE)),\"n\",VLOOKUP(A944,Feriados!A:A,1,FALSE))","v":"n"}]
[45505,648,{"$f":"IF(E945<>\"n\",COUNTIF(B945:$B$4018,B945),IF(D945<6,0,COUNTIF(B945:$B$4018,B945)))","v":0},4,{"$f":"IF(ISERROR(VLOOKUP(A945,Feriados!A:A,1,FALSE)),\"n\",VLOOKUP(A945,Feriados!A:A,1,FALSE))","v":"n"}]
[45506,649,{"$f":"IF(E946<>\"n\",COUNTIF(B946:$B$4018,B946),IF(D946<6,0,COUNTIF(B946:$B$4018,B946)))","v":0},5,{"$f":"IF(ISERROR(VLOOKUP(A946,Feriados!A:A,1,FALSE)),\"n\",VLOOKUP(A946,Feriados!A:A,1,FALSE))","v":"n"}]
[45507,649,{"$f":"IF(E947<>\"n\",COUNTIF(B947:$B$4018,B947),IF(D947<6,0,COUNTIF(B947:$B$4018,B947)))","v":2},6,{"$f":"IF(ISERROR(VLOOKUP(A947,Feriados!A:A,1,FALSE)),\"n\",VLOOKUP(A947,Feriados!A:A,1,FALSE))","v":"n"}]
[45508,649,{"$f":"IF(E948<>\"n\",COUNTIF(B948:$B$4018,B948),IF(D948<6,0,COUNTIF(B948:$B$4018,B948)))","v":1},7,{"$f":"IF(ISERROR(VLOOKUP(A948,Feriados!A:A,1,FALSE)),\"n\",VLOOKUP(A948,Feriados!A:A,1,FALSE))","v":"n"}]
[45509,650,{"$f":"IF(E949<>\"n\",COUNTIF(B949:$B$4018,B949),IF(D949<6,0,COUNTIF(B949:$B$4018,B949)))","v":0},1,{"$f":"IF(ISERROR(VLOOKUP(A949,Feriados!A:A,1,FALSE)),\"n\",VLOOKUP(A949,Feriados!A:A,1,FALSE))","v":"n"}]
[45510,651,{"$f":"IF(E950<>\"n\",COUNTIF(B950:$B$4018,B950),IF(D950<6,0,COUNTIF(B950:$B$4018,B950)))","v":0},2,{"$f":"IF(ISERROR(VLOOKUP(A950,Feriados!A:A,1,FALSE)),\"n\",VLOOKUP(A950,Feriados!A:A,1,FALSE))","v":"n"}]
[45511,652,{"$f":"IF(E951<>\"n\",COUNTIF(B951:$B$4018,B951),IF(D951<6,0,COUNTIF(B951:$B$4018,B951)))","v":0},3,{"$f":"IF(ISERROR(VLOOKUP(A951,Feriados!A:A,1,FALSE)),\"n\",VLOOKUP(A951,Feriados!A:A,1,FALSE))","v":"n"}]
[45512,653,{"$f":"IF(E952<>\"n\",COUNTIF(B952:$B$4018,B952),IF(D952<6,0,COUNTIF(B952:$B$4018,B952)))","v":0},4,{"$f":"IF(ISERROR(VLOOKUP(A952,Feriados!A:A,1,FALSE)),\"n\",VLOOKUP(A952,Feriados!A:A,1,FALSE))","v":"n"}]
[45513,654,{"$f":"IF(E953<>\"n\",COUNTIF(B953:$B$4018,B953),IF(D953<6,0,COUNTIF(B953:$B$4018,B953)))","v":0},5,{"$f":"IF(ISERROR(VLOOKUP(A953,Feriados!A:A,1,FALSE)),\"n\",VLOOKUP(A953,Feriados!A:A,1,FALSE))","v":"n"}]
[45514,654,{"$f":"IF(E954<>\"n\",COUNTIF(B954:$B$4018,B954),IF(D954<6,0,COUNTIF(B954:$B$4018,B954)))","v":2},6,{"$f":"IF(ISERROR(VLOOKUP(A954,Feriados!A:A,1,FALSE)),\"n\",VLOOKUP(A954,Feriados!A:A,1,FALSE))","v":"n"}]
[45515,654,{"$f":"IF(E955<>\"n\",COUNTIF(B955:$B$4018,B955),IF(D955<6,0,COUNTIF(B955:$B$4018,B955)))","v":1},7,{"$f":"IF(ISERROR(VLOOKUP(A955,Feriados!A:A,1,FALSE)),\"n\",VLOOKUP(A955,Feriados!A:A,1,FALSE))","v":"n"}]
[45516,655,{"$f":"IF(E956<>\"n\",COUNTIF(B956:$B$4018,B956),IF(D956<6,0,COUNTIF(B956:$B$4018,B956)))","v":0},1,{"$f":"IF(ISERROR(VLOOKUP(A956,Feriados!A:A,1,FALSE)),\"n\",VLOOKUP(A956,Feriados!A:A,1,FALSE))","v":"n"}]
[45517,656,{"$f":"IF(E957<>\"n\",COUNTIF(B957:$B$4018,B957),IF(D957<6,0,COUNTIF(B957:$B$4018,B957)))","v":0},2,{"$f":"IF(ISERROR(VLOOKUP(A957,Feriados!A:A,1,FALSE)),\"n\",VLOOKUP(A957,Feriados!A:A,1,FALSE))","v":"n"}]
[45518,657,{"$f":"IF(E958<>\"n\",COUNTIF(B958:$B$4018,B958),IF(D958<6,0,COUNTIF(B958:$B$4018,B958)))","v":0},3,{"$f":"IF(ISERROR(VLOOKUP(A958,Feriados!A:A,1,FALSE)),\"n\",VLOOKUP(A958,Feriados!A:A,1,FALSE))","v":"n"}]
[45519,658,{"$f":"IF(E959<>\"n\",COUNTIF(B959:$B$4018,B959),IF(D959<6,0,COUNTIF(B959:$B$4018,B959)))","v":0},4,{"$f":"IF(ISERROR(VLOOKUP(A959,Feriados!A:A,1,FALSE)),\"n\",VLOOKUP(A959,Feriados!A:A,1,FALSE))","v":"n"}]
[45520,659,{"$f":"IF(E960<>\"n\",COUNTIF(B960:$B$4018,B960),IF(D960<6,0,COUNTIF(B960:$B$4018,B960)))","v":0},5,{"$f":"IF(ISERROR(VLOOKUP(A960,Feriados!A:A,1,FALSE)),\"n\",VLOOKUP(A960,Feriados!A:A,1,FALSE))","v":"n"}]
[45521,659,{"$f":"IF(E961<>\"n\",COUNTIF(B961:$B$4018,B961),IF(D961<6,0,COUNTIF(B961:$B$4018,B961)))","v":2},6,{"$f":"IF(ISERROR(VLOOKUP(A961,Feriados!A:A,1,FALSE)),\"n\",VLOOKUP(A961,Feriados!A:A,1,FALSE))","v":"n"}]
[45522,659,{"$f":"IF(E962<>\"n\",COUNTIF(B962:$B$4018,B962),IF(D962<6,0,COUNTIF(B962:$B$4018,B962)))","v":1},7,{"$f":"IF(ISERROR(VLOOKUP(A962,Feriados!A:A,1,FALSE)),\"n\",VLOOKUP(A962,Feriados!A:A,1,FALSE))","v":"n"}]
[45523,660,{"$f":"IF(E963<>\"n\",COUNTIF(B963:$B$4018,B963),IF(D963<6,0,COUNTIF(B963:$B$4018,B963)))","v":0},1,{"$f":"IF(ISERROR(VLOOKUP(A963,Feriados!A:A,1,FALSE)),\"n\",VLOOKUP(A963,Feriados!A:A,1,FALSE))","v":"n"}]
[{"$f":"A963+1","v":45524},661,{"$f":"IF(E964<>\"n\",COUNTIF(B964:$B$4018,B964),IF(D964<6,0,COUNTIF(B964:$B$4018,B964)))","v":0},2,{"$f":"IF(ISERROR(VLOOKUP(A964,Feriados!A:A,1,FALSE)),\"n\",VLOOKUP(A964,Feriados!A:A,1,FALSE))","v":"n"}]
[45525,662,{"$f":"IF(E965<>\"n\",COUNTIF(B965:$B$4018,B965),IF(D965<6,0,COUNTIF(B965:$B$4018,B965)))","v":0},3,{"$f":"IF(ISERROR(VLOOKUP(A965,Feriados!A:A,1,FALSE)),\"n\",VLOOKUP(A965,Feriados!A:A,1,FALSE))","v":"n"}]
[45526,663,{"$f":"IF(E966<>\"n\",COUNTIF(B966:$B$4018,B966),IF(D966<6,0,COUNTIF(B966:$B$4018,B966)))","v":0},4,{"$f":"IF(ISERROR(VLOOKUP(A966,Feriados!A:A,1,FALSE)),\"n\",VLOOKUP(A966,Feriados!A:A,1,FALSE))","v":"n"}]
[45527,664,{"$f":"IF(E967<>\"n\",COUNTIF(B967:$B$4018,B967),IF(D967<6,0,COUNTIF(B967:$B$4018,B967)))","v":0},5,{"$f":"IF(ISERROR(VLOOKUP(A967,Feriados!A:A,1,FALSE)),\"n\",VLOOKUP(A967,Feriados!A:A,1,FALSE))","v":"n"}]
[45528,664,{"$f":"IF(E968<>\"n\",COUNTIF(B968:$B$4018,B968),IF(D968<6,0,COUNTIF(B968:$B$4018,B968)))","v":2},6,{"$f":"IF(ISERROR(VLOOKUP(A968,Feriados!A:A,1,FALSE)),\"n\",VLOOKUP(A968,Feriados!A:A,1,FALSE))","v":"n"}]
[45529,664,{"$f":"IF(E969<>\"n\",COUNTIF(B969:$B$4018,B969),IF(D969<6,0,COUNTIF(B969:$B$4018,B969)))","v":1},7,{"$f":"IF(ISERROR(VLOOKUP(A969,Feriados!A:A,1,FALSE)),\"n\",VLOOKUP(A969,Feriados!A:A,1,FALSE))","v":"n"}]
[45530,665,{"$f":"IF(E970<>\"n\",COUNTIF(B970:$B$4018,B970),IF(D970<6,0,COUNTIF(B970:$B$4018,B970)))","v":0},1,{"$f":"IF(ISERROR(VLOOKUP(A970,Feriados!A:A,1,FALSE)),\"n\",VLOOKUP(A970,Feriados!A:A,1,FALSE))","v":"n"}]
[45531,666,{"$f":"IF(E971<>\"n\",COUNTIF(B971:$B$4018,B971),IF(D971<6,0,COUNTIF(B971:$B$4018,B971)))","v":0},2,{"$f":"IF(ISERROR(VLOOKUP(A971,Feriados!A:A,1,FALSE)),\"n\",VLOOKUP(A971,Feriados!A:A,1,FALSE))","v":"n"}]
[45532,667,{"$f":"IF(E972<>\"n\",COUNTIF(B972:$B$4018,B972),IF(D972<6,0,COUNTIF(B972:$B$4018,B972)))","v":0},3,{"$f":"IF(ISERROR(VLOOKUP(A972,Feriados!A:A,1,FALSE)),\"n\",VLOOKUP(A972,Feriados!A:A,1,FALSE))","v":"n"}]
[45533,668,{"$f":"IF(E973<>\"n\",COUNTIF(B973:$B$4018,B973),IF(D973<6,0,COUNTIF(B973:$B$4018,B973)))","v":0},4,{"$f":"IF(ISERROR(VLOOKUP(A973,Feriados!A:A,1,FALSE)),\"n\",VLOOKUP(A973,Feriados!A:A,1,FALSE))","v":"n"}]
[45534,669,{"$f":"IF(E974<>\"n\",COUNTIF(B974:$B$4018,B974),IF(D974<6,0,COUNTIF(B974:$B$4018,B974)))","v":0},5,{"$f":"IF(ISERROR(VLOOKUP(A974,Feriados!A:A,1,FALSE)),\"n\",VLOOKUP(A974,Feriados!A:A,1,FALSE))","v":"n"}]
[45535,669,{"$f":"IF(E975<>\"n\",COUNTIF(B975:$B$4018,B975),IF(D975<6,0,COUNTIF(B975:$B$4018,B975)))","v":2},6,{"$f":"IF(ISERROR(VLOOKUP(A975,Feriados!A:A,1,FALSE)),\"n\",VLOOKUP(A975,Feriados!A:A,1,FALSE))","v":"n"}]
[45536,669,{"$f":"IF(E976<>\"n\",COUNTIF(B976:$B$4018,B976),IF(D976<6,0,COUNTIF(B976:$B$4018,B976)))","v":1},7,{"$f":"IF(ISERROR(VLOOKUP(A976,Feriados!A:A,1,FALSE)),\"n\",VLOOKUP(A976,Feriados!A:A,1,FALSE))","v":"n"}]
[45537,670,{"$f":"IF(E977<>\"n\",COUNTIF(B977:$B$4018,B977),IF(D977<6,0,COUNTIF(B977:$B$4018,B977)))","v":0},1,{"$f":"IF(ISERROR(VLOOKUP(A977,Feriados!A:A,1,FALSE)),\"n\",VLOOKUP(A977,Feriados!A:A,1,FALSE))","v":"n"}]
[45538,671,{"$f":"IF(E978<>\"n\",COUNTIF(B978:$B$4018,B978),IF(D978<6,0,COUNTIF(B978:$B$4018,B978)))","v":0},2,{"$f":"IF(ISERROR(VLOOKUP(A978,Feriados!A:A,1,FALSE)),\"n\",VLOOKUP(A978,Feriados!A:A,1,FALSE))","v":"n"}]
[45539,672,{"$f":"IF(E979<>\"n\",COUNTIF(B979:$B$4018,B979),IF(D979<6,0,COUNTIF(B979:$B$4018,B979)))","v":0},3,{"$f":"IF(ISERROR(VLOOKUP(A979,Feriados!A:A,1,FALSE)),\"n\",VLOOKUP(A979,Feriados!A:A,1,FALSE))","v":"n"}]
[45540,673,{"$f":"IF(E980<>\"n\",COUNTIF(B980:$B$4018,B980),IF(D980<6,0,COUNTIF(B980:$B$4018,B980)))","v":0},4,{"$f":"IF(ISERROR(VLOOKUP(A980,Feriados!A:A,1,FALSE)),\"n\",VLOOKUP(A980,Feriados!A:A,1,FALSE))","v":"n"}]
[45541,674,{"$f":"IF(E981<>\"n\",COUNTIF(B981:$B$4018,B981),IF(D981<6,0,COUNTIF(B981:$B$4018,B981)))","v":0},5,{"$f":"IF(ISERROR(VLOOKUP(A981,Feriados!A:A,1,FALSE)),\"n\",VLOOKUP(A981,Feriados!A:A,1,FALSE))","v":"n"}]
[45542,674,{"$f":"IF(E982<>\"n\",COUNTIF(B982:$B$4018,B982),IF(D982<6,0,COUNTIF(B982:$B$4018,B982)))","v":2},6,{"$f":"IF(ISERROR(VLOOKUP(A982,Feriados!A:A,1,FALSE)),\"n\",VLOOKUP(A982,Feriados!A:A,1,FALSE))","v":"2024-09-07"}]
[45543,674,{"$f":"IF(E983<>\"n\",COUNTIF(B983:$B$4018,B983),IF(D983<6,0,COUNTIF(B983:$B$4018,B983)))","v":1},7,{"$f":"IF(ISERROR(VLOOKUP(A983,Feriados!A:A,1,FALSE)),\"n\",VLOOKUP(A983,Feriados!A:A,1,FALSE))","v":"n"}]
[45544,675,{"$f":"IF(E984<>\"n\",COUNTIF(B984:$B$4018,B984),IF(D984<6,0,COUNTIF(B984:$B$4018,B984)))","v":0},1,{"$f":"IF(ISERROR(VLOOKUP(A984,Feriados!A:A,1,FALSE)),\"n\",VLOOKUP(A984,Feriados!A:A,1,FALSE))","v":"n"}]
[45545,676,{"$f":"IF(E985<>\"n\",COUNTIF(B985:$B$4018,B985),IF(D985<6,0,COUNTIF(B985:$B$4018,B985)))","v":0},2,{"$f":"IF(ISERROR(VLOOKUP(A985,Feriados!A:A,1,FALSE)),\"n\",VLOOKUP(A985,Feriados!A:A,1,FALSE))","v":"n"}]
[45546,677,{"$f":"IF(E986<>\"n\",COUNTIF(B986:$B$4018,B986),IF(D986<6,0,COUNTIF(B986:$B$4018,B986)))","v":0},3,{"$f":"IF(ISERROR(VLOOKUP(A986,Feriados!A:A,1,FALSE)),\"n\",VLOOKUP(A986,Feriados!A:A,1,FALSE))","v":"n"}]
[45547,678,{"$f":"IF(E987<>\"n\",COUNTIF(B987:$B$4018,B987),IF(D987<6,0,COUNTIF(B987:$B$4018,B987)))","v":0},4,{"$f":"IF(ISERROR(VLOOKUP(A987,Feriados!A:A,1,FALSE)),\"n\",VLOOKUP(A987,Feriados!A:A,1,FALSE))","v":"n"}]
[45548,679,{"$f":"IF(E988<>\"n\",COUNTIF(B988:$B$4018,B988),IF(D988<6,0,COUNTIF(B988:$B$4018,B988)))","v":0},5,{"$f":"IF(ISERROR(VLOOKUP(A988,Feriados!A:A,1,FALSE)),\"n\",VLOOKUP(A988,Feriados!A:A,1,FALSE))","v":"n"}]
[45549,679,{"$f":"IF(E989<>\"n\",COUNTIF(B989:$B$4018,B989),IF(D989<6,0,COUNTIF(B989:$B$4018,B989)))","v":2},6,{"$f":"IF(ISERROR(VLOOKUP(A989,Feriados!A:A,1,FALSE)),\"n\",VLOOKUP(A989,Feriados!A:A,1,FALSE))","v":"n"}]
[45550,{"$f":"NETWORKDAYS($A$2,A990,feriados)","v":679},{"$f":"IF(E990<>\"n\",COUNTIF(B990:$B$4018,B990),IF(D990<6,0,COUNTIF(B990:$B$4018,B990)))","v":1},{"$f":"WEEKDAY(A990,2)","v":7},{"$f":"IF(ISERROR(VLOOKUP(A990,Feriados!A:A,1,FALSE)),\"n\",VLOOKUP(A990,Feriados!A:A,1,FALSE))","v":"n"}]
[45551,680,{"$f":"IF(E991<>\"n\",COUNTIF(B991:$B$4018,B991),IF(D991<6,0,COUNTIF(B991:$B$4018,B991)))","v":0},1,{"$f":"IF(ISERROR(VLOOKUP(A991,Feriados!A:A,1,FALSE)),\"n\",VLOOKUP(A991,Feriados!A:A,1,FALSE))","v":"n"}]
[45552,681,{"$f":"IF(E992<>\"n\",COUNTIF(B992:$B$4018,B992),IF(D992<6,0,COUNTIF(B992:$B$4018,B992)))","v":0},2,{"$f":"IF(ISERROR(VLOOKUP(A992,Feriados!A:A,1,FALSE)),\"n\",VLOOKUP(A992,Feriados!A:A,1,FALSE))","v":"n"}]
[45553,682,{"$f":"IF(E993<>\"n\",COUNTIF(B993:$B$4018,B993),IF(D993<6,0,COUNTIF(B993:$B$4018,B993)))","v":0},3,{"$f":"IF(ISERROR(VLOOKUP(A993,Feriados!A:A,1,FALSE)),\"n\",VLOOKUP(A993,Feriados!A:A,1,FALSE))","v":"n"}]
[45554,683,{"$f":"IF(E994<>\"n\",COUNTIF(B994:$B$4018,B994),IF(D994<6,0,COUNTIF(B994:$B$4018,B994)))","v":0},4,{"$f":"IF(ISERROR(VLOOKUP(A994,Feriados!A:A,1,FALSE)),\"n\",VLOOKUP(A994,Feriados!A:A,1,FALSE))","v":"n"}]
[45555,684,{"$f":"IF(E995<>\"n\",COUNTIF(B995:$B$4018,B995),IF(D995<6,0,COUNTIF(B995:$B$4018,B995)))","v":0},5,{"$f":"IF(ISERROR(VLOOKUP(A995,Feriados!A:A,1,FALSE)),\"n\",VLOOKUP(A995,Feriados!A:A,1,FALSE))","v":"n"}]
[45556,684,{"$f":"IF(E996<>\"n\",COUNTIF(B996:$B$4018,B996),IF(D996<6,0,COUNTIF(B996:$B$4018,B996)))","v":2},6,{"$f":"IF(ISERROR(VLOOKUP(A996,Feriados!A:A,1,FALSE)),\"n\",VLOOKUP(A996,Feriados!A:A,1,FALSE))","v":"n"}]
[45557,684,{"$f":"IF(E997<>\"n\",COUNTIF(B997:$B$4018,B997),IF(D997<6,0,COUNTIF(B997:$B$4018,B997)))","v":1},7,{"$f":"IF(ISERROR(VLOOKUP(A997,Feriados!A:A,1,FALSE)),\"n\",VLOOKUP(A997,Feriados!A:A,1,FALSE))","v":"n"}]
[45558,685,{"$f":"IF(E998<>\"n\",COUNTIF(B998:$B$4018,B998),IF(D998<6,0,COUNTIF(B998:$B$4018,B998)))","v":0},1,{"$f":"IF(ISERROR(VLOOKUP(A998,Feriados!A:A,1,FALSE)),\"n\",VLOOKUP(A998,Feriados!A:A,1,FALSE))","v":"n"}]
[45559,686,{"$f":"IF(E999<>\"n\",COUNTIF(B999:$B$4018,B999),IF(D999<6,0,COUNTIF(B999:$B$4018,B999)))","v":0},2,{"$f":"IF(ISERROR(VLOOKUP(A999,Feriados!A:A,1,FALSE)),\"n\",VLOOKUP(A999,Feriados!A:A,1,FALSE))","v":"n"}]
[45560,687,{"$f":"IF(E1000<>\"n\",COUNTIF(B1000:$B$4018,B1000),IF(D1000<6,0,COUNTIF(B1000:$B$4018,B1000)))","v":0},3,{"$f":"IF(ISERROR(VLOOKUP(A1000,Feriados!A:A,1,FALSE)),\"n\",VLOOKUP(A1000,Feriados!A:A,1,FALSE))","v":"n"}]
[45561,688,{"$f":"IF(E1001<>\"n\",COUNTIF(B1001:$B$4018,B1001),IF(D1001<6,0,COUNTIF(B1001:$B$4018,B1001)))","v":0},4,{"$f":"IF(ISERROR(VLOOKUP(A1001,Feriados!A:A,1,FALSE)),\"n\",VLOOKUP(A1001,Feriados!A:A,1,FALSE))","v":"n"}]
[45562,689,{"$f":"IF(E1002<>\"n\",COUNTIF(B1002:$B$4018,B1002),IF(D1002<6,0,COUNTIF(B1002:$B$4018,B1002)))","v":0},5,{"$f":"IF(ISERROR(VLOOKUP(A1002,Feriados!A:A,1,FALSE)),\"n\",VLOOKUP(A1002,Feriados!A:A,1,FALSE))","v":"n"}]
[45563,689,{"$f":"IF(E1003<>\"n\",COUNTIF(B1003:$B$4018,B1003),IF(D1003<6,0,COUNTIF(B1003:$B$4018,B1003)))","v":2},6,{"$f":"IF(ISERROR(VLOOKUP(A1003,Feriados!A:A,1,FALSE)),\"n\",VLOOKUP(A1003,Feriados!A:A,1,FALSE))","v":"n"}]
[45564,689,{"$f":"IF(E1004<>\"n\",COUNTIF(B1004:$B$4018,B1004),IF(D1004<6,0,COUNTIF(B1004:$B$4018,B1004)))","v":1},7,{"$f":"IF(ISERROR(VLOOKUP(A1004,Feriados!A:A,1,FALSE)),\"n\",VLOOKUP(A1004,Feriados!A:A,1,FALSE))","v":"n"}]
[45565,690,{"$f":"IF(E1005<>\"n\",COUNTIF(B1005:$B$4018,B1005),IF(D1005<6,0,COUNTIF(B1005:$B$4018,B1005)))","v":0},1,{"$f":"IF(ISERROR(VLOOKUP(A1005,Feriados!A:A,1,FALSE)),\"n\",VLOOKUP(A1005,Feriados!A:A,1,FALSE))","v":"n"}]
[45566,691,{"$f":"IF(E1006<>\"n\",COUNTIF(B1006:$B$4018,B1006),IF(D1006<6,0,COUNTIF(B1006:$B$4018,B1006)))","v":0},2,{"$f":"IF(ISERROR(VLOOKUP(A1006,Feriados!A:A,1,FALSE)),\"n\",VLOOKUP(A1006,Feriados!A:A,1,FALSE))","v":"n"}]
[45567,692,{"$f":"IF(E1007<>\"n\",COUNTIF(B1007:$B$4018,B1007),IF(D1007<6,0,COUNTIF(B1007:$B$4018,B1007)))","v":0},3,{"$f":"IF(ISERROR(VLOOKUP(A1007,Feriados!A:A,1,FALSE)),\"n\",VLOOKUP(A1007,Feriados!A:A,1,FALSE))","v":"n"}]
[45568,693,{"$f":"IF(E1008<>\"n\",COUNTIF(B1008:$B$4018,B1008),IF(D1008<6,0,COUNTIF(B1008:$B$4018,B1008)))","v":0},4,{"$f":"IF(ISERROR(VLOOKUP(A1008,Feriados!A:A,1,FALSE)),\"n\",VLOOKUP(A1008,Feriados!A:A,1,FALSE))","v":"n"}]
[45569,694,{"$f":"IF(E1009<>\"n\",COUNTIF(B1009:$B$4018,B1009),IF(D1009<6,0,COUNTIF(B1009:$B$4018,B1009)))","v":0},5,{"$f":"IF(ISERROR(VLOOKUP(A1009,Feriados!A:A,1,FALSE)),\"n\",VLOOKUP(A1009,Feriados!A:A,1,FALSE))","v":"n"}]
[45570,694,{"$f":"IF(E1010<>\"n\",COUNTIF(B1010:$B$4018,B1010),IF(D1010<6,0,COUNTIF(B1010:$B$4018,B1010)))","v":2},6,{"$f":"IF(ISERROR(VLOOKUP(A1010,Feriados!A:A,1,FALSE)),\"n\",VLOOKUP(A1010,Feriados!A:A,1,FALSE))","v":"n"}]
[45571,694,{"$f":"IF(E1011<>\"n\",COUNTIF(B1011:$B$4018,B1011),IF(D1011<6,0,COUNTIF(B1011:$B$4018,B1011)))","v":1},7,{"$f":"IF(ISERROR(VLOOKUP(A1011,Feriados!A:A,1,FALSE)),\"n\",VLOOKUP(A1011,Feriados!A:A,1,FALSE))","v":"n"}]
[45572,695,{"$f":"IF(E1012<>\"n\",COUNTIF(B1012:$B$4018,B1012),IF(D1012<6,0,COUNTIF(B1012:$B$4018,B1012)))","v":0},1,{"$f":"IF(ISERROR(VLOOKUP(A1012,Feriados!A:A,1,FALSE)),\"n\",VLOOKUP(A1012,Feriados!A:A,1,FALSE))","v":"n"}]
[45573,696,{"$f":"IF(E1013<>\"n\",COUNTIF(B1013:$B$4018,B1013),IF(D1013<6,0,COUNTIF(B1013:$B$4018,B1013)))","v":0},2,{"$f":"IF(ISERROR(VLOOKUP(A1013,Feriados!A:A,1,FALSE)),\"n\",VLOOKUP(A1013,Feriados!A:A,1,FALSE))","v":"n"}]
[45574,697,{"$f":"IF(E1014<>\"n\",COUNTIF(B1014:$B$4018,B1014),IF(D1014<6,0,COUNTIF(B1014:$B$4018,B1014)))","v":0},3,{"$f":"IF(ISERROR(VLOOKUP(A1014,Feriados!A:A,1,FALSE)),\"n\",VLOOKUP(A1014,Feriados!A:A,1,FALSE))","v":"n"}]
[45575,698,{"$f":"IF(E1015<>\"n\",COUNTIF(B1015:$B$4018,B1015),IF(D1015<6,0,COUNTIF(B1015:$B$4018,B1015)))","v":0},4,{"$f":"IF(ISERROR(VLOOKUP(A1015,Feriados!A:A,1,FALSE)),\"n\",VLOOKUP(A1015,Feriados!A:A,1,FALSE))","v":"n"}]
[45576,699,{"$f":"IF(E1016<>\"n\",COUNTIF(B1016:$B$4018,B1016),IF(D1016<6,0,COUNTIF(B1016:$B$4018,B1016)))","v":0},5,{"$f":"IF(ISERROR(VLOOKUP(A1016,Feriados!A:A,1,FALSE)),\"n\",VLOOKUP(A1016,Feriados!A:A,1,FALSE))","v":"n"}]
[45577,699,{"$f":"IF(E1017<>\"n\",COUNTIF(B1017:$B$4018,B1017),IF(D1017<6,0,COUNTIF(B1017:$B$4018,B1017)))","v":2},6,{"$f":"IF(ISERROR(VLOOKUP(A1017,Feriados!A:A,1,FALSE)),\"n\",VLOOKUP(A1017,Feriados!A:A,1,FALSE))","v":"2024-10-12"}]
[45578,699,{"$f":"IF(E1018<>\"n\",COUNTIF(B1018:$B$4018,B1018),IF(D1018<6,0,COUNTIF(B1018:$B$4018,B1018)))","v":1},7,{"$f":"IF(ISERROR(VLOOKUP(A1018,Feriados!A:A,1,FALSE)),\"n\",VLOOKUP(A1018,Feriados!A:A,1,FALSE))","v":"n"}]
[45579,700,{"$f":"IF(E1019<>\"n\",COUNTIF(B1019:$B$4018,B1019),IF(D1019<6,0,COUNTIF(B1019:$B$4018,B1019)))","v":0},1,{"$f":"IF(ISERROR(VLOOKUP(A1019,Feriados!A:A,1,FALSE)),\"n\",VLOOKUP(A1019,Feriados!A:A,1,FALSE))","v":"n"}]
[45580,701,{"$f":"IF(E1020<>\"n\",COUNTIF(B1020:$B$4018,B1020),IF(D1020<6,0,COUNTIF(B1020:$B$4018,B1020)))","v":0},2,{"$f":"IF(ISERROR(VLOOKUP(A1020,Feriados!A:A,1,FALSE)),\"n\",VLOOKUP(A1020,Feriados!A:A,1,FALSE))","v":"n"}]
[45581,702,{"$f":"IF(E1021<>\"n\",COUNTIF(B1021:$B$4018,B1021),IF(D1021<6,0,COUNTIF(B1021:$B$4018,B1021)))","v":0},3,{"$f":"IF(ISERROR(VLOOKUP(A1021,Feriados!A:A,1,FALSE)),\"n\",VLOOKUP(A1021,Feriados!A:A,1,FALSE))","v":"n"}]
[45582,703,{"$f":"IF(E1022<>\"n\",COUNTIF(B1022:$B$4018,B1022),IF(D1022<6,0,COUNTIF(B1022:$B$4018,B1022)))","v":0},4,{"$f":"IF(ISERROR(VLOOKUP(A1022,Feriados!A:A,1,FALSE)),\"n\",VLOOKUP(A1022,Feriados!A:A,1,FALSE))","v":"n"}]
[45583,704,{"$f":"IF(E1023<>\"n\",COUNTIF(B1023:$B$4018,B1023),IF(D1023<6,0,COUNTIF(B1023:$B$4018,B1023)))","v":0},5,{"$f":"IF(ISERROR(VLOOKUP(A1023,Feriados!A:A,1,FALSE)),\"n\",VLOOKUP(A1023,Feriados!A:A,1,FALSE))","v":"n"}]
[45584,704,{"$f":"IF(E1024<>\"n\",COUNTIF(B1024:$B$4018,B1024),IF(D1024<6,0,COUNTIF(B1024:$B$4018,B1024)))","v":2},6,{"$f":"IF(ISERROR(VLOOKUP(A1024,Feriados!A:A,1,FALSE)),\"n\",VLOOKUP(A1024,Feriados!A:A,1,FALSE))","v":"n"}]
[45585,704,{"$f":"IF(E1025<>\"n\",COUNTIF(B1025:$B$4018,B1025),IF(D1025<6,0,COUNTIF(B1025:$B$4018,B1025)))","v":1},7,{"$f":"IF(ISERROR(VLOOKUP(A1025,Feriados!A:A,1,FALSE)),\"n\",VLOOKUP(A1025,Feriados!A:A,1,FALSE))","v":"n"}]
[45586,705,{"$f":"IF(E1026<>\"n\",COUNTIF(B1026:$B$4018,B1026),IF(D1026<6,0,COUNTIF(B1026:$B$4018,B1026)))","v":0},1,{"$f":"IF(ISERROR(VLOOKUP(A1026,Feriados!A:A,1,FALSE)),\"n\",VLOOKUP(A1026,Feriados!A:A,1,FALSE))","v":"n"}]
[45587,706,{"$f":"IF(E1027<>\"n\",COUNTIF(B1027:$B$4018,B1027),IF(D1027<6,0,COUNTIF(B1027:$B$4018,B1027)))","v":0},2,{"$f":"IF(ISERROR(VLOOKUP(A1027,Feriados!A:A,1,FALSE)),\"n\",VLOOKUP(A1027,Feriados!A:A,1,FALSE))","v":"n"}]
[{"$f":"A1027+1","v":45588},707,{"$f":"IF(E1028<>\"n\",COUNTIF(B1028:$B$4018,B1028),IF(D1028<6,0,COUNTIF(B1028:$B$4018,B1028)))","v":0},3,{"$f":"IF(ISERROR(VLOOKUP(A1028,Feriados!A:A,1,FALSE)),\"n\",VLOOKUP(A1028,Feriados!A:A,1,FALSE))","v":"n"}]
[45589,708,{"$f":"IF(E1029<>\"n\",COUNTIF(B1029:$B$4018,B1029),IF(D1029<6,0,COUNTIF(B1029:$B$4018,B1029)))","v":0},4,{"$f":"IF(ISERROR(VLOOKUP(A1029,Feriados!A:A,1,FALSE)),\"n\",VLOOKUP(A1029,Feriados!A:A,1,FALSE))","v":"n"}]
[45590,709,{"$f":"IF(E1030<>\"n\",COUNTIF(B1030:$B$4018,B1030),IF(D1030<6,0,COUNTIF(B1030:$B$4018,B1030)))","v":0},5,{"$f":"IF(ISERROR(VLOOKUP(A1030,Feriados!A:A,1,FALSE)),\"n\",VLOOKUP(A1030,Feriados!A:A,1,FALSE))","v":"n"}]
[45591,709,{"$f":"IF(E1031<>\"n\",COUNTIF(B1031:$B$4018,B1031),IF(D1031<6,0,COUNTIF(B1031:$B$4018,B1031)))","v":2},6,{"$f":"IF(ISERROR(VLOOKUP(A1031,Feriados!A:A,1,FALSE)),\"n\",VLOOKUP(A1031,Feriados!A:A,1,FALSE))","v":"n"}]
[45592,709,{"$f":"IF(E1032<>\"n\",COUNTIF(B1032:$B$4018,B1032),IF(D1032<6,0,COUNTIF(B1032:$B$4018,B1032)))","v":1},7,{"$f":"IF(ISERROR(VLOOKUP(A1032,Feriados!A:A,1,FALSE)),\"n\",VLOOKUP(A1032,Feriados!A:A,1,FALSE))","v":"n"}]
[45593,710,{"$f":"IF(E1033<>\"n\",COUNTIF(B1033:$B$4018,B1033),IF(D1033<6,0,COUNTIF(B1033:$B$4018,B1033)))","v":0},1,{"$f":"IF(ISERROR(VLOOKUP(A1033,Feriados!A:A,1,FALSE)),\"n\",VLOOKUP(A1033,Feriados!A:A,1,FALSE))","v":"n"}]
[45594,711,{"$f":"IF(E1034<>\"n\",COUNTIF(B1034:$B$4018,B1034),IF(D1034<6,0,COUNTIF(B1034:$B$4018,B1034)))","v":0},2,{"$f":"IF(ISERROR(VLOOKUP(A1034,Feriados!A:A,1,FALSE)),\"n\",VLOOKUP(A1034,Feriados!A:A,1,FALSE))","v":"n"}]
[45595,712,{"$f":"IF(E1035<>\"n\",COUNTIF(B1035:$B$4018,B1035),IF(D1035<6,0,COUNTIF(B1035:$B$4018,B1035)))","v":0},3,{"$f":"IF(ISERROR(VLOOKUP(A1035,Feriados!A:A,1,FALSE)),\"n\",VLOOKUP(A1035,Feriados!A:A,1,FALSE))","v":"n"}]
[45596,713,{"$f":"IF(E1036<>\"n\",COUNTIF(B1036:$B$4018,B1036),IF(D1036<6,0,COUNTIF(B1036:$B$4018,B1036)))","v":0},4,{"$f":"IF(ISERROR(VLOOKUP(A1036,Feriados!A:A,1,FALSE)),\"n\",VLOOKUP(A1036,Feriados!A:A,1,FALSE))","v":"n"}]
[45597,714,{"$f":"IF(E1037<>\"n\",COUNTIF(B1037:$B$4018,B1037),IF(D1037<6,0,COUNTIF(B1037:$B$4018,B1037)))","v":0},5,{"$f":"IF(ISERROR(VLOOKUP(A1037,Feriados!A:A,1,FALSE)),\"n\",VLOOKUP(A1037,Feriados!A:A,1,FALSE))","v":"n"}]
[45598,714,{"$f":"IF(E1038<>\"n\",COUNTIF(B1038:$B$4018,B1038),IF(D1038<6,0,COUNTIF(B1038:$B$4018,B1038)))","v":2},6,{"$f":"IF(ISERROR(VLOOKUP(A1038,Feriados!A:A,1,FALSE)),\"n\",VLOOKUP(A1038,Feriados!A:A,1,FALSE))","v":"2024-11-02"}]
[45599,714,{"$f":"IF(E1039<>\"n\",COUNTIF(B1039:$B$4018,B1039),IF(D1039<6,0,COUNTIF(B1039:$B$4018,B1039)))","v":1},7,{"$f":"IF(ISERROR(VLOOKUP(A1039,Feriados!A:A,1,FALSE)),\"n\",VLOOKUP(A1039,Feriados!A:A,1,FALSE))","v":"n"}]
[45600,715,{"$f":"IF(E1040<>\"n\",COUNTIF(B1040:$B$4018,B1040),IF(D1040<6,0,COUNTIF(B1040:$B$4018,B1040)))","v":0},1,{"$f":"IF(ISERROR(VLOOKUP(A1040,Feriados!A:A,1,FALSE)),\"n\",VLOOKUP(A1040,Feriados!A:A,1,FALSE))","v":"n"}]
[45601,716,{"$f":"IF(E1041<>\"n\",COUNTIF(B1041:$B$4018,B1041),IF(D1041<6,0,COUNTIF(B1041:$B$4018,B1041)))","v":0},2,{"$f":"IF(ISERROR(VLOOKUP(A1041,Feriados!A:A,1,FALSE)),\"n\",VLOOKUP(A1041,Feriados!A:A,1,FALSE))","v":"n"}]
[45602,717,{"$f":"IF(E1042<>\"n\",COUNTIF(B1042:$B$4018,B1042),IF(D1042<6,0,COUNTIF(B1042:$B$4018,B1042)))","v":0},3,{"$f":"IF(ISERROR(VLOOKUP(A1042,Feriados!A:A,1,FALSE)),\"n\",VLOOKUP(A1042,Feriados!A:A,1,FALSE))","v":"n"}]
[45603,718,{"$f":"IF(E1043<>\"n\",COUNTIF(B1043:$B$4018,B1043),IF(D1043<6,0,COUNTIF(B1043:$B$4018,B1043)))","v":0},4,{"$f":"IF(ISERROR(VLOOKUP(A1043,Feriados!A:A,1,FALSE)),\"n\",VLOOKUP(A1043,Feriados!A:A,1,FALSE))","v":"n"}]
[45604,719,{"$f":"IF(E1044<>\"n\",COUNTIF(B1044:$B$4018,B1044),IF(D1044<6,0,COUNTIF(B1044:$B$4018,B1044)))","v":0},5,{"$f":"IF(ISERROR(VLOOKUP(A1044,Feriados!A:A,1,FALSE)),\"n\",VLOOKUP(A1044,Feriados!A:A,1,FALSE))","v":"n"}]
[45605,719,{"$f":"IF(E1045<>\"n\",COUNTIF(B1045:$B$4018,B1045),IF(D1045<6,0,COUNTIF(B1045:$B$4018,B1045)))","v":2},6,{"$f":"IF(ISERROR(VLOOKUP(A1045,Feriados!A:A,1,FALSE)),\"n\",VLOOKUP(A1045,Feriados!A:A,1,FALSE))","v":"n"}]
[45606,719,{"$f":"IF(E1046<>\"n\",COUNTIF(B1046:$B$4018,B1046),IF(D1046<6,0,COUNTIF(B1046:$B$4018,B1046)))","v":1},7,{"$f":"IF(ISERROR(VLOOKUP(A1046,Feriados!A:A,1,FALSE)),\"n\",VLOOKUP(A1046,Feriados!A:A,1,FALSE))","v":"n"}]
[45607,720,{"$f":"IF(E1047<>\"n\",COUNTIF(B1047:$B$4018,B1047),IF(D1047<6,0,COUNTIF(B1047:$B$4018,B1047)))","v":0},1,{"$f":"IF(ISERROR(VLOOKUP(A1047,Feriados!A:A,1,FALSE)),\"n\",VLOOKUP(A1047,Feriados!A:A,1,FALSE))","v":"n"}]
[45608,721,{"$f":"IF(E1048<>\"n\",COUNTIF(B1048:$B$4018,B1048),IF(D1048<6,0,COUNTIF(B1048:$B$4018,B1048)))","v":0},2,{"$f":"IF(ISERROR(VLOOKUP(A1048,Feriados!A:A,1,FALSE)),\"n\",VLOOKUP(A1048,Feriados!A:A,1,FALSE))","v":"n"}]
[45609,722,{"$f":"IF(E1049<>\"n\",COUNTIF(B1049:$B$4018,B1049),IF(D1049<6,0,COUNTIF(B1049:$B$4018,B1049)))","v":0},3,{"$f":"IF(ISERROR(VLOOKUP(A1049,Feriados!A:A,1,FALSE)),\"n\",VLOOKUP(A1049,Feriados!A:A,1,FALSE))","v":"n"}]
[45610,723,{"$f":"IF(E1050<>\"n\",COUNTIF(B1050:$B$4018,B1050),IF(D1050<6,0,COUNTIF(B1050:$B$4018,B1050)))","v":0},4,{"$f":"IF(ISERROR(VLOOKUP(A1050,Feriados!A:A,1,FALSE)),\"n\",VLOOKUP(A1050,Feriados!A:A,1,FALSE))","v":"n"}]
[45611,723,{"$f":"IF(E1051<>\"n\",COUNTIF(B1051:$B$4018,B1051),IF(D1051<6,0,COUNTIF(B1051:$B$4018,B1051)))","v":3},5,{"$f":"IF(ISERROR(VLOOKUP(A1051,Feriados!A:A,1,FALSE)),\"n\",VLOOKUP(A1051,Feriados!A:A,1,FALSE))","v":"2024-11-15"}]
[45612,723,{"$f":"IF(E1052<>\"n\",COUNTIF(B1052:$B$4018,B1052),IF(D1052<6,0,COUNTIF(B1052:$B$4018,B1052)))","v":2},6,{"$f":"IF(ISERROR(VLOOKUP(A1052,Feriados!A:A,1,FALSE)),\"n\",VLOOKUP(A1052,Feriados!A:A,1,FALSE))","v":"n"}]
[45613,723,{"$f":"IF(E1053<>\"n\",COUNTIF(B1053:$B$4018,B1053),IF(D1053<6,0,COUNTIF(B1053:$B$4018,B1053)))","v":1},7,{"$f":"IF(ISERROR(VLOOKUP(A1053,Feriados!A:A,1,FALSE)),\"n\",VLOOKUP(A1053,Feriados!A:A,1,FALSE))","v":"n"}]
[45614,{"$f":"NETWORKDAYS($A$2,A1054,feriados)","v":724},{"$f":"IF(E1054<>\"n\",COUNTIF(B1054:$B$4018,B1054),IF(D1054<6,0,COUNTIF(B1054:$B$4018,B1054)))","v":0},{"$f":"WEEKDAY(A1054,2)","v":1},{"$f":"IF(ISERROR(VLOOKUP(A1054,Feriados!A:A,1,FALSE)),\"n\",VLOOKUP(A1054,Feriados!A:A,1,FALSE))","v":"n"}]
[45615,725,{"$f":"IF(E1055<>\"n\",COUNTIF(B1055:$B$4018,B1055),IF(D1055<6,0,COUNTIF(B1055:$B$4018,B1055)))","v":0},2,{"$f":"IF(ISERROR(VLOOKUP(A1055,Feriados!A:A,1,FALSE)),\"n\",VLOOKUP(A1055,Feriados!A:A,1,FALSE))","v":"n"}]
[45616,726,{"$f":"IF(E1056<>\"n\",COUNTIF(B1056:$B$4018,B1056),IF(D1056<6,0,COUNTIF(B1056:$B$4018,B1056)))","v":0},3,{"$f":"IF(ISERROR(VLOOKUP(A1056,Feriados!A:A,1,FALSE)),\"n\",VLOOKUP(A1056,Feriados!A:A,1,FALSE))","v":"n"}]
[45617,727,{"$f":"IF(E1057<>\"n\",COUNTIF(B1057:$B$4018,B1057),IF(D1057<6,0,COUNTIF(B1057:$B$4018,B1057)))","v":0},4,{"$f":"IF(ISERROR(VLOOKUP(A1057,Feriados!A:A,1,FALSE)),\"n\",VLOOKUP(A1057,Feriados!A:A,1,FALSE))","v":"n"}]
[45618,728,{"$f":"IF(E1058<>\"n\",COUNTIF(B1058:$B$4018,B1058),IF(D1058<6,0,COUNTIF(B1058:$B$4018,B1058)))","v":0},5,{"$f":"IF(ISERROR(VLOOKUP(A1058,Feriados!A:A,1,FALSE)),\"n\",VLOOKUP(A1058,Feriados!A:A,1,FALSE))","v":"n"}]
[45619,728,{"$f":"IF(E1059<>\"n\",COUNTIF(B1059:$B$4018,B1059),IF(D1059<6,0,COUNTIF(B1059:$B$4018,B1059)))","v":2},6,{"$f":"IF(ISERROR(VLOOKUP(A1059,Feriados!A:A,1,FALSE)),\"n\",VLOOKUP(A1059,Feriados!A:A,1,FALSE))","v":"n"}]
[45620,728,{"$f":"IF(E1060<>\"n\",COUNTIF(B1060:$B$4018,B1060),IF(D1060<6,0,COUNTIF(B1060:$B$4018,B1060)))","v":1},7,{"$f":"IF(ISERROR(VLOOKUP(A1060,Feriados!A:A,1,FALSE)),\"n\",VLOOKUP(A1060,Feriados!A:A,1,FALSE))","v":"n"}]
[45621,729,{"$f":"IF(E1061<>\"n\",COUNTIF(B1061:$B$4018,B1061),IF(D1061<6,0,COUNTIF(B1061:$B$4018,B1061)))","v":0},1,{"$f":"IF(ISERROR(VLOOKUP(A1061,Feriados!A:A,1,FALSE)),\"n\",VLOOKUP(A1061,Feriados!A:A,1,FALSE))","v":"n"}]
[45622,730,{"$f":"IF(E1062<>\"n\",COUNTIF(B1062:$B$4018,B1062),IF(D1062<6,0,COUNTIF(B1062:$B$4018,B1062)))","v":0},2,{"$f":"IF(ISERROR(VLOOKUP(A1062,Feriados!A:A,1,FALSE)),\"n\",VLOOKUP(A1062,Feriados!A:A,1,FALSE))","v":"n"}]
[45623,731,{"$f":"IF(E1063<>\"n\",COUNTIF(B1063:$B$4018,B1063),IF(D1063<6,0,COUNTIF(B1063:$B$4018,B1063)))","v":0},3,{"$f":"IF(ISERROR(VLOOKUP(A1063,Feriados!A:A,1,FALSE)),\"n\",VLOOKUP(A1063,Feriados!A:A,1,FALSE))","v":"n"}]
[45624,732,{"$f":"IF(E1064<>\"n\",COUNTIF(B1064:$B$4018,B1064),IF(D1064<6,0,COUNTIF(B1064:$B$4018,B1064)))","v":0},4,{"$f":"IF(ISERROR(VLOOKUP(A1064,Feriados!A:A,1,FALSE)),\"n\",VLOOKUP(A1064,Feriados!A:A,1,FALSE))","v":"n"}]
[45625,733,{"$f":"IF(E1065<>\"n\",COUNTIF(B1065:$B$4018,B1065),IF(D1065<6,0,COUNTIF(B1065:$B$4018,B1065)))","v":0},5,{"$f":"IF(ISERROR(VLOOKUP(A1065,Feriados!A:A,1,FALSE)),\"n\",VLOOKUP(A1065,Feriados!A:A,1,FALSE))","v":"n"}]
[45626,733,{"$f":"IF(E1066<>\"n\",COUNTIF(B1066:$B$4018,B1066),IF(D1066<6,0,COUNTIF(B1066:$B$4018,B1066)))","v":2},6,{"$f":"IF(ISERROR(VLOOKUP(A1066,Feriados!A:A,1,FALSE)),\"n\",VLOOKUP(A1066,Feriados!A:A,1,FALSE))","v":"n"}]
[45627,733,{"$f":"IF(E1067<>\"n\",COUNTIF(B1067:$B$4018,B1067),IF(D1067<6,0,COUNTIF(B1067:$B$4018,B1067)))","v":1},7,{"$f":"IF(ISERROR(VLOOKUP(A1067,Feriados!A:A,1,FALSE)),\"n\",VLOOKUP(A1067,Feriados!A:A,1,FALSE))","v":"n"}]
[45628,734,{"$f":"IF(E1068<>\"n\",COUNTIF(B1068:$B$4018,B1068),IF(D1068<6,0,COUNTIF(B1068:$B$4018,B1068)))","v":0},1,{"$f":"IF(ISERROR(VLOOKUP(A1068,Feriados!A:A,1,FALSE)),\"n\",VLOOKUP(A1068,Feriados!A:A,1,FALSE))","v":"n"}]
[45629,735,{"$f":"IF(E1069<>\"n\",COUNTIF(B1069:$B$4018,B1069),IF(D1069<6,0,COUNTIF(B1069:$B$4018,B1069)))","v":0},2,{"$f":"IF(ISERROR(VLOOKUP(A1069,Feriados!A:A,1,FALSE)),\"n\",VLOOKUP(A1069,Feriados!A:A,1,FALSE))","v":"n"}]
[45630,736,{"$f":"IF(E1070<>\"n\",COUNTIF(B1070:$B$4018,B1070),IF(D1070<6,0,COUNTIF(B1070:$B$4018,B1070)))","v":0},3,{"$f":"IF(ISERROR(VLOOKUP(A1070,Feriados!A:A,1,FALSE)),\"n\",VLOOKUP(A1070,Feriados!A:A,1,FALSE))","v":"n"}]
[45631,737,{"$f":"IF(E1071<>\"n\",COUNTIF(B1071:$B$4018,B1071),IF(D1071<6,0,COUNTIF(B1071:$B$4018,B1071)))","v":0},4,{"$f":"IF(ISERROR(VLOOKUP(A1071,Feriados!A:A,1,FALSE)),\"n\",VLOOKUP(A1071,Feriados!A:A,1,FALSE))","v":"n"}]
[45632,738,{"$f":"IF(E1072<>\"n\",COUNTIF(B1072:$B$4018,B1072),IF(D1072<6,0,COUNTIF(B1072:$B$4018,B1072)))","v":0},5,{"$f":"IF(ISERROR(VLOOKUP(A1072,Feriados!A:A,1,FALSE)),\"n\",VLOOKUP(A1072,Feriados!A:A,1,FALSE))","v":"n"}]
[45633,738,{"$f":"IF(E1073<>\"n\",COUNTIF(B1073:$B$4018,B1073),IF(D1073<6,0,COUNTIF(B1073:$B$4018,B1073)))","v":2},6,{"$f":"IF(ISERROR(VLOOKUP(A1073,Feriados!A:A,1,FALSE)),\"n\",VLOOKUP(A1073,Feriados!A:A,1,FALSE))","v":"n"}]
[45634,738,{"$f":"IF(E1074<>\"n\",COUNTIF(B1074:$B$4018,B1074),IF(D1074<6,0,COUNTIF(B1074:$B$4018,B1074)))","v":1},7,{"$f":"IF(ISERROR(VLOOKUP(A1074,Feriados!A:A,1,FALSE)),\"n\",VLOOKUP(A1074,Feriados!A:A,1,FALSE))","v":"n"}]
[45635,739,{"$f":"IF(E1075<>\"n\",COUNTIF(B1075:$B$4018,B1075),IF(D1075<6,0,COUNTIF(B1075:$B$4018,B1075)))","v":0},1,{"$f":"IF(ISERROR(VLOOKUP(A1075,Feriados!A:A,1,FALSE)),\"n\",VLOOKUP(A1075,Feriados!A:A,1,FALSE))","v":"n"}]
[45636,740,{"$f":"IF(E1076<>\"n\",COUNTIF(B1076:$B$4018,B1076),IF(D1076<6,0,COUNTIF(B1076:$B$4018,B1076)))","v":0},2,{"$f":"IF(ISERROR(VLOOKUP(A1076,Feriados!A:A,1,FALSE)),\"n\",VLOOKUP(A1076,Feriados!A:A,1,FALSE))","v":"n"}]
[45637,741,{"$f":"IF(E1077<>\"n\",COUNTIF(B1077:$B$4018,B1077),IF(D1077<6,0,COUNTIF(B1077:$B$4018,B1077)))","v":0},3,{"$f":"IF(ISERROR(VLOOKUP(A1077,Feriados!A:A,1,FALSE)),\"n\",VLOOKUP(A1077,Feriados!A:A,1,FALSE))","v":"n"}]
[45638,742,{"$f":"IF(E1078<>\"n\",COUNTIF(B1078:$B$4018,B1078),IF(D1078<6,0,COUNTIF(B1078:$B$4018,B1078)))","v":0},4,{"$f":"IF(ISERROR(VLOOKUP(A1078,Feriados!A:A,1,FALSE)),\"n\",VLOOKUP(A1078,Feriados!A:A,1,FALSE))","v":"n"}]
[45639,743,{"$f":"IF(E1079<>\"n\",COUNTIF(B1079:$B$4018,B1079),IF(D1079<6,0,COUNTIF(B1079:$B$4018,B1079)))","v":0},5,{"$f":"IF(ISERROR(VLOOKUP(A1079,Feriados!A:A,1,FALSE)),\"n\",VLOOKUP(A1079,Feriados!A:A,1,FALSE))","v":"n"}]
[45640,743,{"$f":"IF(E1080<>\"n\",COUNTIF(B1080:$B$4018,B1080),IF(D1080<6,0,COUNTIF(B1080:$B$4018,B1080)))","v":2},6,{"$f":"IF(ISERROR(VLOOKUP(A1080,Feriados!A:A,1,FALSE)),\"n\",VLOOKUP(A1080,Feriados!A:A,1,FALSE))","v":"n"}]
[45641,743,{"$f":"IF(E1081<>\"n\",COUNTIF(B1081:$B$4018,B1081),IF(D1081<6,0,COUNTIF(B1081:$B$4018,B1081)))","v":1},7,{"$f":"IF(ISERROR(VLOOKUP(A1081,Feriados!A:A,1,FALSE)),\"n\",VLOOKUP(A1081,Feriados!A:A,1,FALSE))","v":"n"}]
[45642,744,{"$f":"IF(E1082<>\"n\",COUNTIF(B1082:$B$4018,B1082),IF(D1082<6,0,COUNTIF(B1082:$B$4018,B1082)))","v":0},1,{"$f":"IF(ISERROR(VLOOKUP(A1082,Feriados!A:A,1,FALSE)),\"n\",VLOOKUP(A1082,Feriados!A:A,1,FALSE))","v":"n"}]
[45643,745,{"$f":"IF(E1083<>\"n\",COUNTIF(B1083:$B$4018,B1083),IF(D1083<6,0,COUNTIF(B1083:$B$4018,B1083)))","v":0},2,{"$f":"IF(ISERROR(VLOOKUP(A1083,Feriados!A:A,1,FALSE)),\"n\",VLOOKUP(A1083,Feriados!A:A,1,FALSE))","v":"n"}]
[45644,746,{"$f":"IF(E1084<>\"n\",COUNTIF(B1084:$B$4018,B1084),IF(D1084<6,0,COUNTIF(B1084:$B$4018,B1084)))","v":0},3,{"$f":"IF(ISERROR(VLOOKUP(A1084,Feriados!A:A,1,FALSE)),\"n\",VLOOKUP(A1084,Feriados!A:A,1,FALSE))","v":"n"}]
[45645,747,{"$f":"IF(E1085<>\"n\",COUNTIF(B1085:$B$4018,B1085),IF(D1085<6,0,COUNTIF(B1085:$B$4018,B1085)))","v":0},4,{"$f":"IF(ISERROR(VLOOKUP(A1085,Feriados!A:A,1,FALSE)),\"n\",VLOOKUP(A1085,Feriados!A:A,1,FALSE))","v":"n"}]
[45646,748,{"$f":"IF(E1086<>\"n\",COUNTIF(B1086:$B$4018,B1086),IF(D1086<6,0,COUNTIF(B1086:$B$4018,B1086)))","v":0},5,{"$f":"IF(ISERROR(VLOOKUP(A1086,Feriados!A:A,1,FALSE)),\"n\",VLOOKUP(A1086,Feriados!A:A,1,FALSE))","v":"n"}]
[45647,748,{"$f":"IF(E1087<>\"n\",COUNTIF(B1087:$B$4018,B1087),IF(D1087<6,0,COUNTIF(B1087:$B$4018,B1087)))","v":2},6,{"$f":"IF(ISERROR(VLOOKUP(A1087,Feriados!A:A,1,FALSE)),\"n\",VLOOKUP(A1087,Feriados!A:A,1,FALSE))","v":"n"}]
[45648,748,{"$f":"IF(E1088<>\"n\",COUNTIF(B1088:$B$4018,B1088),IF(D1088<6,0,COUNTIF(B1088:$B$4018,B1088)))","v":1},7,{"$f":"IF(ISERROR(VLOOKUP(A1088,Feriados!A:A,1,FALSE)),\"n\",VLOOKUP(A1088,Feriados!A:A,1,FALSE))","v":"n"}]
[45649,749,{"$f":"IF(E1089<>\"n\",COUNTIF(B1089:$B$4018,B1089),IF(D1089<6,0,COUNTIF(B1089:$B$4018,B1089)))","v":0},1,{"$f":"IF(ISERROR(VLOOKUP(A1089,Feriados!A:A,1,FALSE)),\"n\",VLOOKUP(A1089,Feriados!A:A,1,FALSE))","v":"n"}]
[45650,750,{"$f":"IF(E1090<>\"n\",COUNTIF(B1090:$B$4018,B1090),IF(D1090<6,0,COUNTIF(B1090:$B$4018,B1090)))","v":0},2,{"$f":"IF(ISERROR(VLOOKUP(A1090,Feriados!A:A,1,FALSE)),\"n\",VLOOKUP(A1090,Feriados!A:A,1,FALSE))","v":"n"}]
[45651,750,{"$f":"IF(E1091<>\"n\",COUNTIF(B1091:$B$4018,B1091),IF(D1091<6,0,COUNTIF(B1091:$B$4018,B1091)))","v":1},3,{"$f":"IF(ISERROR(VLOOKUP(A1091,Feriados!A:A,1,FALSE)),\"n\",VLOOKUP(A1091,Feriados!A:A,1,FALSE))","v":"2024-12-25"}]
[{"$f":"A1091+1","v":45652},751,{"$f":"IF(E1092<>\"n\",COUNTIF(B1092:$B$4018,B1092),IF(D1092<6,0,COUNTIF(B1092:$B$4018,B1092)))","v":0},4,{"$f":"IF(ISERROR(VLOOKUP(A1092,Feriados!A:A,1,FALSE)),\"n\",VLOOKUP(A1092,Feriados!A:A,1,FALSE))","v":"n"}]
[45653,752,{"$f":"IF(E1093<>\"n\",COUNTIF(B1093:$B$4018,B1093),IF(D1093<6,0,COUNTIF(B1093:$B$4018,B1093)))","v":0},5,{"$f":"IF(ISERROR(VLOOKUP(A1093,Feriados!A:A,1,FALSE)),\"n\",VLOOKUP(A1093,Feriados!A:A,1,FALSE))","v":"n"}]
[45654,752,{"$f":"IF(E1094<>\"n\",COUNTIF(B1094:$B$4018,B1094),IF(D1094<6,0,COUNTIF(B1094:$B$4018,B1094)))","v":2},6,{"$f":"IF(ISERROR(VLOOKUP(A1094,Feriados!A:A,1,FALSE)),\"n\",VLOOKUP(A1094,Feriados!A:A,1,FALSE))","v":"n"}]
[45655,752,{"$f":"IF(E1095<>\"n\",COUNTIF(B1095:$B$4018,B1095),IF(D1095<6,0,COUNTIF(B1095:$B$4018,B1095)))","v":1},7,{"$f":"IF(ISERROR(VLOOKUP(A1095,Feriados!A:A,1,FALSE)),\"n\",VLOOKUP(A1095,Feriados!A:A,1,FALSE))","v":"n"}]
[45656,753,{"$f":"IF(E1096<>\"n\",COUNTIF(B1096:$B$4018,B1096),IF(D1096<6,0,COUNTIF(B1096:$B$4018,B1096)))","v":0},1,{"$f":"IF(ISERROR(VLOOKUP(A1096,Feriados!A:A,1,FALSE)),\"n\",VLOOKUP(A1096,Feriados!A:A,1,FALSE))","v":"n"}]
[45657,754,{"$f":"IF(E1097<>\"n\",COUNTIF(B1097:$B$4018,B1097),IF(D1097<6,0,COUNTIF(B1097:$B$4018,B1097)))","v":0},2,{"$f":"IF(ISERROR(VLOOKUP(A1097,Feriados!A:A,1,FALSE)),\"n\",VLOOKUP(A1097,Feriados!A:A,1,FALSE))","v":"n"}]
[45658,754,{"$f":"IF(E1098<>\"n\",COUNTIF(B1098:$B$4018,B1098),IF(D1098<6,0,COUNTIF(B1098:$B$4018,B1098)))","v":1},3,{"$f":"IF(ISERROR(VLOOKUP(A1098,Feriados!A:A,1,FALSE)),\"n\",VLOOKUP(A1098,Feriados!A:A,1,FALSE))","v":"2025-01-01"}]
[45659,755,{"$f":"IF(E1099<>\"n\",COUNTIF(B1099:$B$4018,B1099),IF(D1099<6,0,COUNTIF(B1099:$B$4018,B1099)))","v":0},4,{"$f":"IF(ISERROR(VLOOKUP(A1099,Feriados!A:A,1,FALSE)),\"n\",VLOOKUP(A1099,Feriados!A:A,1,FALSE))","v":"n"}]
[45660,756,{"$f":"IF(E1100<>\"n\",COUNTIF(B1100:$B$4018,B1100),IF(D1100<6,0,COUNTIF(B1100:$B$4018,B1100)))","v":0},5,{"$f":"IF(ISERROR(VLOOKUP(A1100,Feriados!A:A,1,FALSE)),\"n\",VLOOKUP(A1100,Feriados!A:A,1,FALSE))","v":"n"}]
[45661,756,{"$f":"IF(E1101<>\"n\",COUNTIF(B1101:$B$4018,B1101),IF(D1101<6,0,COUNTIF(B1101:$B$4018,B1101)))","v":2},6,{"$f":"IF(ISERROR(VLOOKUP(A1101,Feriados!A:A,1,FALSE)),\"n\",VLOOKUP(A1101,Feriados!A:A,1,FALSE))","v":"n"}]
[45662,756,{"$f":"IF(E1102<>\"n\",COUNTIF(B1102:$B$4018,B1102),IF(D1102<6,0,COUNTIF(B1102:$B$4018,B1102)))","v":1},7,{"$f":"IF(ISERROR(VLOOKUP(A1102,Feriados!A:A,1,FALSE)),\"n\",VLOOKUP(A1102,Feriados!A:A,1,FALSE))","v":"n"}]
[45663,757,{"$f":"IF(E1103<>\"n\",COUNTIF(B1103:$B$4018,B1103),IF(D1103<6,0,COUNTIF(B1103:$B$4018,B1103)))","v":0},1,{"$f":"IF(ISERROR(VLOOKUP(A1103,Feriados!A:A,1,FALSE)),\"n\",VLOOKUP(A1103,Feriados!A:A,1,FALSE))","v":"n"}]
[45664,758,{"$f":"IF(E1104<>\"n\",COUNTIF(B1104:$B$4018,B1104),IF(D1104<6,0,COUNTIF(B1104:$B$4018,B1104)))","v":0},2,{"$f":"IF(ISERROR(VLOOKUP(A1104,Feriados!A:A,1,FALSE)),\"n\",VLOOKUP(A1104,Feriados!A:A,1,FALSE))","v":"n"}]
[45665,759,{"$f":"IF(E1105<>\"n\",COUNTIF(B1105:$B$4018,B1105),IF(D1105<6,0,COUNTIF(B1105:$B$4018,B1105)))","v":0},3,{"$f":"IF(ISERROR(VLOOKUP(A1105,Feriados!A:A,1,FALSE)),\"n\",VLOOKUP(A1105,Feriados!A:A,1,FALSE))","v":"n"}]
[45666,760,{"$f":"IF(E1106<>\"n\",COUNTIF(B1106:$B$4018,B1106),IF(D1106<6,0,COUNTIF(B1106:$B$4018,B1106)))","v":0},4,{"$f":"IF(ISERROR(VLOOKUP(A1106,Feriados!A:A,1,FALSE)),\"n\",VLOOKUP(A1106,Feriados!A:A,1,FALSE))","v":"n"}]
[45667,761,{"$f":"IF(E1107<>\"n\",COUNTIF(B1107:$B$4018,B1107),IF(D1107<6,0,COUNTIF(B1107:$B$4018,B1107)))","v":0},5,{"$f":"IF(ISERROR(VLOOKUP(A1107,Feriados!A:A,1,FALSE)),\"n\",VLOOKUP(A1107,Feriados!A:A,1,FALSE))","v":"n"}]
[45668,761,{"$f":"IF(E1108<>\"n\",COUNTIF(B1108:$B$4018,B1108),IF(D1108<6,0,COUNTIF(B1108:$B$4018,B1108)))","v":2},6,{"$f":"IF(ISERROR(VLOOKUP(A1108,Feriados!A:A,1,FALSE)),\"n\",VLOOKUP(A1108,Feriados!A:A,1,FALSE))","v":"n"}]
[45669,761,{"$f":"IF(E1109<>\"n\",COUNTIF(B1109:$B$4018,B1109),IF(D1109<6,0,COUNTIF(B1109:$B$4018,B1109)))","v":1},7,{"$f":"IF(ISERROR(VLOOKUP(A1109,Feriados!A:A,1,FALSE)),\"n\",VLOOKUP(A1109,Feriados!A:A,1,FALSE))","v":"n"}]
[45670,762,{"$f":"IF(E1110<>\"n\",COUNTIF(B1110:$B$4018,B1110),IF(D1110<6,0,COUNTIF(B1110:$B$4018,B1110)))","v":0},1,{"$f":"IF(ISERROR(VLOOKUP(A1110,Feriados!A:A,1,FALSE)),\"n\",VLOOKUP(A1110,Feriados!A:A,1,FALSE))","v":"n"}]
[45671,763,{"$f":"IF(E1111<>\"n\",COUNTIF(B1111:$B$4018,B1111),IF(D1111<6,0,COUNTIF(B1111:$B$4018,B1111)))","v":0},2,{"$f":"IF(ISERROR(VLOOKUP(A1111,Feriados!A:A,1,FALSE)),\"n\",VLOOKUP(A1111,Feriados!A:A,1,FALSE))","v":"n"}]
[45672,764,{"$f":"IF(E1112<>\"n\",COUNTIF(B1112:$B$4018,B1112),IF(D1112<6,0,COUNTIF(B1112:$B$4018,B1112)))","v":0},3,{"$f":"IF(ISERROR(VLOOKUP(A1112,Feriados!A:A,1,FALSE)),\"n\",VLOOKUP(A1112,Feriados!A:A,1,FALSE))","v":"n"}]
[45673,765,{"$f":"IF(E1113<>\"n\",COUNTIF(B1113:$B$4018,B1113),IF(D1113<6,0,COUNTIF(B1113:$B$4018,B1113)))","v":0},4,{"$f":"IF(ISERROR(VLOOKUP(A1113,Feriados!A:A,1,FALSE)),\"n\",VLOOKUP(A1113,Feriados!A:A,1,FALSE))","v":"n"}]
[45674,766,{"$f":"IF(E1114<>\"n\",COUNTIF(B1114:$B$4018,B1114),IF(D1114<6,0,COUNTIF(B1114:$B$4018,B1114)))","v":0},5,{"$f":"IF(ISERROR(VLOOKUP(A1114,Feriados!A:A,1,FALSE)),\"n\",VLOOKUP(A1114,Feriados!A:A,1,FALSE))","v":"n"}]
[45675,766,{"$f":"IF(E1115<>\"n\",COUNTIF(B1115:$B$4018,B1115),IF(D1115<6,0,COUNTIF(B1115:$B$4018,B1115)))","v":2},6,{"$f":"IF(ISERROR(VLOOKUP(A1115,Feriados!A:A,1,FALSE)),\"n\",VLOOKUP(A1115,Feriados!A:A,1,FALSE))","v":"n"}]
[45676,766,{"$f":"IF(E1116<>\"n\",COUNTIF(B1116:$B$4018,B1116),IF(D1116<6,0,COUNTIF(B1116:$B$4018,B1116)))","v":1},7,{"$f":"IF(ISERROR(VLOOKUP(A1116,Feriados!A:A,1,FALSE)),\"n\",VLOOKUP(A1116,Feriados!A:A,1,FALSE))","v":"n"}]
[45677,767,{"$f":"IF(E1117<>\"n\",COUNTIF(B1117:$B$4018,B1117),IF(D1117<6,0,COUNTIF(B1117:$B$4018,B1117)))","v":0},1,{"$f":"IF(ISERROR(VLOOKUP(A1117,Feriados!A:A,1,FALSE)),\"n\",VLOOKUP(A1117,Feriados!A:A,1,FALSE))","v":"n"}]
[45678,{"$f":"NETWORKDAYS($A$2,A1118,feriados)","v":768},{"$f":"IF(E1118<>\"n\",COUNTIF(B1118:$B$4018,B1118),IF(D1118<6,0,COUNTIF(B1118:$B$4018,B1118)))","v":0},{"$f":"WEEKDAY(A1118,2)","v":2},{"$f":"IF(ISERROR(VLOOKUP(A1118,Feriados!A:A,1,FALSE)),\"n\",VLOOKUP(A1118,Feriados!A:A,1,FALSE))","v":"n"}]
[45679,769,{"$f":"IF(E1119<>\"n\",COUNTIF(B1119:$B$4018,B1119),IF(D1119<6,0,COUNTIF(B1119:$B$4018,B1119)))","v":0},3,{"$f":"IF(ISERROR(VLOOKUP(A1119,Feriados!A:A,1,FALSE)),\"n\",VLOOKUP(A1119,Feriados!A:A,1,FALSE))","v":"n"}]
[45680,770,{"$f":"IF(E1120<>\"n\",COUNTIF(B1120:$B$4018,B1120),IF(D1120<6,0,COUNTIF(B1120:$B$4018,B1120)))","v":0},4,{"$f":"IF(ISERROR(VLOOKUP(A1120,Feriados!A:A,1,FALSE)),\"n\",VLOOKUP(A1120,Feriados!A:A,1,FALSE))","v":"n"}]
[45681,771,{"$f":"IF(E1121<>\"n\",COUNTIF(B1121:$B$4018,B1121),IF(D1121<6,0,COUNTIF(B1121:$B$4018,B1121)))","v":0},5,{"$f":"IF(ISERROR(VLOOKUP(A1121,Feriados!A:A,1,FALSE)),\"n\",VLOOKUP(A1121,Feriados!A:A,1,FALSE))","v":"n"}]
[45682,771,{"$f":"IF(E1122<>\"n\",COUNTIF(B1122:$B$4018,B1122),IF(D1122<6,0,COUNTIF(B1122:$B$4018,B1122)))","v":2},6,{"$f":"IF(ISERROR(VLOOKUP(A1122,Feriados!A:A,1,FALSE)),\"n\",VLOOKUP(A1122,Feriados!A:A,1,FALSE))","v":"n"}]
[45683,771,{"$f":"IF(E1123<>\"n\",COUNTIF(B1123:$B$4018,B1123),IF(D1123<6,0,COUNTIF(B1123:$B$4018,B1123)))","v":1},7,{"$f":"IF(ISERROR(VLOOKUP(A1123,Feriados!A:A,1,FALSE)),\"n\",VLOOKUP(A1123,Feriados!A:A,1,FALSE))","v":"n"}]
[45684,772,{"$f":"IF(E1124<>\"n\",COUNTIF(B1124:$B$4018,B1124),IF(D1124<6,0,COUNTIF(B1124:$B$4018,B1124)))","v":0},1,{"$f":"IF(ISERROR(VLOOKUP(A1124,Feriados!A:A,1,FALSE)),\"n\",VLOOKUP(A1124,Feriados!A:A,1,FALSE))","v":"n"}]
[45685,773,{"$f":"IF(E1125<>\"n\",COUNTIF(B1125:$B$4018,B1125),IF(D1125<6,0,COUNTIF(B1125:$B$4018,B1125)))","v":0},2,{"$f":"IF(ISERROR(VLOOKUP(A1125,Feriados!A:A,1,FALSE)),\"n\",VLOOKUP(A1125,Feriados!A:A,1,FALSE))","v":"n"}]
[45686,774,{"$f":"IF(E1126<>\"n\",COUNTIF(B1126:$B$4018,B1126),IF(D1126<6,0,COUNTIF(B1126:$B$4018,B1126)))","v":0},3,{"$f":"IF(ISERROR(VLOOKUP(A1126,Feriados!A:A,1,FALSE)),\"n\",VLOOKUP(A1126,Feriados!A:A,1,FALSE))","v":"n"}]
[45687,775,{"$f":"IF(E1127<>\"n\",COUNTIF(B1127:$B$4018,B1127),IF(D1127<6,0,COUNTIF(B1127:$B$4018,B1127)))","v":0},4,{"$f":"IF(ISERROR(VLOOKUP(A1127,Feriados!A:A,1,FALSE)),\"n\",VLOOKUP(A1127,Feriados!A:A,1,FALSE))","v":"n"}]
[45688,776,{"$f":"IF(E1128<>\"n\",COUNTIF(B1128:$B$4018,B1128),IF(D1128<6,0,COUNTIF(B1128:$B$4018,B1128)))","v":0},5,{"$f":"IF(ISERROR(VLOOKUP(A1128,Feriados!A:A,1,FALSE)),\"n\",VLOOKUP(A1128,Feriados!A:A,1,FALSE))","v":"n"}]
[45689,776,{"$f":"IF(E1129<>\"n\",COUNTIF(B1129:$B$4018,B1129),IF(D1129<6,0,COUNTIF(B1129:$B$4018,B1129)))","v":2},6,{"$f":"IF(ISERROR(VLOOKUP(A1129,Feriados!A:A,1,FALSE)),\"n\",VLOOKUP(A1129,Feriados!A:A,1,FALSE))","v":"n"}]
[45690,776,{"$f":"IF(E1130<>\"n\",COUNTIF(B1130:$B$4018,B1130),IF(D1130<6,0,COUNTIF(B1130:$B$4018,B1130)))","v":1},7,{"$f":"IF(ISERROR(VLOOKUP(A1130,Feriados!A:A,1,FALSE)),\"n\",VLOOKUP(A1130,Feriados!A:A,1,FALSE))","v":"n"}]
[45691,777,{"$f":"IF(E1131<>\"n\",COUNTIF(B1131:$B$4018,B1131),IF(D1131<6,0,COUNTIF(B1131:$B$4018,B1131)))","v":0},1,{"$f":"IF(ISERROR(VLOOKUP(A1131,Feriados!A:A,1,FALSE)),\"n\",VLOOKUP(A1131,Feriados!A:A,1,FALSE))","v":"n"}]
[45692,778,{"$f":"IF(E1132<>\"n\",COUNTIF(B1132:$B$4018,B1132),IF(D1132<6,0,COUNTIF(B1132:$B$4018,B1132)))","v":0},2,{"$f":"IF(ISERROR(VLOOKUP(A1132,Feriados!A:A,1,FALSE)),\"n\",VLOOKUP(A1132,Feriados!A:A,1,FALSE))","v":"n"}]
[45693,779,{"$f":"IF(E1133<>\"n\",COUNTIF(B1133:$B$4018,B1133),IF(D1133<6,0,COUNTIF(B1133:$B$4018,B1133)))","v":0},3,{"$f":"IF(ISERROR(VLOOKUP(A1133,Feriados!A:A,1,FALSE)),\"n\",VLOOKUP(A1133,Feriados!A:A,1,FALSE))","v":"n"}]
[45694,780,{"$f":"IF(E1134<>\"n\",COUNTIF(B1134:$B$4018,B1134),IF(D1134<6,0,COUNTIF(B1134:$B$4018,B1134)))","v":0},4,{"$f":"IF(ISERROR(VLOOKUP(A1134,Feriados!A:A,1,FALSE)),\"n\",VLOOKUP(A1134,Feriados!A:A,1,FALSE))","v":"n"}]
[45695,781,{"$f":"IF(E1135<>\"n\",COUNTIF(B1135:$B$4018,B1135),IF(D1135<6,0,COUNTIF(B1135:$B$4018,B1135)))","v":0},5,{"$f":"IF(ISERROR(VLOOKUP(A1135,Feriados!A:A,1,FALSE)),\"n\",VLOOKUP(A1135,Feriados!A:A,1,FALSE))","v":"n"}]
[45696,781,{"$f":"IF(E1136<>\"n\",COUNTIF(B1136:$B$4018,B1136),IF(D1136<6,0,COUNTIF(B1136:$B$4018,B1136)))","v":2},6,{"$f":"IF(ISERROR(VLOOKUP(A1136,Feriados!A:A,1,FALSE)),\"n\",VLOOKUP(A1136,Feriados!A:A,1,FALSE))","v":"n"}]
[45697,781,{"$f":"IF(E1137<>\"n\",COUNTIF(B1137:$B$4018,B1137),IF(D1137<6,0,COUNTIF(B1137:$B$4018,B1137)))","v":1},7,{"$f":"IF(ISERROR(VLOOKUP(A1137,Feriados!A:A,1,FALSE)),\"n\",VLOOKUP(A1137,Feriados!A:A,1,FALSE))","v":"n"}]
[45698,782,{"$f":"IF(E1138<>\"n\",COUNTIF(B1138:$B$4018,B1138),IF(D1138<6,0,COUNTIF(B1138:$B$4018,B1138)))","v":0},1,{"$f":"IF(ISERROR(VLOOKUP(A1138,Feriados!A:A,1,FALSE)),\"n\",VLOOKUP(A1138,Feriados!A:A,1,FALSE))","v":"n"}]
[45699,783,{"$f":"IF(E1139<>\"n\",COUNTIF(B1139:$B$4018,B1139),IF(D1139<6,0,COUNTIF(B1139:$B$4018,B1139)))","v":0},2,{"$f":"IF(ISERROR(VLOOKUP(A1139,Feriados!A:A,1,FALSE)),\"n\",VLOOKUP(A1139,Feriados!A:A,1,FALSE))","v":"n"}]
[45700,784,{"$f":"IF(E1140<>\"n\",COUNTIF(B1140:$B$4018,B1140),IF(D1140<6,0,COUNTIF(B1140:$B$4018,B1140)))","v":0},3,{"$f":"IF(ISERROR(VLOOKUP(A1140,Feriados!A:A,1,FALSE)),\"n\",VLOOKUP(A1140,Feriados!A:A,1,FALSE))","v":"n"}]
[45701,785,{"$f":"IF(E1141<>\"n\",COUNTIF(B1141:$B$4018,B1141),IF(D1141<6,0,COUNTIF(B1141:$B$4018,B1141)))","v":0},4,{"$f":"IF(ISERROR(VLOOKUP(A1141,Feriados!A:A,1,FALSE)),\"n\",VLOOKUP(A1141,Feriados!A:A,1,FALSE))","v":"n"}]
[45702,786,{"$f":"IF(E1142<>\"n\",COUNTIF(B1142:$B$4018,B1142),IF(D1142<6,0,COUNTIF(B1142:$B$4018,B1142)))","v":0},5,{"$f":"IF(ISERROR(VLOOKUP(A1142,Feriados!A:A,1,FALSE)),\"n\",VLOOKUP(A1142,Feriados!A:A,1,FALSE))","v":"n"}]
[45703,786,{"$f":"IF(E1143<>\"n\",COUNTIF(B1143:$B$4018,B1143),IF(D1143<6,0,COUNTIF(B1143:$B$4018,B1143)))","v":2},6,{"$f":"IF(ISERROR(VLOOKUP(A1143,Feriados!A:A,1,FALSE)),\"n\",VLOOKUP(A1143,Feriados!A:A,1,FALSE))","v":"n"}]
[45704,786,{"$f":"IF(E1144<>\"n\",COUNTIF(B1144:$B$4018,B1144),IF(D1144<6,0,COUNTIF(B1144:$B$4018,B1144)))","v":1},7,{"$f":"IF(ISERROR(VLOOKUP(A1144,Feriados!A:A,1,FALSE)),\"n\",VLOOKUP(A1144,Feriados!A:A,1,FALSE))","v":"n"}]
[45705,787,{"$f":"IF(E1145<>\"n\",COUNTIF(B1145:$B$4018,B1145),IF(D1145<6,0,COUNTIF(B1145:$B$4018,B1145)))","v":0},1,{"$f":"IF(ISERROR(VLOOKUP(A1145,Feriados!A:A,1,FALSE)),\"n\",VLOOKUP(A1145,Feriados!A:A,1,FALSE))","v":"n"}]
[45706,788,{"$f":"IF(E1146<>\"n\",COUNTIF(B1146:$B$4018,B1146),IF(D1146<6,0,COUNTIF(B1146:$B$4018,B1146)))","v":0},2,{"$f":"IF(ISERROR(VLOOKUP(A1146,Feriados!A:A,1,FALSE)),\"n\",VLOOKUP(A1146,Feriados!A:A,1,FALSE))","v":"n"}]
[45707,789,{"$f":"IF(E1147<>\"n\",COUNTIF(B1147:$B$4018,B1147),IF(D1147<6,0,COUNTIF(B1147:$B$4018,B1147)))","v":0},3,{"$f":"IF(ISERROR(VLOOKUP(A1147,Feriados!A:A,1,FALSE)),\"n\",VLOOKUP(A1147,Feriados!A:A,1,FALSE))","v":"n"}]
[45708,790,{"$f":"IF(E1148<>\"n\",COUNTIF(B1148:$B$4018,B1148),IF(D1148<6,0,COUNTIF(B1148:$B$4018,B1148)))","v":0},4,{"$f":"IF(ISERROR(VLOOKUP(A1148,Feriados!A:A,1,FALSE)),\"n\",VLOOKUP(A1148,Feriados!A:A,1,FALSE))","v":"n"}]
[45709,791,{"$f":"IF(E1149<>\"n\",COUNTIF(B1149:$B$4018,B1149),IF(D1149<6,0,COUNTIF(B1149:$B$4018,B1149)))","v":0},5,{"$f":"IF(ISERROR(VLOOKUP(A1149,Feriados!A:A,1,FALSE)),\"n\",VLOOKUP(A1149,Feriados!A:A,1,FALSE))","v":"n"}]
[45710,791,{"$f":"IF(E1150<>\"n\",COUNTIF(B1150:$B$4018,B1150),IF(D1150<6,0,COUNTIF(B1150:$B$4018,B1150)))","v":2},6,{"$f":"IF(ISERROR(VLOOKUP(A1150,Feriados!A:A,1,FALSE)),\"n\",VLOOKUP(A1150,Feriados!A:A,1,FALSE))","v":"n"}]
[45711,791,{"$f":"IF(E1151<>\"n\",COUNTIF(B1151:$B$4018,B1151),IF(D1151<6,0,COUNTIF(B1151:$B$4018,B1151)))","v":1},7,{"$f":"IF(ISERROR(VLOOKUP(A1151,Feriados!A:A,1,FALSE)),\"n\",VLOOKUP(A1151,Feriados!A:A,1,FALSE))","v":"n"}]
[45712,792,{"$f":"IF(E1152<>\"n\",COUNTIF(B1152:$B$4018,B1152),IF(D1152<6,0,COUNTIF(B1152:$B$4018,B1152)))","v":0},1,{"$f":"IF(ISERROR(VLOOKUP(A1152,Feriados!A:A,1,FALSE)),\"n\",VLOOKUP(A1152,Feriados!A:A,1,FALSE))","v":"n"}]
[45713,793,{"$f":"IF(E1153<>\"n\",COUNTIF(B1153:$B$4018,B1153),IF(D1153<6,0,COUNTIF(B1153:$B$4018,B1153)))","v":0},2,{"$f":"IF(ISERROR(VLOOKUP(A1153,Feriados!A:A,1,FALSE)),\"n\",VLOOKUP(A1153,Feriados!A:A,1,FALSE))","v":"n"}]
[45714,794,{"$f":"IF(E1154<>\"n\",COUNTIF(B1154:$B$4018,B1154),IF(D1154<6,0,COUNTIF(B1154:$B$4018,B1154)))","v":0},3,{"$f":"IF(ISERROR(VLOOKUP(A1154,Feriados!A:A,1,FALSE)),\"n\",VLOOKUP(A1154,Feriados!A:A,1,FALSE))","v":"n"}]
[45715,795,{"$f":"IF(E1155<>\"n\",COUNTIF(B1155:$B$4018,B1155),IF(D1155<6,0,COUNTIF(B1155:$B$4018,B1155)))","v":0},4,{"$f":"IF(ISERROR(VLOOKUP(A1155,Feriados!A:A,1,FALSE)),\"n\",VLOOKUP(A1155,Feriados!A:A,1,FALSE))","v":"n"}]
[{"$f":"A1155+1","v":45716},796,{"$f":"IF(E1156<>\"n\",COUNTIF(B1156:$B$4018,B1156),IF(D1156<6,0,COUNTIF(B1156:$B$4018,B1156)))","v":0},5,{"$f":"IF(ISERROR(VLOOKUP(A1156,Feriados!A:A,1,FALSE)),\"n\",VLOOKUP(A1156,Feriados!A:A,1,FALSE))","v":"n"}]
[45717,796,{"$f":"IF(E1157<>\"n\",COUNTIF(B1157:$B$4018,B1157),IF(D1157<6,0,COUNTIF(B1157:$B$4018,B1157)))","v":4},6,{"$f":"IF(ISERROR(VLOOKUP(A1157,Feriados!A:A,1,FALSE)),\"n\",VLOOKUP(A1157,Feriados!A:A,1,FALSE))","v":"n"}]
[45718,796,{"$f":"IF(E1158<>\"n\",COUNTIF(B1158:$B$4018,B1158),IF(D1158<6,0,COUNTIF(B1158:$B$4018,B1158)))","v":3},7,{"$f":"IF(ISERROR(VLOOKUP(A1158,Feriados!A:A,1,FALSE)),\"n\",VLOOKUP(A1158,Feriados!A:A,1,FALSE))","v":"n"}]
[45719,796,{"$f":"IF(E1159<>\"n\",COUNTIF(B1159:$B$4018,B1159),IF(D1159<6,0,COUNTIF(B1159:$B$4018,B1159)))","v":2},1,{"$f":"IF(ISERROR(VLOOKUP(A1159,Feriados!A:A,1,FALSE)),\"n\",VLOOKUP(A1159,Feriados!A:A,1,FALSE))","v":"2025-03-03"}]
[45720,796,{"$f":"IF(E1160<>\"n\",COUNTIF(B1160:$B$4018,B1160),IF(D1160<6,0,COUNTIF(B1160:$B$4018,B1160)))","v":1},2,{"$f":"IF(ISERROR(VLOOKUP(A1160,Feriados!A:A,1,FALSE)),\"n\",VLOOKUP(A1160,Feriados!A:A,1,FALSE))","v":"2025-03-04"}]
[45721,797,{"$f":"IF(E1161<>\"n\",COUNTIF(B1161:$B$4018,B1161),IF(D1161<6,0,COUNTIF(B1161:$B$4018,B1161)))","v":0},3,{"$f":"IF(ISERROR(VLOOKUP(A1161,Feriados!A:A,1,FALSE)),\"n\",VLOOKUP(A1161,Feriados!A:A,1,FALSE))","v":"n"}]
[45722,798,{"$f":"IF(E1162<>\"n\",COUNTIF(B1162:$B$4018,B1162),IF(D1162<6,0,COUNTIF(B1162:$B$4018,B1162)))","v":0},4,{"$f":"IF(ISERROR(VLOOKUP(A1162,Feriados!A:A,1,FALSE)),\"n\",VLOOKUP(A1162,Feriados!A:A,1,FALSE))","v":"n"}]
[45723,799,{"$f":"IF(E1163<>\"n\",COUNTIF(B1163:$B$4018,B1163),IF(D1163<6,0,COUNTIF(B1163:$B$4018,B1163)))","v":0},5,{"$f":"IF(ISERROR(VLOOKUP(A1163,Feriados!A:A,1,FALSE)),\"n\",VLOOKUP(A1163,Feriados!A:A,1,FALSE))","v":"n"}]
[45724,799,{"$f":"IF(E1164<>\"n\",COUNTIF(B1164:$B$4018,B1164),IF(D1164<6,0,COUNTIF(B1164:$B$4018,B1164)))","v":2},6,{"$f":"IF(ISERROR(VLOOKUP(A1164,Feriados!A:A,1,FALSE)),\"n\",VLOOKUP(A1164,Feriados!A:A,1,FALSE))","v":"n"}]
[45725,799,{"$f":"IF(E1165<>\"n\",COUNTIF(B1165:$B$4018,B1165),IF(D1165<6,0,COUNTIF(B1165:$B$4018,B1165)))","v":1},7,{"$f":"IF(ISERROR(VLOOKUP(A1165,Feriados!A:A,1,FALSE)),\"n\",VLOOKUP(A1165,Feriados!A:A,1,FALSE))","v":"n"}]
[45726,800,{"$f":"IF(E1166<>\"n\",COUNTIF(B1166:$B$4018,B1166),IF(D1166<6,0,COUNTIF(B1166:$B$4018,B1166)))","v":0},1,{"$f":"IF(ISERROR(VLOOKUP(A1166,Feriados!A:A,1,FALSE)),\"n\",VLOOKUP(A1166,Feriados!A:A,1,FALSE))","v":"n"}]
[45727,801,{"$f":"IF(E1167<>\"n\",COUNTIF(B1167:$B$4018,B1167),IF(D1167<6,0,COUNTIF(B1167:$B$4018,B1167)))","v":0},2,{"$f":"IF(ISERROR(VLOOKUP(A1167,Feriados!A:A,1,FALSE)),\"n\",VLOOKUP(A1167,Feriados!A:A,1,FALSE))","v":"n"}]
[45728,802,{"$f":"IF(E1168<>\"n\",COUNTIF(B1168:$B$4018,B1168),IF(D1168<6,0,COUNTIF(B1168:$B$4018,B1168)))","v":0},3,{"$f":"IF(ISERROR(VLOOKUP(A1168,Feriados!A:A,1,FALSE)),\"n\",VLOOKUP(A1168,Feriados!A:A,1,FALSE))","v":"n"}]
[45729,803,{"$f":"IF(E1169<>\"n\",COUNTIF(B1169:$B$4018,B1169),IF(D1169<6,0,COUNTIF(B1169:$B$4018,B1169)))","v":0},4,{"$f":"IF(ISERROR(VLOOKUP(A1169,Feriados!A:A,1,FALSE)),\"n\",VLOOKUP(A1169,Feriados!A:A,1,FALSE))","v":"n"}]
[45730,804,{"$f":"IF(E1170<>\"n\",COUNTIF(B1170:$B$4018,B1170),IF(D1170<6,0,COUNTIF(B1170:$B$4018,B1170)))","v":0},5,{"$f":"IF(ISERROR(VLOOKUP(A1170,Feriados!A:A,1,FALSE)),\"n\",VLOOKUP(A1170,Feriados!A:A,1,FALSE))","v":"n"}]
[45731,804,{"$f":"IF(E1171<>\"n\",COUNTIF(B1171:$B$4018,B1171),IF(D1171<6,0,COUNTIF(B1171:$B$4018,B1171)))","v":2},6,{"$f":"IF(ISERROR(VLOOKUP(A1171,Feriados!A:A,1,FALSE)),\"n\",VLOOKUP(A1171,Feriados!A:A,1,FALSE))","v":"n"}]
[45732,804,{"$f":"IF(E1172<>\"n\",COUNTIF(B1172:$B$4018,B1172),IF(D1172<6,0,COUNTIF(B1172:$B$4018,B1172)))","v":1},7,{"$f":"IF(ISERROR(VLOOKUP(A1172,Feriados!A:A,1,FALSE)),\"n\",VLOOKUP(A1172,Feriados!A:A,1,FALSE))","v":"n"}]
[45733,805,{"$f":"IF(E1173<>\"n\",COUNTIF(B1173:$B$4018,B1173),IF(D1173<6,0,COUNTIF(B1173:$B$4018,B1173)))","v":0},1,{"$f":"IF(ISERROR(VLOOKUP(A1173,Feriados!A:A,1,FALSE)),\"n\",VLOOKUP(A1173,Feriados!A:A,1,FALSE))","v":"n"}]
[45734,806,{"$f":"IF(E1174<>\"n\",COUNTIF(B1174:$B$4018,B1174),IF(D1174<6,0,COUNTIF(B1174:$B$4018,B1174)))","v":0},2,{"$f":"IF(ISERROR(VLOOKUP(A1174,Feriados!A:A,1,FALSE)),\"n\",VLOOKUP(A1174,Feriados!A:A,1,FALSE))","v":"n"}]
[45735,807,{"$f":"IF(E1175<>\"n\",COUNTIF(B1175:$B$4018,B1175),IF(D1175<6,0,COUNTIF(B1175:$B$4018,B1175)))","v":0},3,{"$f":"IF(ISERROR(VLOOKUP(A1175,Feriados!A:A,1,FALSE)),\"n\",VLOOKUP(A1175,Feriados!A:A,1,FALSE))","v":"n"}]
[45736,808,{"$f":"IF(E1176<>\"n\",COUNTIF(B1176:$B$4018,B1176),IF(D1176<6,0,COUNTIF(B1176:$B$4018,B1176)))","v":0},4,{"$f":"IF(ISERROR(VLOOKUP(A1176,Feriados!A:A,1,FALSE)),\"n\",VLOOKUP(A1176,Feriados!A:A,1,FALSE))","v":"n"}]
[45737,809,{"$f":"IF(E1177<>\"n\",COUNTIF(B1177:$B$4018,B1177),IF(D1177<6,0,COUNTIF(B1177:$B$4018,B1177)))","v":0},5,{"$f":"IF(ISERROR(VLOOKUP(A1177,Feriados!A:A,1,FALSE)),\"n\",VLOOKUP(A1177,Feriados!A:A,1,FALSE))","v":"n"}]
[45738,809,{"$f":"IF(E1178<>\"n\",COUNTIF(B1178:$B$4018,B1178),IF(D1178<6,0,COUNTIF(B1178:$B$4018,B1178)))","v":2},6,{"$f":"IF(ISERROR(VLOOKUP(A1178,Feriados!A:A,1,FALSE)),\"n\",VLOOKUP(A1178,Feriados!A:A,1,FALSE))","v":"n"}]
[45739,809,{"$f":"IF(E1179<>\"n\",COUNTIF(B1179:$B$4018,B1179),IF(D1179<6,0,COUNTIF(B1179:$B$4018,B1179)))","v":1},7,{"$f":"IF(ISERROR(VLOOKUP(A1179,Feriados!A:A,1,FALSE)),\"n\",VLOOKUP(A1179,Feriados!A:A,1,FALSE))","v":"n"}]
[45740,810,{"$f":"IF(E1180<>\"n\",COUNTIF(B1180:$B$4018,B1180),IF(D1180<6,0,COUNTIF(B1180:$B$4018,B1180)))","v":0},1,{"$f":"IF(ISERROR(VLOOKUP(A1180,Feriados!A:A,1,FALSE)),\"n\",VLOOKUP(A1180,Feriados!A:A,1,FALSE))","v":"n"}]
[45741,811,{"$f":"IF(E1181<>\"n\",COUNTIF(B1181:$B$4018,B1181),IF(D1181<6,0,COUNTIF(B1181:$B$4018,B1181)))","v":0},2,{"$f":"IF(ISERROR(VLOOKUP(A1181,Feriados!A:A,1,FALSE)),\"n\",VLOOKUP(A1181,Feriados!A:A,1,FALSE))","v":"n"}]
[45742,{"$f":"NETWORKDAYS($A$2,A1182,feriados)","v":812},{"$f":"IF(E1182<>\"n\",COUNTIF(B1182:$B$4018,B1182),IF(D1182<6,0,COUNTIF(B1182:$B$4018,B1182)))","v":0},{"$f":"WEEKDAY(A1182,2)","v":3},{"$f":"IF(ISERROR(VLOOKUP(A1182,Feriados!A:A,1,FALSE)),\"n\",VLOOKUP(A1182,Feriados!A:A,1,FALSE))","v":"n"}]
[45743,813,{"$f":"IF(E1183<>\"n\",COUNTIF(B1183:$B$4018,B1183),IF(D1183<6,0,COUNTIF(B1183:$B$4018,B1183)))","v":0},4,{"$f":"IF(ISERROR(VLOOKUP(A1183,Feriados!A:A,1,FALSE)),\"n\",VLOOKUP(A1183,Feriados!A:A,1,FALSE))","v":"n"}]
[45744,814,{"$f":"IF(E1184<>\"n\",COUNTIF(B1184:$B$4018,B1184),IF(D1184<6,0,COUNTIF(B1184:$B$4018,B1184)))","v":0},5,{"$f":"IF(ISERROR(VLOOKUP(A1184,Feriados!A:A,1,FALSE)),\"n\",VLOOKUP(A1184,Feriados!A:A,1,FALSE))","v":"n"}]
[45745,814,{"$f":"IF(E1185<>\"n\",COUNTIF(B1185:$B$4018,B1185),IF(D1185<6,0,COUNTIF(B1185:$B$4018,B1185)))","v":2},6,{"$f":"IF(ISERROR(VLOOKUP(A1185,Feriados!A:A,1,FALSE)),\"n\",VLOOKUP(A1185,Feriados!A:A,1,FALSE))","v":"n"}]
[45746,814,{"$f":"IF(E1186<>\"n\",COUNTIF(B1186:$B$4018,B1186),IF(D1186<6,0,COUNTIF(B1186:$B$4018,B1186)))","v":1},7,{"$f":"IF(ISERROR(VLOOKUP(A1186,Feriados!A:A,1,FALSE)),\"n\",VLOOKUP(A1186,Feriados!A:A,1,FALSE))","v":"n"}]
[45747,815,{"$f":"IF(E1187<>\"n\",COUNTIF(B1187:$B$4018,B1187),IF(D1187<6,0,COUNTIF(B1187:$B$4018,B1187)))","v":0},1,{"$f":"IF(ISERROR(VLOOKUP(A1187,Feriados!A:A,1,FALSE)),\"n\",VLOOKUP(A1187,Feriados!A:A,1,FALSE))","v":"n"}]
[45748,816,{"$f":"IF(E1188<>\"n\",COUNTIF(B1188:$B$4018,B1188),IF(D1188<6,0,COUNTIF(B1188:$B$4018,B1188)))","v":0},2,{"$f":"IF(ISERROR(VLOOKUP(A1188,Feriados!A:A,1,FALSE)),\"n\",VLOOKUP(A1188,Feriados!A:A,1,FALSE))","v":"n"}]
[45749,817,{"$f":"IF(E1189<>\"n\",COUNTIF(B1189:$B$4018,B1189),IF(D1189<6,0,COUNTIF(B1189:$B$4018,B1189)))","v":0},3,{"$f":"IF(ISERROR(VLOOKUP(A1189,Feriados!A:A,1,FALSE)),\"n\",VLOOKUP(A1189,Feriados!A:A,1,FALSE))","v":"n"}]
[45750,818,{"$f":"IF(E1190<>\"n\",COUNTIF(B1190:$B$4018,B1190),IF(D1190<6,0,COUNTIF(B1190:$B$4018,B1190)))","v":0},4,{"$f":"IF(ISERROR(VLOOKUP(A1190,Feriados!A:A,1,FALSE)),\"n\",VLOOKUP(A1190,Feriados!A:A,1,FALSE))","v":"n"}]
[45751,819,{"$f":"IF(E1191<>\"n\",COUNTIF(B1191:$B$4018,B1191),IF(D1191<6,0,COUNTIF(B1191:$B$4018,B1191)))","v":0},5,{"$f":"IF(ISERROR(VLOOKUP(A1191,Feriados!A:A,1,FALSE)),\"n\",VLOOKUP(A1191,Feriados!A:A,1,FALSE))","v":"n"}]
[45752,819,{"$f":"IF(E1192<>\"n\",COUNTIF(B1192:$B$4018,B1192),IF(D1192<6,0,COUNTIF(B1192:$B$4018,B1192)))","v":2},6,{"$f":"IF(ISERROR(VLOOKUP(A1192,Feriados!A:A,1,FALSE)),\"n\",VLOOKUP(A1192,Feriados!A:A,1,FALSE))","v":"n"}]
[45753,819,{"$f":"IF(E1193<>\"n\",COUNTIF(B1193:$B$4018,B1193),IF(D1193<6,0,COUNTIF(B1193:$B$4018,B1193)))","v":1},7,{"$f":"IF(ISERROR(VLOOKUP(A1193,Feriados!A:A,1,FALSE)),\"n\",VLOOKUP(A1193,Feriados!A:A,1,FALSE))","v":"n"}]
[45754,820,{"$f":"IF(E1194<>\"n\",COUNTIF(B1194:$B$4018,B1194),IF(D1194<6,0,COUNTIF(B1194:$B$4018,B1194)))","v":0},1,{"$f":"IF(ISERROR(VLOOKUP(A1194,Feriados!A:A,1,FALSE)),\"n\",VLOOKUP(A1194,Feriados!A:A,1,FALSE))","v":"n"}]
[45755,821,{"$f":"IF(E1195<>\"n\",COUNTIF(B1195:$B$4018,B1195),IF(D1195<6,0,COUNTIF(B1195:$B$4018,B1195)))","v":0},2,{"$f":"IF(ISERROR(VLOOKUP(A1195,Feriados!A:A,1,FALSE)),\"n\",VLOOKUP(A1195,Feriados!A:A,1,FALSE))","v":"n"}]
[45756,822,{"$f":"IF(E1196<>\"n\",COUNTIF(B1196:$B$4018,B1196),IF(D1196<6,0,COUNTIF(B1196:$B$4018,B1196)))","v":0},3,{"$f":"IF(ISERROR(VLOOKUP(A1196,Feriados!A:A,1,FALSE)),\"n\",VLOOKUP(A1196,Feriados!A:A,1,FALSE))","v":"n"}]
[45757,823,{"$f":"IF(E1197<>\"n\",COUNTIF(B1197:$B$4018,B1197),IF(D1197<6,0,COUNTIF(B1197:$B$4018,B1197)))","v":0},4,{"$f":"IF(ISERROR(VLOOKUP(A1197,Feriados!A:A,1,FALSE)),\"n\",VLOOKUP(A1197,Feriados!A:A,1,FALSE))","v":"n"}]
[45758,824,{"$f":"IF(E1198<>\"n\",COUNTIF(B1198:$B$4018,B1198),IF(D1198<6,0,COUNTIF(B1198:$B$4018,B1198)))","v":0},5,{"$f":"IF(ISERROR(VLOOKUP(A1198,Feriados!A:A,1,FALSE)),\"n\",VLOOKUP(A1198,Feriados!A:A,1,FALSE))","v":"n"}]
[45759,824,{"$f":"IF(E1199<>\"n\",COUNTIF(B1199:$B$4018,B1199),IF(D1199<6,0,COUNTIF(B1199:$B$4018,B1199)))","v":2},6,{"$f":"IF(ISERROR(VLOOKUP(A1199,Feriados!A:A,1,FALSE)),\"n\",VLOOKUP(A1199,Feriados!A:A,1,FALSE))","v":"n"}]
[45760,824,{"$f":"IF(E1200<>\"n\",COUNTIF(B1200:$B$4018,B1200),IF(D1200<6,0,COUNTIF(B1200:$B$4018,B1200)))","v":1},7,{"$f":"IF(ISERROR(VLOOKUP(A1200,Feriados!A:A,1,FALSE)),\"n\",VLOOKUP(A1200,Feriados!A:A,1,FALSE))","v":"n"}]
[45761,825,{"$f":"IF(E1201<>\"n\",COUNTIF(B1201:$B$4018,B1201),IF(D1201<6,0,COUNTIF(B1201:$B$4018,B1201)))","v":0},1,{"$f":"IF(ISERROR(VLOOKUP(A1201,Feriados!A:A,1,FALSE)),\"n\",VLOOKUP(A1201,Feriados!A:A,1,FALSE))","v":"n"}]
[45762,826,{"$f":"IF(E1202<>\"n\",COUNTIF(B1202:$B$4018,B1202),IF(D1202<6,0,COUNTIF(B1202:$B$4018,B1202)))","v":0},2,{"$f":"IF(ISERROR(VLOOKUP(A1202,Feriados!A:A,1,FALSE)),\"n\",VLOOKUP(A1202,Feriados!A:A,1,FALSE))","v":"n"}]
[45763,827,{"$f":"IF(E1203<>\"n\",COUNTIF(B1203:$B$4018,B1203),IF(D1203<6,0,COUNTIF(B1203:$B$4018,B1203)))","v":0},3,{"$f":"IF(ISERROR(VLOOKUP(A1203,Feriados!A:A,1,FALSE)),\"n\",VLOOKUP(A1203,Feriados!A:A,1,FALSE))","v":"n"}]
[45764,828,{"$f":"IF(E1204<>\"n\",COUNTIF(B1204:$B$4018,B1204),IF(D1204<6,0,COUNTIF(B1204:$B$4018,B1204)))","v":0},4,{"$f":"IF(ISERROR(VLOOKUP(A1204,Feriados!A:A,1,FALSE)),\"n\",VLOOKUP(A1204,Feriados!A:A,1,FALSE))","v":"n"}]
[45765,828,{"$f":"IF(E1205<>\"n\",COUNTIF(B1205:$B$4018,B1205),IF(D1205<6,0,COUNTIF(B1205:$B$4018,B1205)))","v":4},5,{"$f":"IF(ISERROR(VLOOKUP(A1205,Feriados!A:A,1,FALSE)),\"n\",VLOOKUP(A1205,Feriados!A:A,1,FALSE))","v":"2025-04-18"}]
[45766,828,{"$f":"IF(E1206<>\"n\",COUNTIF(B1206:$B$4018,B1206),IF(D1206<6,0,COUNTIF(B1206:$B$4018,B1206)))","v":3},6,{"$f":"IF(ISERROR(VLOOKUP(A1206,Feriados!A:A,1,FALSE)),\"n\",VLOOKUP(A1206,Feriados!A:A,1,FALSE))","v":"n"}]
[45767,828,{"$f":"IF(E1207<>\"n\",COUNTIF(B1207:$B$4018,B1207),IF(D1207<6,0,COUNTIF(B1207:$B$4018,B1207)))","v":2},7,{"$f":"IF(ISERROR(VLOOKUP(A1207,Feriados!A:A,1,FALSE)),\"n\",VLOOKUP(A1207,Feriados!A:A,1,FALSE))","v":"n"}]
[45768,828,{"$f":"IF(E1208<>\"n\",COUNTIF(B1208:$B$4018,B1208),IF(D1208<6,0,COUNTIF(B1208:$B$4018,B1208)))","v":1},1,{"$f":"IF(ISERROR(VLOOKUP(A1208,Feriados!A:A,1,FALSE)),\"n\",VLOOKUP(A1208,Feriados!A:A,1,FALSE))","v":"2025-04-21"}]
[45769,829,{"$f":"IF(E1209<>\"n\",COUNTIF(B1209:$B$4018,B1209),IF(D1209<6,0,COUNTIF(B1209:$B$4018,B1209)))","v":0},2,{"$f":"IF(ISERROR(VLOOKUP(A1209,Feriados!A:A,1,FALSE)),\"n\",VLOOKUP(A1209,Feriados!A:A,1,FALSE))","v":"n"}]
[45770,830,{"$f":"IF(E1210<>\"n\",COUNTIF(B1210:$B$4018,B1210),IF(D1210<6,0,COUNTIF(B1210:$B$4018,B1210)))","v":0},3,{"$f":"IF(ISERROR(VLOOKUP(A1210,Feriados!A:A,1,FALSE)),\"n\",VLOOKUP(A1210,Feriados!A:A,1,FALSE))","v":"n"}]
[45771,831,{"$f":"IF(E1211<>\"n\",COUNTIF(B1211:$B$4018,B1211),IF(D1211<6,0,COUNTIF(B1211:$B$4018,B1211)))","v":0},4,{"$f":"IF(ISERROR(VLOOKUP(A1211,Feriados!A:A,1,FALSE)),\"n\",VLOOKUP(A1211,Feriados!A:A,1,FALSE))","v":"n"}]
[45772,832,{"$f":"IF(E1212<>\"n\",COUNTIF(B1212:$B$4018,B1212),IF(D1212<6,0,COUNTIF(B1212:$B$4018,B1212)))","v":0},5,{"$f":"IF(ISERROR(VLOOKUP(A1212,Feriados!A:A,1,FALSE)),\"n\",VLOOKUP(A1212,Feriados!A:A,1,FALSE))","v":"n"}]
[45773,832,{"$f":"IF(E1213<>\"n\",COUNTIF(B1213:$B$4018,B1213),IF(D1213<6,0,COUNTIF(B1213:$B$4018,B1213)))","v":2},6,{"$f":"IF(ISERROR(VLOOKUP(A1213,Feriados!A:A,1,FALSE)),\"n\",VLOOKUP(A1213,Feriados!A:A,1,FALSE))","v":"n"}]
[45774,832,{"$f":"IF(E1214<>\"n\",COUNTIF(B1214:$B$4018,B1214),IF(D1214<6,0,COUNTIF(B1214:$B$4018,B1214)))","v":1},7,{"$f":"IF(ISERROR(VLOOKUP(A1214,Feriados!A:A,1,FALSE)),\"n\",VLOOKUP(A1214,Feriados!A:A,1,FALSE))","v":"n"}]
[45775,833,{"$f":"IF(E1215<>\"n\",COUNTIF(B1215:$B$4018,B1215),IF(D1215<6,0,COUNTIF(B1215:$B$4018,B1215)))","v":0},1,{"$f":"IF(ISERROR(VLOOKUP(A1215,Feriados!A:A,1,FALSE)),\"n\",VLOOKUP(A1215,Feriados!A:A,1,FALSE))","v":"n"}]
[45776,834,{"$f":"IF(E1216<>\"n\",COUNTIF(B1216:$B$4018,B1216),IF(D1216<6,0,COUNTIF(B1216:$B$4018,B1216)))","v":0},2,{"$f":"IF(ISERROR(VLOOKUP(A1216,Feriados!A:A,1,FALSE)),\"n\",VLOOKUP(A1216,Feriados!A:A,1,FALSE))","v":"n"}]
[45777,835,{"$f":"IF(E1217<>\"n\",COUNTIF(B1217:$B$4018,B1217),IF(D1217<6,0,COUNTIF(B1217:$B$4018,B1217)))","v":0},3,{"$f":"IF(ISERROR(VLOOKUP(A1217,Feriados!A:A,1,FALSE)),\"n\",VLOOKUP(A1217,Feriados!A:A,1,FALSE))","v":"n"}]
[45778,835,{"$f":"IF(E1218<>\"n\",COUNTIF(B1218:$B$4018,B1218),IF(D1218<6,0,COUNTIF(B1218:$B$4018,B1218)))","v":1},4,{"$f":"IF(ISERROR(VLOOKUP(A1218,Feriados!A:A,1,FALSE)),\"n\",VLOOKUP(A1218,Feriados!A:A,1,FALSE))","v":"2025-05-01"}]
[45779,836,{"$f":"IF(E1219<>\"n\",COUNTIF(B1219:$B$4018,B1219),IF(D1219<6,0,COUNTIF(B1219:$B$4018,B1219)))","v":0},5,{"$f":"IF(ISERROR(VLOOKUP(A1219,Feriados!A:A,1,FALSE)),\"n\",VLOOKUP(A1219,Feriados!A:A,1,FALSE))","v":"n"}]
[{"$f":"A1219+1","v":45780},836,{"$f":"IF(E1220<>\"n\",COUNTIF(B1220:$B$4018,B1220),IF(D1220<6,0,COUNTIF(B1220:$B$4018,B1220)))","v":2},6,{"$f":"IF(ISERROR(VLOOKUP(A1220,Feriados!A:A,1,FALSE)),\"n\",VLOOKUP(A1220,Feriados!A:A,1,FALSE))","v":"n"}]
[45781,836,{"$f":"IF(E1221<>\"n\",COUNTIF(B1221:$B$4018,B1221),IF(D1221<6,0,COUNTIF(B1221:$B$4018,B1221)))","v":1},7,{"$f":"IF(ISERROR(VLOOKUP(A1221,Feriados!A:A,1,FALSE)),\"n\",VLOOKUP(A1221,Feriados!A:A,1,FALSE))","v":"n"}]
[45782,837,{"$f":"IF(E1222<>\"n\",COUNTIF(B1222:$B$4018,B1222),IF(D1222<6,0,COUNTIF(B1222:$B$4018,B1222)))","v":0},1,{"$f":"IF(ISERROR(VLOOKUP(A1222,Feriados!A:A,1,FALSE)),\"n\",VLOOKUP(A1222,Feriados!A:A,1,FALSE))","v":"n"}]
[45783,838,{"$f":"IF(E1223<>\"n\",COUNTIF(B1223:$B$4018,B1223),IF(D1223<6,0,COUNTIF(B1223:$B$4018,B1223)))","v":0},2,{"$f":"IF(ISERROR(VLOOKUP(A1223,Feriados!A:A,1,FALSE)),\"n\",VLOOKUP(A1223,Feriados!A:A,1,FALSE))","v":"n"}]
[45784,839,{"$f":"IF(E1224<>\"n\",COUNTIF(B1224:$B$4018,B1224),IF(D1224<6,0,COUNTIF(B1224:$B$4018,B1224)))","v":0},3,{"$f":"IF(ISERROR(VLOOKUP(A1224,Feriados!A:A,1,FALSE)),\"n\",VLOOKUP(A1224,Feriados!A:A,1,FALSE))","v":"n"}]
[45785,840,{"$f":"IF(E1225<>\"n\",COUNTIF(B1225:$B$4018,B1225),IF(D1225<6,0,COUNTIF(B1225:$B$4018,B1225)))","v":0},4,{"$f":"IF(ISERROR(VLOOKUP(A1225,Feriados!A:A,1,FALSE)),\"n\",VLOOKUP(A1225,Feriados!A:A,1,FALSE))","v":"n"}]
[45786,841,{"$f":"IF(E1226<>\"n\",COUNTIF(B1226:$B$4018,B1226),IF(D1226<6,0,COUNTIF(B1226:$B$4018,B1226)))","v":0},5,{"$f":"IF(ISERROR(VLOOKUP(A1226,Feriados!A:A,1,FALSE)),\"n\",VLOOKUP(A1226,Feriados!A:A,1,FALSE))","v":"n"}]
[45787,841,{"$f":"IF(E1227<>\"n\",COUNTIF(B1227:$B$4018,B1227),IF(D1227<6,0,COUNTIF(B1227:$B$4018,B1227)))","v":2},6,{"$f":"IF(ISERROR(VLOOKUP(A1227,Feriados!A:A,1,FALSE)),\"n\",VLOOKUP(A1227,Feriados!A:A,1,FALSE))","v":"n"}]
[45788,841,{"$f":"IF(E1228<>\"n\",COUNTIF(B1228:$B$4018,B1228),IF(D1228<6,0,COUNTIF(B1228:$B$4018,B1228)))","v":1},7,{"$f":"IF(ISERROR(VLOOKUP(A1228,Feriados!A:A,1,FALSE)),\"n\",VLOOKUP(A1228,Feriados!A:A,1,FALSE))","v":"n"}]
[45789,842,{"$f":"IF(E1229<>\"n\",COUNTIF(B1229:$B$4018,B1229),IF(D1229<6,0,COUNTIF(B1229:$B$4018,B1229)))","v":0},1,{"$f":"IF(ISERROR(VLOOKUP(A1229,Feriados!A:A,1,FALSE)),\"n\",VLOOKUP(A1229,Feriados!A:A,1,FALSE))","v":"n"}]
[45790,843,{"$f":"IF(E1230<>\"n\",COUNTIF(B1230:$B$4018,B1230),IF(D1230<6,0,COUNTIF(B1230:$B$4018,B1230)))","v":0},2,{"$f":"IF(ISERROR(VLOOKUP(A1230,Feriados!A:A,1,FALSE)),\"n\",VLOOKUP(A1230,Feriados!A:A,1,FALSE))","v":"n"}]
[45791,844,{"$f":"IF(E1231<>\"n\",COUNTIF(B1231:$B$4018,B1231),IF(D1231<6,0,COUNTIF(B1231:$B$4018,B1231)))","v":0},3,{"$f":"IF(ISERROR(VLOOKUP(A1231,Feriados!A:A,1,FALSE)),\"n\",VLOOKUP(A1231,Feriados!A:A,1,FALSE))","v":"n"}]
[45792,845,{"$f":"IF(E1232<>\"n\",COUNTIF(B1232:$B$4018,B1232),IF(D1232<6,0,COUNTIF(B1232:$B$4018,B1232)))","v":0},4,{"$f":"IF(ISERROR(VLOOKUP(A1232,Feriados!A:A,1,FALSE)),\"n\",VLOOKUP(A1232,Feriados!A:A,1,FALSE))","v":"n"}]
[45793,846,{"$f":"IF(E1233<>\"n\",COUNTIF(B1233:$B$4018,B1233),IF(D1233<6,0,COUNTIF(B1233:$B$4018,B1233)))","v":0},5,{"$f":"IF(ISERROR(VLOOKUP(A1233,Feriados!A:A,1,FALSE)),\"n\",VLOOKUP(A1233,Feriados!A:A,1,FALSE))","v":"n"}]
[45794,846,{"$f":"IF(E1234<>\"n\",COUNTIF(B1234:$B$4018,B1234),IF(D1234<6,0,COUNTIF(B1234:$B$4018,B1234)))","v":2},6,{"$f":"IF(ISERROR(VLOOKUP(A1234,Feriados!A:A,1,FALSE)),\"n\",VLOOKUP(A1234,Feriados!A:A,1,FALSE))","v":"n"}]
[45795,846,{"$f":"IF(E1235<>\"n\",COUNTIF(B1235:$B$4018,B1235),IF(D1235<6,0,COUNTIF(B1235:$B$4018,B1235)))","v":1},7,{"$f":"IF(ISERROR(VLOOKUP(A1235,Feriados!A:A,1,FALSE)),\"n\",VLOOKUP(A1235,Feriados!A:A,1,FALSE))","v":"n"}]
[45796,847,{"$f":"IF(E1236<>\"n\",COUNTIF(B1236:$B$4018,B1236),IF(D1236<6,0,COUNTIF(B1236:$B$4018,B1236)))","v":0},1,{"$f":"IF(ISERROR(VLOOKUP(A1236,Feriados!A:A,1,FALSE)),\"n\",VLOOKUP(A1236,Feriados!A:A,1,FALSE))","v":"n"}]
[45797,848,{"$f":"IF(E1237<>\"n\",COUNTIF(B1237:$B$4018,B1237),IF(D1237<6,0,COUNTIF(B1237:$B$4018,B1237)))","v":0},2,{"$f":"IF(ISERROR(VLOOKUP(A1237,Feriados!A:A,1,FALSE)),\"n\",VLOOKUP(A1237,Feriados!A:A,1,FALSE))","v":"n"}]
[45798,849,{"$f":"IF(E1238<>\"n\",COUNTIF(B1238:$B$4018,B1238),IF(D1238<6,0,COUNTIF(B1238:$B$4018,B1238)))","v":0},3,{"$f":"IF(ISERROR(VLOOKUP(A1238,Feriados!A:A,1,FALSE)),\"n\",VLOOKUP(A1238,Feriados!A:A,1,FALSE))","v":"n"}]
[45799,850,{"$f":"IF(E1239<>\"n\",COUNTIF(B1239:$B$4018,B1239),IF(D1239<6,0,COUNTIF(B1239:$B$4018,B1239)))","v":0},4,{"$f":"IF(ISERROR(VLOOKUP(A1239,Feriados!A:A,1,FALSE)),\"n\",VLOOKUP(A1239,Feriados!A:A,1,FALSE))","v":"n"}]
[45800,851,{"$f":"IF(E1240<>\"n\",COUNTIF(B1240:$B$4018,B1240),IF(D1240<6,0,COUNTIF(B1240:$B$4018,B1240)))","v":0},5,{"$f":"IF(ISERROR(VLOOKUP(A1240,Feriados!A:A,1,FALSE)),\"n\",VLOOKUP(A1240,Feriados!A:A,1,FALSE))","v":"n"}]
[45801,851,{"$f":"IF(E1241<>\"n\",COUNTIF(B1241:$B$4018,B1241),IF(D1241<6,0,COUNTIF(B1241:$B$4018,B1241)))","v":2},6,{"$f":"IF(ISERROR(VLOOKUP(A1241,Feriados!A:A,1,FALSE)),\"n\",VLOOKUP(A1241,Feriados!A:A,1,FALSE))","v":"n"}]
[45802,851,{"$f":"IF(E1242<>\"n\",COUNTIF(B1242:$B$4018,B1242),IF(D1242<6,0,COUNTIF(B1242:$B$4018,B1242)))","v":1},7,{"$f":"IF(ISERROR(VLOOKUP(A1242,Feriados!A:A,1,FALSE)),\"n\",VLOOKUP(A1242,Feriados!A:A,1,FALSE))","v":"n"}]
[45803,852,{"$f":"IF(E1243<>\"n\",COUNTIF(B1243:$B$4018,B1243),IF(D1243<6,0,COUNTIF(B1243:$B$4018,B1243)))","v":0},1,{"$f":"IF(ISERROR(VLOOKUP(A1243,Feriados!A:A,1,FALSE)),\"n\",VLOOKUP(A1243,Feriados!A:A,1,FALSE))","v":"n"}]
[45804,853,{"$f":"IF(E1244<>\"n\",COUNTIF(B1244:$B$4018,B1244),IF(D1244<6,0,COUNTIF(B1244:$B$4018,B1244)))","v":0},2,{"$f":"IF(ISERROR(VLOOKUP(A1244,Feriados!A:A,1,FALSE)),\"n\",VLOOKUP(A1244,Feriados!A:A,1,FALSE))","v":"n"}]
[45805,854,{"$f":"IF(E1245<>\"n\",COUNTIF(B1245:$B$4018,B1245),IF(D1245<6,0,COUNTIF(B1245:$B$4018,B1245)))","v":0},3,{"$f":"IF(ISERROR(VLOOKUP(A1245,Feriados!A:A,1,FALSE)),\"n\",VLOOKUP(A1245,Feriados!A:A,1,FALSE))","v":"n"}]
[45806,{"$f":"NETWORKDAYS($A$2,A1246,feriados)","v":855},{"$f":"IF(E1246<>\"n\",COUNTIF(B1246:$B$4018,B1246),IF(D1246<6,0,COUNTIF(B1246:$B$4018,B1246)))","v":0},{"$f":"WEEKDAY(A1246,2)","v":4},{"$f":"IF(ISERROR(VLOOKUP(A1246,Feriados!A:A,1,FALSE)),\"n\",VLOOKUP(A1246,Feriados!A:A,1,FALSE))","v":"n"}]
[45807,856,{"$f":"IF(E1247<>\"n\",COUNTIF(B1247:$B$4018,B1247),IF(D1247<6,0,COUNTIF(B1247:$B$4018,B1247)))","v":0},5,{"$f":"IF(ISERROR(VLOOKUP(A1247,Feriados!A:A,1,FALSE)),\"n\",VLOOKUP(A1247,Feriados!A:A,1,FALSE))","v":"n"}]
[45808,856,{"$f":"IF(E1248<>\"n\",COUNTIF(B1248:$B$4018,B1248),IF(D1248<6,0,COUNTIF(B1248:$B$4018,B1248)))","v":2},6,{"$f":"IF(ISERROR(VLOOKUP(A1248,Feriados!A:A,1,FALSE)),\"n\",VLOOKUP(A1248,Feriados!A:A,1,FALSE))","v":"n"}]
[45809,856,{"$f":"IF(E1249<>\"n\",COUNTIF(B1249:$B$4018,B1249),IF(D1249<6,0,COUNTIF(B1249:$B$4018,B1249)))","v":1},7,{"$f":"IF(ISERROR(VLOOKUP(A1249,Feriados!A:A,1,FALSE)),\"n\",VLOOKUP(A1249,Feriados!A:A,1,FALSE))","v":"n"}]
[45810,857,{"$f":"IF(E1250<>\"n\",COUNTIF(B1250:$B$4018,B1250),IF(D1250<6,0,COUNTIF(B1250:$B$4018,B1250)))","v":0},1,{"$f":"IF(ISERROR(VLOOKUP(A1250,Feriados!A:A,1,FALSE)),\"n\",VLOOKUP(A1250,Feriados!A:A,1,FALSE))","v":"n"}]
[45811,858,{"$f":"IF(E1251<>\"n\",COUNTIF(B1251:$B$4018,B1251),IF(D1251<6,0,COUNTIF(B1251:$B$4018,B1251)))","v":0},2,{"$f":"IF(ISERROR(VLOOKUP(A1251,Feriados!A:A,1,FALSE)),\"n\",VLOOKUP(A1251,Feriados!A:A,1,FALSE))","v":"n"}]
[45812,859,{"$f":"IF(E1252<>\"n\",COUNTIF(B1252:$B$4018,B1252),IF(D1252<6,0,COUNTIF(B1252:$B$4018,B1252)))","v":0},3,{"$f":"IF(ISERROR(VLOOKUP(A1252,Feriados!A:A,1,FALSE)),\"n\",VLOOKUP(A1252,Feriados!A:A,1,FALSE))","v":"n"}]
[45813,860,{"$f":"IF(E1253<>\"n\",COUNTIF(B1253:$B$4018,B1253),IF(D1253<6,0,COUNTIF(B1253:$B$4018,B1253)))","v":0},4,{"$f":"IF(ISERROR(VLOOKUP(A1253,Feriados!A:A,1,FALSE)),\"n\",VLOOKUP(A1253,Feriados!A:A,1,FALSE))","v":"n"}]
[45814,861,{"$f":"IF(E1254<>\"n\",COUNTIF(B1254:$B$4018,B1254),IF(D1254<6,0,COUNTIF(B1254:$B$4018,B1254)))","v":0},5,{"$f":"IF(ISERROR(VLOOKUP(A1254,Feriados!A:A,1,FALSE)),\"n\",VLOOKUP(A1254,Feriados!A:A,1,FALSE))","v":"n"}]
[45815,861,{"$f":"IF(E1255<>\"n\",COUNTIF(B1255:$B$4018,B1255),IF(D1255<6,0,COUNTIF(B1255:$B$4018,B1255)))","v":2},6,{"$f":"IF(ISERROR(VLOOKUP(A1255,Feriados!A:A,1,FALSE)),\"n\",VLOOKUP(A1255,Feriados!A:A,1,FALSE))","v":"n"}]
[45816,861,{"$f":"IF(E1256<>\"n\",COUNTIF(B1256:$B$4018,B1256),IF(D1256<6,0,COUNTIF(B1256:$B$4018,B1256)))","v":1},7,{"$f":"IF(ISERROR(VLOOKUP(A1256,Feriados!A:A,1,FALSE)),\"n\",VLOOKUP(A1256,Feriados!A:A,1,FALSE))","v":"n"}]
[45817,862,{"$f":"IF(E1257<>\"n\",COUNTIF(B1257:$B$4018,B1257),IF(D1257<6,0,COUNTIF(B1257:$B$4018,B1257)))","v":0},1,{"$f":"IF(ISERROR(VLOOKUP(A1257,Feriados!A:A,1,FALSE)),\"n\",VLOOKUP(A1257,Feriados!A:A,1,FALSE))","v":"n"}]
[45818,863,{"$f":"IF(E1258<>\"n\",COUNTIF(B1258:$B$4018,B1258),IF(D1258<6,0,COUNTIF(B1258:$B$4018,B1258)))","v":0},2,{"$f":"IF(ISERROR(VLOOKUP(A1258,Feriados!A:A,1,FALSE)),\"n\",VLOOKUP(A1258,Feriados!A:A,1,FALSE))","v":"n"}]
[45819,864,{"$f":"IF(E1259<>\"n\",COUNTIF(B1259:$B$4018,B1259),IF(D1259<6,0,COUNTIF(B1259:$B$4018,B1259)))","v":0},3,{"$f":"IF(ISERROR(VLOOKUP(A1259,Feriados!A:A,1,FALSE)),\"n\",VLOOKUP(A1259,Feriados!A:A,1,FALSE))","v":"n"}]
[45820,865,{"$f":"IF(E1260<>\"n\",COUNTIF(B1260:$B$4018,B1260),IF(D1260<6,0,COUNTIF(B1260:$B$4018,B1260)))","v":0},4,{"$f":"IF(ISERROR(VLOOKUP(A1260,Feriados!A:A,1,FALSE)),\"n\",VLOOKUP(A1260,Feriados!A:A,1,FALSE))","v":"n"}]
[45821,866,{"$f":"IF(E1261<>\"n\",COUNTIF(B1261:$B$4018,B1261),IF(D1261<6,0,COUNTIF(B1261:$B$4018,B1261)))","v":0},5,{"$f":"IF(ISERROR(VLOOKUP(A1261,Feriados!A:A,1,FALSE)),\"n\",VLOOKUP(A1261,Feriados!A:A,1,FALSE))","v":"n"}]
[45822,866,{"$f":"IF(E1262<>\"n\",COUNTIF(B1262:$B$4018,B1262),IF(D1262<6,0,COUNTIF(B1262:$B$4018,B1262)))","v":2},6,{"$f":"IF(ISERROR(VLOOKUP(A1262,Feriados!A:A,1,FALSE)),\"n\",VLOOKUP(A1262,Feriados!A:A,1,FALSE))","v":"n"}]
[45823,866,{"$f":"IF(E1263<>\"n\",COUNTIF(B1263:$B$4018,B1263),IF(D1263<6,0,COUNTIF(B1263:$B$4018,B1263)))","v":1},7,{"$f":"IF(ISERROR(VLOOKUP(A1263,Feriados!A:A,1,FALSE)),\"n\",VLOOKUP(A1263,Feriados!A:A,1,FALSE))","v":"n"}]
[45824,867,{"$f":"IF(E1264<>\"n\",COUNTIF(B1264:$B$4018,B1264),IF(D1264<6,0,COUNTIF(B1264:$B$4018,B1264)))","v":0},1,{"$f":"IF(ISERROR(VLOOKUP(A1264,Feriados!A:A,1,FALSE)),\"n\",VLOOKUP(A1264,Feriados!A:A,1,FALSE))","v":"n"}]
[45825,868,{"$f":"IF(E1265<>\"n\",COUNTIF(B1265:$B$4018,B1265),IF(D1265<6,0,COUNTIF(B1265:$B$4018,B1265)))","v":0},2,{"$f":"IF(ISERROR(VLOOKUP(A1265,Feriados!A:A,1,FALSE)),\"n\",VLOOKUP(A1265,Feriados!A:A,1,FALSE))","v":"n"}]
[45826,869,{"$f":"IF(E1266<>\"n\",COUNTIF(B1266:$B$4018,B1266),IF(D1266<6,0,COUNTIF(B1266:$B$4018,B1266)))","v":0},3,{"$f":"IF(ISERROR(VLOOKUP(A1266,Feriados!A:A,1,FALSE)),\"n\",VLOOKUP(A1266,Feriados!A:A,1,FALSE))","v":"n"}]
[45827,869,{"$f":"IF(E1267<>\"n\",COUNTIF(B1267:$B$4018,B1267),IF(D1267<6,0,COUNTIF(B1267:$B$4018,B1267)))","v":1},4,{"$f":"IF(ISERROR(VLOOKUP(A1267,Feriados!A:A,1,FALSE)),\"n\",VLOOKUP(A1267,Feriados!A:A,1,FALSE))","v":"2025-06-19"}]
[45828,870,{"$f":"IF(E1268<>\"n\",COUNTIF(B1268:$B$4018,B1268),IF(D1268<6,0,COUNTIF(B1268:$B$4018,B1268)))","v":0},5,{"$f":"IF(ISERROR(VLOOKUP(A1268,Feriados!A:A,1,FALSE)),\"n\",VLOOKUP(A1268,Feriados!A:A,1,FALSE))","v":"n"}]
[45829,870,{"$f":"IF(E1269<>\"n\",COUNTIF(B1269:$B$4018,B1269),IF(D1269<6,0,COUNTIF(B1269:$B$4018,B1269)))","v":2},6,{"$f":"IF(ISERROR(VLOOKUP(A1269,Feriados!A:A,1,FALSE)),\"n\",VLOOKUP(A1269,Feriados!A:A,1,FALSE))","v":"n"}]
[45830,870,{"$f":"IF(E1270<>\"n\",COUNTIF(B1270:$B$4018,B1270),IF(D1270<6,0,COUNTIF(B1270:$B$4018,B1270)))","v":1},7,{"$f":"IF(ISERROR(VLOOKUP(A1270,Feriados!A:A,1,FALSE)),\"n\",VLOOKUP(A1270,Feriados!A:A,1,FALSE))","v":"n"}]
[45831,871,{"$f":"IF(E1271<>\"n\",COUNTIF(B1271:$B$4018,B1271),IF(D1271<6,0,COUNTIF(B1271:$B$4018,B1271)))","v":0},1,{"$f":"IF(ISERROR(VLOOKUP(A1271,Feriados!A:A,1,FALSE)),\"n\",VLOOKUP(A1271,Feriados!A:A,1,FALSE))","v":"n"}]
[45832,872,{"$f":"IF(E1272<>\"n\",COUNTIF(B1272:$B$4018,B1272),IF(D1272<6,0,COUNTIF(B1272:$B$4018,B1272)))","v":0},2,{"$f":"IF(ISERROR(VLOOKUP(A1272,Feriados!A:A,1,FALSE)),\"n\",VLOOKUP(A1272,Feriados!A:A,1,FALSE))","v":"n"}]
[45833,873,{"$f":"IF(E1273<>\"n\",COUNTIF(B1273:$B$4018,B1273),IF(D1273<6,0,COUNTIF(B1273:$B$4018,B1273)))","v":0},3,{"$f":"IF(ISERROR(VLOOKUP(A1273,Feriados!A:A,1,FALSE)),\"n\",VLOOKUP(A1273,Feriados!A:A,1,FALSE))","v":"n"}]
[45834,874,{"$f":"IF(E1274<>\"n\",COUNTIF(B1274:$B$4018,B1274),IF(D1274<6,0,COUNTIF(B1274:$B$4018,B1274)))","v":0},4,{"$f":"IF(ISERROR(VLOOKUP(A1274,Feriados!A:A,1,FALSE)),\"n\",VLOOKUP(A1274,Feriados!A:A,1,FALSE))","v":"n"}]
[45835,875,{"$f":"IF(E1275<>\"n\",COUNTIF(B1275:$B$4018,B1275),IF(D1275<6,0,COUNTIF(B1275:$B$4018,B1275)))","v":0},5,{"$f":"IF(ISERROR(VLOOKUP(A1275,Feriados!A:A,1,FALSE)),\"n\",VLOOKUP(A1275,Feriados!A:A,1,FALSE))","v":"n"}]
[45836,875,{"$f":"IF(E1276<>\"n\",COUNTIF(B1276:$B$4018,B1276),IF(D1276<6,0,COUNTIF(B1276:$B$4018,B1276)))","v":2},6,{"$f":"IF(ISERROR(VLOOKUP(A1276,Feriados!A:A,1,FALSE)),\"n\",VLOOKUP(A1276,Feriados!A:A,1,FALSE))","v":"n"}]
[45837,875,{"$f":"IF(E1277<>\"n\",COUNTIF(B1277:$B$4018,B1277),IF(D1277<6,0,COUNTIF(B1277:$B$4018,B1277)))","v":1},7,{"$f":"IF(ISERROR(VLOOKUP(A1277,Feriados!A:A,1,FALSE)),\"n\",VLOOKUP(A1277,Feriados!A:A,1,FALSE))","v":"n"}]
[45838,876,{"$f":"IF(E1278<>\"n\",COUNTIF(B1278:$B$4018,B1278),IF(D1278<6,0,COUNTIF(B1278:$B$4018,B1278)))","v":0},1,{"$f":"IF(ISERROR(VLOOKUP(A1278,Feriados!A:A,1,FALSE)),\"n\",VLOOKUP(A1278,Feriados!A:A,1,FALSE))","v":"n"}]
[45839,877,{"$f":"IF(E1279<>\"n\",COUNTIF(B1279:$B$4018,B1279),IF(D1279<6,0,COUNTIF(B1279:$B$4018,B1279)))","v":0},2,{"$f":"IF(ISERROR(VLOOKUP(A1279,Feriados!A:A,1,FALSE)),\"n\",VLOOKUP(A1279,Feriados!A:A,1,FALSE))","v":"n"}]
[45840,878,{"$f":"IF(E1280<>\"n\",COUNTIF(B1280:$B$4018,B1280),IF(D1280<6,0,COUNTIF(B1280:$B$4018,B1280)))","v":0},3,{"$f":"IF(ISERROR(VLOOKUP(A1280,Feriados!A:A,1,FALSE)),\"n\",VLOOKUP(A1280,Feriados!A:A,1,FALSE))","v":"n"}]
[45841,879,{"$f":"IF(E1281<>\"n\",COUNTIF(B1281:$B$4018,B1281),IF(D1281<6,0,COUNTIF(B1281:$B$4018,B1281)))","v":0},4,{"$f":"IF(ISERROR(VLOOKUP(A1281,Feriados!A:A,1,FALSE)),\"n\",VLOOKUP(A1281,Feriados!A:A,1,FALSE))","v":"n"}]
[45842,880,{"$f":"IF(E1282<>\"n\",COUNTIF(B1282:$B$4018,B1282),IF(D1282<6,0,COUNTIF(B1282:$B$4018,B1282)))","v":0},5,{"$f":"IF(ISERROR(VLOOKUP(A1282,Feriados!A:A,1,FALSE)),\"n\",VLOOKUP(A1282,Feriados!A:A,1,FALSE))","v":"n"}]
[45843,880,{"$f":"IF(E1283<>\"n\",COUNTIF(B1283:$B$4018,B1283),IF(D1283<6,0,COUNTIF(B1283:$B$4018,B1283)))","v":2},6,{"$f":"IF(ISERROR(VLOOKUP(A1283,Feriados!A:A,1,FALSE)),\"n\",VLOOKUP(A1283,Feriados!A:A,1,FALSE))","v":"n"}]
[{"$f":"A1283+1","v":45844},880,{"$f":"IF(E1284<>\"n\",COUNTIF(B1284:$B$4018,B1284),IF(D1284<6,0,COUNTIF(B1284:$B$4018,B1284)))","v":1},7,{"$f":"IF(ISERROR(VLOOKUP(A1284,Feriados!A:A,1,FALSE)),\"n\",VLOOKUP(A1284,Feriados!A:A,1,FALSE))","v":"n"}]
[45845,881,{"$f":"IF(E1285<>\"n\",COUNTIF(B1285:$B$4018,B1285),IF(D1285<6,0,COUNTIF(B1285:$B$4018,B1285)))","v":0},1,{"$f":"IF(ISERROR(VLOOKUP(A1285,Feriados!A:A,1,FALSE)),\"n\",VLOOKUP(A1285,Feriados!A:A,1,FALSE))","v":"n"}]
[45846,882,{"$f":"IF(E1286<>\"n\",COUNTIF(B1286:$B$4018,B1286),IF(D1286<6,0,COUNTIF(B1286:$B$4018,B1286)))","v":0},2,{"$f":"IF(ISERROR(VLOOKUP(A1286,Feriados!A:A,1,FALSE)),\"n\",VLOOKUP(A1286,Feriados!A:A,1,FALSE))","v":"n"}]
[45847,883,{"$f":"IF(E1287<>\"n\",COUNTIF(B1287:$B$4018,B1287),IF(D1287<6,0,COUNTIF(B1287:$B$4018,B1287)))","v":0},3,{"$f":"IF(ISERROR(VLOOKUP(A1287,Feriados!A:A,1,FALSE)),\"n\",VLOOKUP(A1287,Feriados!A:A,1,FALSE))","v":"n"}]
[45848,884,{"$f":"IF(E1288<>\"n\",COUNTIF(B1288:$B$4018,B1288),IF(D1288<6,0,COUNTIF(B1288:$B$4018,B1288)))","v":0},4,{"$f":"IF(ISERROR(VLOOKUP(A1288,Feriados!A:A,1,FALSE)),\"n\",VLOOKUP(A1288,Feriados!A:A,1,FALSE))","v":"n"}]
[45849,885,{"$f":"IF(E1289<>\"n\",COUNTIF(B1289:$B$4018,B1289),IF(D1289<6,0,COUNTIF(B1289:$B$4018,B1289)))","v":0},5,{"$f":"IF(ISERROR(VLOOKUP(A1289,Feriados!A:A,1,FALSE)),\"n\",VLOOKUP(A1289,Feriados!A:A,1,FALSE))","v":"n"}]
[45850,885,{"$f":"IF(E1290<>\"n\",COUNTIF(B1290:$B$4018,B1290),IF(D1290<6,0,COUNTIF(B1290:$B$4018,B1290)))","v":2},6,{"$f":"IF(ISERROR(VLOOKUP(A1290,Feriados!A:A,1,FALSE)),\"n\",VLOOKUP(A1290,Feriados!A:A,1,FALSE))","v":"n"}]
[45851,885,{"$f":"IF(E1291<>\"n\",COUNTIF(B1291:$B$4018,B1291),IF(D1291<6,0,COUNTIF(B1291:$B$4018,B1291)))","v":1},7,{"$f":"IF(ISERROR(VLOOKUP(A1291,Feriados!A:A,1,FALSE)),\"n\",VLOOKUP(A1291,Feriados!A:A,1,FALSE))","v":"n"}]
[45852,886,{"$f":"IF(E1292<>\"n\",COUNTIF(B1292:$B$4018,B1292),IF(D1292<6,0,COUNTIF(B1292:$B$4018,B1292)))","v":0},1,{"$f":"IF(ISERROR(VLOOKUP(A1292,Feriados!A:A,1,FALSE)),\"n\",VLOOKUP(A1292,Feriados!A:A,1,FALSE))","v":"n"}]
[45853,887,{"$f":"IF(E1293<>\"n\",COUNTIF(B1293:$B$4018,B1293),IF(D1293<6,0,COUNTIF(B1293:$B$4018,B1293)))","v":0},2,{"$f":"IF(ISERROR(VLOOKUP(A1293,Feriados!A:A,1,FALSE)),\"n\",VLOOKUP(A1293,Feriados!A:A,1,FALSE))","v":"n"}]
[45854,888,{"$f":"IF(E1294<>\"n\",COUNTIF(B1294:$B$4018,B1294),IF(D1294<6,0,COUNTIF(B1294:$B$4018,B1294)))","v":0},3,{"$f":"IF(ISERROR(VLOOKUP(A1294,Feriados!A:A,1,FALSE)),\"n\",VLOOKUP(A1294,Feriados!A:A,1,FALSE))","v":"n"}]
[45855,889,{"$f":"IF(E1295<>\"n\",COUNTIF(B1295:$B$4018,B1295),IF(D1295<6,0,COUNTIF(B1295:$B$4018,B1295)))","v":0},4,{"$f":"IF(ISERROR(VLOOKUP(A1295,Feriados!A:A,1,FALSE)),\"n\",VLOOKUP(A1295,Feriados!A:A,1,FALSE))","v":"n"}]
[45856,890,{"$f":"IF(E1296<>\"n\",COUNTIF(B1296:$B$4018,B1296),IF(D1296<6,0,COUNTIF(B1296:$B$4018,B1296)))","v":0},5,{"$f":"IF(ISERROR(VLOOKUP(A1296,Feriados!A:A,1,FALSE)),\"n\",VLOOKUP(A1296,Feriados!A:A,1,FALSE))","v":"n"}]
[45857,890,{"$f":"IF(E1297<>\"n\",COUNTIF(B1297:$B$4018,B1297),IF(D1297<6,0,COUNTIF(B1297:$B$4018,B1297)))","v":2},6,{"$f":"IF(ISERROR(VLOOKUP(A1297,Feriados!A:A,1,FALSE)),\"n\",VLOOKUP(A1297,Feriados!A:A,1,FALSE))","v":"n"}]
[45858,890,{"$f":"IF(E1298<>\"n\",COUNTIF(B1298:$B$4018,B1298),IF(D1298<6,0,COUNTIF(B1298:$B$4018,B1298)))","v":1},7,{"$f":"IF(ISERROR(VLOOKUP(A1298,Feriados!A:A,1,FALSE)),\"n\",VLOOKUP(A1298,Feriados!A:A,1,FALSE))","v":"n"}]
[45859,891,{"$f":"IF(E1299<>\"n\",COUNTIF(B1299:$B$4018,B1299),IF(D1299<6,0,COUNTIF(B1299:$B$4018,B1299)))","v":0},1,{"$f":"IF(ISERROR(VLOOKUP(A1299,Feriados!A:A,1,FALSE)),\"n\",VLOOKUP(A1299,Feriados!A:A,1,FALSE))","v":"n"}]
[45860,892,{"$f":"IF(E1300<>\"n\",COUNTIF(B1300:$B$4018,B1300),IF(D1300<6,0,COUNTIF(B1300:$B$4018,B1300)))","v":0},2,{"$f":"IF(ISERROR(VLOOKUP(A1300,Feriados!A:A,1,FALSE)),\"n\",VLOOKUP(A1300,Feriados!A:A,1,FALSE))","v":"n"}]
[45861,893,{"$f":"IF(E1301<>\"n\",COUNTIF(B1301:$B$4018,B1301),IF(D1301<6,0,COUNTIF(B1301:$B$4018,B1301)))","v":0},3,{"$f":"IF(ISERROR(VLOOKUP(A1301,Feriados!A:A,1,FALSE)),\"n\",VLOOKUP(A1301,Feriados!A:A,1,FALSE))","v":"n"}]
[45862,894,{"$f":"IF(E1302<>\"n\",COUNTIF(B1302:$B$4018,B1302),IF(D1302<6,0,COUNTIF(B1302:$B$4018,B1302)))","v":0},4,{"$f":"IF(ISERROR(VLOOKUP(A1302,Feriados!A:A,1,FALSE)),\"n\",VLOOKUP(A1302,Feriados!A:A,1,FALSE))","v":"n"}]
[45863,895,{"$f":"IF(E1303<>\"n\",COUNTIF(B1303:$B$4018,B1303),IF(D1303<6,0,COUNTIF(B1303:$B$4018,B1303)))","v":0},5,{"$f":"IF(ISERROR(VLOOKUP(A1303,Feriados!A:A,1,FALSE)),\"n\",VLOOKUP(A1303,Feriados!A:A,1,FALSE))","v":"n"}]
[45864,895,{"$f":"IF(E1304<>\"n\",COUNTIF(B1304:$B$4018,B1304),IF(D1304<6,0,COUNTIF(B1304:$B$4018,B1304)))","v":2},6,{"$f":"IF(ISERROR(VLOOKUP(A1304,Feriados!A:A,1,FALSE)),\"n\",VLOOKUP(A1304,Feriados!A:A,1,FALSE))","v":"n"}]
[45865,895,{"$f":"IF(E1305<>\"n\",COUNTIF(B1305:$B$4018,B1305),IF(D1305<6,0,COUNTIF(B1305:$B$4018,B1305)))","v":1},7,{"$f":"IF(ISERROR(VLOOKUP(A1305,Feriados!A:A,1,FALSE)),\"n\",VLOOKUP(A1305,Feriados!A:A,1,FALSE))","v":"n"}]
[45866,896,{"$f":"IF(E1306<>\"n\",COUNTIF(B1306:$B$4018,B1306),IF(D1306<6,0,COUNTIF(B1306:$B$4018,B1306)))","v":0},1,{"$f":"IF(ISERROR(VLOOKUP(A1306,Feriados!A:A,1,FALSE)),\"n\",VLOOKUP(A1306,Feriados!A:A,1,FALSE))","v":"n"}]
[45867,897,{"$f":"IF(E1307<>\"n\",COUNTIF(B1307:$B$4018,B1307),IF(D1307<6,0,COUNTIF(B1307:$B$4018,B1307)))","v":0},2,{"$f":"IF(ISERROR(VLOOKUP(A1307,Feriados!A:A,1,FALSE)),\"n\",VLOOKUP(A1307,Feriados!A:A,1,FALSE))","v":"n"}]
[45868,898,{"$f":"IF(E1308<>\"n\",COUNTIF(B1308:$B$4018,B1308),IF(D1308<6,0,COUNTIF(B1308:$B$4018,B1308)))","v":0},3,{"$f":"IF(ISERROR(VLOOKUP(A1308,Feriados!A:A,1,FALSE)),\"n\",VLOOKUP(A1308,Feriados!A:A,1,FALSE))","v":"n"}]
[45869,899,{"$f":"IF(E1309<>\"n\",COUNTIF(B1309:$B$4018,B1309),IF(D1309<6,0,COUNTIF(B1309:$B$4018,B1309)))","v":0},4,{"$f":"IF(ISERROR(VLOOKUP(A1309,Feriados!A:A,1,FALSE)),\"n\",VLOOKUP(A1309,Feriados!A:A,1,FALSE))","v":"n"}]
[45870,{"$f":"NETWORKDAYS($A$2,A1310,feriados)","v":900},{"$f":"IF(E1310<>\"n\",COUNTIF(B1310:$B$4018,B1310),IF(D1310<6,0,COUNTIF(B1310:$B$4018,B1310)))","v":0},{"$f":"WEEKDAY(A1310,2)","v":5},{"$f":"IF(ISERROR(VLOOKUP(A1310,Feriados!A:A,1,FALSE)),\"n\",VLOOKUP(A1310,Feriados!A:A,1,FALSE))","v":"n"}]
[45871,900,{"$f":"IF(E1311<>\"n\",COUNTIF(B1311:$B$4018,B1311),IF(D1311<6,0,COUNTIF(B1311:$B$4018,B1311)))","v":2},6,{"$f":"IF(ISERROR(VLOOKUP(A1311,Feriados!A:A,1,FALSE)),\"n\",VLOOKUP(A1311,Feriados!A:A,1,FALSE))","v":"n"}]
[45872,900,{"$f":"IF(E1312<>\"n\",COUNTIF(B1312:$B$4018,B1312),IF(D1312<6,0,COUNTIF(B1312:$B$4018,B1312)))","v":1},7,{"$f":"IF(ISERROR(VLOOKUP(A1312,Feriados!A:A,1,FALSE)),\"n\",VLOOKUP(A1312,Feriados!A:A,1,FALSE))","v":"n"}]
[45873,901,{"$f":"IF(E1313<>\"n\",COUNTIF(B1313:$B$4018,B1313),IF(D1313<6,0,COUNTIF(B1313:$B$4018,B1313)))","v":0},1,{"$f":"IF(ISERROR(VLOOKUP(A1313,Feriados!A:A,1,FALSE)),\"n\",VLOOKUP(A1313,Feriados!A:A,1,FALSE))","v":"n"}]
[45874,902,{"$f":"IF(E1314<>\"n\",COUNTIF(B1314:$B$4018,B1314),IF(D1314<6,0,COUNTIF(B1314:$B$4018,B1314)))","v":0},2,{"$f":"IF(ISERROR(VLOOKUP(A1314,Feriados!A:A,1,FALSE)),\"n\",VLOOKUP(A1314,Feriados!A:A,1,FALSE))","v":"n"}]
[45875,903,{"$f":"IF(E1315<>\"n\",COUNTIF(B1315:$B$4018,B1315),IF(D1315<6,0,COUNTIF(B1315:$B$4018,B1315)))","v":0},3,{"$f":"IF(ISERROR(VLOOKUP(A1315,Feriados!A:A,1,FALSE)),\"n\",VLOOKUP(A1315,Feriados!A:A,1,FALSE))","v":"n"}]
[45876,904,{"$f":"IF(E1316<>\"n\",COUNTIF(B1316:$B$4018,B1316),IF(D1316<6,0,COUNTIF(B1316:$B$4018,B1316)))","v":0},4,{"$f":"IF(ISERROR(VLOOKUP(A1316,Feriados!A:A,1,FALSE)),\"n\",VLOOKUP(A1316,Feriados!A:A,1,FALSE))","v":"n"}]
[45877,905,{"$f":"IF(E1317<>\"n\",COUNTIF(B1317:$B$4018,B1317),IF(D1317<6,0,COUNTIF(B1317:$B$4018,B1317)))","v":0},5,{"$f":"IF(ISERROR(VLOOKUP(A1317,Feriados!A:A,1,FALSE)),\"n\",VLOOKUP(A1317,Feriados!A:A,1,FALSE))","v":"n"}]
[45878,905,{"$f":"IF(E1318<>\"n\",COUNTIF(B1318:$B$4018,B1318),IF(D1318<6,0,COUNTIF(B1318:$B$4018,B1318)))","v":2},6,{"$f":"IF(ISERROR(VLOOKUP(A1318,Feriados!A:A,1,FALSE)),\"n\",VLOOKUP(A1318,Feriados!A:A,1,FALSE))","v":"n"}]
[45879,905,{"$f":"IF(E1319<>\"n\",COUNTIF(B1319:$B$4018,B1319),IF(D1319<6,0,COUNTIF(B1319:$B$4018,B1319)))","v":1},7,{"$f":"IF(ISERROR(VLOOKUP(A1319,Feriados!A:A,1,FALSE)),\"n\",VLOOKUP(A1319,Feriados!A:A,1,FALSE))","v":"n"}]
[45880,906,{"$f":"IF(E1320<>\"n\",COUNTIF(B1320:$B$4018,B1320),IF(D1320<6,0,COUNTIF(B1320:$B$4018,B1320)))","v":0},1,{"$f":"IF(ISERROR(VLOOKUP(A1320,Feriados!A:A,1,FALSE)),\"n\",VLOOKUP(A1320,Feriados!A:A,1,FALSE))","v":"n"}]
[45881,907,{"$f":"IF(E1321<>\"n\",COUNTIF(B1321:$B$4018,B1321),IF(D1321<6,0,COUNTIF(B1321:$B$4018,B1321)))","v":0},2,{"$f":"IF(ISERROR(VLOOKUP(A1321,Feriados!A:A,1,FALSE)),\"n\",VLOOKUP(A1321,Feriados!A:A,1,FALSE))","v":"n"}]
[45882,908,{"$f":"IF(E1322<>\"n\",COUNTIF(B1322:$B$4018,B1322),IF(D1322<6,0,COUNTIF(B1322:$B$4018,B1322)))","v":0},3,{"$f":"IF(ISERROR(VLOOKUP(A1322,Feriados!A:A,1,FALSE)),\"n\",VLOOKUP(A1322,Feriados!A:A,1,FALSE))","v":"n"}]
[45883,909,{"$f":"IF(E1323<>\"n\",COUNTIF(B1323:$B$4018,B1323),IF(D1323<6,0,COUNTIF(B1323:$B$4018,B1323)))","v":0},4,{"$f":"IF(ISERROR(VLOOKUP(A1323,Feriados!A:A,1,FALSE)),\"n\",VLOOKUP(A1323,Feriados!A:A,1,FALSE))","v":"n"}]
[45884,910,{"$f":"IF(E1324<>\"n\",COUNTIF(B1324:$B$4018,B1324),IF(D1324<6,0,COUNTIF(B1324:$B$4018,B1324)))","v":0},5,{"$f":"IF(ISERROR(VLOOKUP(A1324,Feriados!A:A,1,FALSE)),\"n\",VLOOKUP(A1324,Feriados!A:A,1,FALSE))","v":"n"}]
[45885,910,{"$f":"IF(E1325<>\"n\",COUNTIF(B1325:$B$4018,B1325),IF(D1325<6,0,COUNTIF(B1325:$B$4018,B1325)))","v":2},6,{"$f":"IF(ISERROR(VLOOKUP(A1325,Feriados!A:A,1,FALSE)),\"n\",VLOOKUP(A1325,Feriados!A:A,1,FALSE))","v":"n"}]
[45886,910,{"$f":"IF(E1326<>\"n\",COUNTIF(B1326:$B$4018,B1326),IF(D1326<6,0,COUNTIF(B1326:$B$4018,B1326)))","v":1},7,{"$f":"IF(ISERROR(VLOOKUP(A1326,Feriados!A:A,1,FALSE)),\"n\",VLOOKUP(A1326,Feriados!A:A,1,FALSE))","v":"n"}]
[45887,911,{"$f":"IF(E1327<>\"n\",COUNTIF(B1327:$B$4018,B1327),IF(D1327<6,0,COUNTIF(B1327:$B$4018,B1327)))","v":0},1,{"$f":"IF(ISERROR(VLOOKUP(A1327,Feriados!A:A,1,FALSE)),\"n\",VLOOKUP(A1327,Feriados!A:A,1,FALSE))","v":"n"}]
[45888,912,{"$f":"IF(E1328<>\"n\",COUNTIF(B1328:$B$4018,B1328),IF(D1328<6,0,COUNTIF(B1328:$B$4018,B1328)))","v":0},2,{"$f":"IF(ISERROR(VLOOKUP(A1328,Feriados!A:A,1,FALSE)),\"n\",VLOOKUP(A1328,Feriados!A:A,1,FALSE))","v":"n"}]
[45889,913,{"$f":"IF(E1329<>\"n\",COUNTIF(B1329:$B$4018,B1329),IF(D1329<6,0,COUNTIF(B1329:$B$4018,B1329)))","v":0},3,{"$f":"IF(ISERROR(VLOOKUP(A1329,Feriados!A:A,1,FALSE)),\"n\",VLOOKUP(A1329,Feriados!A:A,1,FALSE))","v":"n"}]
[45890,914,{"$f":"IF(E1330<>\"n\",COUNTIF(B1330:$B$4018,B1330),IF(D1330<6,0,COUNTIF(B1330:$B$4018,B1330)))","v":0},4,{"$f":"IF(ISERROR(VLOOKUP(A1330,Feriados!A:A,1,FALSE)),\"n\",VLOOKUP(A1330,Feriados!A:A,1,FALSE))","v":"n"}]
[45891,915,{"$f":"IF(E1331<>\"n\",COUNTIF(B1331:$B$4018,B1331),IF(D1331<6,0,COUNTIF(B1331:$B$4018,B1331)))","v":0},5,{"$f":"IF(ISERROR(VLOOKUP(A1331,Feriados!A:A,1,FALSE)),\"n\",VLOOKUP(A1331,Feriados!A:A,1,FALSE))","v":"n"}]
[45892,915,{"$f":"IF(E1332<>\"n\",COUNTIF(B1332:$B$4018,B1332),IF(D1332<6,0,COUNTIF(B1332:$B$4018,B1332)))","v":2},6,{"$f":"IF(ISERROR(VLOOKUP(A1332,Feriados!A:A,1,FALSE)),\"n\",VLOOKUP(A1332,Feriados!A:A,1,FALSE))","v":"n"}]
[45893,915,{"$f":"IF(E1333<>\"n\",COUNTIF(B1333:$B$4018,B1333),IF(D1333<6,0,COUNTIF(B1333:$B$4018,B1333)))","v":1},7,{"$f":"IF(ISERROR(VLOOKUP(A1333,Feriados!A:A,1,FALSE)),\"n\",VLOOKUP(A1333,Feriados!A:A,1,FALSE))","v":"n"}]
[45894,916,{"$f":"IF(E1334<>\"n\",COUNTIF(B1334:$B$4018,B1334),IF(D1334<6,0,COUNTIF(B1334:$B$4018,B1334)))","v":0},1,{"$f":"IF(ISERROR(VLOOKUP(A1334,Feriados!A:A,1,FALSE)),\"n\",VLOOKUP(A1334,Feriados!A:A,1,FALSE))","v":"n"}]
[45895,917,{"$f":"IF(E1335<>\"n\",COUNTIF(B1335:$B$4018,B1335),IF(D1335<6,0,COUNTIF(B1335:$B$4018,B1335)))","v":0},2,{"$f":"IF(ISERROR(VLOOKUP(A1335,Feriados!A:A,1,FALSE)),\"n\",VLOOKUP(A1335,Feriados!A:A,1,FALSE))","v":"n"}]
[45896,918,{"$f":"IF(E1336<>\"n\",COUNTIF(B1336:$B$4018,B1336),IF(D1336<6,0,COUNTIF(B1336:$B$4018,B1336)))","v":0},3,{"$f":"IF(ISERROR(VLOOKUP(A1336,Feriados!A:A,1,FALSE)),\"n\",VLOOKUP(A1336,Feriados!A:A,1,FALSE))","v":"n"}]
[45897,919,{"$f":"IF(E1337<>\"n\",COUNTIF(B1337:$B$4018,B1337),IF(D1337<6,0,COUNTIF(B1337:$B$4018,B1337)))","v":0},4,{"$f":"IF(ISERROR(VLOOKUP(A1337,Feriados!A:A,1,FALSE)),\"n\",VLOOKUP(A1337,Feriados!A:A,1,FALSE))","v":"n"}]
[45898,920,{"$f":"IF(E1338<>\"n\",COUNTIF(B1338:$B$4018,B1338),IF(D1338<6,0,COUNTIF(B1338:$B$4018,B1338)))","v":0},5,{"$f":"IF(ISERROR(VLOOKUP(A1338,Feriados!A:A,1,FALSE)),\"n\",VLOOKUP(A1338,Feriados!A:A,1,FALSE))","v":"n"}]
[45899,920,{"$f":"IF(E1339<>\"n\",COUNTIF(B1339:$B$4018,B1339),IF(D1339<6,0,COUNTIF(B1339:$B$4018,B1339)))","v":2},6,{"$f":"IF(ISERROR(VLOOKUP(A1339,Feriados!A:A,1,FALSE)),\"n\",VLOOKUP(A1339,Feriados!A:A,1,FALSE))","v":"n"}]
[45900,920,{"$f":"IF(E1340<>\"n\",COUNTIF(B1340:$B$4018,B1340),IF(D1340<6,0,COUNTIF(B1340:$B$4018,B1340)))","v":1},7,{"$f":"IF(ISERROR(VLOOKUP(A1340,Feriados!A:A,1,FALSE)),\"n\",VLOOKUP(A1340,Feriados!A:A,1,FALSE))","v":"n"}]
[45901,921,{"$f":"IF(E1341<>\"n\",COUNTIF(B1341:$B$4018,B1341),IF(D1341<6,0,COUNTIF(B1341:$B$4018,B1341)))","v":0},1,{"$f":"IF(ISERROR(VLOOKUP(A1341,Feriados!A:A,1,FALSE)),\"n\",VLOOKUP(A1341,Feriados!A:A,1,FALSE))","v":"n"}]
[45902,922,{"$f":"IF(E1342<>\"n\",COUNTIF(B1342:$B$4018,B1342),IF(D1342<6,0,COUNTIF(B1342:$B$4018,B1342)))","v":0},2,{"$f":"IF(ISERROR(VLOOKUP(A1342,Feriados!A:A,1,FALSE)),\"n\",VLOOKUP(A1342,Feriados!A:A,1,FALSE))","v":"n"}]
[45903,923,{"$f":"IF(E1343<>\"n\",COUNTIF(B1343:$B$4018,B1343),IF(D1343<6,0,COUNTIF(B1343:$B$4018,B1343)))","v":0},3,{"$f":"IF(ISERROR(VLOOKUP(A1343,Feriados!A:A,1,FALSE)),\"n\",VLOOKUP(A1343,Feriados!A:A,1,FALSE))","v":"n"}]
[45904,924,{"$f":"IF(E1344<>\"n\",COUNTIF(B1344:$B$4018,B1344),IF(D1344<6,0,COUNTIF(B1344:$B$4018,B1344)))","v":0},4,{"$f":"IF(ISERROR(VLOOKUP(A1344,Feriados!A:A,1,FALSE)),\"n\",VLOOKUP(A1344,Feriados!A:A,1,FALSE))","v":"n"}]
[45905,925,{"$f":"IF(E1345<>\"n\",COUNTIF(B1345:$B$4018,B1345),IF(D1345<6,0,COUNTIF(B1345:$B$4018,B1345)))","v":0},5,{"$f":"IF(ISERROR(VLOOKUP(A1345,Feriados!A:A,1,FALSE)),\"n\",VLOOKUP(A1345,Feriados!A:A,1,FALSE))","v":"n"}]
[45906,925,{"$f":"IF(E1346<>\"n\",COUNTIF(B1346:$B$4018,B1346),IF(D1346<6,0,COUNTIF(B1346:$B$4018,B1346)))","v":2},6,{"$f":"IF(ISERROR(VLOOKUP(A1346,Feriados!A:A,1,FALSE)),\"n\",VLOOKUP(A1346,Feriados!A:A,1,FALSE))","v":"n"}]
[45907,925,{"$f":"IF(E1347<>\"n\",COUNTIF(B1347:$B$4018,B1347),IF(D1347<6,0,COUNTIF(B1347:$B$4018,B1347)))","v":1},7,{"$f":"IF(ISERROR(VLOOKUP(A1347,Feriados!A:A,1,FALSE)),\"n\",VLOOKUP(A1347,Feriados!A:A,1,FALSE))","v":"2025-09-07"}]
[{"$f":"A1347+1","v":45908},926,{"$f":"IF(E1348<>\"n\",COUNTIF(B1348:$B$4018,B1348),IF(D1348<6,0,COUNTIF(B1348:$B$4018,B1348)))","v":0},1,{"$f":"IF(ISERROR(VLOOKUP(A1348,Feriados!A:A,1,FALSE)),\"n\",VLOOKUP(A1348,Feriados!A:A,1,FALSE))","v":"n"}]
[45909,927,{"$f":"IF(E1349<>\"n\",COUNTIF(B1349:$B$4018,B1349),IF(D1349<6,0,COUNTIF(B1349:$B$4018,B1349)))","v":0},2,{"$f":"IF(ISERROR(VLOOKUP(A1349,Feriados!A:A,1,FALSE)),\"n\",VLOOKUP(A1349,Feriados!A:A,1,FALSE))","v":"n"}]
[45910,928,{"$f":"IF(E1350<>\"n\",COUNTIF(B1350:$B$4018,B1350),IF(D1350<6,0,COUNTIF(B1350:$B$4018,B1350)))","v":0},3,{"$f":"IF(ISERROR(VLOOKUP(A1350,Feriados!A:A,1,FALSE)),\"n\",VLOOKUP(A1350,Feriados!A:A,1,FALSE))","v":"n"}]
[45911,929,{"$f":"IF(E1351<>\"n\",COUNTIF(B1351:$B$4018,B1351),IF(D1351<6,0,COUNTIF(B1351:$B$4018,B1351)))","v":0},4,{"$f":"IF(ISERROR(VLOOKUP(A1351,Feriados!A:A,1,FALSE)),\"n\",VLOOKUP(A1351,Feriados!A:A,1,FALSE))","v":"n"}]
[45912,930,{"$f":"IF(E1352<>\"n\",COUNTIF(B1352:$B$4018,B1352),IF(D1352<6,0,COUNTIF(B1352:$B$4018,B1352)))","v":0},5,{"$f":"IF(ISERROR(VLOOKUP(A1352,Feriados!A:A,1,FALSE)),\"n\",VLOOKUP(A1352,Feriados!A:A,1,FALSE))","v":"n"}]
[45913,930,{"$f":"IF(E1353<>\"n\",COUNTIF(B1353:$B$4018,B1353),IF(D1353<6,0,COUNTIF(B1353:$B$4018,B1353)))","v":2},6,{"$f":"IF(ISERROR(VLOOKUP(A1353,Feriados!A:A,1,FALSE)),\"n\",VLOOKUP(A1353,Feriados!A:A,1,FALSE))","v":"n"}]
[45914,930,{"$f":"IF(E1354<>\"n\",COUNTIF(B1354:$B$4018,B1354),IF(D1354<6,0,COUNTIF(B1354:$B$4018,B1354)))","v":1},7,{"$f":"IF(ISERROR(VLOOKUP(A1354,Feriados!A:A,1,FALSE)),\"n\",VLOOKUP(A1354,Feriados!A:A,1,FALSE))","v":"n"}]
[45915,931,{"$f":"IF(E1355<>\"n\",COUNTIF(B1355:$B$4018,B1355),IF(D1355<6,0,COUNTIF(B1355:$B$4018,B1355)))","v":0},1,{"$f":"IF(ISERROR(VLOOKUP(A1355,Feriados!A:A,1,FALSE)),\"n\",VLOOKUP(A1355,Feriados!A:A,1,FALSE))","v":"n"}]
[45916,932,{"$f":"IF(E1356<>\"n\",COUNTIF(B1356:$B$4018,B1356),IF(D1356<6,0,COUNTIF(B1356:$B$4018,B1356)))","v":0},2,{"$f":"IF(ISERROR(VLOOKUP(A1356,Feriados!A:A,1,FALSE)),\"n\",VLOOKUP(A1356,Feriados!A:A,1,FALSE))","v":"n"}]
[45917,933,{"$f":"IF(E1357<>\"n\",COUNTIF(B1357:$B$4018,B1357),IF(D1357<6,0,COUNTIF(B1357:$B$4018,B1357)))","v":0},3,{"$f":"IF(ISERROR(VLOOKUP(A1357,Feriados!A:A,1,FALSE)),\"n\",VLOOKUP(A1357,Feriados!A:A,1,FALSE))","v":"n"}]
[45918,934,{"$f":"IF(E1358<>\"n\",COUNTIF(B1358:$B$4018,B1358),IF(D1358<6,0,COUNTIF(B1358:$B$4018,B1358)))","v":0},4,{"$f":"IF(ISERROR(VLOOKUP(A1358,Feriados!A:A,1,FALSE)),\"n\",VLOOKUP(A1358,Feriados!A:A,1,FALSE))","v":"n"}]
[45919,935,{"$f":"IF(E1359<>\"n\",COUNTIF(B1359:$B$4018,B1359),IF(D1359<6,0,COUNTIF(B1359:$B$4018,B1359)))","v":0},5,{"$f":"IF(ISERROR(VLOOKUP(A1359,Feriados!A:A,1,FALSE)),\"n\",VLOOKUP(A1359,Feriados!A:A,1,FALSE))","v":"n"}]
[45920,935,{"$f":"IF(E1360<>\"n\",COUNTIF(B1360:$B$4018,B1360),IF(D1360<6,0,COUNTIF(B1360:$B$4018,B1360)))","v":2},6,{"$f":"IF(ISERROR(VLOOKUP(A1360,Feriados!A:A,1,FALSE)),\"n\",VLOOKUP(A1360,Feriados!A:A,1,FALSE))","v":"n"}]
[45921,935,{"$f":"IF(E1361<>\"n\",COUNTIF(B1361:$B$4018,B1361),IF(D1361<6,0,COUNTIF(B1361:$B$4018,B1361)))","v":1},7,{"$f":"IF(ISERROR(VLOOKUP(A1361,Feriados!A:A,1,FALSE)),\"n\",VLOOKUP(A1361,Feriados!A:A,1,FALSE))","v":"n"}]
[45922,936,{"$f":"IF(E1362<>\"n\",COUNTIF(B1362:$B$4018,B1362),IF(D1362<6,0,COUNTIF(B1362:$B$4018,B1362)))","v":0},1,{"$f":"IF(ISERROR(VLOOKUP(A1362,Feriados!A:A,1,FALSE)),\"n\",VLOOKUP(A1362,Feriados!A:A,1,FALSE))","v":"n"}]
[45923,937,{"$f":"IF(E1363<>\"n\",COUNTIF(B1363:$B$4018,B1363),IF(D1363<6,0,COUNTIF(B1363:$B$4018,B1363)))","v":0},2,{"$f":"IF(ISERROR(VLOOKUP(A1363,Feriados!A:A,1,FALSE)),\"n\",VLOOKUP(A1363,Feriados!A:A,1,FALSE))","v":"n"}]
[45924,938,{"$f":"IF(E1364<>\"n\",COUNTIF(B1364:$B$4018,B1364),IF(D1364<6,0,COUNTIF(B1364:$B$4018,B1364)))","v":0},3,{"$f":"IF(ISERROR(VLOOKUP(A1364,Feriados!A:A,1,FALSE)),\"n\",VLOOKUP(A1364,Feriados!A:A,1,FALSE))","v":"n"}]
[45925,939,{"$f":"IF(E1365<>\"n\",COUNTIF(B1365:$B$4018,B1365),IF(D1365<6,0,COUNTIF(B1365:$B$4018,B1365)))","v":0},4,{"$f":"IF(ISERROR(VLOOKUP(A1365,Feriados!A:A,1,FALSE)),\"n\",VLOOKUP(A1365,Feriados!A:A,1,FALSE))","v":"n"}]
[45926,940,{"$f":"IF(E1366<>\"n\",COUNTIF(B1366:$B$4018,B1366),IF(D1366<6,0,COUNTIF(B1366:$B$4018,B1366)))","v":0},5,{"$f":"IF(ISERROR(VLOOKUP(A1366,Feriados!A:A,1,FALSE)),\"n\",VLOOKUP(A1366,Feriados!A:A,1,FALSE))","v":"n"}]
[45927,940,{"$f":"IF(E1367<>\"n\",COUNTIF(B1367:$B$4018,B1367),IF(D1367<6,0,COUNTIF(B1367:$B$4018,B1367)))","v":2},6,{"$f":"IF(ISERROR(VLOOKUP(A1367,Feriados!A:A,1,FALSE)),\"n\",VLOOKUP(A1367,Feriados!A:A,1,FALSE))","v":"n"}]
[45928,940,{"$f":"IF(E1368<>\"n\",COUNTIF(B1368:$B$4018,B1368),IF(D1368<6,0,COUNTIF(B1368:$B$4018,B1368)))","v":1},7,{"$f":"IF(ISERROR(VLOOKUP(A1368,Feriados!A:A,1,FALSE)),\"n\",VLOOKUP(A1368,Feriados!A:A,1,FALSE))","v":"n"}]
[45929,941,{"$f":"IF(E1369<>\"n\",COUNTIF(B1369:$B$4018,B1369),IF(D1369<6,0,COUNTIF(B1369:$B$4018,B1369)))","v":0},1,{"$f":"IF(ISERROR(VLOOKUP(A1369,Feriados!A:A,1,FALSE)),\"n\",VLOOKUP(A1369,Feriados!A:A,1,FALSE))","v":"n"}]
[45930,942,{"$f":"IF(E1370<>\"n\",COUNTIF(B1370:$B$4018,B1370),IF(D1370<6,0,COUNTIF(B1370:$B$4018,B1370)))","v":0},2,{"$f":"IF(ISERROR(VLOOKUP(A1370,Feriados!A:A,1,FALSE)),\"n\",VLOOKUP(A1370,Feriados!A:A,1,FALSE))","v":"n"}]
[45931,943,{"$f":"IF(E1371<>\"n\",COUNTIF(B1371:$B$4018,B1371),IF(D1371<6,0,COUNTIF(B1371:$B$4018,B1371)))","v":0},3,{"$f":"IF(ISERROR(VLOOKUP(A1371,Feriados!A:A,1,FALSE)),\"n\",VLOOKUP(A1371,Feriados!A:A,1,FALSE))","v":"n"}]
[45932,944,{"$f":"IF(E1372<>\"n\",COUNTIF(B1372:$B$4018,B1372),IF(D1372<6,0,COUNTIF(B1372:$B$4018,B1372)))","v":0},4,{"$f":"IF(ISERROR(VLOOKUP(A1372,Feriados!A:A,1,FALSE)),\"n\",VLOOKUP(A1372,Feriados!A:A,1,FALSE))","v":"n"}]
[45933,945,{"$f":"IF(E1373<>\"n\",COUNTIF(B1373:$B$4018,B1373),IF(D1373<6,0,COUNTIF(B1373:$B$4018,B1373)))","v":0},5,{"$f":"IF(ISERROR(VLOOKUP(A1373,Feriados!A:A,1,FALSE)),\"n\",VLOOKUP(A1373,Feriados!A:A,1,FALSE))","v":"n"}]
[45934,{"$f":"NETWORKDAYS($A$2,A1374,feriados)","v":945},{"$f":"IF(E1374<>\"n\",COUNTIF(B1374:$B$4018,B1374),IF(D1374<6,0,COUNTIF(B1374:$B$4018,B1374)))","v":2},{"$f":"WEEKDAY(A1374,2)","v":6},{"$f":"IF(ISERROR(VLOOKUP(A1374,Feriados!A:A,1,FALSE)),\"n\",VLOOKUP(A1374,Feriados!A:A,1,FALSE))","v":"n"}]
[45935,945,{"$f":"IF(E1375<>\"n\",COUNTIF(B1375:$B$4018,B1375),IF(D1375<6,0,COUNTIF(B1375:$B$4018,B1375)))","v":1},7,{"$f":"IF(ISERROR(VLOOKUP(A1375,Feriados!A:A,1,FALSE)),\"n\",VLOOKUP(A1375,Feriados!A:A,1,FALSE))","v":"n"}]
[45936,946,{"$f":"IF(E1376<>\"n\",COUNTIF(B1376:$B$4018,B1376),IF(D1376<6,0,COUNTIF(B1376:$B$4018,B1376)))","v":0},1,{"$f":"IF(ISERROR(VLOOKUP(A1376,Feriados!A:A,1,FALSE)),\"n\",VLOOKUP(A1376,Feriados!A:A,1,FALSE))","v":"n"}]
[45937,947,{"$f":"IF(E1377<>\"n\",COUNTIF(B1377:$B$4018,B1377),IF(D1377<6,0,COUNTIF(B1377:$B$4018,B1377)))","v":0},2,{"$f":"IF(ISERROR(VLOOKUP(A1377,Feriados!A:A,1,FALSE)),\"n\",VLOOKUP(A1377,Feriados!A:A,1,FALSE))","v":"n"}]
[45938,948,{"$f":"IF(E1378<>\"n\",COUNTIF(B1378:$B$4018,B1378),IF(D1378<6,0,COUNTIF(B1378:$B$4018,B1378)))","v":0},3,{"$f":"IF(ISERROR(VLOOKUP(A1378,Feriados!A:A,1,FALSE)),\"n\",VLOOKUP(A1378,Feriados!A:A,1,FALSE))","v":"n"}]
[45939,949,{"$f":"IF(E1379<>\"n\",COUNTIF(B1379:$B$4018,B1379),IF(D1379<6,0,COUNTIF(B1379:$B$4018,B1379)))","v":0},4,{"$f":"IF(ISERROR(VLOOKUP(A1379,Feriados!A:A,1,FALSE)),\"n\",VLOOKUP(A1379,Feriados!A:A,1,FALSE))","v":"n"}]
[45940,950,{"$f":"IF(E1380<>\"n\",COUNTIF(B1380:$B$4018,B1380),IF(D1380<6,0,COUNTIF(B1380:$B$4018,B1380)))","v":0},5,{"$f":"IF(ISERROR(VLOOKUP(A1380,Feriados!A:A,1,FALSE)),\"n\",VLOOKUP(A1380,Feriados!A:A,1,FALSE))","v":"n"}]
[45941,950,{"$f":"IF(E1381<>\"n\",COUNTIF(B1381:$B$4018,B1381),IF(D1381<6,0,COUNTIF(B1381:$B$4018,B1381)))","v":2},6,{"$f":"IF(ISERROR(VLOOKUP(A1381,Feriados!A:A,1,FALSE)),\"n\",VLOOKUP(A1381,Feriados!A:A,1,FALSE))","v":"n"}]
[45942,950,{"$f":"IF(E1382<>\"n\",COUNTIF(B1382:$B$4018,B1382),IF(D1382<6,0,COUNTIF(B1382:$B$4018,B1382)))","v":1},7,{"$f":"IF(ISERROR(VLOOKUP(A1382,Feriados!A:A,1,FALSE)),\"n\",VLOOKUP(A1382,Feriados!A:A,1,FALSE))","v":"2025-10-12"}]
[45943,951,{"$f":"IF(E1383<>\"n\",COUNTIF(B1383:$B$4018,B1383),IF(D1383<6,0,COUNTIF(B1383:$B$4018,B1383)))","v":0},1,{"$f":"IF(ISERROR(VLOOKUP(A1383,Feriados!A:A,1,FALSE)),\"n\",VLOOKUP(A1383,Feriados!A:A,1,FALSE))","v":"n"}]
[45944,952,{"$f":"IF(E1384<>\"n\",COUNTIF(B1384:$B$4018,B1384),IF(D1384<6,0,COUNTIF(B1384:$B$4018,B1384)))","v":0},2,{"$f":"IF(ISERROR(VLOOKUP(A1384,Feriados!A:A,1,FALSE)),\"n\",VLOOKUP(A1384,Feriados!A:A,1,FALSE))","v":"n"}]
[45945,953,{"$f":"IF(E1385<>\"n\",COUNTIF(B1385:$B$4018,B1385),IF(D1385<6,0,COUNTIF(B1385:$B$4018,B1385)))","v":0},3,{"$f":"IF(ISERROR(VLOOKUP(A1385,Feriados!A:A,1,FALSE)),\"n\",VLOOKUP(A1385,Feriados!A:A,1,FALSE))","v":"n"}]
[45946,954,{"$f":"IF(E1386<>\"n\",COUNTIF(B1386:$B$4018,B1386),IF(D1386<6,0,COUNTIF(B1386:$B$4018,B1386)))","v":0},4,{"$f":"IF(ISERROR(VLOOKUP(A1386,Feriados!A:A,1,FALSE)),\"n\",VLOOKUP(A1386,Feriados!A:A,1,FALSE))","v":"n"}]
[45947,955,{"$f":"IF(E1387<>\"n\",COUNTIF(B1387:$B$4018,B1387),IF(D1387<6,0,COUNTIF(B1387:$B$4018,B1387)))","v":0},5,{"$f":"IF(ISERROR(VLOOKUP(A1387,Feriados!A:A,1,FALSE)),\"n\",VLOOKUP(A1387,Feriados!A:A,1,FALSE))","v":"n"}]
[45948,955,{"$f":"IF(E1388<>\"n\",COUNTIF(B1388:$B$4018,B1388),IF(D1388<6,0,COUNTIF(B1388:$B$4018,B1388)))","v":2},6,{"$f":"IF(ISERROR(VLOOKUP(A1388,Feriados!A:A,1,FALSE)),\"n\",VLOOKUP(A1388,Feriados!A:A,1,FALSE))","v":"n"}]
[45949,955,{"$f":"IF(E1389<>\"n\",COUNTIF(B1389:$B$4018,B1389),IF(D1389<6,0,COUNTIF(B1389:$B$4018,B1389)))","v":1},7,{"$f":"IF(ISERROR(VLOOKUP(A1389,Feriados!A:A,1,FALSE)),\"n\",VLOOKUP(A1389,Feriados!A:A,1,FALSE))","v":"n"}]
[45950,956,{"$f":"IF(E1390<>\"n\",COUNTIF(B1390:$B$4018,B1390),IF(D1390<6,0,COUNTIF(B1390:$B$4018,B1390)))","v":0},1,{"$f":"IF(ISERROR(VLOOKUP(A1390,Feriados!A:A,1,FALSE)),\"n\",VLOOKUP(A1390,Feriados!A:A,1,FALSE))","v":"n"}]
[45951,957,{"$f":"IF(E1391<>\"n\",COUNTIF(B1391:$B$4018,B1391),IF(D1391<6,0,COUNTIF(B1391:$B$4018,B1391)))","v":0},2,{"$f":"IF(ISERROR(VLOOKUP(A1391,Feriados!A:A,1,FALSE)),\"n\",VLOOKUP(A1391,Feriados!A:A,1,FALSE))","v":"n"}]
[45952,958,{"$f":"IF(E1392<>\"n\",COUNTIF(B1392:$B$4018,B1392),IF(D1392<6,0,COUNTIF(B1392:$B$4018,B1392)))","v":0},3,{"$f":"IF(ISERROR(VLOOKUP(A1392,Feriados!A:A,1,FALSE)),\"n\",VLOOKUP(A1392,Feriados!A:A,1,FALSE))","v":"n"}]
[45953,959,{"$f":"IF(E1393<>\"n\",COUNTIF(B1393:$B$4018,B1393),IF(D1393<6,0,COUNTIF(B1393:$B$4018,B1393)))","v":0},4,{"$f":"IF(ISERROR(VLOOKUP(A1393,Feriados!A:A,1,FALSE)),\"n\",VLOOKUP(A1393,Feriados!A:A,1,FALSE))","v":"n"}]
[45954,960,{"$f":"IF(E1394<>\"n\",COUNTIF(B1394:$B$4018,B1394),IF(D1394<6,0,COUNTIF(B1394:$B$4018,B1394)))","v":0},5,{"$f":"IF(ISERROR(VLOOKUP(A1394,Feriados!A:A,1,FALSE)),\"n\",VLOOKUP(A1394,Feriados!A:A,1,FALSE))","v":"n"}]
[45955,960,{"$f":"IF(E1395<>\"n\",COUNTIF(B1395:$B$4018,B1395),IF(D1395<6,0,COUNTIF(B1395:$B$4018,B1395)))","v":2},6,{"$f":"IF(ISERROR(VLOOKUP(A1395,Feriados!A:A,1,FALSE)),\"n\",VLOOKUP(A1395,Feriados!A:A,1,FALSE))","v":"n"}]
[45956,960,{"$f":"IF(E1396<>\"n\",COUNTIF(B1396:$B$4018,B1396),IF(D1396<6,0,COUNTIF(B1396:$B$4018,B1396)))","v":1},7,{"$f":"IF(ISERROR(VLOOKUP(A1396,Feriados!A:A,1,FALSE)),\"n\",VLOOKUP(A1396,Feriados!A:A,1,FALSE))","v":"n"}]
[45957,961,{"$f":"IF(E1397<>\"n\",COUNTIF(B1397:$B$4018,B1397),IF(D1397<6,0,COUNTIF(B1397:$B$4018,B1397)))","v":0},1,{"$f":"IF(ISERROR(VLOOKUP(A1397,Feriados!A:A,1,FALSE)),\"n\",VLOOKUP(A1397,Feriados!A:A,1,FALSE))","v":"n"}]
[45958,962,{"$f":"IF(E1398<>\"n\",COUNTIF(B1398:$B$4018,B1398),IF(D1398<6,0,COUNTIF(B1398:$B$4018,B1398)))","v":0},2,{"$f":"IF(ISERROR(VLOOKUP(A1398,Feriados!A:A,1,FALSE)),\"n\",VLOOKUP(A1398,Feriados!A:A,1,FALSE))","v":"n"}]
[45959,963,{"$f":"IF(E1399<>\"n\",COUNTIF(B1399:$B$4018,B1399),IF(D1399<6,0,COUNTIF(B1399:$B$4018,B1399)))","v":0},3,{"$f":"IF(ISERROR(VLOOKUP(A1399,Feriados!A:A,1,FALSE)),\"n\",VLOOKUP(A1399,Feriados!A:A,1,FALSE))","v":"n"}]
[45960,964,{"$f":"IF(E1400<>\"n\",COUNTIF(B1400:$B$4018,B1400),IF(D1400<6,0,COUNTIF(B1400:$B$4018,B1400)))","v":0},4,{"$f":"IF(ISERROR(VLOOKUP(A1400,Feriados!A:A,1,FALSE)),\"n\",VLOOKUP(A1400,Feriados!A:A,1,FALSE))","v":"n"}]
[45961,965,{"$f":"IF(E1401<>\"n\",COUNTIF(B1401:$B$4018,B1401),IF(D1401<6,0,COUNTIF(B1401:$B$4018,B1401)))","v":0},5,{"$f":"IF(ISERROR(VLOOKUP(A1401,Feriados!A:A,1,FALSE)),\"n\",VLOOKUP(A1401,Feriados!A:A,1,FALSE))","v":"n"}]
[45962,965,{"$f":"IF(E1402<>\"n\",COUNTIF(B1402:$B$4018,B1402),IF(D1402<6,0,COUNTIF(B1402:$B$4018,B1402)))","v":2},6,{"$f":"IF(ISERROR(VLOOKUP(A1402,Feriados!A:A,1,FALSE)),\"n\",VLOOKUP(A1402,Feriados!A:A,1,FALSE))","v":"n"}]
[45963,965,{"$f":"IF(E1403<>\"n\",COUNTIF(B1403:$B$4018,B1403),IF(D1403<6,0,COUNTIF(B1403:$B$4018,B1403)))","v":1},7,{"$f":"IF(ISERROR(VLOOKUP(A1403,Feriados!A:A,1,FALSE)),\"n\",VLOOKUP(A1403,Feriados!A:A,1,FALSE))","v":"2025-11-02"}]
[45964,966,{"$f":"IF(E1404<>\"n\",COUNTIF(B1404:$B$4018,B1404),IF(D1404<6,0,COUNTIF(B1404:$B$4018,B1404)))","v":0},1,{"$f":"IF(ISERROR(VLOOKUP(A1404,Feriados!A:A,1,FALSE)),\"n\",VLOOKUP(A1404,Feriados!A:A,1,FALSE))","v":"n"}]
[45965,967,{"$f":"IF(E1405<>\"n\",COUNTIF(B1405:$B$4018,B1405),IF(D1405<6,0,COUNTIF(B1405:$B$4018,B1405)))","v":0},2,{"$f":"IF(ISERROR(VLOOKUP(A1405,Feriados!A:A,1,FALSE)),\"n\",VLOOKUP(A1405,Feriados!A:A,1,FALSE))","v":"n"}]
[45966,968,{"$f":"IF(E1406<>\"n\",COUNTIF(B1406:$B$4018,B1406),IF(D1406<6,0,COUNTIF(B1406:$B$4018,B1406)))","v":0},3,{"$f":"IF(ISERROR(VLOOKUP(A1406,Feriados!A:A,1,FALSE)),\"n\",VLOOKUP(A1406,Feriados!A:A,1,FALSE))","v":"n"}]
[45967,969,{"$f":"IF(E1407<>\"n\",COUNTIF(B1407:$B$4018,B1407),IF(D1407<6,0,COUNTIF(B1407:$B$4018,B1407)))","v":0},4,{"$f":"IF(ISERROR(VLOOKUP(A1407,Feriados!A:A,1,FALSE)),\"n\",VLOOKUP(A1407,Feriados!A:A,1,FALSE))","v":"n"}]
[45968,970,{"$f":"IF(E1408<>\"n\",COUNTIF(B1408:$B$4018,B1408),IF(D1408<6,0,COUNTIF(B1408:$B$4018,B1408)))","v":0},5,{"$f":"IF(ISERROR(VLOOKUP(A1408,Feriados!A:A,1,FALSE)),\"n\",VLOOKUP(A1408,Feriados!A:A,1,FALSE))","v":"n"}]
[45969,970,{"$f":"IF(E1409<>\"n\",COUNTIF(B1409:$B$4018,B1409),IF(D1409<6,0,COUNTIF(B1409:$B$4018,B1409)))","v":2},6,{"$f":"IF(ISERROR(VLOOKUP(A1409,Feriados!A:A,1,FALSE)),\"n\",VLOOKUP(A1409,Feriados!A:A,1,FALSE))","v":"n"}]
[45970,970,{"$f":"IF(E1410<>\"n\",COUNTIF(B1410:$B$4018,B1410),IF(D1410<6,0,COUNTIF(B1410:$B$4018,B1410)))","v":1},7,{"$f":"IF(ISERROR(VLOOKUP(A1410,Feriados!A:A,1,FALSE)),\"n\",VLOOKUP(A1410,Feriados!A:A,1,FALSE))","v":"n"}]
[45971,971,{"$f":"IF(E1411<>\"n\",COUNTIF(B1411:$B$4018,B1411),IF(D1411<6,0,COUNTIF(B1411:$B$4018,B1411)))","v":0},1,{"$f":"IF(ISERROR(VLOOKUP(A1411,Feriados!A:A,1,FALSE)),\"n\",VLOOKUP(A1411,Feriados!A:A,1,FALSE))","v":"n"}]
[{"$f":"A1411+1","v":45972},972,{"$f":"IF(E1412<>\"n\",COUNTIF(B1412:$B$4018,B1412),IF(D1412<6,0,COUNTIF(B1412:$B$4018,B1412)))","v":0},2,{"$f":"IF(ISERROR(VLOOKUP(A1412,Feriados!A:A,1,FALSE)),\"n\",VLOOKUP(A1412,Feriados!A:A,1,FALSE))","v":"n"}]
[45973,973,{"$f":"IF(E1413<>\"n\",COUNTIF(B1413:$B$4018,B1413),IF(D1413<6,0,COUNTIF(B1413:$B$4018,B1413)))","v":0},3,{"$f":"IF(ISERROR(VLOOKUP(A1413,Feriados!A:A,1,FALSE)),\"n\",VLOOKUP(A1413,Feriados!A:A,1,FALSE))","v":"n"}]
[45974,974,{"$f":"IF(E1414<>\"n\",COUNTIF(B1414:$B$4018,B1414),IF(D1414<6,0,COUNTIF(B1414:$B$4018,B1414)))","v":0},4,{"$f":"IF(ISERROR(VLOOKUP(A1414,Feriados!A:A,1,FALSE)),\"n\",VLOOKUP(A1414,Feriados!A:A,1,FALSE))","v":"n"}]
[45975,975,{"$f":"IF(E1415<>\"n\",COUNTIF(B1415:$B$4018,B1415),IF(D1415<6,0,COUNTIF(B1415:$B$4018,B1415)))","v":0},5,{"$f":"IF(ISERROR(VLOOKUP(A1415,Feriados!A:A,1,FALSE)),\"n\",VLOOKUP(A1415,Feriados!A:A,1,FALSE))","v":"n"}]
[45976,975,{"$f":"IF(E1416<>\"n\",COUNTIF(B1416:$B$4018,B1416),IF(D1416<6,0,COUNTIF(B1416:$B$4018,B1416)))","v":2},6,{"$f":"IF(ISERROR(VLOOKUP(A1416,Feriados!A:A,1,FALSE)),\"n\",VLOOKUP(A1416,Feriados!A:A,1,FALSE))","v":"2025-11-15"}]
[45977,975,{"$f":"IF(E1417<>\"n\",COUNTIF(B1417:$B$4018,B1417),IF(D1417<6,0,COUNTIF(B1417:$B$4018,B1417)))","v":1},7,{"$f":"IF(ISERROR(VLOOKUP(A1417,Feriados!A:A,1,FALSE)),\"n\",VLOOKUP(A1417,Feriados!A:A,1,FALSE))","v":"n"}]
[45978,976,{"$f":"IF(E1418<>\"n\",COUNTIF(B1418:$B$4018,B1418),IF(D1418<6,0,COUNTIF(B1418:$B$4018,B1418)))","v":0},1,{"$f":"IF(ISERROR(VLOOKUP(A1418,Feriados!A:A,1,FALSE)),\"n\",VLOOKUP(A1418,Feriados!A:A,1,FALSE))","v":"n"}]
[45979,977,{"$f":"IF(E1419<>\"n\",COUNTIF(B1419:$B$4018,B1419),IF(D1419<6,0,COUNTIF(B1419:$B$4018,B1419)))","v":0},2,{"$f":"IF(ISERROR(VLOOKUP(A1419,Feriados!A:A,1,FALSE)),\"n\",VLOOKUP(A1419,Feriados!A:A,1,FALSE))","v":"n"}]
[45980,978,{"$f":"IF(E1420<>\"n\",COUNTIF(B1420:$B$4018,B1420),IF(D1420<6,0,COUNTIF(B1420:$B$4018,B1420)))","v":0},3,{"$f":"IF(ISERROR(VLOOKUP(A1420,Feriados!A:A,1,FALSE)),\"n\",VLOOKUP(A1420,Feriados!A:A,1,FALSE))","v":"n"}]
[45981,979,{"$f":"IF(E1421<>\"n\",COUNTIF(B1421:$B$4018,B1421),IF(D1421<6,0,COUNTIF(B1421:$B$4018,B1421)))","v":0},4,{"$f":"IF(ISERROR(VLOOKUP(A1421,Feriados!A:A,1,FALSE)),\"n\",VLOOKUP(A1421,Feriados!A:A,1,FALSE))","v":"n"}]
[45982,980,{"$f":"IF(E1422<>\"n\",COUNTIF(B1422:$B$4018,B1422),IF(D1422<6,0,COUNTIF(B1422:$B$4018,B1422)))","v":0},5,{"$f":"IF(ISERROR(VLOOKUP(A1422,Feriados!A:A,1,FALSE)),\"n\",VLOOKUP(A1422,Feriados!A:A,1,FALSE))","v":"n"}]
[45983,980,{"$f":"IF(E1423<>\"n\",COUNTIF(B1423:$B$4018,B1423),IF(D1423<6,0,COUNTIF(B1423:$B$4018,B1423)))","v":2},6,{"$f":"IF(ISERROR(VLOOKUP(A1423,Feriados!A:A,1,FALSE)),\"n\",VLOOKUP(A1423,Feriados!A:A,1,FALSE))","v":"n"}]
[45984,980,{"$f":"IF(E1424<>\"n\",COUNTIF(B1424:$B$4018,B1424),IF(D1424<6,0,COUNTIF(B1424:$B$4018,B1424)))","v":1},7,{"$f":"IF(ISERROR(VLOOKUP(A1424,Feriados!A:A,1,FALSE)),\"n\",VLOOKUP(A1424,Feriados!A:A,1,FALSE))","v":"n"}]
[45985,981,{"$f":"IF(E1425<>\"n\",COUNTIF(B1425:$B$4018,B1425),IF(D1425<6,0,COUNTIF(B1425:$B$4018,B1425)))","v":0},1,{"$f":"IF(ISERROR(VLOOKUP(A1425,Feriados!A:A,1,FALSE)),\"n\",VLOOKUP(A1425,Feriados!A:A,1,FALSE))","v":"n"}]
[45986,982,{"$f":"IF(E1426<>\"n\",COUNTIF(B1426:$B$4018,B1426),IF(D1426<6,0,COUNTIF(B1426:$B$4018,B1426)))","v":0},2,{"$f":"IF(ISERROR(VLOOKUP(A1426,Feriados!A:A,1,FALSE)),\"n\",VLOOKUP(A1426,Feriados!A:A,1,FALSE))","v":"n"}]
[45987,983,{"$f":"IF(E1427<>\"n\",COUNTIF(B1427:$B$4018,B1427),IF(D1427<6,0,COUNTIF(B1427:$B$4018,B1427)))","v":0},3,{"$f":"IF(ISERROR(VLOOKUP(A1427,Feriados!A:A,1,FALSE)),\"n\",VLOOKUP(A1427,Feriados!A:A,1,FALSE))","v":"n"}]
[45988,984,{"$f":"IF(E1428<>\"n\",COUNTIF(B1428:$B$4018,B1428),IF(D1428<6,0,COUNTIF(B1428:$B$4018,B1428)))","v":0},4,{"$f":"IF(ISERROR(VLOOKUP(A1428,Feriados!A:A,1,FALSE)),\"n\",VLOOKUP(A1428,Feriados!A:A,1,FALSE))","v":"n"}]
[45989,985,{"$f":"IF(E1429<>\"n\",COUNTIF(B1429:$B$4018,B1429),IF(D1429<6,0,COUNTIF(B1429:$B$4018,B1429)))","v":0},5,{"$f":"IF(ISERROR(VLOOKUP(A1429,Feriados!A:A,1,FALSE)),\"n\",VLOOKUP(A1429,Feriados!A:A,1,FALSE))","v":"n"}]
[45990,985,{"$f":"IF(E1430<>\"n\",COUNTIF(B1430:$B$4018,B1430),IF(D1430<6,0,COUNTIF(B1430:$B$4018,B1430)))","v":2},6,{"$f":"IF(ISERROR(VLOOKUP(A1430,Feriados!A:A,1,FALSE)),\"n\",VLOOKUP(A1430,Feriados!A:A,1,FALSE))","v":"n"}]
[45991,985,{"$f":"IF(E1431<>\"n\",COUNTIF(B1431:$B$4018,B1431),IF(D1431<6,0,COUNTIF(B1431:$B$4018,B1431)))","v":1},7,{"$f":"IF(ISERROR(VLOOKUP(A1431,Feriados!A:A,1,FALSE)),\"n\",VLOOKUP(A1431,Feriados!A:A,1,FALSE))","v":"n"}]
[45992,986,{"$f":"IF(E1432<>\"n\",COUNTIF(B1432:$B$4018,B1432),IF(D1432<6,0,COUNTIF(B1432:$B$4018,B1432)))","v":0},1,{"$f":"IF(ISERROR(VLOOKUP(A1432,Feriados!A:A,1,FALSE)),\"n\",VLOOKUP(A1432,Feriados!A:A,1,FALSE))","v":"n"}]
[45993,987,{"$f":"IF(E1433<>\"n\",COUNTIF(B1433:$B$4018,B1433),IF(D1433<6,0,COUNTIF(B1433:$B$4018,B1433)))","v":0},2,{"$f":"IF(ISERROR(VLOOKUP(A1433,Feriados!A:A,1,FALSE)),\"n\",VLOOKUP(A1433,Feriados!A:A,1,FALSE))","v":"n"}]
[45994,988,{"$f":"IF(E1434<>\"n\",COUNTIF(B1434:$B$4018,B1434),IF(D1434<6,0,COUNTIF(B1434:$B$4018,B1434)))","v":0},3,{"$f":"IF(ISERROR(VLOOKUP(A1434,Feriados!A:A,1,FALSE)),\"n\",VLOOKUP(A1434,Feriados!A:A,1,FALSE))","v":"n"}]
[45995,989,{"$f":"IF(E1435<>\"n\",COUNTIF(B1435:$B$4018,B1435),IF(D1435<6,0,COUNTIF(B1435:$B$4018,B1435)))","v":0},4,{"$f":"IF(ISERROR(VLOOKUP(A1435,Feriados!A:A,1,FALSE)),\"n\",VLOOKUP(A1435,Feriados!A:A,1,FALSE))","v":"n"}]
[45996,990,{"$f":"IF(E1436<>\"n\",COUNTIF(B1436:$B$4018,B1436),IF(D1436<6,0,COUNTIF(B1436:$B$4018,B1436)))","v":0},5,{"$f":"IF(ISERROR(VLOOKUP(A1436,Feriados!A:A,1,FALSE)),\"n\",VLOOKUP(A1436,Feriados!A:A,1,FALSE))","v":"n"}]
[45997,990,{"$f":"IF(E1437<>\"n\",COUNTIF(B1437:$B$4018,B1437),IF(D1437<6,0,COUNTIF(B1437:$B$4018,B1437)))","v":2},6,{"$f":"IF(ISERROR(VLOOKUP(A1437,Feriados!A:A,1,FALSE)),\"n\",VLOOKUP(A1437,Feriados!A:A,1,FALSE))","v":"n"}]
[45998,{"$f":"NETWORKDAYS($A$2,A1438,feriados)","v":990},{"$f":"IF(E1438<>\"n\",COUNTIF(B1438:$B$4018,B1438),IF(D1438<6,0,COUNTIF(B1438:$B$4018,B1438)))","v":1},{"$f":"WEEKDAY(A1438,2)","v":7},{"$f":"IF(ISERROR(VLOOKUP(A1438,Feriados!A:A,1,FALSE)),\"n\",VLOOKUP(A1438,Feriados!A:A,1,FALSE))","v":"n"}]
[45999,991,{"$f":"IF(E1439<>\"n\",COUNTIF(B1439:$B$4018,B1439),IF(D1439<6,0,COUNTIF(B1439:$B$4018,B1439)))","v":0},1,{"$f":"IF(ISERROR(VLOOKUP(A1439,Feriados!A:A,1,FALSE)),\"n\",VLOOKUP(A1439,Feriados!A:A,1,FALSE))","v":"n"}]
[46000,992,{"$f":"IF(E1440<>\"n\",COUNTIF(B1440:$B$4018,B1440),IF(D1440<6,0,COUNTIF(B1440:$B$4018,B1440)))","v":0},2,{"$f":"IF(ISERROR(VLOOKUP(A1440,Feriados!A:A,1,FALSE)),\"n\",VLOOKUP(A1440,Feriados!A:A,1,FALSE))","v":"n"}]
[46001,993,{"$f":"IF(E1441<>\"n\",COUNTIF(B1441:$B$4018,B1441),IF(D1441<6,0,COUNTIF(B1441:$B$4018,B1441)))","v":0},3,{"$f":"IF(ISERROR(VLOOKUP(A1441,Feriados!A:A,1,FALSE)),\"n\",VLOOKUP(A1441,Feriados!A:A,1,FALSE))","v":"n"}]
[46002,994,{"$f":"IF(E1442<>\"n\",COUNTIF(B1442:$B$4018,B1442),IF(D1442<6,0,COUNTIF(B1442:$B$4018,B1442)))","v":0},4,{"$f":"IF(ISERROR(VLOOKUP(A1442,Feriados!A:A,1,FALSE)),\"n\",VLOOKUP(A1442,Feriados!A:A,1,FALSE))","v":"n"}]
[46003,995,{"$f":"IF(E1443<>\"n\",COUNTIF(B1443:$B$4018,B1443),IF(D1443<6,0,COUNTIF(B1443:$B$4018,B1443)))","v":0},5,{"$f":"IF(ISERROR(VLOOKUP(A1443,Feriados!A:A,1,FALSE)),\"n\",VLOOKUP(A1443,Feriados!A:A,1,FALSE))","v":"n"}]
[46004,995,{"$f":"IF(E1444<>\"n\",COUNTIF(B1444:$B$4018,B1444),IF(D1444<6,0,COUNTIF(B1444:$B$4018,B1444)))","v":2},6,{"$f":"IF(ISERROR(VLOOKUP(A1444,Feriados!A:A,1,FALSE)),\"n\",VLOOKUP(A1444,Feriados!A:A,1,FALSE))","v":"n"}]
[46005,995,{"$f":"IF(E1445<>\"n\",COUNTIF(B1445:$B$4018,B1445),IF(D1445<6,0,COUNTIF(B1445:$B$4018,B1445)))","v":1},7,{"$f":"IF(ISERROR(VLOOKUP(A1445,Feriados!A:A,1,FALSE)),\"n\",VLOOKUP(A1445,Feriados!A:A,1,FALSE))","v":"n"}]
[46006,996,{"$f":"IF(E1446<>\"n\",COUNTIF(B1446:$B$4018,B1446),IF(D1446<6,0,COUNTIF(B1446:$B$4018,B1446)))","v":0},1,{"$f":"IF(ISERROR(VLOOKUP(A1446,Feriados!A:A,1,FALSE)),\"n\",VLOOKUP(A1446,Feriados!A:A,1,FALSE))","v":"n"}]
[46007,997,{"$f":"IF(E1447<>\"n\",COUNTIF(B1447:$B$4018,B1447),IF(D1447<6,0,COUNTIF(B1447:$B$4018,B1447)))","v":0},2,{"$f":"IF(ISERROR(VLOOKUP(A1447,Feriados!A:A,1,FALSE)),\"n\",VLOOKUP(A1447,Feriados!A:A,1,FALSE))","v":"n"}]
[46008,998,{"$f":"IF(E1448<>\"n\",COUNTIF(B1448:$B$4018,B1448),IF(D1448<6,0,COUNTIF(B1448:$B$4018,B1448)))","v":0},3,{"$f":"IF(ISERROR(VLOOKUP(A1448,Feriados!A:A,1,FALSE)),\"n\",VLOOKUP(A1448,Feriados!A:A,1,FALSE))","v":"n"}]
[46009,999,{"$f":"IF(E1449<>\"n\",COUNTIF(B1449:$B$4018,B1449),IF(D1449<6,0,COUNTIF(B1449:$B$4018,B1449)))","v":0},4,{"$f":"IF(ISERROR(VLOOKUP(A1449,Feriados!A:A,1,FALSE)),\"n\",VLOOKUP(A1449,Feriados!A:A,1,FALSE))","v":"n"}]
[46010,1000,{"$f":"IF(E1450<>\"n\",COUNTIF(B1450:$B$4018,B1450),IF(D1450<6,0,COUNTIF(B1450:$B$4018,B1450)))","v":0},5,{"$f":"IF(ISERROR(VLOOKUP(A1450,Feriados!A:A,1,FALSE)),\"n\",VLOOKUP(A1450,Feriados!A:A,1,FALSE))","v":"n"}]
[46011,1000,{"$f":"IF(E1451<>\"n\",COUNTIF(B1451:$B$4018,B1451),IF(D1451<6,0,COUNTIF(B1451:$B$4018,B1451)))","v":2},6,{"$f":"IF(ISERROR(VLOOKUP(A1451,Feriados!A:A,1,FALSE)),\"n\",VLOOKUP(A1451,Feriados!A:A,1,FALSE))","v":"n"}]
[46012,1000,{"$f":"IF(E1452<>\"n\",COUNTIF(B1452:$B$4018,B1452),IF(D1452<6,0,COUNTIF(B1452:$B$4018,B1452)))","v":1},7,{"$f":"IF(ISERROR(VLOOKUP(A1452,Feriados!A:A,1,FALSE)),\"n\",VLOOKUP(A1452,Feriados!A:A,1,FALSE))","v":"n"}]
[46013,1001,{"$f":"IF(E1453<>\"n\",COUNTIF(B1453:$B$4018,B1453),IF(D1453<6,0,COUNTIF(B1453:$B$4018,B1453)))","v":0},1,{"$f":"IF(ISERROR(VLOOKUP(A1453,Feriados!A:A,1,FALSE)),\"n\",VLOOKUP(A1453,Feriados!A:A,1,FALSE))","v":"n"}]
[46014,1002,{"$f":"IF(E1454<>\"n\",COUNTIF(B1454:$B$4018,B1454),IF(D1454<6,0,COUNTIF(B1454:$B$4018,B1454)))","v":0},2,{"$f":"IF(ISERROR(VLOOKUP(A1454,Feriados!A:A,1,FALSE)),\"n\",VLOOKUP(A1454,Feriados!A:A,1,FALSE))","v":"n"}]
[46015,1003,{"$f":"IF(E1455<>\"n\",COUNTIF(B1455:$B$4018,B1455),IF(D1455<6,0,COUNTIF(B1455:$B$4018,B1455)))","v":0},3,{"$f":"IF(ISERROR(VLOOKUP(A1455,Feriados!A:A,1,FALSE)),\"n\",VLOOKUP(A1455,Feriados!A:A,1,FALSE))","v":"n"}]
[46016,1003,{"$f":"IF(E1456<>\"n\",COUNTIF(B1456:$B$4018,B1456),IF(D1456<6,0,COUNTIF(B1456:$B$4018,B1456)))","v":1},4,{"$f":"IF(ISERROR(VLOOKUP(A1456,Feriados!A:A,1,FALSE)),\"n\",VLOOKUP(A1456,Feriados!A:A,1,FALSE))","v":"2025-12-25"}]
[46017,1004,{"$f":"IF(E1457<>\"n\",COUNTIF(B1457:$B$4018,B1457),IF(D1457<6,0,COUNTIF(B1457:$B$4018,B1457)))","v":0},5,{"$f":"IF(ISERROR(VLOOKUP(A1457,Feriados!A:A,1,FALSE)),\"n\",VLOOKUP(A1457,Feriados!A:A,1,FALSE))","v":"n"}]
[46018,1004,{"$f":"IF(E1458<>\"n\",COUNTIF(B1458:$B$4018,B1458),IF(D1458<6,0,COUNTIF(B1458:$B$4018,B1458)))","v":2},6,{"$f":"IF(ISERROR(VLOOKUP(A1458,Feriados!A:A,1,FALSE)),\"n\",VLOOKUP(A1458,Feriados!A:A,1,FALSE))","v":"n"}]
[46019,1004,{"$f":"IF(E1459<>\"n\",COUNTIF(B1459:$B$4018,B1459),IF(D1459<6,0,COUNTIF(B1459:$B$4018,B1459)))","v":1},7,{"$f":"IF(ISERROR(VLOOKUP(A1459,Feriados!A:A,1,FALSE)),\"n\",VLOOKUP(A1459,Feriados!A:A,1,FALSE))","v":"n"}]
[46020,1005,{"$f":"IF(E1460<>\"n\",COUNTIF(B1460:$B$4018,B1460),IF(D1460<6,0,COUNTIF(B1460:$B$4018,B1460)))","v":0},1,{"$f":"IF(ISERROR(VLOOKUP(A1460,Feriados!A:A,1,FALSE)),\"n\",VLOOKUP(A1460,Feriados!A:A,1,FALSE))","v":"n"}]
[46021,1006,{"$f":"IF(E1461<>\"n\",COUNTIF(B1461:$B$4018,B1461),IF(D1461<6,0,COUNTIF(B1461:$B$4018,B1461)))","v":0},2,{"$f":"IF(ISERROR(VLOOKUP(A1461,Feriados!A:A,1,FALSE)),\"n\",VLOOKUP(A1461,Feriados!A:A,1,FALSE))","v":"n"}]
[46022,1007,{"$f":"IF(E1462<>\"n\",COUNTIF(B1462:$B$4018,B1462),IF(D1462<6,0,COUNTIF(B1462:$B$4018,B1462)))","v":0},3,{"$f":"IF(ISERROR(VLOOKUP(A1462,Feriados!A:A,1,FALSE)),\"n\",VLOOKUP(A1462,Feriados!A:A,1,FALSE))","v":"n"}]
[46023,1007,{"$f":"IF(E1463<>\"n\",COUNTIF(B1463:$B$4018,B1463),IF(D1463<6,0,COUNTIF(B1463:$B$4018,B1463)))","v":1},4,{"$f":"IF(ISERROR(VLOOKUP(A1463,Feriados!A:A,1,FALSE)),\"n\",VLOOKUP(A1463,Feriados!A:A,1,FALSE))","v":"2026-01-01"}]
[46024,1008,{"$f":"IF(E1464<>\"n\",COUNTIF(B1464:$B$4018,B1464),IF(D1464<6,0,COUNTIF(B1464:$B$4018,B1464)))","v":0},5,{"$f":"IF(ISERROR(VLOOKUP(A1464,Feriados!A:A,1,FALSE)),\"n\",VLOOKUP(A1464,Feriados!A:A,1,FALSE))","v":"n"}]
[46025,1008,{"$f":"IF(E1465<>\"n\",COUNTIF(B1465:$B$4018,B1465),IF(D1465<6,0,COUNTIF(B1465:$B$4018,B1465)))","v":2},6,{"$f":"IF(ISERROR(VLOOKUP(A1465,Feriados!A:A,1,FALSE)),\"n\",VLOOKUP(A1465,Feriados!A:A,1,FALSE))","v":"n"}]
[46026,1008,{"$f":"IF(E1466<>\"n\",COUNTIF(B1466:$B$4018,B1466),IF(D1466<6,0,COUNTIF(B1466:$B$4018,B1466)))","v":1},7,{"$f":"IF(ISERROR(VLOOKUP(A1466,Feriados!A:A,1,FALSE)),\"n\",VLOOKUP(A1466,Feriados!A:A,1,FALSE))","v":"n"}]
[46027,1009,{"$f":"IF(E1467<>\"n\",COUNTIF(B1467:$B$4018,B1467),IF(D1467<6,0,COUNTIF(B1467:$B$4018,B1467)))","v":0},1,{"$f":"IF(ISERROR(VLOOKUP(A1467,Feriados!A:A,1,FALSE)),\"n\",VLOOKUP(A1467,Feriados!A:A,1,FALSE))","v":"n"}]
[46028,1010,{"$f":"IF(E1468<>\"n\",COUNTIF(B1468:$B$4018,B1468),IF(D1468<6,0,COUNTIF(B1468:$B$4018,B1468)))","v":0},2,{"$f":"IF(ISERROR(VLOOKUP(A1468,Feriados!A:A,1,FALSE)),\"n\",VLOOKUP(A1468,Feriados!A:A,1,FALSE))","v":"n"}]
[46029,1011,{"$f":"IF(E1469<>\"n\",COUNTIF(B1469:$B$4018,B1469),IF(D1469<6,0,COUNTIF(B1469:$B$4018,B1469)))","v":0},3,{"$f":"IF(ISERROR(VLOOKUP(A1469,Feriados!A:A,1,FALSE)),\"n\",VLOOKUP(A1469,Feriados!A:A,1,FALSE))","v":"n"}]
[46030,1012,{"$f":"IF(E1470<>\"n\",COUNTIF(B1470:$B$4018,B1470),IF(D1470<6,0,COUNTIF(B1470:$B$4018,B1470)))","v":0},4,{"$f":"IF(ISERROR(VLOOKUP(A1470,Feriados!A:A,1,FALSE)),\"n\",VLOOKUP(A1470,Feriados!A:A,1,FALSE))","v":"n"}]
[46031,1013,{"$f":"IF(E1471<>\"n\",COUNTIF(B1471:$B$4018,B1471),IF(D1471<6,0,COUNTIF(B1471:$B$4018,B1471)))","v":0},5,{"$f":"IF(ISERROR(VLOOKUP(A1471,Feriados!A:A,1,FALSE)),\"n\",VLOOKUP(A1471,Feriados!A:A,1,FALSE))","v":"n"}]
[46032,1013,{"$f":"IF(E1472<>\"n\",COUNTIF(B1472:$B$4018,B1472),IF(D1472<6,0,COUNTIF(B1472:$B$4018,B1472)))","v":2},6,{"$f":"IF(ISERROR(VLOOKUP(A1472,Feriados!A:A,1,FALSE)),\"n\",VLOOKUP(A1472,Feriados!A:A,1,FALSE))","v":"n"}]
[46033,1013,{"$f":"IF(E1473<>\"n\",COUNTIF(B1473:$B$4018,B1473),IF(D1473<6,0,COUNTIF(B1473:$B$4018,B1473)))","v":1},7,{"$f":"IF(ISERROR(VLOOKUP(A1473,Feriados!A:A,1,FALSE)),\"n\",VLOOKUP(A1473,Feriados!A:A,1,FALSE))","v":"n"}]
[46034,1014,{"$f":"IF(E1474<>\"n\",COUNTIF(B1474:$B$4018,B1474),IF(D1474<6,0,COUNTIF(B1474:$B$4018,B1474)))","v":0},1,{"$f":"IF(ISERROR(VLOOKUP(A1474,Feriados!A:A,1,FALSE)),\"n\",VLOOKUP(A1474,Feriados!A:A,1,FALSE))","v":"n"}]
[46035,1015,{"$f":"IF(E1475<>\"n\",COUNTIF(B1475:$B$4018,B1475),IF(D1475<6,0,COUNTIF(B1475:$B$4018,B1475)))","v":0},2,{"$f":"IF(ISERROR(VLOOKUP(A1475,Feriados!A:A,1,FALSE)),\"n\",VLOOKUP(A1475,Feriados!A:A,1,FALSE))","v":"n"}]
[{"$f":"A1475+1","v":46036},1016,{"$f":"IF(E1476<>\"n\",COUNTIF(B1476:$B$4018,B1476),IF(D1476<6,0,COUNTIF(B1476:$B$4018,B1476)))","v":0},3,{"$f":"IF(ISERROR(VLOOKUP(A1476,Feriados!A:A,1,FALSE)),\"n\",VLOOKUP(A1476,Feriados!A:A,1,FALSE))","v":"n"}]
[46037,1017,{"$f":"IF(E1477<>\"n\",COUNTIF(B1477:$B$4018,B1477),IF(D1477<6,0,COUNTIF(B1477:$B$4018,B1477)))","v":0},4,{"$f":"IF(ISERROR(VLOOKUP(A1477,Feriados!A:A,1,FALSE)),\"n\",VLOOKUP(A1477,Feriados!A:A,1,FALSE))","v":"n"}]
[46038,1018,{"$f":"IF(E1478<>\"n\",COUNTIF(B1478:$B$4018,B1478),IF(D1478<6,0,COUNTIF(B1478:$B$4018,B1478)))","v":0},5,{"$f":"IF(ISERROR(VLOOKUP(A1478,Feriados!A:A,1,FALSE)),\"n\",VLOOKUP(A1478,Feriados!A:A,1,FALSE))","v":"n"}]
[46039,1018,{"$f":"IF(E1479<>\"n\",COUNTIF(B1479:$B$4018,B1479),IF(D1479<6,0,COUNTIF(B1479:$B$4018,B1479)))","v":2},6,{"$f":"IF(ISERROR(VLOOKUP(A1479,Feriados!A:A,1,FALSE)),\"n\",VLOOKUP(A1479,Feriados!A:A,1,FALSE))","v":"n"}]
[46040,1018,{"$f":"IF(E1480<>\"n\",COUNTIF(B1480:$B$4018,B1480),IF(D1480<6,0,COUNTIF(B1480:$B$4018,B1480)))","v":1},7,{"$f":"IF(ISERROR(VLOOKUP(A1480,Feriados!A:A,1,FALSE)),\"n\",VLOOKUP(A1480,Feriados!A:A,1,FALSE))","v":"n"}]
[46041,1019,{"$f":"IF(E1481<>\"n\",COUNTIF(B1481:$B$4018,B1481),IF(D1481<6,0,COUNTIF(B1481:$B$4018,B1481)))","v":0},1,{"$f":"IF(ISERROR(VLOOKUP(A1481,Feriados!A:A,1,FALSE)),\"n\",VLOOKUP(A1481,Feriados!A:A,1,FALSE))","v":"n"}]
[46042,1020,{"$f":"IF(E1482<>\"n\",COUNTIF(B1482:$B$4018,B1482),IF(D1482<6,0,COUNTIF(B1482:$B$4018,B1482)))","v":0},2,{"$f":"IF(ISERROR(VLOOKUP(A1482,Feriados!A:A,1,FALSE)),\"n\",VLOOKUP(A1482,Feriados!A:A,1,FALSE))","v":"n"}]
[46043,1021,{"$f":"IF(E1483<>\"n\",COUNTIF(B1483:$B$4018,B1483),IF(D1483<6,0,COUNTIF(B1483:$B$4018,B1483)))","v":0},3,{"$f":"IF(ISERROR(VLOOKUP(A1483,Feriados!A:A,1,FALSE)),\"n\",VLOOKUP(A1483,Feriados!A:A,1,FALSE))","v":"n"}]
[46044,1022,{"$f":"IF(E1484<>\"n\",COUNTIF(B1484:$B$4018,B1484),IF(D1484<6,0,COUNTIF(B1484:$B$4018,B1484)))","v":0},4,{"$f":"IF(ISERROR(VLOOKUP(A1484,Feriados!A:A,1,FALSE)),\"n\",VLOOKUP(A1484,Feriados!A:A,1,FALSE))","v":"n"}]
[46045,1023,{"$f":"IF(E1485<>\"n\",COUNTIF(B1485:$B$4018,B1485),IF(D1485<6,0,COUNTIF(B1485:$B$4018,B1485)))","v":0},5,{"$f":"IF(ISERROR(VLOOKUP(A1485,Feriados!A:A,1,FALSE)),\"n\",VLOOKUP(A1485,Feriados!A:A,1,FALSE))","v":"n"}]
[46046,1023,{"$f":"IF(E1486<>\"n\",COUNTIF(B1486:$B$4018,B1486),IF(D1486<6,0,COUNTIF(B1486:$B$4018,B1486)))","v":2},6,{"$f":"IF(ISERROR(VLOOKUP(A1486,Feriados!A:A,1,FALSE)),\"n\",VLOOKUP(A1486,Feriados!A:A,1,FALSE))","v":"n"}]
[46047,1023,{"$f":"IF(E1487<>\"n\",COUNTIF(B1487:$B$4018,B1487),IF(D1487<6,0,COUNTIF(B1487:$B$4018,B1487)))","v":1},7,{"$f":"IF(ISERROR(VLOOKUP(A1487,Feriados!A:A,1,FALSE)),\"n\",VLOOKUP(A1487,Feriados!A:A,1,FALSE))","v":"n"}]
[46048,1024,{"$f":"IF(E1488<>\"n\",COUNTIF(B1488:$B$4018,B1488),IF(D1488<6,0,COUNTIF(B1488:$B$4018,B1488)))","v":0},1,{"$f":"IF(ISERROR(VLOOKUP(A1488,Feriados!A:A,1,FALSE)),\"n\",VLOOKUP(A1488,Feriados!A:A,1,FALSE))","v":"n"}]
[46049,1025,{"$f":"IF(E1489<>\"n\",COUNTIF(B1489:$B$4018,B1489),IF(D1489<6,0,COUNTIF(B1489:$B$4018,B1489)))","v":0},2,{"$f":"IF(ISERROR(VLOOKUP(A1489,Feriados!A:A,1,FALSE)),\"n\",VLOOKUP(A1489,Feriados!A:A,1,FALSE))","v":"n"}]
[46050,1026,{"$f":"IF(E1490<>\"n\",COUNTIF(B1490:$B$4018,B1490),IF(D1490<6,0,COUNTIF(B1490:$B$4018,B1490)))","v":0},3,{"$f":"IF(ISERROR(VLOOKUP(A1490,Feriados!A:A,1,FALSE)),\"n\",VLOOKUP(A1490,Feriados!A:A,1,FALSE))","v":"n"}]
[46051,1027,{"$f":"IF(E1491<>\"n\",COUNTIF(B1491:$B$4018,B1491),IF(D1491<6,0,COUNTIF(B1491:$B$4018,B1491)))","v":0},4,{"$f":"IF(ISERROR(VLOOKUP(A1491,Feriados!A:A,1,FALSE)),\"n\",VLOOKUP(A1491,Feriados!A:A,1,FALSE))","v":"n"}]
[46052,1028,{"$f":"IF(E1492<>\"n\",COUNTIF(B1492:$B$4018,B1492),IF(D1492<6,0,COUNTIF(B1492:$B$4018,B1492)))","v":0},5,{"$f":"IF(ISERROR(VLOOKUP(A1492,Feriados!A:A,1,FALSE)),\"n\",VLOOKUP(A1492,Feriados!A:A,1,FALSE))","v":"n"}]
[46053,1028,{"$f":"IF(E1493<>\"n\",COUNTIF(B1493:$B$4018,B1493),IF(D1493<6,0,COUNTIF(B1493:$B$4018,B1493)))","v":2},6,{"$f":"IF(ISERROR(VLOOKUP(A1493,Feriados!A:A,1,FALSE)),\"n\",VLOOKUP(A1493,Feriados!A:A,1,FALSE))","v":"n"}]
[46054,1028,{"$f":"IF(E1494<>\"n\",COUNTIF(B1494:$B$4018,B1494),IF(D1494<6,0,COUNTIF(B1494:$B$4018,B1494)))","v":1},7,{"$f":"IF(ISERROR(VLOOKUP(A1494,Feriados!A:A,1,FALSE)),\"n\",VLOOKUP(A1494,Feriados!A:A,1,FALSE))","v":"n"}]
[46055,1029,{"$f":"IF(E1495<>\"n\",COUNTIF(B1495:$B$4018,B1495),IF(D1495<6,0,COUNTIF(B1495:$B$4018,B1495)))","v":0},1,{"$f":"IF(ISERROR(VLOOKUP(A1495,Feriados!A:A,1,FALSE)),\"n\",VLOOKUP(A1495,Feriados!A:A,1,FALSE))","v":"n"}]
[46056,1030,{"$f":"IF(E1496<>\"n\",COUNTIF(B1496:$B$4018,B1496),IF(D1496<6,0,COUNTIF(B1496:$B$4018,B1496)))","v":0},2,{"$f":"IF(ISERROR(VLOOKUP(A1496,Feriados!A:A,1,FALSE)),\"n\",VLOOKUP(A1496,Feriados!A:A,1,FALSE))","v":"n"}]
[46057,1031,{"$f":"IF(E1497<>\"n\",COUNTIF(B1497:$B$4018,B1497),IF(D1497<6,0,COUNTIF(B1497:$B$4018,B1497)))","v":0},3,{"$f":"IF(ISERROR(VLOOKUP(A1497,Feriados!A:A,1,FALSE)),\"n\",VLOOKUP(A1497,Feriados!A:A,1,FALSE))","v":"n"}]
[46058,1032,{"$f":"IF(E1498<>\"n\",COUNTIF(B1498:$B$4018,B1498),IF(D1498<6,0,COUNTIF(B1498:$B$4018,B1498)))","v":0},4,{"$f":"IF(ISERROR(VLOOKUP(A1498,Feriados!A:A,1,FALSE)),\"n\",VLOOKUP(A1498,Feriados!A:A,1,FALSE))","v":"n"}]
[46059,1033,{"$f":"IF(E1499<>\"n\",COUNTIF(B1499:$B$4018,B1499),IF(D1499<6,0,COUNTIF(B1499:$B$4018,B1499)))","v":0},5,{"$f":"IF(ISERROR(VLOOKUP(A1499,Feriados!A:A,1,FALSE)),\"n\",VLOOKUP(A1499,Feriados!A:A,1,FALSE))","v":"n"}]
[46060,1033,{"$f":"IF(E1500<>\"n\",COUNTIF(B1500:$B$4018,B1500),IF(D1500<6,0,COUNTIF(B1500:$B$4018,B1500)))","v":2},6,{"$f":"IF(ISERROR(VLOOKUP(A1500,Feriados!A:A,1,FALSE)),\"n\",VLOOKUP(A1500,Feriados!A:A,1,FALSE))","v":"n"}]
[46061,1033,{"$f":"IF(E1501<>\"n\",COUNTIF(B1501:$B$4018,B1501),IF(D1501<6,0,COUNTIF(B1501:$B$4018,B1501)))","v":1},7,{"$f":"IF(ISERROR(VLOOKUP(A1501,Feriados!A:A,1,FALSE)),\"n\",VLOOKUP(A1501,Feriados!A:A,1,FALSE))","v":"n"}]
[46062,{"$f":"NETWORKDAYS($A$2,A1502,feriados)","v":1034},{"$f":"IF(E1502<>\"n\",COUNTIF(B1502:$B$4018,B1502),IF(D1502<6,0,COUNTIF(B1502:$B$4018,B1502)))","v":0},{"$f":"WEEKDAY(A1502,2)","v":1},{"$f":"IF(ISERROR(VLOOKUP(A1502,Feriados!A:A,1,FALSE)),\"n\",VLOOKUP(A1502,Feriados!A:A,1,FALSE))","v":"n"}]
[46063,1035,{"$f":"IF(E1503<>\"n\",COUNTIF(B1503:$B$4018,B1503),IF(D1503<6,0,COUNTIF(B1503:$B$4018,B1503)))","v":0},2,{"$f":"IF(ISERROR(VLOOKUP(A1503,Feriados!A:A,1,FALSE)),\"n\",VLOOKUP(A1503,Feriados!A:A,1,FALSE))","v":"n"}]
[46064,1036,{"$f":"IF(E1504<>\"n\",COUNTIF(B1504:$B$4018,B1504),IF(D1504<6,0,COUNTIF(B1504:$B$4018,B1504)))","v":0},3,{"$f":"IF(ISERROR(VLOOKUP(A1504,Feriados!A:A,1,FALSE)),\"n\",VLOOKUP(A1504,Feriados!A:A,1,FALSE))","v":"n"}]
[46065,1037,{"$f":"IF(E1505<>\"n\",COUNTIF(B1505:$B$4018,B1505),IF(D1505<6,0,COUNTIF(B1505:$B$4018,B1505)))","v":0},4,{"$f":"IF(ISERROR(VLOOKUP(A1505,Feriados!A:A,1,FALSE)),\"n\",VLOOKUP(A1505,Feriados!A:A,1,FALSE))","v":"n"}]
[46066,1038,{"$f":"IF(E1506<>\"n\",COUNTIF(B1506:$B$4018,B1506),IF(D1506<6,0,COUNTIF(B1506:$B$4018,B1506)))","v":0},5,{"$f":"IF(ISERROR(VLOOKUP(A1506,Feriados!A:A,1,FALSE)),\"n\",VLOOKUP(A1506,Feriados!A:A,1,FALSE))","v":"n"}]
[46067,1038,{"$f":"IF(E1507<>\"n\",COUNTIF(B1507:$B$4018,B1507),IF(D1507<6,0,COUNTIF(B1507:$B$4018,B1507)))","v":4},6,{"$f":"IF(ISERROR(VLOOKUP(A1507,Feriados!A:A,1,FALSE)),\"n\",VLOOKUP(A1507,Feriados!A:A,1,FALSE))","v":"n"}]
[46068,1038,{"$f":"IF(E1508<>\"n\",COUNTIF(B1508:$B$4018,B1508),IF(D1508<6,0,COUNTIF(B1508:$B$4018,B1508)))","v":3},7,{"$f":"IF(ISERROR(VLOOKUP(A1508,Feriados!A:A,1,FALSE)),\"n\",VLOOKUP(A1508,Feriados!A:A,1,FALSE))","v":"n"}]
[46069,1038,{"$f":"IF(E1509<>\"n\",COUNTIF(B1509:$B$4018,B1509),IF(D1509<6,0,COUNTIF(B1509:$B$4018,B1509)))","v":2},1,{"$f":"IF(ISERROR(VLOOKUP(A1509,Feriados!A:A,1,FALSE)),\"n\",VLOOKUP(A1509,Feriados!A:A,1,FALSE))","v":"2026-02-16"}]
[46070,1038,{"$f":"IF(E1510<>\"n\",COUNTIF(B1510:$B$4018,B1510),IF(D1510<6,0,COUNTIF(B1510:$B$4018,B1510)))","v":1},2,{"$f":"IF(ISERROR(VLOOKUP(A1510,Feriados!A:A,1,FALSE)),\"n\",VLOOKUP(A1510,Feriados!A:A,1,FALSE))","v":"2026-02-17"}]
[46071,1039,{"$f":"IF(E1511<>\"n\",COUNTIF(B1511:$B$4018,B1511),IF(D1511<6,0,COUNTIF(B1511:$B$4018,B1511)))","v":0},3,{"$f":"IF(ISERROR(VLOOKUP(A1511,Feriados!A:A,1,FALSE)),\"n\",VLOOKUP(A1511,Feriados!A:A,1,FALSE))","v":"n"}]
[46072,1040,{"$f":"IF(E1512<>\"n\",COUNTIF(B1512:$B$4018,B1512),IF(D1512<6,0,COUNTIF(B1512:$B$4018,B1512)))","v":0},4,{"$f":"IF(ISERROR(VLOOKUP(A1512,Feriados!A:A,1,FALSE)),\"n\",VLOOKUP(A1512,Feriados!A:A,1,FALSE))","v":"n"}]
[46073,1041,{"$f":"IF(E1513<>\"n\",COUNTIF(B1513:$B$4018,B1513),IF(D1513<6,0,COUNTIF(B1513:$B$4018,B1513)))","v":0},5,{"$f":"IF(ISERROR(VLOOKUP(A1513,Feriados!A:A,1,FALSE)),\"n\",VLOOKUP(A1513,Feriados!A:A,1,FALSE))","v":"n"}]
[46074,1041,{"$f":"IF(E1514<>\"n\",COUNTIF(B1514:$B$4018,B1514),IF(D1514<6,0,COUNTIF(B1514:$B$4018,B1514)))","v":2},6,{"$f":"IF(ISERROR(VLOOKUP(A1514,Feriados!A:A,1,FALSE)),\"n\",VLOOKUP(A1514,Feriados!A:A,1,FALSE))","v":"n"}]
[46075,1041,{"$f":"IF(E1515<>\"n\",COUNTIF(B1515:$B$4018,B1515),IF(D1515<6,0,COUNTIF(B1515:$B$4018,B1515)))","v":1},7,{"$f":"IF(ISERROR(VLOOKUP(A1515,Feriados!A:A,1,FALSE)),\"n\",VLOOKUP(A1515,Feriados!A:A,1,FALSE))","v":"n"}]
[46076,1042,{"$f":"IF(E1516<>\"n\",COUNTIF(B1516:$B$4018,B1516),IF(D1516<6,0,COUNTIF(B1516:$B$4018,B1516)))","v":0},1,{"$f":"IF(ISERROR(VLOOKUP(A1516,Feriados!A:A,1,FALSE)),\"n\",VLOOKUP(A1516,Feriados!A:A,1,FALSE))","v":"n"}]
[46077,1043,{"$f":"IF(E1517<>\"n\",COUNTIF(B1517:$B$4018,B1517),IF(D1517<6,0,COUNTIF(B1517:$B$4018,B1517)))","v":0},2,{"$f":"IF(ISERROR(VLOOKUP(A1517,Feriados!A:A,1,FALSE)),\"n\",VLOOKUP(A1517,Feriados!A:A,1,FALSE))","v":"n"}]
[46078,1044,{"$f":"IF(E1518<>\"n\",COUNTIF(B1518:$B$4018,B1518),IF(D1518<6,0,COUNTIF(B1518:$B$4018,B1518)))","v":0},3,{"$f":"IF(ISERROR(VLOOKUP(A1518,Feriados!A:A,1,FALSE)),\"n\",VLOOKUP(A1518,Feriados!A:A,1,FALSE))","v":"n"}]
[46079,1045,{"$f":"IF(E1519<>\"n\",COUNTIF(B1519:$B$4018,B1519),IF(D1519<6,0,COUNTIF(B1519:$B$4018,B1519)))","v":0},4,{"$f":"IF(ISERROR(VLOOKUP(A1519,Feriados!A:A,1,FALSE)),\"n\",VLOOKUP(A1519,Feriados!A:A,1,FALSE))","v":"n"}]
[46080,1046,{"$f":"IF(E1520<>\"n\",COUNTIF(B1520:$B$4018,B1520),IF(D1520<6,0,COUNTIF(B1520:$B$4018,B1520)))","v":0},5,{"$f":"IF(ISERROR(VLOOKUP(A1520,Feriados!A:A,1,FALSE)),\"n\",VLOOKUP(A1520,Feriados!A:A,1,FALSE))","v":"n"}]
[46081,1046,{"$f":"IF(E1521<>\"n\",COUNTIF(B1521:$B$4018,B1521),IF(D1521<6,0,COUNTIF(B1521:$B$4018,B1521)))","v":2},6,{"$f":"IF(ISERROR(VLOOKUP(A1521,Feriados!A:A,1,FALSE)),\"n\",VLOOKUP(A1521,Feriados!A:A,1,FALSE))","v":"n"}]
[46082,1046,{"$f":"IF(E1522<>\"n\",COUNTIF(B1522:$B$4018,B1522),IF(D1522<6,0,COUNTIF(B1522:$B$4018,B1522)))","v":1},7,{"$f":"IF(ISERROR(VLOOKUP(A1522,Feriados!A:A,1,FALSE)),\"n\",VLOOKUP(A1522,Feriados!A:A,1,FALSE))","v":"n"}]
[46083,1047,{"$f":"IF(E1523<>\"n\",COUNTIF(B1523:$B$4018,B1523),IF(D1523<6,0,COUNTIF(B1523:$B$4018,B1523)))","v":0},1,{"$f":"IF(ISERROR(VLOOKUP(A1523,Feriados!A:A,1,FALSE)),\"n\",VLOOKUP(A1523,Feriados!A:A,1,FALSE))","v":"n"}]
[46084,1048,{"$f":"IF(E1524<>\"n\",COUNTIF(B1524:$B$4018,B1524),IF(D1524<6,0,COUNTIF(B1524:$B$4018,B1524)))","v":0},2,{"$f":"IF(ISERROR(VLOOKUP(A1524,Feriados!A:A,1,FALSE)),\"n\",VLOOKUP(A1524,Feriados!A:A,1,FALSE))","v":"n"}]
[46085,1049,{"$f":"IF(E1525<>\"n\",COUNTIF(B1525:$B$4018,B1525),IF(D1525<6,0,COUNTIF(B1525:$B$4018,B1525)))","v":0},3,{"$f":"IF(ISERROR(VLOOKUP(A1525,Feriados!A:A,1,FALSE)),\"n\",VLOOKUP(A1525,Feriados!A:A,1,FALSE))","v":"n"}]
[46086,1050,{"$f":"IF(E1526<>\"n\",COUNTIF(B1526:$B$4018,B1526),IF(D1526<6,0,COUNTIF(B1526:$B$4018,B1526)))","v":0},4,{"$f":"IF(ISERROR(VLOOKUP(A1526,Feriados!A:A,1,FALSE)),\"n\",VLOOKUP(A1526,Feriados!A:A,1,FALSE))","v":"n"}]
[46087,1051,{"$f":"IF(E1527<>\"n\",COUNTIF(B1527:$B$4018,B1527),IF(D1527<6,0,COUNTIF(B1527:$B$4018,B1527)))","v":0},5,{"$f":"IF(ISERROR(VLOOKUP(A1527,Feriados!A:A,1,FALSE)),\"n\",VLOOKUP(A1527,Feriados!A:A,1,FALSE))","v":"n"}]
[46088,1051,{"$f":"IF(E1528<>\"n\",COUNTIF(B1528:$B$4018,B1528),IF(D1528<6,0,COUNTIF(B1528:$B$4018,B1528)))","v":2},6,{"$f":"IF(ISERROR(VLOOKUP(A1528,Feriados!A:A,1,FALSE)),\"n\",VLOOKUP(A1528,Feriados!A:A,1,FALSE))","v":"n"}]
[46089,1051,{"$f":"IF(E1529<>\"n\",COUNTIF(B1529:$B$4018,B1529),IF(D1529<6,0,COUNTIF(B1529:$B$4018,B1529)))","v":1},7,{"$f":"IF(ISERROR(VLOOKUP(A1529,Feriados!A:A,1,FALSE)),\"n\",VLOOKUP(A1529,Feriados!A:A,1,FALSE))","v":"n"}]
[46090,1052,{"$f":"IF(E1530<>\"n\",COUNTIF(B1530:$B$4018,B1530),IF(D1530<6,0,COUNTIF(B1530:$B$4018,B1530)))","v":0},1,{"$f":"IF(ISERROR(VLOOKUP(A1530,Feriados!A:A,1,FALSE)),\"n\",VLOOKUP(A1530,Feriados!A:A,1,FALSE))","v":"n"}]
[46091,1053,{"$f":"IF(E1531<>\"n\",COUNTIF(B1531:$B$4018,B1531),IF(D1531<6,0,COUNTIF(B1531:$B$4018,B1531)))","v":0},2,{"$f":"IF(ISERROR(VLOOKUP(A1531,Feriados!A:A,1,FALSE)),\"n\",VLOOKUP(A1531,Feriados!A:A,1,FALSE))","v":"n"}]
[46092,1054,{"$f":"IF(E1532<>\"n\",COUNTIF(B1532:$B$4018,B1532),IF(D1532<6,0,COUNTIF(B1532:$B$4018,B1532)))","v":0},3,{"$f":"IF(ISERROR(VLOOKUP(A1532,Feriados!A:A,1,FALSE)),\"n\",VLOOKUP(A1532,Feriados!A:A,1,FALSE))","v":"n"}]
[46093,1055,{"$f":"IF(E1533<>\"n\",COUNTIF(B1533:$B$4018,B1533),IF(D1533<6,0,COUNTIF(B1533:$B$4018,B1533)))","v":0},4,{"$f":"IF(ISERROR(VLOOKUP(A1533,Feriados!A:A,1,FALSE)),\"n\",VLOOKUP(A1533,Feriados!A:A,1,FALSE))","v":"n"}]
[46094,1056,{"$f":"IF(E1534<>\"n\",COUNTIF(B1534:$B$4018,B1534),IF(D1534<6,0,COUNTIF(B1534:$B$4018,B1534)))","v":0},5,{"$f":"IF(ISERROR(VLOOKUP(A1534,Feriados!A:A,1,FALSE)),\"n\",VLOOKUP(A1534,Feriados!A:A,1,FALSE))","v":"n"}]
[46095,1056,{"$f":"IF(E1535<>\"n\",COUNTIF(B1535:$B$4018,B1535),IF(D1535<6,0,COUNTIF(B1535:$B$4018,B1535)))","v":2},6,{"$f":"IF(ISERROR(VLOOKUP(A1535,Feriados!A:A,1,FALSE)),\"n\",VLOOKUP(A1535,Feriados!A:A,1,FALSE))","v":"n"}]
[46096,1056,{"$f":"IF(E1536<>\"n\",COUNTIF(B1536:$B$4018,B1536),IF(D1536<6,0,COUNTIF(B1536:$B$4018,B1536)))","v":1},7,{"$f":"IF(ISERROR(VLOOKUP(A1536,Feriados!A:A,1,FALSE)),\"n\",VLOOKUP(A1536,Feriados!A:A,1,FALSE))","v":"n"}]
[46097,1057,{"$f":"IF(E1537<>\"n\",COUNTIF(B1537:$B$4018,B1537),IF(D1537<6,0,COUNTIF(B1537:$B$4018,B1537)))","v":0},1,{"$f":"IF(ISERROR(VLOOKUP(A1537,Feriados!A:A,1,FALSE)),\"n\",VLOOKUP(A1537,Feriados!A:A,1,FALSE))","v":"n"}]
[46098,1058,{"$f":"IF(E1538<>\"n\",COUNTIF(B1538:$B$4018,B1538),IF(D1538<6,0,COUNTIF(B1538:$B$4018,B1538)))","v":0},2,{"$f":"IF(ISERROR(VLOOKUP(A1538,Feriados!A:A,1,FALSE)),\"n\",VLOOKUP(A1538,Feriados!A:A,1,FALSE))","v":"n"}]
[46099,1059,{"$f":"IF(E1539<>\"n\",COUNTIF(B1539:$B$4018,B1539),IF(D1539<6,0,COUNTIF(B1539:$B$4018,B1539)))","v":0},3,{"$f":"IF(ISERROR(VLOOKUP(A1539,Feriados!A:A,1,FALSE)),\"n\",VLOOKUP(A1539,Feriados!A:A,1,FALSE))","v":"n"}]
[{"$f":"A1539+1","v":46100},1060,{"$f":"IF(E1540<>\"n\",COUNTIF(B1540:$B$4018,B1540),IF(D1540<6,0,COUNTIF(B1540:$B$4018,B1540)))","v":0},4,{"$f":"IF(ISERROR(VLOOKUP(A1540,Feriados!A:A,1,FALSE)),\"n\",VLOOKUP(A1540,Feriados!A:A,1,FALSE))","v":"n"}]
[46101,1061,{"$f":"IF(E1541<>\"n\",COUNTIF(B1541:$B$4018,B1541),IF(D1541<6,0,COUNTIF(B1541:$B$4018,B1541)))","v":0},5,{"$f":"IF(ISERROR(VLOOKUP(A1541,Feriados!A:A,1,FALSE)),\"n\",VLOOKUP(A1541,Feriados!A:A,1,FALSE))","v":"n"}]
[46102,1061,{"$f":"IF(E1542<>\"n\",COUNTIF(B1542:$B$4018,B1542),IF(D1542<6,0,COUNTIF(B1542:$B$4018,B1542)))","v":2},6,{"$f":"IF(ISERROR(VLOOKUP(A1542,Feriados!A:A,1,FALSE)),\"n\",VLOOKUP(A1542,Feriados!A:A,1,FALSE))","v":"n"}]
[46103,1061,{"$f":"IF(E1543<>\"n\",COUNTIF(B1543:$B$4018,B1543),IF(D1543<6,0,COUNTIF(B1543:$B$4018,B1543)))","v":1},7,{"$f":"IF(ISERROR(VLOOKUP(A1543,Feriados!A:A,1,FALSE)),\"n\",VLOOKUP(A1543,Feriados!A:A,1,FALSE))","v":"n"}]
[46104,1062,{"$f":"IF(E1544<>\"n\",COUNTIF(B1544:$B$4018,B1544),IF(D1544<6,0,COUNTIF(B1544:$B$4018,B1544)))","v":0},1,{"$f":"IF(ISERROR(VLOOKUP(A1544,Feriados!A:A,1,FALSE)),\"n\",VLOOKUP(A1544,Feriados!A:A,1,FALSE))","v":"n"}]
[46105,1063,{"$f":"IF(E1545<>\"n\",COUNTIF(B1545:$B$4018,B1545),IF(D1545<6,0,COUNTIF(B1545:$B$4018,B1545)))","v":0},2,{"$f":"IF(ISERROR(VLOOKUP(A1545,Feriados!A:A,1,FALSE)),\"n\",VLOOKUP(A1545,Feriados!A:A,1,FALSE))","v":"n"}]
[46106,1064,{"$f":"IF(E1546<>\"n\",COUNTIF(B1546:$B$4018,B1546),IF(D1546<6,0,COUNTIF(B1546:$B$4018,B1546)))","v":0},3,{"$f":"IF(ISERROR(VLOOKUP(A1546,Feriados!A:A,1,FALSE)),\"n\",VLOOKUP(A1546,Feriados!A:A,1,FALSE))","v":"n"}]
[46107,1065,{"$f":"IF(E1547<>\"n\",COUNTIF(B1547:$B$4018,B1547),IF(D1547<6,0,COUNTIF(B1547:$B$4018,B1547)))","v":0},4,{"$f":"IF(ISERROR(VLOOKUP(A1547,Feriados!A:A,1,FALSE)),\"n\",VLOOKUP(A1547,Feriados!A:A,1,FALSE))","v":"n"}]
[46108,1066,{"$f":"IF(E1548<>\"n\",COUNTIF(B1548:$B$4018,B1548),IF(D1548<6,0,COUNTIF(B1548:$B$4018,B1548)))","v":0},5,{"$f":"IF(ISERROR(VLOOKUP(A1548,Feriados!A:A,1,FALSE)),\"n\",VLOOKUP(A1548,Feriados!A:A,1,FALSE))","v":"n"}]
[46109,1066,{"$f":"IF(E1549<>\"n\",COUNTIF(B1549:$B$4018,B1549),IF(D1549<6,0,COUNTIF(B1549:$B$4018,B1549)))","v":2},6,{"$f":"IF(ISERROR(VLOOKUP(A1549,Feriados!A:A,1,FALSE)),\"n\",VLOOKUP(A1549,Feriados!A:A,1,FALSE))","v":"n"}]
[46110,1066,{"$f":"IF(E1550<>\"n\",COUNTIF(B1550:$B$4018,B1550),IF(D1550<6,0,COUNTIF(B1550:$B$4018,B1550)))","v":1},7,{"$f":"IF(ISERROR(VLOOKUP(A1550,Feriados!A:A,1,FALSE)),\"n\",VLOOKUP(A1550,Feriados!A:A,1,FALSE))","v":"n"}]
[46111,1067,{"$f":"IF(E1551<>\"n\",COUNTIF(B1551:$B$4018,B1551),IF(D1551<6,0,COUNTIF(B1551:$B$4018,B1551)))","v":0},1,{"$f":"IF(ISERROR(VLOOKUP(A1551,Feriados!A:A,1,FALSE)),\"n\",VLOOKUP(A1551,Feriados!A:A,1,FALSE))","v":"n"}]
[46112,1068,{"$f":"IF(E1552<>\"n\",COUNTIF(B1552:$B$4018,B1552),IF(D1552<6,0,COUNTIF(B1552:$B$4018,B1552)))","v":0},2,{"$f":"IF(ISERROR(VLOOKUP(A1552,Feriados!A:A,1,FALSE)),\"n\",VLOOKUP(A1552,Feriados!A:A,1,FALSE))","v":"n"}]
[46113,1069,{"$f":"IF(E1553<>\"n\",COUNTIF(B1553:$B$4018,B1553),IF(D1553<6,0,COUNTIF(B1553:$B$4018,B1553)))","v":0},3,{"$f":"IF(ISERROR(VLOOKUP(A1553,Feriados!A:A,1,FALSE)),\"n\",VLOOKUP(A1553,Feriados!A:A,1,FALSE))","v":"n"}]
[46114,1070,{"$f":"IF(E1554<>\"n\",COUNTIF(B1554:$B$4018,B1554),IF(D1554<6,0,COUNTIF(B1554:$B$4018,B1554)))","v":0},4,{"$f":"IF(ISERROR(VLOOKUP(A1554,Feriados!A:A,1,FALSE)),\"n\",VLOOKUP(A1554,Feriados!A:A,1,FALSE))","v":"n"}]
[46115,1070,{"$f":"IF(E1555<>\"n\",COUNTIF(B1555:$B$4018,B1555),IF(D1555<6,0,COUNTIF(B1555:$B$4018,B1555)))","v":3},5,{"$f":"IF(ISERROR(VLOOKUP(A1555,Feriados!A:A,1,FALSE)),\"n\",VLOOKUP(A1555,Feriados!A:A,1,FALSE))","v":"2026-04-03"}]
[46116,1070,{"$f":"IF(E1556<>\"n\",COUNTIF(B1556:$B$4018,B1556),IF(D1556<6,0,COUNTIF(B1556:$B$4018,B1556)))","v":2},6,{"$f":"IF(ISERROR(VLOOKUP(A1556,Feriados!A:A,1,FALSE)),\"n\",VLOOKUP(A1556,Feriados!A:A,1,FALSE))","v":"n"}]
[46117,1070,{"$f":"IF(E1557<>\"n\",COUNTIF(B1557:$B$4018,B1557),IF(D1557<6,0,COUNTIF(B1557:$B$4018,B1557)))","v":1},7,{"$f":"IF(ISERROR(VLOOKUP(A1557,Feriados!A:A,1,FALSE)),\"n\",VLOOKUP(A1557,Feriados!A:A,1,FALSE))","v":"n"}]
[46118,1071,{"$f":"IF(E1558<>\"n\",COUNTIF(B1558:$B$4018,B1558),IF(D1558<6,0,COUNTIF(B1558:$B$4018,B1558)))","v":0},1,{"$f":"IF(ISERROR(VLOOKUP(A1558,Feriados!A:A,1,FALSE)),\"n\",VLOOKUP(A1558,Feriados!A:A,1,FALSE))","v":"n"}]
[46119,1072,{"$f":"IF(E1559<>\"n\",COUNTIF(B1559:$B$4018,B1559),IF(D1559<6,0,COUNTIF(B1559:$B$4018,B1559)))","v":0},2,{"$f":"IF(ISERROR(VLOOKUP(A1559,Feriados!A:A,1,FALSE)),\"n\",VLOOKUP(A1559,Feriados!A:A,1,FALSE))","v":"n"}]
[46120,1073,{"$f":"IF(E1560<>\"n\",COUNTIF(B1560:$B$4018,B1560),IF(D1560<6,0,COUNTIF(B1560:$B$4018,B1560)))","v":0},3,{"$f":"IF(ISERROR(VLOOKUP(A1560,Feriados!A:A,1,FALSE)),\"n\",VLOOKUP(A1560,Feriados!A:A,1,FALSE))","v":"n"}]
[46121,1074,{"$f":"IF(E1561<>\"n\",COUNTIF(B1561:$B$4018,B1561),IF(D1561<6,0,COUNTIF(B1561:$B$4018,B1561)))","v":0},4,{"$f":"IF(ISERROR(VLOOKUP(A1561,Feriados!A:A,1,FALSE)),\"n\",VLOOKUP(A1561,Feriados!A:A,1,FALSE))","v":"n"}]
[46122,1075,{"$f":"IF(E1562<>\"n\",COUNTIF(B1562:$B$4018,B1562),IF(D1562<6,0,COUNTIF(B1562:$B$4018,B1562)))","v":0},5,{"$f":"IF(ISERROR(VLOOKUP(A1562,Feriados!A:A,1,FALSE)),\"n\",VLOOKUP(A1562,Feriados!A:A,1,FALSE))","v":"n"}]
[46123,1075,{"$f":"IF(E1563<>\"n\",COUNTIF(B1563:$B$4018,B1563),IF(D1563<6,0,COUNTIF(B1563:$B$4018,B1563)))","v":2},6,{"$f":"IF(ISERROR(VLOOKUP(A1563,Feriados!A:A,1,FALSE)),\"n\",VLOOKUP(A1563,Feriados!A:A,1,FALSE))","v":"n"}]
[46124,1075,{"$f":"IF(E1564<>\"n\",COUNTIF(B1564:$B$4018,B1564),IF(D1564<6,0,COUNTIF(B1564:$B$4018,B1564)))","v":1},7,{"$f":"IF(ISERROR(VLOOKUP(A1564,Feriados!A:A,1,FALSE)),\"n\",VLOOKUP(A1564,Feriados!A:A,1,FALSE))","v":"n"}]
[46125,1076,{"$f":"IF(E1565<>\"n\",COUNTIF(B1565:$B$4018,B1565),IF(D1565<6,0,COUNTIF(B1565:$B$4018,B1565)))","v":0},1,{"$f":"IF(ISERROR(VLOOKUP(A1565,Feriados!A:A,1,FALSE)),\"n\",VLOOKUP(A1565,Feriados!A:A,1,FALSE))","v":"n"}]
[46126,{"$f":"NETWORKDAYS($A$2,A1566,feriados)","v":1077},{"$f":"IF(E1566<>\"n\",COUNTIF(B1566:$B$4018,B1566),IF(D1566<6,0,COUNTIF(B1566:$B$4018,B1566)))","v":0},{"$f":"WEEKDAY(A1566,2)","v":2},{"$f":"IF(ISERROR(VLOOKUP(A1566,Feriados!A:A,1,FALSE)),\"n\",VLOOKUP(A1566,Feriados!A:A,1,FALSE))","v":"n"}]
[46127,1078,{"$f":"IF(E1567<>\"n\",COUNTIF(B1567:$B$4018,B1567),IF(D1567<6,0,COUNTIF(B1567:$B$4018,B1567)))","v":0},3,{"$f":"IF(ISERROR(VLOOKUP(A1567,Feriados!A:A,1,FALSE)),\"n\",VLOOKUP(A1567,Feriados!A:A,1,FALSE))","v":"n"}]
[46128,1079,{"$f":"IF(E1568<>\"n\",COUNTIF(B1568:$B$4018,B1568),IF(D1568<6,0,COUNTIF(B1568:$B$4018,B1568)))","v":0},4,{"$f":"IF(ISERROR(VLOOKUP(A1568,Feriados!A:A,1,FALSE)),\"n\",VLOOKUP(A1568,Feriados!A:A,1,FALSE))","v":"n"}]
[46129,1080,{"$f":"IF(E1569<>\"n\",COUNTIF(B1569:$B$4018,B1569),IF(D1569<6,0,COUNTIF(B1569:$B$4018,B1569)))","v":0},5,{"$f":"IF(ISERROR(VLOOKUP(A1569,Feriados!A:A,1,FALSE)),\"n\",VLOOKUP(A1569,Feriados!A:A,1,FALSE))","v":"n"}]
[46130,1080,{"$f":"IF(E1570<>\"n\",COUNTIF(B1570:$B$4018,B1570),IF(D1570<6,0,COUNTIF(B1570:$B$4018,B1570)))","v":2},6,{"$f":"IF(ISERROR(VLOOKUP(A1570,Feriados!A:A,1,FALSE)),\"n\",VLOOKUP(A1570,Feriados!A:A,1,FALSE))","v":"n"}]
[46131,1080,{"$f":"IF(E1571<>\"n\",COUNTIF(B1571:$B$4018,B1571),IF(D1571<6,0,COUNTIF(B1571:$B$4018,B1571)))","v":1},7,{"$f":"IF(ISERROR(VLOOKUP(A1571,Feriados!A:A,1,FALSE)),\"n\",VLOOKUP(A1571,Feriados!A:A,1,FALSE))","v":"n"}]
[46132,1081,{"$f":"IF(E1572<>\"n\",COUNTIF(B1572:$B$4018,B1572),IF(D1572<6,0,COUNTIF(B1572:$B$4018,B1572)))","v":0},1,{"$f":"IF(ISERROR(VLOOKUP(A1572,Feriados!A:A,1,FALSE)),\"n\",VLOOKUP(A1572,Feriados!A:A,1,FALSE))","v":"n"}]
[46133,1081,{"$f":"IF(E1573<>\"n\",COUNTIF(B1573:$B$4018,B1573),IF(D1573<6,0,COUNTIF(B1573:$B$4018,B1573)))","v":1},2,{"$f":"IF(ISERROR(VLOOKUP(A1573,Feriados!A:A,1,FALSE)),\"n\",VLOOKUP(A1573,Feriados!A:A,1,FALSE))","v":"2026-04-21"}]
[46134,1082,{"$f":"IF(E1574<>\"n\",COUNTIF(B1574:$B$4018,B1574),IF(D1574<6,0,COUNTIF(B1574:$B$4018,B1574)))","v":0},3,{"$f":"IF(ISERROR(VLOOKUP(A1574,Feriados!A:A,1,FALSE)),\"n\",VLOOKUP(A1574,Feriados!A:A,1,FALSE))","v":"n"}]
[46135,1083,{"$f":"IF(E1575<>\"n\",COUNTIF(B1575:$B$4018,B1575),IF(D1575<6,0,COUNTIF(B1575:$B$4018,B1575)))","v":0},4,{"$f":"IF(ISERROR(VLOOKUP(A1575,Feriados!A:A,1,FALSE)),\"n\",VLOOKUP(A1575,Feriados!A:A,1,FALSE))","v":"n"}]
[46136,1084,{"$f":"IF(E1576<>\"n\",COUNTIF(B1576:$B$4018,B1576),IF(D1576<6,0,COUNTIF(B1576:$B$4018,B1576)))","v":0},5,{"$f":"IF(ISERROR(VLOOKUP(A1576,Feriados!A:A,1,FALSE)),\"n\",VLOOKUP(A1576,Feriados!A:A,1,FALSE))","v":"n"}]
[46137,1084,{"$f":"IF(E1577<>\"n\",COUNTIF(B1577:$B$4018,B1577),IF(D1577<6,0,COUNTIF(B1577:$B$4018,B1577)))","v":2},6,{"$f":"IF(ISERROR(VLOOKUP(A1577,Feriados!A:A,1,FALSE)),\"n\",VLOOKUP(A1577,Feriados!A:A,1,FALSE))","v":"n"}]
[46138,1084,{"$f":"IF(E1578<>\"n\",COUNTIF(B1578:$B$4018,B1578),IF(D1578<6,0,COUNTIF(B1578:$B$4018,B1578)))","v":1},7,{"$f":"IF(ISERROR(VLOOKUP(A1578,Feriados!A:A,1,FALSE)),\"n\",VLOOKUP(A1578,Feriados!A:A,1,FALSE))","v":"n"}]
[46139,1085,{"$f":"IF(E1579<>\"n\",COUNTIF(B1579:$B$4018,B1579),IF(D1579<6,0,COUNTIF(B1579:$B$4018,B1579)))","v":0},1,{"$f":"IF(ISERROR(VLOOKUP(A1579,Feriados!A:A,1,FALSE)),\"n\",VLOOKUP(A1579,Feriados!A:A,1,FALSE))","v":"n"}]
[46140,1086,{"$f":"IF(E1580<>\"n\",COUNTIF(B1580:$B$4018,B1580),IF(D1580<6,0,COUNTIF(B1580:$B$4018,B1580)))","v":0},2,{"$f":"IF(ISERROR(VLOOKUP(A1580,Feriados!A:A,1,FALSE)),\"n\",VLOOKUP(A1580,Feriados!A:A,1,FALSE))","v":"n"}]
[46141,1087,{"$f":"IF(E1581<>\"n\",COUNTIF(B1581:$B$4018,B1581),IF(D1581<6,0,COUNTIF(B1581:$B$4018,B1581)))","v":0},3,{"$f":"IF(ISERROR(VLOOKUP(A1581,Feriados!A:A,1,FALSE)),\"n\",VLOOKUP(A1581,Feriados!A:A,1,FALSE))","v":"n"}]
[46142,1088,{"$f":"IF(E1582<>\"n\",COUNTIF(B1582:$B$4018,B1582),IF(D1582<6,0,COUNTIF(B1582:$B$4018,B1582)))","v":0},4,{"$f":"IF(ISERROR(VLOOKUP(A1582,Feriados!A:A,1,FALSE)),\"n\",VLOOKUP(A1582,Feriados!A:A,1,FALSE))","v":"n"}]
[46143,1088,{"$f":"IF(E1583<>\"n\",COUNTIF(B1583:$B$4018,B1583),IF(D1583<6,0,COUNTIF(B1583:$B$4018,B1583)))","v":3},5,{"$f":"IF(ISERROR(VLOOKUP(A1583,Feriados!A:A,1,FALSE)),\"n\",VLOOKUP(A1583,Feriados!A:A,1,FALSE))","v":"2026-05-01"}]
[46144,1088,{"$f":"IF(E1584<>\"n\",COUNTIF(B1584:$B$4018,B1584),IF(D1584<6,0,COUNTIF(B1584:$B$4018,B1584)))","v":2},6,{"$f":"IF(ISERROR(VLOOKUP(A1584,Feriados!A:A,1,FALSE)),\"n\",VLOOKUP(A1584,Feriados!A:A,1,FALSE))","v":"n"}]
[46145,1088,{"$f":"IF(E1585<>\"n\",COUNTIF(B1585:$B$4018,B1585),IF(D1585<6,0,COUNTIF(B1585:$B$4018,B1585)))","v":1},7,{"$f":"IF(ISERROR(VLOOKUP(A1585,Feriados!A:A,1,FALSE)),\"n\",VLOOKUP(A1585,Feriados!A:A,1,FALSE))","v":"n"}]
[46146,1089,{"$f":"IF(E1586<>\"n\",COUNTIF(B1586:$B$4018,B1586),IF(D1586<6,0,COUNTIF(B1586:$B$4018,B1586)))","v":0},1,{"$f":"IF(ISERROR(VLOOKUP(A1586,Feriados!A:A,1,FALSE)),\"n\",VLOOKUP(A1586,Feriados!A:A,1,FALSE))","v":"n"}]
[46147,1090,{"$f":"IF(E1587<>\"n\",COUNTIF(B1587:$B$4018,B1587),IF(D1587<6,0,COUNTIF(B1587:$B$4018,B1587)))","v":0},2,{"$f":"IF(ISERROR(VLOOKUP(A1587,Feriados!A:A,1,FALSE)),\"n\",VLOOKUP(A1587,Feriados!A:A,1,FALSE))","v":"n"}]
[46148,1091,{"$f":"IF(E1588<>\"n\",COUNTIF(B1588:$B$4018,B1588),IF(D1588<6,0,COUNTIF(B1588:$B$4018,B1588)))","v":0},3,{"$f":"IF(ISERROR(VLOOKUP(A1588,Feriados!A:A,1,FALSE)),\"n\",VLOOKUP(A1588,Feriados!A:A,1,FALSE))","v":"n"}]
[46149,1092,{"$f":"IF(E1589<>\"n\",COUNTIF(B1589:$B$4018,B1589),IF(D1589<6,0,COUNTIF(B1589:$B$4018,B1589)))","v":0},4,{"$f":"IF(ISERROR(VLOOKUP(A1589,Feriados!A:A,1,FALSE)),\"n\",VLOOKUP(A1589,Feriados!A:A,1,FALSE))","v":"n"}]
[46150,1093,{"$f":"IF(E1590<>\"n\",COUNTIF(B1590:$B$4018,B1590),IF(D1590<6,0,COUNTIF(B1590:$B$4018,B1590)))","v":0},5,{"$f":"IF(ISERROR(VLOOKUP(A1590,Feriados!A:A,1,FALSE)),\"n\",VLOOKUP(A1590,Feriados!A:A,1,FALSE))","v":"n"}]
[46151,1093,{"$f":"IF(E1591<>\"n\",COUNTIF(B1591:$B$4018,B1591),IF(D1591<6,0,COUNTIF(B1591:$B$4018,B1591)))","v":2},6,{"$f":"IF(ISERROR(VLOOKUP(A1591,Feriados!A:A,1,FALSE)),\"n\",VLOOKUP(A1591,Feriados!A:A,1,FALSE))","v":"n"}]
[46152,1093,{"$f":"IF(E1592<>\"n\",COUNTIF(B1592:$B$4018,B1592),IF(D1592<6,0,COUNTIF(B1592:$B$4018,B1592)))","v":1},7,{"$f":"IF(ISERROR(VLOOKUP(A1592,Feriados!A:A,1,FALSE)),\"n\",VLOOKUP(A1592,Feriados!A:A,1,FALSE))","v":"n"}]
[46153,1094,{"$f":"IF(E1593<>\"n\",COUNTIF(B1593:$B$4018,B1593),IF(D1593<6,0,COUNTIF(B1593:$B$4018,B1593)))","v":0},1,{"$f":"IF(ISERROR(VLOOKUP(A1593,Feriados!A:A,1,FALSE)),\"n\",VLOOKUP(A1593,Feriados!A:A,1,FALSE))","v":"n"}]
[46154,1095,{"$f":"IF(E1594<>\"n\",COUNTIF(B1594:$B$4018,B1594),IF(D1594<6,0,COUNTIF(B1594:$B$4018,B1594)))","v":0},2,{"$f":"IF(ISERROR(VLOOKUP(A1594,Feriados!A:A,1,FALSE)),\"n\",VLOOKUP(A1594,Feriados!A:A,1,FALSE))","v":"n"}]
[46155,1096,{"$f":"IF(E1595<>\"n\",COUNTIF(B1595:$B$4018,B1595),IF(D1595<6,0,COUNTIF(B1595:$B$4018,B1595)))","v":0},3,{"$f":"IF(ISERROR(VLOOKUP(A1595,Feriados!A:A,1,FALSE)),\"n\",VLOOKUP(A1595,Feriados!A:A,1,FALSE))","v":"n"}]
[46156,1097,{"$f":"IF(E1596<>\"n\",COUNTIF(B1596:$B$4018,B1596),IF(D1596<6,0,COUNTIF(B1596:$B$4018,B1596)))","v":0},4,{"$f":"IF(ISERROR(VLOOKUP(A1596,Feriados!A:A,1,FALSE)),\"n\",VLOOKUP(A1596,Feriados!A:A,1,FALSE))","v":"n"}]
[46157,1098,{"$f":"IF(E1597<>\"n\",COUNTIF(B1597:$B$4018,B1597),IF(D1597<6,0,COUNTIF(B1597:$B$4018,B1597)))","v":0},5,{"$f":"IF(ISERROR(VLOOKUP(A1597,Feriados!A:A,1,FALSE)),\"n\",VLOOKUP(A1597,Feriados!A:A,1,FALSE))","v":"n"}]
[46158,1098,{"$f":"IF(E1598<>\"n\",COUNTIF(B1598:$B$4018,B1598),IF(D1598<6,0,COUNTIF(B1598:$B$4018,B1598)))","v":2},6,{"$f":"IF(ISERROR(VLOOKUP(A1598,Feriados!A:A,1,FALSE)),\"n\",VLOOKUP(A1598,Feriados!A:A,1,FALSE))","v":"n"}]
[46159,1098,{"$f":"IF(E1599<>\"n\",COUNTIF(B1599:$B$4018,B1599),IF(D1599<6,0,COUNTIF(B1599:$B$4018,B1599)))","v":1},7,{"$f":"IF(ISERROR(VLOOKUP(A1599,Feriados!A:A,1,FALSE)),\"n\",VLOOKUP(A1599,Feriados!A:A,1,FALSE))","v":"n"}]
[46160,1099,{"$f":"IF(E1600<>\"n\",COUNTIF(B1600:$B$4018,B1600),IF(D1600<6,0,COUNTIF(B1600:$B$4018,B1600)))","v":0},1,{"$f":"IF(ISERROR(VLOOKUP(A1600,Feriados!A:A,1,FALSE)),\"n\",VLOOKUP(A1600,Feriados!A:A,1,FALSE))","v":"n"}]
[46161,1100,{"$f":"IF(E1601<>\"n\",COUNTIF(B1601:$B$4018,B1601),IF(D1601<6,0,COUNTIF(B1601:$B$4018,B1601)))","v":0},2,{"$f":"IF(ISERROR(VLOOKUP(A1601,Feriados!A:A,1,FALSE)),\"n\",VLOOKUP(A1601,Feriados!A:A,1,FALSE))","v":"n"}]
[46162,1101,{"$f":"IF(E1602<>\"n\",COUNTIF(B1602:$B$4018,B1602),IF(D1602<6,0,COUNTIF(B1602:$B$4018,B1602)))","v":0},3,{"$f":"IF(ISERROR(VLOOKUP(A1602,Feriados!A:A,1,FALSE)),\"n\",VLOOKUP(A1602,Feriados!A:A,1,FALSE))","v":"n"}]
[46163,1102,{"$f":"IF(E1603<>\"n\",COUNTIF(B1603:$B$4018,B1603),IF(D1603<6,0,COUNTIF(B1603:$B$4018,B1603)))","v":0},4,{"$f":"IF(ISERROR(VLOOKUP(A1603,Feriados!A:A,1,FALSE)),\"n\",VLOOKUP(A1603,Feriados!A:A,1,FALSE))","v":"n"}]
[{"$f":"A1603+1","v":46164},1103,{"$f":"IF(E1604<>\"n\",COUNTIF(B1604:$B$4018,B1604),IF(D1604<6,0,COUNTIF(B1604:$B$4018,B1604)))","v":0},5,{"$f":"IF(ISERROR(VLOOKUP(A1604,Feriados!A:A,1,FALSE)),\"n\",VLOOKUP(A1604,Feriados!A:A,1,FALSE))","v":"n"}]
[46165,1103,{"$f":"IF(E1605<>\"n\",COUNTIF(B1605:$B$4018,B1605),IF(D1605<6,0,COUNTIF(B1605:$B$4018,B1605)))","v":2},6,{"$f":"IF(ISERROR(VLOOKUP(A1605,Feriados!A:A,1,FALSE)),\"n\",VLOOKUP(A1605,Feriados!A:A,1,FALSE))","v":"n"}]
[46166,1103,{"$f":"IF(E1606<>\"n\",COUNTIF(B1606:$B$4018,B1606),IF(D1606<6,0,COUNTIF(B1606:$B$4018,B1606)))","v":1},7,{"$f":"IF(ISERROR(VLOOKUP(A1606,Feriados!A:A,1,FALSE)),\"n\",VLOOKUP(A1606,Feriados!A:A,1,FALSE))","v":"n"}]
[46167,1104,{"$f":"IF(E1607<>\"n\",COUNTIF(B1607:$B$4018,B1607),IF(D1607<6,0,COUNTIF(B1607:$B$4018,B1607)))","v":0},1,{"$f":"IF(ISERROR(VLOOKUP(A1607,Feriados!A:A,1,FALSE)),\"n\",VLOOKUP(A1607,Feriados!A:A,1,FALSE))","v":"n"}]
[46168,1105,{"$f":"IF(E1608<>\"n\",COUNTIF(B1608:$B$4018,B1608),IF(D1608<6,0,COUNTIF(B1608:$B$4018,B1608)))","v":0},2,{"$f":"IF(ISERROR(VLOOKUP(A1608,Feriados!A:A,1,FALSE)),\"n\",VLOOKUP(A1608,Feriados!A:A,1,FALSE))","v":"n"}]
[46169,1106,{"$f":"IF(E1609<>\"n\",COUNTIF(B1609:$B$4018,B1609),IF(D1609<6,0,COUNTIF(B1609:$B$4018,B1609)))","v":0},3,{"$f":"IF(ISERROR(VLOOKUP(A1609,Feriados!A:A,1,FALSE)),\"n\",VLOOKUP(A1609,Feriados!A:A,1,FALSE))","v":"n"}]
[46170,1107,{"$f":"IF(E1610<>\"n\",COUNTIF(B1610:$B$4018,B1610),IF(D1610<6,0,COUNTIF(B1610:$B$4018,B1610)))","v":0},4,{"$f":"IF(ISERROR(VLOOKUP(A1610,Feriados!A:A,1,FALSE)),\"n\",VLOOKUP(A1610,Feriados!A:A,1,FALSE))","v":"n"}]
[46171,1108,{"$f":"IF(E1611<>\"n\",COUNTIF(B1611:$B$4018,B1611),IF(D1611<6,0,COUNTIF(B1611:$B$4018,B1611)))","v":0},5,{"$f":"IF(ISERROR(VLOOKUP(A1611,Feriados!A:A,1,FALSE)),\"n\",VLOOKUP(A1611,Feriados!A:A,1,FALSE))","v":"n"}]
[46172,1108,{"$f":"IF(E1612<>\"n\",COUNTIF(B1612:$B$4018,B1612),IF(D1612<6,0,COUNTIF(B1612:$B$4018,B1612)))","v":2},6,{"$f":"IF(ISERROR(VLOOKUP(A1612,Feriados!A:A,1,FALSE)),\"n\",VLOOKUP(A1612,Feriados!A:A,1,FALSE))","v":"n"}]
[46173,1108,{"$f":"IF(E1613<>\"n\",COUNTIF(B1613:$B$4018,B1613),IF(D1613<6,0,COUNTIF(B1613:$B$4018,B1613)))","v":1},7,{"$f":"IF(ISERROR(VLOOKUP(A1613,Feriados!A:A,1,FALSE)),\"n\",VLOOKUP(A1613,Feriados!A:A,1,FALSE))","v":"n"}]
[46174,1109,{"$f":"IF(E1614<>\"n\",COUNTIF(B1614:$B$4018,B1614),IF(D1614<6,0,COUNTIF(B1614:$B$4018,B1614)))","v":0},1,{"$f":"IF(ISERROR(VLOOKUP(A1614,Feriados!A:A,1,FALSE)),\"n\",VLOOKUP(A1614,Feriados!A:A,1,FALSE))","v":"n"}]
[46175,1110,{"$f":"IF(E1615<>\"n\",COUNTIF(B1615:$B$4018,B1615),IF(D1615<6,0,COUNTIF(B1615:$B$4018,B1615)))","v":0},2,{"$f":"IF(ISERROR(VLOOKUP(A1615,Feriados!A:A,1,FALSE)),\"n\",VLOOKUP(A1615,Feriados!A:A,1,FALSE))","v":"n"}]
[46176,1111,{"$f":"IF(E1616<>\"n\",COUNTIF(B1616:$B$4018,B1616),IF(D1616<6,0,COUNTIF(B1616:$B$4018,B1616)))","v":0},3,{"$f":"IF(ISERROR(VLOOKUP(A1616,Feriados!A:A,1,FALSE)),\"n\",VLOOKUP(A1616,Feriados!A:A,1,FALSE))","v":"n"}]
[46177,1111,{"$f":"IF(E1617<>\"n\",COUNTIF(B1617:$B$4018,B1617),IF(D1617<6,0,COUNTIF(B1617:$B$4018,B1617)))","v":1},4,{"$f":"IF(ISERROR(VLOOKUP(A1617,Feriados!A:A,1,FALSE)),\"n\",VLOOKUP(A1617,Feriados!A:A,1,FALSE))","v":"2026-06-04"}]
[46178,1112,{"$f":"IF(E1618<>\"n\",COUNTIF(B1618:$B$4018,B1618),IF(D1618<6,0,COUNTIF(B1618:$B$4018,B1618)))","v":0},5,{"$f":"IF(ISERROR(VLOOKUP(A1618,Feriados!A:A,1,FALSE)),\"n\",VLOOKUP(A1618,Feriados!A:A,1,FALSE))","v":"n"}]
[46179,1112,{"$f":"IF(E1619<>\"n\",COUNTIF(B1619:$B$4018,B1619),IF(D1619<6,0,COUNTIF(B1619:$B$4018,B1619)))","v":2},6,{"$f":"IF(ISERROR(VLOOKUP(A1619,Feriados!A:A,1,FALSE)),\"n\",VLOOKUP(A1619,Feriados!A:A,1,FALSE))","v":"n"}]
[46180,1112,{"$f":"IF(E1620<>\"n\",COUNTIF(B1620:$B$4018,B1620),IF(D1620<6,0,COUNTIF(B1620:$B$4018,B1620)))","v":1},7,{"$f":"IF(ISERROR(VLOOKUP(A1620,Feriados!A:A,1,FALSE)),\"n\",VLOOKUP(A1620,Feriados!A:A,1,FALSE))","v":"n"}]
[46181,1113,{"$f":"IF(E1621<>\"n\",COUNTIF(B1621:$B$4018,B1621),IF(D1621<6,0,COUNTIF(B1621:$B$4018,B1621)))","v":0},1,{"$f":"IF(ISERROR(VLOOKUP(A1621,Feriados!A:A,1,FALSE)),\"n\",VLOOKUP(A1621,Feriados!A:A,1,FALSE))","v":"n"}]
[46182,1114,{"$f":"IF(E1622<>\"n\",COUNTIF(B1622:$B$4018,B1622),IF(D1622<6,0,COUNTIF(B1622:$B$4018,B1622)))","v":0},2,{"$f":"IF(ISERROR(VLOOKUP(A1622,Feriados!A:A,1,FALSE)),\"n\",VLOOKUP(A1622,Feriados!A:A,1,FALSE))","v":"n"}]
[46183,1115,{"$f":"IF(E1623<>\"n\",COUNTIF(B1623:$B$4018,B1623),IF(D1623<6,0,COUNTIF(B1623:$B$4018,B1623)))","v":0},3,{"$f":"IF(ISERROR(VLOOKUP(A1623,Feriados!A:A,1,FALSE)),\"n\",VLOOKUP(A1623,Feriados!A:A,1,FALSE))","v":"n"}]
[46184,1116,{"$f":"IF(E1624<>\"n\",COUNTIF(B1624:$B$4018,B1624),IF(D1624<6,0,COUNTIF(B1624:$B$4018,B1624)))","v":0},4,{"$f":"IF(ISERROR(VLOOKUP(A1624,Feriados!A:A,1,FALSE)),\"n\",VLOOKUP(A1624,Feriados!A:A,1,FALSE))","v":"n"}]
[46185,1117,{"$f":"IF(E1625<>\"n\",COUNTIF(B1625:$B$4018,B1625),IF(D1625<6,0,COUNTIF(B1625:$B$4018,B1625)))","v":0},5,{"$f":"IF(ISERROR(VLOOKUP(A1625,Feriados!A:A,1,FALSE)),\"n\",VLOOKUP(A1625,Feriados!A:A,1,FALSE))","v":"n"}]
[46186,1117,{"$f":"IF(E1626<>\"n\",COUNTIF(B1626:$B$4018,B1626),IF(D1626<6,0,COUNTIF(B1626:$B$4018,B1626)))","v":2},6,{"$f":"IF(ISERROR(VLOOKUP(A1626,Feriados!A:A,1,FALSE)),\"n\",VLOOKUP(A1626,Feriados!A:A,1,FALSE))","v":"n"}]
[46187,1117,{"$f":"IF(E1627<>\"n\",COUNTIF(B1627:$B$4018,B1627),IF(D1627<6,0,COUNTIF(B1627:$B$4018,B1627)))","v":1},7,{"$f":"IF(ISERROR(VLOOKUP(A1627,Feriados!A:A,1,FALSE)),\"n\",VLOOKUP(A1627,Feriados!A:A,1,FALSE))","v":"n"}]
[46188,1118,{"$f":"IF(E1628<>\"n\",COUNTIF(B1628:$B$4018,B1628),IF(D1628<6,0,COUNTIF(B1628:$B$4018,B1628)))","v":0},1,{"$f":"IF(ISERROR(VLOOKUP(A1628,Feriados!A:A,1,FALSE)),\"n\",VLOOKUP(A1628,Feriados!A:A,1,FALSE))","v":"n"}]
[46189,1119,{"$f":"IF(E1629<>\"n\",COUNTIF(B1629:$B$4018,B1629),IF(D1629<6,0,COUNTIF(B1629:$B$4018,B1629)))","v":0},2,{"$f":"IF(ISERROR(VLOOKUP(A1629,Feriados!A:A,1,FALSE)),\"n\",VLOOKUP(A1629,Feriados!A:A,1,FALSE))","v":"n"}]
[46190,{"$f":"NETWORKDAYS($A$2,A1630,feriados)","v":1120},{"$f":"IF(E1630<>\"n\",COUNTIF(B1630:$B$4018,B1630),IF(D1630<6,0,COUNTIF(B1630:$B$4018,B1630)))","v":0},{"$f":"WEEKDAY(A1630,2)","v":3},{"$f":"IF(ISERROR(VLOOKUP(A1630,Feriados!A:A,1,FALSE)),\"n\",VLOOKUP(A1630,Feriados!A:A,1,FALSE))","v":"n"}]
[46191,1121,{"$f":"IF(E1631<>\"n\",COUNTIF(B1631:$B$4018,B1631),IF(D1631<6,0,COUNTIF(B1631:$B$4018,B1631)))","v":0},4,{"$f":"IF(ISERROR(VLOOKUP(A1631,Feriados!A:A,1,FALSE)),\"n\",VLOOKUP(A1631,Feriados!A:A,1,FALSE))","v":"n"}]
[46192,1122,{"$f":"IF(E1632<>\"n\",COUNTIF(B1632:$B$4018,B1632),IF(D1632<6,0,COUNTIF(B1632:$B$4018,B1632)))","v":0},5,{"$f":"IF(ISERROR(VLOOKUP(A1632,Feriados!A:A,1,FALSE)),\"n\",VLOOKUP(A1632,Feriados!A:A,1,FALSE))","v":"n"}]
[46193,1122,{"$f":"IF(E1633<>\"n\",COUNTIF(B1633:$B$4018,B1633),IF(D1633<6,0,COUNTIF(B1633:$B$4018,B1633)))","v":2},6,{"$f":"IF(ISERROR(VLOOKUP(A1633,Feriados!A:A,1,FALSE)),\"n\",VLOOKUP(A1633,Feriados!A:A,1,FALSE))","v":"n"}]
[46194,1122,{"$f":"IF(E1634<>\"n\",COUNTIF(B1634:$B$4018,B1634),IF(D1634<6,0,COUNTIF(B1634:$B$4018,B1634)))","v":1},7,{"$f":"IF(ISERROR(VLOOKUP(A1634,Feriados!A:A,1,FALSE)),\"n\",VLOOKUP(A1634,Feriados!A:A,1,FALSE))","v":"n"}]
[46195,1123,{"$f":"IF(E1635<>\"n\",COUNTIF(B1635:$B$4018,B1635),IF(D1635<6,0,COUNTIF(B1635:$B$4018,B1635)))","v":0},1,{"$f":"IF(ISERROR(VLOOKUP(A1635,Feriados!A:A,1,FALSE)),\"n\",VLOOKUP(A1635,Feriados!A:A,1,FALSE))","v":"n"}]
[46196,1124,{"$f":"IF(E1636<>\"n\",COUNTIF(B1636:$B$4018,B1636),IF(D1636<6,0,COUNTIF(B1636:$B$4018,B1636)))","v":0},2,{"$f":"IF(ISERROR(VLOOKUP(A1636,Feriados!A:A,1,FALSE)),\"n\",VLOOKUP(A1636,Feriados!A:A,1,FALSE))","v":"n"}]
[46197,1125,{"$f":"IF(E1637<>\"n\",COUNTIF(B1637:$B$4018,B1637),IF(D1637<6,0,COUNTIF(B1637:$B$4018,B1637)))","v":0},3,{"$f":"IF(ISERROR(VLOOKUP(A1637,Feriados!A:A,1,FALSE)),\"n\",VLOOKUP(A1637,Feriados!A:A,1,FALSE))","v":"n"}]
[46198,1126,{"$f":"IF(E1638<>\"n\",COUNTIF(B1638:$B$4018,B1638),IF(D1638<6,0,COUNTIF(B1638:$B$4018,B1638)))","v":0},4,{"$f":"IF(ISERROR(VLOOKUP(A1638,Feriados!A:A,1,FALSE)),\"n\",VLOOKUP(A1638,Feriados!A:A,1,FALSE))","v":"n"}]
[46199,1127,{"$f":"IF(E1639<>\"n\",COUNTIF(B1639:$B$4018,B1639),IF(D1639<6,0,COUNTIF(B1639:$B$4018,B1639)))","v":0},5,{"$f":"IF(ISERROR(VLOOKUP(A1639,Feriados!A:A,1,FALSE)),\"n\",VLOOKUP(A1639,Feriados!A:A,1,FALSE))","v":"n"}]
[46200,1127,{"$f":"IF(E1640<>\"n\",COUNTIF(B1640:$B$4018,B1640),IF(D1640<6,0,COUNTIF(B1640:$B$4018,B1640)))","v":2},6,{"$f":"IF(ISERROR(VLOOKUP(A1640,Feriados!A:A,1,FALSE)),\"n\",VLOOKUP(A1640,Feriados!A:A,1,FALSE))","v":"n"}]
[46201,1127,{"$f":"IF(E1641<>\"n\",COUNTIF(B1641:$B$4018,B1641),IF(D1641<6,0,COUNTIF(B1641:$B$4018,B1641)))","v":1},7,{"$f":"IF(ISERROR(VLOOKUP(A1641,Feriados!A:A,1,FALSE)),\"n\",VLOOKUP(A1641,Feriados!A:A,1,FALSE))","v":"n"}]
[46202,1128,{"$f":"IF(E1642<>\"n\",COUNTIF(B1642:$B$4018,B1642),IF(D1642<6,0,COUNTIF(B1642:$B$4018,B1642)))","v":0},1,{"$f":"IF(ISERROR(VLOOKUP(A1642,Feriados!A:A,1,FALSE)),\"n\",VLOOKUP(A1642,Feriados!A:A,1,FALSE))","v":"n"}]
[46203,1129,{"$f":"IF(E1643<>\"n\",COUNTIF(B1643:$B$4018,B1643),IF(D1643<6,0,COUNTIF(B1643:$B$4018,B1643)))","v":0},2,{"$f":"IF(ISERROR(VLOOKUP(A1643,Feriados!A:A,1,FALSE)),\"n\",VLOOKUP(A1643,Feriados!A:A,1,FALSE))","v":"n"}]
[46204,1130,{"$f":"IF(E1644<>\"n\",COUNTIF(B1644:$B$4018,B1644),IF(D1644<6,0,COUNTIF(B1644:$B$4018,B1644)))","v":0},3,{"$f":"IF(ISERROR(VLOOKUP(A1644,Feriados!A:A,1,FALSE)),\"n\",VLOOKUP(A1644,Feriados!A:A,1,FALSE))","v":"n"}]
[46205,1131,{"$f":"IF(E1645<>\"n\",COUNTIF(B1645:$B$4018,B1645),IF(D1645<6,0,COUNTIF(B1645:$B$4018,B1645)))","v":0},4,{"$f":"IF(ISERROR(VLOOKUP(A1645,Feriados!A:A,1,FALSE)),\"n\",VLOOKUP(A1645,Feriados!A:A,1,FALSE))","v":"n"}]
[46206,1132,{"$f":"IF(E1646<>\"n\",COUNTIF(B1646:$B$4018,B1646),IF(D1646<6,0,COUNTIF(B1646:$B$4018,B1646)))","v":0},5,{"$f":"IF(ISERROR(VLOOKUP(A1646,Feriados!A:A,1,FALSE)),\"n\",VLOOKUP(A1646,Feriados!A:A,1,FALSE))","v":"n"}]
[46207,1132,{"$f":"IF(E1647<>\"n\",COUNTIF(B1647:$B$4018,B1647),IF(D1647<6,0,COUNTIF(B1647:$B$4018,B1647)))","v":2},6,{"$f":"IF(ISERROR(VLOOKUP(A1647,Feriados!A:A,1,FALSE)),\"n\",VLOOKUP(A1647,Feriados!A:A,1,FALSE))","v":"n"}]
[46208,1132,{"$f":"IF(E1648<>\"n\",COUNTIF(B1648:$B$4018,B1648),IF(D1648<6,0,COUNTIF(B1648:$B$4018,B1648)))","v":1},7,{"$f":"IF(ISERROR(VLOOKUP(A1648,Feriados!A:A,1,FALSE)),\"n\",VLOOKUP(A1648,Feriados!A:A,1,FALSE))","v":"n"}]
[46209,1133,{"$f":"IF(E1649<>\"n\",COUNTIF(B1649:$B$4018,B1649),IF(D1649<6,0,COUNTIF(B1649:$B$4018,B1649)))","v":0},1,{"$f":"IF(ISERROR(VLOOKUP(A1649,Feriados!A:A,1,FALSE)),\"n\",VLOOKUP(A1649,Feriados!A:A,1,FALSE))","v":"n"}]
[46210,1134,{"$f":"IF(E1650<>\"n\",COUNTIF(B1650:$B$4018,B1650),IF(D1650<6,0,COUNTIF(B1650:$B$4018,B1650)))","v":0},2,{"$f":"IF(ISERROR(VLOOKUP(A1650,Feriados!A:A,1,FALSE)),\"n\",VLOOKUP(A1650,Feriados!A:A,1,FALSE))","v":"n"}]
[46211,1135,{"$f":"IF(E1651<>\"n\",COUNTIF(B1651:$B$4018,B1651),IF(D1651<6,0,COUNTIF(B1651:$B$4018,B1651)))","v":0},3,{"$f":"IF(ISERROR(VLOOKUP(A1651,Feriados!A:A,1,FALSE)),\"n\",VLOOKUP(A1651,Feriados!A:A,1,FALSE))","v":"n"}]
[46212,1136,{"$f":"IF(E1652<>\"n\",COUNTIF(B1652:$B$4018,B1652),IF(D1652<6,0,COUNTIF(B1652:$B$4018,B1652)))","v":0},4,{"$f":"IF(ISERROR(VLOOKUP(A1652,Feriados!A:A,1,FALSE)),\"n\",VLOOKUP(A1652,Feriados!A:A,1,FALSE))","v":"n"}]
[46213,1137,{"$f":"IF(E1653<>\"n\",COUNTIF(B1653:$B$4018,B1653),IF(D1653<6,0,COUNTIF(B1653:$B$4018,B1653)))","v":0},5,{"$f":"IF(ISERROR(VLOOKUP(A1653,Feriados!A:A,1,FALSE)),\"n\",VLOOKUP(A1653,Feriados!A:A,1,FALSE))","v":"n"}]
[46214,1137,{"$f":"IF(E1654<>\"n\",COUNTIF(B1654:$B$4018,B1654),IF(D1654<6,0,COUNTIF(B1654:$B$4018,B1654)))","v":2},6,{"$f":"IF(ISERROR(VLOOKUP(A1654,Feriados!A:A,1,FALSE)),\"n\",VLOOKUP(A1654,Feriados!A:A,1,FALSE))","v":"n"}]
[46215,1137,{"$f":"IF(E1655<>\"n\",COUNTIF(B1655:$B$4018,B1655),IF(D1655<6,0,COUNTIF(B1655:$B$4018,B1655)))","v":1},7,{"$f":"IF(ISERROR(VLOOKUP(A1655,Feriados!A:A,1,FALSE)),\"n\",VLOOKUP(A1655,Feriados!A:A,1,FALSE))","v":"n"}]
[46216,1138,{"$f":"IF(E1656<>\"n\",COUNTIF(B1656:$B$4018,B1656),IF(D1656<6,0,COUNTIF(B1656:$B$4018,B1656)))","v":0},1,{"$f":"IF(ISERROR(VLOOKUP(A1656,Feriados!A:A,1,FALSE)),\"n\",VLOOKUP(A1656,Feriados!A:A,1,FALSE))","v":"n"}]
[46217,1139,{"$f":"IF(E1657<>\"n\",COUNTIF(B1657:$B$4018,B1657),IF(D1657<6,0,COUNTIF(B1657:$B$4018,B1657)))","v":0},2,{"$f":"IF(ISERROR(VLOOKUP(A1657,Feriados!A:A,1,FALSE)),\"n\",VLOOKUP(A1657,Feriados!A:A,1,FALSE))","v":"n"}]
[46218,1140,{"$f":"IF(E1658<>\"n\",COUNTIF(B1658:$B$4018,B1658),IF(D1658<6,0,COUNTIF(B1658:$B$4018,B1658)))","v":0},3,{"$f":"IF(ISERROR(VLOOKUP(A1658,Feriados!A:A,1,FALSE)),\"n\",VLOOKUP(A1658,Feriados!A:A,1,FALSE))","v":"n"}]
[46219,1141,{"$f":"IF(E1659<>\"n\",COUNTIF(B1659:$B$4018,B1659),IF(D1659<6,0,COUNTIF(B1659:$B$4018,B1659)))","v":0},4,{"$f":"IF(ISERROR(VLOOKUP(A1659,Feriados!A:A,1,FALSE)),\"n\",VLOOKUP(A1659,Feriados!A:A,1,FALSE))","v":"n"}]
[46220,1142,{"$f":"IF(E1660<>\"n\",COUNTIF(B1660:$B$4018,B1660),IF(D1660<6,0,COUNTIF(B1660:$B$4018,B1660)))","v":0},5,{"$f":"IF(ISERROR(VLOOKUP(A1660,Feriados!A:A,1,FALSE)),\"n\",VLOOKUP(A1660,Feriados!A:A,1,FALSE))","v":"n"}]
[46221,1142,{"$f":"IF(E1661<>\"n\",COUNTIF(B1661:$B$4018,B1661),IF(D1661<6,0,COUNTIF(B1661:$B$4018,B1661)))","v":2},6,{"$f":"IF(ISERROR(VLOOKUP(A1661,Feriados!A:A,1,FALSE)),\"n\",VLOOKUP(A1661,Feriados!A:A,1,FALSE))","v":"n"}]
[46222,1142,{"$f":"IF(E1662<>\"n\",COUNTIF(B1662:$B$4018,B1662),IF(D1662<6,0,COUNTIF(B1662:$B$4018,B1662)))","v":1},7,{"$f":"IF(ISERROR(VLOOKUP(A1662,Feriados!A:A,1,FALSE)),\"n\",VLOOKUP(A1662,Feriados!A:A,1,FALSE))","v":"n"}]
[46223,1143,{"$f":"IF(E1663<>\"n\",COUNTIF(B1663:$B$4018,B1663),IF(D1663<6,0,COUNTIF(B1663:$B$4018,B1663)))","v":0},1,{"$f":"IF(ISERROR(VLOOKUP(A1663,Feriados!A:A,1,FALSE)),\"n\",VLOOKUP(A1663,Feriados!A:A,1,FALSE))","v":"n"}]
[46224,1144,{"$f":"IF(E1664<>\"n\",COUNTIF(B1664:$B$4018,B1664),IF(D1664<6,0,COUNTIF(B1664:$B$4018,B1664)))","v":0},2,{"$f":"IF(ISERROR(VLOOKUP(A1664,Feriados!A:A,1,FALSE)),\"n\",VLOOKUP(A1664,Feriados!A:A,1,FALSE))","v":"n"}]
[46225,1145,{"$f":"IF(E1665<>\"n\",COUNTIF(B1665:$B$4018,B1665),IF(D1665<6,0,COUNTIF(B1665:$B$4018,B1665)))","v":0},3,{"$f":"IF(ISERROR(VLOOKUP(A1665,Feriados!A:A,1,FALSE)),\"n\",VLOOKUP(A1665,Feriados!A:A,1,FALSE))","v":"n"}]
[46226,1146,{"$f":"IF(E1666<>\"n\",COUNTIF(B1666:$B$4018,B1666),IF(D1666<6,0,COUNTIF(B1666:$B$4018,B1666)))","v":0},4,{"$f":"IF(ISERROR(VLOOKUP(A1666,Feriados!A:A,1,FALSE)),\"n\",VLOOKUP(A1666,Feriados!A:A,1,FALSE))","v":"n"}]
[46227,1147,{"$f":"IF(E1667<>\"n\",COUNTIF(B1667:$B$4018,B1667),IF(D1667<6,0,COUNTIF(B1667:$B$4018,B1667)))","v":0},5,{"$f":"IF(ISERROR(VLOOKUP(A1667,Feriados!A:A,1,FALSE)),\"n\",VLOOKUP(A1667,Feriados!A:A,1,FALSE))","v":"n"}]
[{"$f":"A1667+1","v":46228},1147,{"$f":"IF(E1668<>\"n\",COUNTIF(B1668:$B$4018,B1668),IF(D1668<6,0,COUNTIF(B1668:$B$4018,B1668)))","v":2},6,{"$f":"IF(ISERROR(VLOOKUP(A1668,Feriados!A:A,1,FALSE)),\"n\",VLOOKUP(A1668,Feriados!A:A,1,FALSE))","v":"n"}]
[46229,1147,{"$f":"IF(E1669<>\"n\",COUNTIF(B1669:$B$4018,B1669),IF(D1669<6,0,COUNTIF(B1669:$B$4018,B1669)))","v":1},7,{"$f":"IF(ISERROR(VLOOKUP(A1669,Feriados!A:A,1,FALSE)),\"n\",VLOOKUP(A1669,Feriados!A:A,1,FALSE))","v":"n"}]
[46230,1148,{"$f":"IF(E1670<>\"n\",COUNTIF(B1670:$B$4018,B1670),IF(D1670<6,0,COUNTIF(B1670:$B$4018,B1670)))","v":0},1,{"$f":"IF(ISERROR(VLOOKUP(A1670,Feriados!A:A,1,FALSE)),\"n\",VLOOKUP(A1670,Feriados!A:A,1,FALSE))","v":"n"}]
[46231,1149,{"$f":"IF(E1671<>\"n\",COUNTIF(B1671:$B$4018,B1671),IF(D1671<6,0,COUNTIF(B1671:$B$4018,B1671)))","v":0},2,{"$f":"IF(ISERROR(VLOOKUP(A1671,Feriados!A:A,1,FALSE)),\"n\",VLOOKUP(A1671,Feriados!A:A,1,FALSE))","v":"n"}]
[46232,1150,{"$f":"IF(E1672<>\"n\",COUNTIF(B1672:$B$4018,B1672),IF(D1672<6,0,COUNTIF(B1672:$B$4018,B1672)))","v":0},3,{"$f":"IF(ISERROR(VLOOKUP(A1672,Feriados!A:A,1,FALSE)),\"n\",VLOOKUP(A1672,Feriados!A:A,1,FALSE))","v":"n"}]
[46233,1151,{"$f":"IF(E1673<>\"n\",COUNTIF(B1673:$B$4018,B1673),IF(D1673<6,0,COUNTIF(B1673:$B$4018,B1673)))","v":0},4,{"$f":"IF(ISERROR(VLOOKUP(A1673,Feriados!A:A,1,FALSE)),\"n\",VLOOKUP(A1673,Feriados!A:A,1,FALSE))","v":"n"}]
[46234,1152,{"$f":"IF(E1674<>\"n\",COUNTIF(B1674:$B$4018,B1674),IF(D1674<6,0,COUNTIF(B1674:$B$4018,B1674)))","v":0},5,{"$f":"IF(ISERROR(VLOOKUP(A1674,Feriados!A:A,1,FALSE)),\"n\",VLOOKUP(A1674,Feriados!A:A,1,FALSE))","v":"n"}]
[46235,1152,{"$f":"IF(E1675<>\"n\",COUNTIF(B1675:$B$4018,B1675),IF(D1675<6,0,COUNTIF(B1675:$B$4018,B1675)))","v":2},6,{"$f":"IF(ISERROR(VLOOKUP(A1675,Feriados!A:A,1,FALSE)),\"n\",VLOOKUP(A1675,Feriados!A:A,1,FALSE))","v":"n"}]
[46236,1152,{"$f":"IF(E1676<>\"n\",COUNTIF(B1676:$B$4018,B1676),IF(D1676<6,0,COUNTIF(B1676:$B$4018,B1676)))","v":1},7,{"$f":"IF(ISERROR(VLOOKUP(A1676,Feriados!A:A,1,FALSE)),\"n\",VLOOKUP(A1676,Feriados!A:A,1,FALSE))","v":"n"}]
[46237,1153,{"$f":"IF(E1677<>\"n\",COUNTIF(B1677:$B$4018,B1677),IF(D1677<6,0,COUNTIF(B1677:$B$4018,B1677)))","v":0},1,{"$f":"IF(ISERROR(VLOOKUP(A1677,Feriados!A:A,1,FALSE)),\"n\",VLOOKUP(A1677,Feriados!A:A,1,FALSE))","v":"n"}]
[46238,1154,{"$f":"IF(E1678<>\"n\",COUNTIF(B1678:$B$4018,B1678),IF(D1678<6,0,COUNTIF(B1678:$B$4018,B1678)))","v":0},2,{"$f":"IF(ISERROR(VLOOKUP(A1678,Feriados!A:A,1,FALSE)),\"n\",VLOOKUP(A1678,Feriados!A:A,1,FALSE))","v":"n"}]
[46239,1155,{"$f":"IF(E1679<>\"n\",COUNTIF(B1679:$B$4018,B1679),IF(D1679<6,0,COUNTIF(B1679:$B$4018,B1679)))","v":0},3,{"$f":"IF(ISERROR(VLOOKUP(A1679,Feriados!A:A,1,FALSE)),\"n\",VLOOKUP(A1679,Feriados!A:A,1,FALSE))","v":"n"}]
[46240,1156,{"$f":"IF(E1680<>\"n\",COUNTIF(B1680:$B$4018,B1680),IF(D1680<6,0,COUNTIF(B1680:$B$4018,B1680)))","v":0},4,{"$f":"IF(ISERROR(VLOOKUP(A1680,Feriados!A:A,1,FALSE)),\"n\",VLOOKUP(A1680,Feriados!A:A,1,FALSE))","v":"n"}]
[46241,1157,{"$f":"IF(E1681<>\"n\",COUNTIF(B1681:$B$4018,B1681),IF(D1681<6,0,COUNTIF(B1681:$B$4018,B1681)))","v":0},5,{"$f":"IF(ISERROR(VLOOKUP(A1681,Feriados!A:A,1,FALSE)),\"n\",VLOOKUP(A1681,Feriados!A:A,1,FALSE))","v":"n"}]
[46242,1157,{"$f":"IF(E1682<>\"n\",COUNTIF(B1682:$B$4018,B1682),IF(D1682<6,0,COUNTIF(B1682:$B$4018,B1682)))","v":2},6,{"$f":"IF(ISERROR(VLOOKUP(A1682,Feriados!A:A,1,FALSE)),\"n\",VLOOKUP(A1682,Feriados!A:A,1,FALSE))","v":"n"}]
[46243,1157,{"$f":"IF(E1683<>\"n\",COUNTIF(B1683:$B$4018,B1683),IF(D1683<6,0,COUNTIF(B1683:$B$4018,B1683)))","v":1},7,{"$f":"IF(ISERROR(VLOOKUP(A1683,Feriados!A:A,1,FALSE)),\"n\",VLOOKUP(A1683,Feriados!A:A,1,FALSE))","v":"n"}]
[46244,1158,{"$f":"IF(E1684<>\"n\",COUNTIF(B1684:$B$4018,B1684),IF(D1684<6,0,COUNTIF(B1684:$B$4018,B1684)))","v":0},1,{"$f":"IF(ISERROR(VLOOKUP(A1684,Feriados!A:A,1,FALSE)),\"n\",VLOOKUP(A1684,Feriados!A:A,1,FALSE))","v":"n"}]
[46245,1159,{"$f":"IF(E1685<>\"n\",COUNTIF(B1685:$B$4018,B1685),IF(D1685<6,0,COUNTIF(B1685:$B$4018,B1685)))","v":0},2,{"$f":"IF(ISERROR(VLOOKUP(A1685,Feriados!A:A,1,FALSE)),\"n\",VLOOKUP(A1685,Feriados!A:A,1,FALSE))","v":"n"}]
[46246,1160,{"$f":"IF(E1686<>\"n\",COUNTIF(B1686:$B$4018,B1686),IF(D1686<6,0,COUNTIF(B1686:$B$4018,B1686)))","v":0},3,{"$f":"IF(ISERROR(VLOOKUP(A1686,Feriados!A:A,1,FALSE)),\"n\",VLOOKUP(A1686,Feriados!A:A,1,FALSE))","v":"n"}]
[46247,1161,{"$f":"IF(E1687<>\"n\",COUNTIF(B1687:$B$4018,B1687),IF(D1687<6,0,COUNTIF(B1687:$B$4018,B1687)))","v":0},4,{"$f":"IF(ISERROR(VLOOKUP(A1687,Feriados!A:A,1,FALSE)),\"n\",VLOOKUP(A1687,Feriados!A:A,1,FALSE))","v":"n"}]
[46248,1162,{"$f":"IF(E1688<>\"n\",COUNTIF(B1688:$B$4018,B1688),IF(D1688<6,0,COUNTIF(B1688:$B$4018,B1688)))","v":0},5,{"$f":"IF(ISERROR(VLOOKUP(A1688,Feriados!A:A,1,FALSE)),\"n\",VLOOKUP(A1688,Feriados!A:A,1,FALSE))","v":"n"}]
[46249,1162,{"$f":"IF(E1689<>\"n\",COUNTIF(B1689:$B$4018,B1689),IF(D1689<6,0,COUNTIF(B1689:$B$4018,B1689)))","v":2},6,{"$f":"IF(ISERROR(VLOOKUP(A1689,Feriados!A:A,1,FALSE)),\"n\",VLOOKUP(A1689,Feriados!A:A,1,FALSE))","v":"n"}]
[46250,1162,{"$f":"IF(E1690<>\"n\",COUNTIF(B1690:$B$4018,B1690),IF(D1690<6,0,COUNTIF(B1690:$B$4018,B1690)))","v":1},7,{"$f":"IF(ISERROR(VLOOKUP(A1690,Feriados!A:A,1,FALSE)),\"n\",VLOOKUP(A1690,Feriados!A:A,1,FALSE))","v":"n"}]
[46251,1163,{"$f":"IF(E1691<>\"n\",COUNTIF(B1691:$B$4018,B1691),IF(D1691<6,0,COUNTIF(B1691:$B$4018,B1691)))","v":0},1,{"$f":"IF(ISERROR(VLOOKUP(A1691,Feriados!A:A,1,FALSE)),\"n\",VLOOKUP(A1691,Feriados!A:A,1,FALSE))","v":"n"}]
[46252,1164,{"$f":"IF(E1692<>\"n\",COUNTIF(B1692:$B$4018,B1692),IF(D1692<6,0,COUNTIF(B1692:$B$4018,B1692)))","v":0},2,{"$f":"IF(ISERROR(VLOOKUP(A1692,Feriados!A:A,1,FALSE)),\"n\",VLOOKUP(A1692,Feriados!A:A,1,FALSE))","v":"n"}]
[46253,1165,{"$f":"IF(E1693<>\"n\",COUNTIF(B1693:$B$4018,B1693),IF(D1693<6,0,COUNTIF(B1693:$B$4018,B1693)))","v":0},3,{"$f":"IF(ISERROR(VLOOKUP(A1693,Feriados!A:A,1,FALSE)),\"n\",VLOOKUP(A1693,Feriados!A:A,1,FALSE))","v":"n"}]
[46254,{"$f":"NETWORKDAYS($A$2,A1694,feriados)","v":1166},{"$f":"IF(E1694<>\"n\",COUNTIF(B1694:$B$4018,B1694),IF(D1694<6,0,COUNTIF(B1694:$B$4018,B1694)))","v":0},{"$f":"WEEKDAY(A1694,2)","v":4},{"$f":"IF(ISERROR(VLOOKUP(A1694,Feriados!A:A,1,FALSE)),\"n\",VLOOKUP(A1694,Feriados!A:A,1,FALSE))","v":"n"}]
[46255,1167,{"$f":"IF(E1695<>\"n\",COUNTIF(B1695:$B$4018,B1695),IF(D1695<6,0,COUNTIF(B1695:$B$4018,B1695)))","v":0},5,{"$f":"IF(ISERROR(VLOOKUP(A1695,Feriados!A:A,1,FALSE)),\"n\",VLOOKUP(A1695,Feriados!A:A,1,FALSE))","v":"n"}]
[46256,1167,{"$f":"IF(E1696<>\"n\",COUNTIF(B1696:$B$4018,B1696),IF(D1696<6,0,COUNTIF(B1696:$B$4018,B1696)))","v":2},6,{"$f":"IF(ISERROR(VLOOKUP(A1696,Feriados!A:A,1,FALSE)),\"n\",VLOOKUP(A1696,Feriados!A:A,1,FALSE))","v":"n"}]
[46257,1167,{"$f":"IF(E1697<>\"n\",COUNTIF(B1697:$B$4018,B1697),IF(D1697<6,0,COUNTIF(B1697:$B$4018,B1697)))","v":1},7,{"$f":"IF(ISERROR(VLOOKUP(A1697,Feriados!A:A,1,FALSE)),\"n\",VLOOKUP(A1697,Feriados!A:A,1,FALSE))","v":"n"}]
[46258,1168,{"$f":"IF(E1698<>\"n\",COUNTIF(B1698:$B$4018,B1698),IF(D1698<6,0,COUNTIF(B1698:$B$4018,B1698)))","v":0},1,{"$f":"IF(ISERROR(VLOOKUP(A1698,Feriados!A:A,1,FALSE)),\"n\",VLOOKUP(A1698,Feriados!A:A,1,FALSE))","v":"n"}]
[46259,1169,{"$f":"IF(E1699<>\"n\",COUNTIF(B1699:$B$4018,B1699),IF(D1699<6,0,COUNTIF(B1699:$B$4018,B1699)))","v":0},2,{"$f":"IF(ISERROR(VLOOKUP(A1699,Feriados!A:A,1,FALSE)),\"n\",VLOOKUP(A1699,Feriados!A:A,1,FALSE))","v":"n"}]
[46260,1170,{"$f":"IF(E1700<>\"n\",COUNTIF(B1700:$B$4018,B1700),IF(D1700<6,0,COUNTIF(B1700:$B$4018,B1700)))","v":0},3,{"$f":"IF(ISERROR(VLOOKUP(A1700,Feriados!A:A,1,FALSE)),\"n\",VLOOKUP(A1700,Feriados!A:A,1,FALSE))","v":"n"}]
[46261,1171,{"$f":"IF(E1701<>\"n\",COUNTIF(B1701:$B$4018,B1701),IF(D1701<6,0,COUNTIF(B1701:$B$4018,B1701)))","v":0},4,{"$f":"IF(ISERROR(VLOOKUP(A1701,Feriados!A:A,1,FALSE)),\"n\",VLOOKUP(A1701,Feriados!A:A,1,FALSE))","v":"n"}]
[46262,1172,{"$f":"IF(E1702<>\"n\",COUNTIF(B1702:$B$4018,B1702),IF(D1702<6,0,COUNTIF(B1702:$B$4018,B1702)))","v":0},5,{"$f":"IF(ISERROR(VLOOKUP(A1702,Feriados!A:A,1,FALSE)),\"n\",VLOOKUP(A1702,Feriados!A:A,1,FALSE))","v":"n"}]
[46263,1172,{"$f":"IF(E1703<>\"n\",COUNTIF(B1703:$B$4018,B1703),IF(D1703<6,0,COUNTIF(B1703:$B$4018,B1703)))","v":2},6,{"$f":"IF(ISERROR(VLOOKUP(A1703,Feriados!A:A,1,FALSE)),\"n\",VLOOKUP(A1703,Feriados!A:A,1,FALSE))","v":"n"}]
[46264,1172,{"$f":"IF(E1704<>\"n\",COUNTIF(B1704:$B$4018,B1704),IF(D1704<6,0,COUNTIF(B1704:$B$4018,B1704)))","v":1},7,{"$f":"IF(ISERROR(VLOOKUP(A1704,Feriados!A:A,1,FALSE)),\"n\",VLOOKUP(A1704,Feriados!A:A,1,FALSE))","v":"n"}]
[46265,1173,{"$f":"IF(E1705<>\"n\",COUNTIF(B1705:$B$4018,B1705),IF(D1705<6,0,COUNTIF(B1705:$B$4018,B1705)))","v":0},1,{"$f":"IF(ISERROR(VLOOKUP(A1705,Feriados!A:A,1,FALSE)),\"n\",VLOOKUP(A1705,Feriados!A:A,1,FALSE))","v":"n"}]
[46266,1174,{"$f":"IF(E1706<>\"n\",COUNTIF(B1706:$B$4018,B1706),IF(D1706<6,0,COUNTIF(B1706:$B$4018,B1706)))","v":0},2,{"$f":"IF(ISERROR(VLOOKUP(A1706,Feriados!A:A,1,FALSE)),\"n\",VLOOKUP(A1706,Feriados!A:A,1,FALSE))","v":"n"}]
[46267,1175,{"$f":"IF(E1707<>\"n\",COUNTIF(B1707:$B$4018,B1707),IF(D1707<6,0,COUNTIF(B1707:$B$4018,B1707)))","v":0},3,{"$f":"IF(ISERROR(VLOOKUP(A1707,Feriados!A:A,1,FALSE)),\"n\",VLOOKUP(A1707,Feriados!A:A,1,FALSE))","v":"n"}]
[46268,1176,{"$f":"IF(E1708<>\"n\",COUNTIF(B1708:$B$4018,B1708),IF(D1708<6,0,COUNTIF(B1708:$B$4018,B1708)))","v":0},4,{"$f":"IF(ISERROR(VLOOKUP(A1708,Feriados!A:A,1,FALSE)),\"n\",VLOOKUP(A1708,Feriados!A:A,1,FALSE))","v":"n"}]
[46269,1177,{"$f":"IF(E1709<>\"n\",COUNTIF(B1709:$B$4018,B1709),IF(D1709<6,0,COUNTIF(B1709:$B$4018,B1709)))","v":0},5,{"$f":"IF(ISERROR(VLOOKUP(A1709,Feriados!A:A,1,FALSE)),\"n\",VLOOKUP(A1709,Feriados!A:A,1,FALSE))","v":"n"}]
[46270,1177,{"$f":"IF(E1710<>\"n\",COUNTIF(B1710:$B$4018,B1710),IF(D1710<6,0,COUNTIF(B1710:$B$4018,B1710)))","v":3},6,{"$f":"IF(ISERROR(VLOOKUP(A1710,Feriados!A:A,1,FALSE)),\"n\",VLOOKUP(A1710,Feriados!A:A,1,FALSE))","v":"n"}]
[46271,1177,{"$f":"IF(E1711<>\"n\",COUNTIF(B1711:$B$4018,B1711),IF(D1711<6,0,COUNTIF(B1711:$B$4018,B1711)))","v":2},7,{"$f":"IF(ISERROR(VLOOKUP(A1711,Feriados!A:A,1,FALSE)),\"n\",VLOOKUP(A1711,Feriados!A:A,1,FALSE))","v":"n"}]
[46272,1177,{"$f":"IF(E1712<>\"n\",COUNTIF(B1712:$B$4018,B1712),IF(D1712<6,0,COUNTIF(B1712:$B$4018,B1712)))","v":1},1,{"$f":"IF(ISERROR(VLOOKUP(A1712,Feriados!A:A,1,FALSE)),\"n\",VLOOKUP(A1712,Feriados!A:A,1,FALSE))","v":"2026-09-07"}]
[46273,1178,{"$f":"IF(E1713<>\"n\",COUNTIF(B1713:$B$4018,B1713),IF(D1713<6,0,COUNTIF(B1713:$B$4018,B1713)))","v":0},2,{"$f":"IF(ISERROR(VLOOKUP(A1713,Feriados!A:A,1,FALSE)),\"n\",VLOOKUP(A1713,Feriados!A:A,1,FALSE))","v":"n"}]
[46274,1179,{"$f":"IF(E1714<>\"n\",COUNTIF(B1714:$B$4018,B1714),IF(D1714<6,0,COUNTIF(B1714:$B$4018,B1714)))","v":0},3,{"$f":"IF(ISERROR(VLOOKUP(A1714,Feriados!A:A,1,FALSE)),\"n\",VLOOKUP(A1714,Feriados!A:A,1,FALSE))","v":"n"}]
[46275,1180,{"$f":"IF(E1715<>\"n\",COUNTIF(B1715:$B$4018,B1715),IF(D1715<6,0,COUNTIF(B1715:$B$4018,B1715)))","v":0},4,{"$f":"IF(ISERROR(VLOOKUP(A1715,Feriados!A:A,1,FALSE)),\"n\",VLOOKUP(A1715,Feriados!A:A,1,FALSE))","v":"n"}]
[46276,1181,{"$f":"IF(E1716<>\"n\",COUNTIF(B1716:$B$4018,B1716),IF(D1716<6,0,COUNTIF(B1716:$B$4018,B1716)))","v":0},5,{"$f":"IF(ISERROR(VLOOKUP(A1716,Feriados!A:A,1,FALSE)),\"n\",VLOOKUP(A1716,Feriados!A:A,1,FALSE))","v":"n"}]
[46277,1181,{"$f":"IF(E1717<>\"n\",COUNTIF(B1717:$B$4018,B1717),IF(D1717<6,0,COUNTIF(B1717:$B$4018,B1717)))","v":2},6,{"$f":"IF(ISERROR(VLOOKUP(A1717,Feriados!A:A,1,FALSE)),\"n\",VLOOKUP(A1717,Feriados!A:A,1,FALSE))","v":"n"}]
[46278,1181,{"$f":"IF(E1718<>\"n\",COUNTIF(B1718:$B$4018,B1718),IF(D1718<6,0,COUNTIF(B1718:$B$4018,B1718)))","v":1},7,{"$f":"IF(ISERROR(VLOOKUP(A1718,Feriados!A:A,1,FALSE)),\"n\",VLOOKUP(A1718,Feriados!A:A,1,FALSE))","v":"n"}]
[46279,1182,{"$f":"IF(E1719<>\"n\",COUNTIF(B1719:$B$4018,B1719),IF(D1719<6,0,COUNTIF(B1719:$B$4018,B1719)))","v":0},1,{"$f":"IF(ISERROR(VLOOKUP(A1719,Feriados!A:A,1,FALSE)),\"n\",VLOOKUP(A1719,Feriados!A:A,1,FALSE))","v":"n"}]
[46280,1183,{"$f":"IF(E1720<>\"n\",COUNTIF(B1720:$B$4018,B1720),IF(D1720<6,0,COUNTIF(B1720:$B$4018,B1720)))","v":0},2,{"$f":"IF(ISERROR(VLOOKUP(A1720,Feriados!A:A,1,FALSE)),\"n\",VLOOKUP(A1720,Feriados!A:A,1,FALSE))","v":"n"}]
[46281,1184,{"$f":"IF(E1721<>\"n\",COUNTIF(B1721:$B$4018,B1721),IF(D1721<6,0,COUNTIF(B1721:$B$4018,B1721)))","v":0},3,{"$f":"IF(ISERROR(VLOOKUP(A1721,Feriados!A:A,1,FALSE)),\"n\",VLOOKUP(A1721,Feriados!A:A,1,FALSE))","v":"n"}]
[46282,1185,{"$f":"IF(E1722<>\"n\",COUNTIF(B1722:$B$4018,B1722),IF(D1722<6,0,COUNTIF(B1722:$B$4018,B1722)))","v":0},4,{"$f":"IF(ISERROR(VLOOKUP(A1722,Feriados!A:A,1,FALSE)),\"n\",VLOOKUP(A1722,Feriados!A:A,1,FALSE))","v":"n"}]
[46283,1186,{"$f":"IF(E1723<>\"n\",COUNTIF(B1723:$B$4018,B1723),IF(D1723<6,0,COUNTIF(B1723:$B$4018,B1723)))","v":0},5,{"$f":"IF(ISERROR(VLOOKUP(A1723,Feriados!A:A,1,FALSE)),\"n\",VLOOKUP(A1723,Feriados!A:A,1,FALSE))","v":"n"}]
[46284,1186,{"$f":"IF(E1724<>\"n\",COUNTIF(B1724:$B$4018,B1724),IF(D1724<6,0,COUNTIF(B1724:$B$4018,B1724)))","v":2},6,{"$f":"IF(ISERROR(VLOOKUP(A1724,Feriados!A:A,1,FALSE)),\"n\",VLOOKUP(A1724,Feriados!A:A,1,FALSE))","v":"n"}]
[46285,1186,{"$f":"IF(E1725<>\"n\",COUNTIF(B1725:$B$4018,B1725),IF(D1725<6,0,COUNTIF(B1725:$B$4018,B1725)))","v":1},7,{"$f":"IF(ISERROR(VLOOKUP(A1725,Feriados!A:A,1,FALSE)),\"n\",VLOOKUP(A1725,Feriados!A:A,1,FALSE))","v":"n"}]
[46286,1187,{"$f":"IF(E1726<>\"n\",COUNTIF(B1726:$B$4018,B1726),IF(D1726<6,0,COUNTIF(B1726:$B$4018,B1726)))","v":0},1,{"$f":"IF(ISERROR(VLOOKUP(A1726,Feriados!A:A,1,FALSE)),\"n\",VLOOKUP(A1726,Feriados!A:A,1,FALSE))","v":"n"}]
[46287,1188,{"$f":"IF(E1727<>\"n\",COUNTIF(B1727:$B$4018,B1727),IF(D1727<6,0,COUNTIF(B1727:$B$4018,B1727)))","v":0},2,{"$f":"IF(ISERROR(VLOOKUP(A1727,Feriados!A:A,1,FALSE)),\"n\",VLOOKUP(A1727,Feriados!A:A,1,FALSE))","v":"n"}]
[46288,1189,{"$f":"IF(E1728<>\"n\",COUNTIF(B1728:$B$4018,B1728),IF(D1728<6,0,COUNTIF(B1728:$B$4018,B1728)))","v":0},3,{"$f":"IF(ISERROR(VLOOKUP(A1728,Feriados!A:A,1,FALSE)),\"n\",VLOOKUP(A1728,Feriados!A:A,1,FALSE))","v":"n"}]
[46289,1190,{"$f":"IF(E1729<>\"n\",COUNTIF(B1729:$B$4018,B1729),IF(D1729<6,0,COUNTIF(B1729:$B$4018,B1729)))","v":0},4,{"$f":"IF(ISERROR(VLOOKUP(A1729,Feriados!A:A,1,FALSE)),\"n\",VLOOKUP(A1729,Feriados!A:A,1,FALSE))","v":"n"}]
[46290,1191,{"$f":"IF(E1730<>\"n\",COUNTIF(B1730:$B$4018,B1730),IF(D1730<6,0,COUNTIF(B1730:$B$4018,B1730)))","v":0},5,{"$f":"IF(ISERROR(VLOOKUP(A1730,Feriados!A:A,1,FALSE)),\"n\",VLOOKUP(A1730,Feriados!A:A,1,FALSE))","v":"n"}]
[46291,1191,{"$f":"IF(E1731<>\"n\",COUNTIF(B1731:$B$4018,B1731),IF(D1731<6,0,COUNTIF(B1731:$B$4018,B1731)))","v":2},6,{"$f":"IF(ISERROR(VLOOKUP(A1731,Feriados!A:A,1,FALSE)),\"n\",VLOOKUP(A1731,Feriados!A:A,1,FALSE))","v":"n"}]
[{"$f":"A1731+1","v":46292},1191,{"$f":"IF(E1732<>\"n\",COUNTIF(B1732:$B$4018,B1732),IF(D1732<6,0,COUNTIF(B1732:$B$4018,B1732)))","v":1},7,{"$f":"IF(ISERROR(VLOOKUP(A1732,Feriados!A:A,1,FALSE)),\"n\",VLOOKUP(A1732,Feriados!A:A,1,FALSE))","v":"n"}]
[46293,1192,{"$f":"IF(E1733<>\"n\",COUNTIF(B1733:$B$4018,B1733),IF(D1733<6,0,COUNTIF(B1733:$B$4018,B1733)))","v":0},1,{"$f":"IF(ISERROR(VLOOKUP(A1733,Feriados!A:A,1,FALSE)),\"n\",VLOOKUP(A1733,Feriados!A:A,1,FALSE))","v":"n"}]
[46294,1193,{"$f":"IF(E1734<>\"n\",COUNTIF(B1734:$B$4018,B1734),IF(D1734<6,0,COUNTIF(B1734:$B$4018,B1734)))","v":0},2,{"$f":"IF(ISERROR(VLOOKUP(A1734,Feriados!A:A,1,FALSE)),\"n\",VLOOKUP(A1734,Feriados!A:A,1,FALSE))","v":"n"}]
[46295,1194,{"$f":"IF(E1735<>\"n\",COUNTIF(B1735:$B$4018,B1735),IF(D1735<6,0,COUNTIF(B1735:$B$4018,B1735)))","v":0},3,{"$f":"IF(ISERROR(VLOOKUP(A1735,Feriados!A:A,1,FALSE)),\"n\",VLOOKUP(A1735,Feriados!A:A,1,FALSE))","v":"n"}]
[46296,1195,{"$f":"IF(E1736<>\"n\",COUNTIF(B1736:$B$4018,B1736),IF(D1736<6,0,COUNTIF(B1736:$B$4018,B1736)))","v":0},4,{"$f":"IF(ISERROR(VLOOKUP(A1736,Feriados!A:A,1,FALSE)),\"n\",VLOOKUP(A1736,Feriados!A:A,1,FALSE))","v":"n"}]
[46297,1196,{"$f":"IF(E1737<>\"n\",COUNTIF(B1737:$B$4018,B1737),IF(D1737<6,0,COUNTIF(B1737:$B$4018,B1737)))","v":0},5,{"$f":"IF(ISERROR(VLOOKUP(A1737,Feriados!A:A,1,FALSE)),\"n\",VLOOKUP(A1737,Feriados!A:A,1,FALSE))","v":"n"}]
[46298,1196,{"$f":"IF(E1738<>\"n\",COUNTIF(B1738:$B$4018,B1738),IF(D1738<6,0,COUNTIF(B1738:$B$4018,B1738)))","v":2},6,{"$f":"IF(ISERROR(VLOOKUP(A1738,Feriados!A:A,1,FALSE)),\"n\",VLOOKUP(A1738,Feriados!A:A,1,FALSE))","v":"n"}]
[46299,1196,{"$f":"IF(E1739<>\"n\",COUNTIF(B1739:$B$4018,B1739),IF(D1739<6,0,COUNTIF(B1739:$B$4018,B1739)))","v":1},7,{"$f":"IF(ISERROR(VLOOKUP(A1739,Feriados!A:A,1,FALSE)),\"n\",VLOOKUP(A1739,Feriados!A:A,1,FALSE))","v":"n"}]
[46300,1197,{"$f":"IF(E1740<>\"n\",COUNTIF(B1740:$B$4018,B1740),IF(D1740<6,0,COUNTIF(B1740:$B$4018,B1740)))","v":0},1,{"$f":"IF(ISERROR(VLOOKUP(A1740,Feriados!A:A,1,FALSE)),\"n\",VLOOKUP(A1740,Feriados!A:A,1,FALSE))","v":"n"}]
[46301,1198,{"$f":"IF(E1741<>\"n\",COUNTIF(B1741:$B$4018,B1741),IF(D1741<6,0,COUNTIF(B1741:$B$4018,B1741)))","v":0},2,{"$f":"IF(ISERROR(VLOOKUP(A1741,Feriados!A:A,1,FALSE)),\"n\",VLOOKUP(A1741,Feriados!A:A,1,FALSE))","v":"n"}]
[46302,1199,{"$f":"IF(E1742<>\"n\",COUNTIF(B1742:$B$4018,B1742),IF(D1742<6,0,COUNTIF(B1742:$B$4018,B1742)))","v":0},3,{"$f":"IF(ISERROR(VLOOKUP(A1742,Feriados!A:A,1,FALSE)),\"n\",VLOOKUP(A1742,Feriados!A:A,1,FALSE))","v":"n"}]
[46303,1200,{"$f":"IF(E1743<>\"n\",COUNTIF(B1743:$B$4018,B1743),IF(D1743<6,0,COUNTIF(B1743:$B$4018,B1743)))","v":0},4,{"$f":"IF(ISERROR(VLOOKUP(A1743,Feriados!A:A,1,FALSE)),\"n\",VLOOKUP(A1743,Feriados!A:A,1,FALSE))","v":"n"}]
[46304,1201,{"$f":"IF(E1744<>\"n\",COUNTIF(B1744:$B$4018,B1744),IF(D1744<6,0,COUNTIF(B1744:$B$4018,B1744)))","v":0},5,{"$f":"IF(ISERROR(VLOOKUP(A1744,Feriados!A:A,1,FALSE)),\"n\",VLOOKUP(A1744,Feriados!A:A,1,FALSE))","v":"n"}]
[46305,1201,{"$f":"IF(E1745<>\"n\",COUNTIF(B1745:$B$4018,B1745),IF(D1745<6,0,COUNTIF(B1745:$B$4018,B1745)))","v":3},6,{"$f":"IF(ISERROR(VLOOKUP(A1745,Feriados!A:A,1,FALSE)),\"n\",VLOOKUP(A1745,Feriados!A:A,1,FALSE))","v":"n"}]
[46306,1201,{"$f":"IF(E1746<>\"n\",COUNTIF(B1746:$B$4018,B1746),IF(D1746<6,0,COUNTIF(B1746:$B$4018,B1746)))","v":2},7,{"$f":"IF(ISERROR(VLOOKUP(A1746,Feriados!A:A,1,FALSE)),\"n\",VLOOKUP(A1746,Feriados!A:A,1,FALSE))","v":"n"}]
[46307,1201,{"$f":"IF(E1747<>\"n\",COUNTIF(B1747:$B$4018,B1747),IF(D1747<6,0,COUNTIF(B1747:$B$4018,B1747)))","v":1},1,{"$f":"IF(ISERROR(VLOOKUP(A1747,Feriados!A:A,1,FALSE)),\"n\",VLOOKUP(A1747,Feriados!A:A,1,FALSE))","v":"2026-10-12"}]
[46308,1202,{"$f":"IF(E1748<>\"n\",COUNTIF(B1748:$B$4018,B1748),IF(D1748<6,0,COUNTIF(B1748:$B$4018,B1748)))","v":0},2,{"$f":"IF(ISERROR(VLOOKUP(A1748,Feriados!A:A,1,FALSE)),\"n\",VLOOKUP(A1748,Feriados!A:A,1,FALSE))","v":"n"}]
[46309,1203,{"$f":"IF(E1749<>\"n\",COUNTIF(B1749:$B$4018,B1749),IF(D1749<6,0,COUNTIF(B1749:$B$4018,B1749)))","v":0},3,{"$f":"IF(ISERROR(VLOOKUP(A1749,Feriados!A:A,1,FALSE)),\"n\",VLOOKUP(A1749,Feriados!A:A,1,FALSE))","v":"n"}]
[46310,1204,{"$f":"IF(E1750<>\"n\",COUNTIF(B1750:$B$4018,B1750),IF(D1750<6,0,COUNTIF(B1750:$B$4018,B1750)))","v":0},4,{"$f":"IF(ISERROR(VLOOKUP(A1750,Feriados!A:A,1,FALSE)),\"n\",VLOOKUP(A1750,Feriados!A:A,1,FALSE))","v":"n"}]
[46311,1205,{"$f":"IF(E1751<>\"n\",COUNTIF(B1751:$B$4018,B1751),IF(D1751<6,0,COUNTIF(B1751:$B$4018,B1751)))","v":0},5,{"$f":"IF(ISERROR(VLOOKUP(A1751,Feriados!A:A,1,FALSE)),\"n\",VLOOKUP(A1751,Feriados!A:A,1,FALSE))","v":"n"}]
[46312,1205,{"$f":"IF(E1752<>\"n\",COUNTIF(B1752:$B$4018,B1752),IF(D1752<6,0,COUNTIF(B1752:$B$4018,B1752)))","v":2},6,{"$f":"IF(ISERROR(VLOOKUP(A1752,Feriados!A:A,1,FALSE)),\"n\",VLOOKUP(A1752,Feriados!A:A,1,FALSE))","v":"n"}]
[46313,1205,{"$f":"IF(E1753<>\"n\",COUNTIF(B1753:$B$4018,B1753),IF(D1753<6,0,COUNTIF(B1753:$B$4018,B1753)))","v":1},7,{"$f":"IF(ISERROR(VLOOKUP(A1753,Feriados!A:A,1,FALSE)),\"n\",VLOOKUP(A1753,Feriados!A:A,1,FALSE))","v":"n"}]
[46314,1206,{"$f":"IF(E1754<>\"n\",COUNTIF(B1754:$B$4018,B1754),IF(D1754<6,0,COUNTIF(B1754:$B$4018,B1754)))","v":0},1,{"$f":"IF(ISERROR(VLOOKUP(A1754,Feriados!A:A,1,FALSE)),\"n\",VLOOKUP(A1754,Feriados!A:A,1,FALSE))","v":"n"}]
[46315,1207,{"$f":"IF(E1755<>\"n\",COUNTIF(B1755:$B$4018,B1755),IF(D1755<6,0,COUNTIF(B1755:$B$4018,B1755)))","v":0},2,{"$f":"IF(ISERROR(VLOOKUP(A1755,Feriados!A:A,1,FALSE)),\"n\",VLOOKUP(A1755,Feriados!A:A,1,FALSE))","v":"n"}]
[46316,1208,{"$f":"IF(E1756<>\"n\",COUNTIF(B1756:$B$4018,B1756),IF(D1756<6,0,COUNTIF(B1756:$B$4018,B1756)))","v":0},3,{"$f":"IF(ISERROR(VLOOKUP(A1756,Feriados!A:A,1,FALSE)),\"n\",VLOOKUP(A1756,Feriados!A:A,1,FALSE))","v":"n"}]
[46317,1209,{"$f":"IF(E1757<>\"n\",COUNTIF(B1757:$B$4018,B1757),IF(D1757<6,0,COUNTIF(B1757:$B$4018,B1757)))","v":0},4,{"$f":"IF(ISERROR(VLOOKUP(A1757,Feriados!A:A,1,FALSE)),\"n\",VLOOKUP(A1757,Feriados!A:A,1,FALSE))","v":"n"}]
[46318,{"$f":"NETWORKDAYS($A$2,A1758,feriados)","v":1210},{"$f":"IF(E1758<>\"n\",COUNTIF(B1758:$B$4018,B1758),IF(D1758<6,0,COUNTIF(B1758:$B$4018,B1758)))","v":0},{"$f":"WEEKDAY(A1758,2)","v":5},{"$f":"IF(ISERROR(VLOOKUP(A1758,Feriados!A:A,1,FALSE)),\"n\",VLOOKUP(A1758,Feriados!A:A,1,FALSE))","v":"n"}]
[46319,1210,{"$f":"IF(E1759<>\"n\",COUNTIF(B1759:$B$4018,B1759),IF(D1759<6,0,COUNTIF(B1759:$B$4018,B1759)))","v":2},6,{"$f":"IF(ISERROR(VLOOKUP(A1759,Feriados!A:A,1,FALSE)),\"n\",VLOOKUP(A1759,Feriados!A:A,1,FALSE))","v":"n"}]
[46320,1210,{"$f":"IF(E1760<>\"n\",COUNTIF(B1760:$B$4018,B1760),IF(D1760<6,0,COUNTIF(B1760:$B$4018,B1760)))","v":1},7,{"$f":"IF(ISERROR(VLOOKUP(A1760,Feriados!A:A,1,FALSE)),\"n\",VLOOKUP(A1760,Feriados!A:A,1,FALSE))","v":"n"}]
[46321,1211,{"$f":"IF(E1761<>\"n\",COUNTIF(B1761:$B$4018,B1761),IF(D1761<6,0,COUNTIF(B1761:$B$4018,B1761)))","v":0},1,{"$f":"IF(ISERROR(VLOOKUP(A1761,Feriados!A:A,1,FALSE)),\"n\",VLOOKUP(A1761,Feriados!A:A,1,FALSE))","v":"n"}]
[46322,1212,{"$f":"IF(E1762<>\"n\",COUNTIF(B1762:$B$4018,B1762),IF(D1762<6,0,COUNTIF(B1762:$B$4018,B1762)))","v":0},2,{"$f":"IF(ISERROR(VLOOKUP(A1762,Feriados!A:A,1,FALSE)),\"n\",VLOOKUP(A1762,Feriados!A:A,1,FALSE))","v":"n"}]
[46323,1213,{"$f":"IF(E1763<>\"n\",COUNTIF(B1763:$B$4018,B1763),IF(D1763<6,0,COUNTIF(B1763:$B$4018,B1763)))","v":0},3,{"$f":"IF(ISERROR(VLOOKUP(A1763,Feriados!A:A,1,FALSE)),\"n\",VLOOKUP(A1763,Feriados!A:A,1,FALSE))","v":"n"}]
[46324,1214,{"$f":"IF(E1764<>\"n\",COUNTIF(B1764:$B$4018,B1764),IF(D1764<6,0,COUNTIF(B1764:$B$4018,B1764)))","v":0},4,{"$f":"IF(ISERROR(VLOOKUP(A1764,Feriados!A:A,1,FALSE)),\"n\",VLOOKUP(A1764,Feriados!A:A,1,FALSE))","v":"n"}]
[46325,1215,{"$f":"IF(E1765<>\"n\",COUNTIF(B1765:$B$4018,B1765),IF(D1765<6,0,COUNTIF(B1765:$B$4018,B1765)))","v":0},5,{"$f":"IF(ISERROR(VLOOKUP(A1765,Feriados!A:A,1,FALSE)),\"n\",VLOOKUP(A1765,Feriados!A:A,1,FALSE))","v":"n"}]
[46326,1215,{"$f":"IF(E1766<>\"n\",COUNTIF(B1766:$B$4018,B1766),IF(D1766<6,0,COUNTIF(B1766:$B$4018,B1766)))","v":3},6,{"$f":"IF(ISERROR(VLOOKUP(A1766,Feriados!A:A,1,FALSE)),\"n\",VLOOKUP(A1766,Feriados!A:A,1,FALSE))","v":"n"}]
[46327,1215,{"$f":"IF(E1767<>\"n\",COUNTIF(B1767:$B$4018,B1767),IF(D1767<6,0,COUNTIF(B1767:$B$4018,B1767)))","v":2},7,{"$f":"IF(ISERROR(VLOOKUP(A1767,Feriados!A:A,1,FALSE)),\"n\",VLOOKUP(A1767,Feriados!A:A,1,FALSE))","v":"n"}]
[46328,1215,{"$f":"IF(E1768<>\"n\",COUNTIF(B1768:$B$4018,B1768),IF(D1768<6,0,COUNTIF(B1768:$B$4018,B1768)))","v":1},1,{"$f":"IF(ISERROR(VLOOKUP(A1768,Feriados!A:A,1,FALSE)),\"n\",VLOOKUP(A1768,Feriados!A:A,1,FALSE))","v":"2026-11-02"}]
[46329,1216,{"$f":"IF(E1769<>\"n\",COUNTIF(B1769:$B$4018,B1769),IF(D1769<6,0,COUNTIF(B1769:$B$4018,B1769)))","v":0},2,{"$f":"IF(ISERROR(VLOOKUP(A1769,Feriados!A:A,1,FALSE)),\"n\",VLOOKUP(A1769,Feriados!A:A,1,FALSE))","v":"n"}]
[46330,1217,{"$f":"IF(E1770<>\"n\",COUNTIF(B1770:$B$4018,B1770),IF(D1770<6,0,COUNTIF(B1770:$B$4018,B1770)))","v":0},3,{"$f":"IF(ISERROR(VLOOKUP(A1770,Feriados!A:A,1,FALSE)),\"n\",VLOOKUP(A1770,Feriados!A:A,1,FALSE))","v":"n"}]
[46331,1218,{"$f":"IF(E1771<>\"n\",COUNTIF(B1771:$B$4018,B1771),IF(D1771<6,0,COUNTIF(B1771:$B$4018,B1771)))","v":0},4,{"$f":"IF(ISERROR(VLOOKUP(A1771,Feriados!A:A,1,FALSE)),\"n\",VLOOKUP(A1771,Feriados!A:A,1,FALSE))","v":"n"}]
[46332,1219,{"$f":"IF(E1772<>\"n\",COUNTIF(B1772:$B$4018,B1772),IF(D1772<6,0,COUNTIF(B1772:$B$4018,B1772)))","v":0},5,{"$f":"IF(ISERROR(VLOOKUP(A1772,Feriados!A:A,1,FALSE)),\"n\",VLOOKUP(A1772,Feriados!A:A,1,FALSE))","v":"n"}]
[46333,1219,{"$f":"IF(E1773<>\"n\",COUNTIF(B1773:$B$4018,B1773),IF(D1773<6,0,COUNTIF(B1773:$B$4018,B1773)))","v":2},6,{"$f":"IF(ISERROR(VLOOKUP(A1773,Feriados!A:A,1,FALSE)),\"n\",VLOOKUP(A1773,Feriados!A:A,1,FALSE))","v":"n"}]
[46334,1219,{"$f":"IF(E1774<>\"n\",COUNTIF(B1774:$B$4018,B1774),IF(D1774<6,0,COUNTIF(B1774:$B$4018,B1774)))","v":1},7,{"$f":"IF(ISERROR(VLOOKUP(A1774,Feriados!A:A,1,FALSE)),\"n\",VLOOKUP(A1774,Feriados!A:A,1,FALSE))","v":"n"}]
[46335,1220,{"$f":"IF(E1775<>\"n\",COUNTIF(B1775:$B$4018,B1775),IF(D1775<6,0,COUNTIF(B1775:$B$4018,B1775)))","v":0},1,{"$f":"IF(ISERROR(VLOOKUP(A1775,Feriados!A:A,1,FALSE)),\"n\",VLOOKUP(A1775,Feriados!A:A,1,FALSE))","v":"n"}]
[46336,1221,{"$f":"IF(E1776<>\"n\",COUNTIF(B1776:$B$4018,B1776),IF(D1776<6,0,COUNTIF(B1776:$B$4018,B1776)))","v":0},2,{"$f":"IF(ISERROR(VLOOKUP(A1776,Feriados!A:A,1,FALSE)),\"n\",VLOOKUP(A1776,Feriados!A:A,1,FALSE))","v":"n"}]
[46337,1222,{"$f":"IF(E1777<>\"n\",COUNTIF(B1777:$B$4018,B1777),IF(D1777<6,0,COUNTIF(B1777:$B$4018,B1777)))","v":0},3,{"$f":"IF(ISERROR(VLOOKUP(A1777,Feriados!A:A,1,FALSE)),\"n\",VLOOKUP(A1777,Feriados!A:A,1,FALSE))","v":"n"}]
[46338,1223,{"$f":"IF(E1778<>\"n\",COUNTIF(B1778:$B$4018,B1778),IF(D1778<6,0,COUNTIF(B1778:$B$4018,B1778)))","v":0},4,{"$f":"IF(ISERROR(VLOOKUP(A1778,Feriados!A:A,1,FALSE)),\"n\",VLOOKUP(A1778,Feriados!A:A,1,FALSE))","v":"n"}]
[46339,1224,{"$f":"IF(E1779<>\"n\",COUNTIF(B1779:$B$4018,B1779),IF(D1779<6,0,COUNTIF(B1779:$B$4018,B1779)))","v":0},5,{"$f":"IF(ISERROR(VLOOKUP(A1779,Feriados!A:A,1,FALSE)),\"n\",VLOOKUP(A1779,Feriados!A:A,1,FALSE))","v":"n"}]
[46340,1224,{"$f":"IF(E1780<>\"n\",COUNTIF(B1780:$B$4018,B1780),IF(D1780<6,0,COUNTIF(B1780:$B$4018,B1780)))","v":2},6,{"$f":"IF(ISERROR(VLOOKUP(A1780,Feriados!A:A,1,FALSE)),\"n\",VLOOKUP(A1780,Feriados!A:A,1,FALSE))","v":"n"}]
[46341,1224,{"$f":"IF(E1781<>\"n\",COUNTIF(B1781:$B$4018,B1781),IF(D1781<6,0,COUNTIF(B1781:$B$4018,B1781)))","v":1},7,{"$f":"IF(ISERROR(VLOOKUP(A1781,Feriados!A:A,1,FALSE)),\"n\",VLOOKUP(A1781,Feriados!A:A,1,FALSE))","v":"2026-11-15"}]
[46342,1225,{"$f":"IF(E1782<>\"n\",COUNTIF(B1782:$B$4018,B1782),IF(D1782<6,0,COUNTIF(B1782:$B$4018,B1782)))","v":0},1,{"$f":"IF(ISERROR(VLOOKUP(A1782,Feriados!A:A,1,FALSE)),\"n\",VLOOKUP(A1782,Feriados!A:A,1,FALSE))","v":"n"}]
[46343,1226,{"$f":"IF(E1783<>\"n\",COUNTIF(B1783:$B$4018,B1783),IF(D1783<6,0,COUNTIF(B1783:$B$4018,B1783)))","v":0},2,{"$f":"IF(ISERROR(VLOOKUP(A1783,Feriados!A:A,1,FALSE)),\"n\",VLOOKUP(A1783,Feriados!A:A,1,FALSE))","v":"n"}]
[46344,1227,{"$f":"IF(E1784<>\"n\",COUNTIF(B1784:$B$4018,B1784),IF(D1784<6,0,COUNTIF(B1784:$B$4018,B1784)))","v":0},3,{"$f":"IF(ISERROR(VLOOKUP(A1784,Feriados!A:A,1,FALSE)),\"n\",VLOOKUP(A1784,Feriados!A:A,1,FALSE))","v":"n"}]
[46345,1228,{"$f":"IF(E1785<>\"n\",COUNTIF(B1785:$B$4018,B1785),IF(D1785<6,0,COUNTIF(B1785:$B$4018,B1785)))","v":0},4,{"$f":"IF(ISERROR(VLOOKUP(A1785,Feriados!A:A,1,FALSE)),\"n\",VLOOKUP(A1785,Feriados!A:A,1,FALSE))","v":"n"}]
[46346,1229,{"$f":"IF(E1786<>\"n\",COUNTIF(B1786:$B$4018,B1786),IF(D1786<6,0,COUNTIF(B1786:$B$4018,B1786)))","v":0},5,{"$f":"IF(ISERROR(VLOOKUP(A1786,Feriados!A:A,1,FALSE)),\"n\",VLOOKUP(A1786,Feriados!A:A,1,FALSE))","v":"n"}]
[46347,1229,{"$f":"IF(E1787<>\"n\",COUNTIF(B1787:$B$4018,B1787),IF(D1787<6,0,COUNTIF(B1787:$B$4018,B1787)))","v":2},6,{"$f":"IF(ISERROR(VLOOKUP(A1787,Feriados!A:A,1,FALSE)),\"n\",VLOOKUP(A1787,Feriados!A:A,1,FALSE))","v":"n"}]
[46348,1229,{"$f":"IF(E1788<>\"n\",COUNTIF(B1788:$B$4018,B1788),IF(D1788<6,0,COUNTIF(B1788:$B$4018,B1788)))","v":1},7,{"$f":"IF(ISERROR(VLOOKUP(A1788,Feriados!A:A,1,FALSE)),\"n\",VLOOKUP(A1788,Feriados!A:A,1,FALSE))","v":"n"}]
[46349,1230,{"$f":"IF(E1789<>\"n\",COUNTIF(B1789:$B$4018,B1789),IF(D1789<6,0,COUNTIF(B1789:$B$4018,B1789)))","v":0},1,{"$f":"IF(ISERROR(VLOOKUP(A1789,Feriados!A:A,1,FALSE)),\"n\",VLOOKUP(A1789,Feriados!A:A,1,FALSE))","v":"n"}]
[46350,1231,{"$f":"IF(E1790<>\"n\",COUNTIF(B1790:$B$4018,B1790),IF(D1790<6,0,COUNTIF(B1790:$B$4018,B1790)))","v":0},2,{"$f":"IF(ISERROR(VLOOKUP(A1790,Feriados!A:A,1,FALSE)),\"n\",VLOOKUP(A1790,Feriados!A:A,1,FALSE))","v":"n"}]
[46351,1232,{"$f":"IF(E1791<>\"n\",COUNTIF(B1791:$B$4018,B1791),IF(D1791<6,0,COUNTIF(B1791:$B$4018,B1791)))","v":0},3,{"$f":"IF(ISERROR(VLOOKUP(A1791,Feriados!A:A,1,FALSE)),\"n\",VLOOKUP(A1791,Feriados!A:A,1,FALSE))","v":"n"}]
[46352,1233,{"$f":"IF(E1792<>\"n\",COUNTIF(B1792:$B$4018,B1792),IF(D1792<6,0,COUNTIF(B1792:$B$4018,B1792)))","v":0},4,{"$f":"IF(ISERROR(VLOOKUP(A1792,Feriados!A:A,1,FALSE)),\"n\",VLOOKUP(A1792,Feriados!A:A,1,FALSE))","v":"n"}]
[46353,1234,{"$f":"IF(E1793<>\"n\",COUNTIF(B1793:$B$4018,B1793),IF(D1793<6,0,COUNTIF(B1793:$B$4018,B1793)))","v":0},5,{"$f":"IF(ISERROR(VLOOKUP(A1793,Feriados!A:A,1,FALSE)),\"n\",VLOOKUP(A1793,Feriados!A:A,1,FALSE))","v":"n"}]
[46354,1234,{"$f":"IF(E1794<>\"n\",COUNTIF(B1794:$B$4018,B1794),IF(D1794<6,0,COUNTIF(B1794:$B$4018,B1794)))","v":2},6,{"$f":"IF(ISERROR(VLOOKUP(A1794,Feriados!A:A,1,FALSE)),\"n\",VLOOKUP(A1794,Feriados!A:A,1,FALSE))","v":"n"}]
[46355,1234,{"$f":"IF(E1795<>\"n\",COUNTIF(B1795:$B$4018,B1795),IF(D1795<6,0,COUNTIF(B1795:$B$4018,B1795)))","v":1},7,{"$f":"IF(ISERROR(VLOOKUP(A1795,Feriados!A:A,1,FALSE)),\"n\",VLOOKUP(A1795,Feriados!A:A,1,FALSE))","v":"n"}]
[{"$f":"A1795+1","v":46356},1235,{"$f":"IF(E1796<>\"n\",COUNTIF(B1796:$B$4018,B1796),IF(D1796<6,0,COUNTIF(B1796:$B$4018,B1796)))","v":0},1,{"$f":"IF(ISERROR(VLOOKUP(A1796,Feriados!A:A,1,FALSE)),\"n\",VLOOKUP(A1796,Feriados!A:A,1,FALSE))","v":"n"}]
[46357,1236,{"$f":"IF(E1797<>\"n\",COUNTIF(B1797:$B$4018,B1797),IF(D1797<6,0,COUNTIF(B1797:$B$4018,B1797)))","v":0},2,{"$f":"IF(ISERROR(VLOOKUP(A1797,Feriados!A:A,1,FALSE)),\"n\",VLOOKUP(A1797,Feriados!A:A,1,FALSE))","v":"n"}]
[46358,1237,{"$f":"IF(E1798<>\"n\",COUNTIF(B1798:$B$4018,B1798),IF(D1798<6,0,COUNTIF(B1798:$B$4018,B1798)))","v":0},3,{"$f":"IF(ISERROR(VLOOKUP(A1798,Feriados!A:A,1,FALSE)),\"n\",VLOOKUP(A1798,Feriados!A:A,1,FALSE))","v":"n"}]
[46359,1238,{"$f":"IF(E1799<>\"n\",COUNTIF(B1799:$B$4018,B1799),IF(D1799<6,0,COUNTIF(B1799:$B$4018,B1799)))","v":0},4,{"$f":"IF(ISERROR(VLOOKUP(A1799,Feriados!A:A,1,FALSE)),\"n\",VLOOKUP(A1799,Feriados!A:A,1,FALSE))","v":"n"}]
[46360,1239,{"$f":"IF(E1800<>\"n\",COUNTIF(B1800:$B$4018,B1800),IF(D1800<6,0,COUNTIF(B1800:$B$4018,B1800)))","v":0},5,{"$f":"IF(ISERROR(VLOOKUP(A1800,Feriados!A:A,1,FALSE)),\"n\",VLOOKUP(A1800,Feriados!A:A,1,FALSE))","v":"n"}]
[46361,1239,{"$f":"IF(E1801<>\"n\",COUNTIF(B1801:$B$4018,B1801),IF(D1801<6,0,COUNTIF(B1801:$B$4018,B1801)))","v":2},6,{"$f":"IF(ISERROR(VLOOKUP(A1801,Feriados!A:A,1,FALSE)),\"n\",VLOOKUP(A1801,Feriados!A:A,1,FALSE))","v":"n"}]
[46362,1239,{"$f":"IF(E1802<>\"n\",COUNTIF(B1802:$B$4018,B1802),IF(D1802<6,0,COUNTIF(B1802:$B$4018,B1802)))","v":1},7,{"$f":"IF(ISERROR(VLOOKUP(A1802,Feriados!A:A,1,FALSE)),\"n\",VLOOKUP(A1802,Feriados!A:A,1,FALSE))","v":"n"}]
[46363,1240,{"$f":"IF(E1803<>\"n\",COUNTIF(B1803:$B$4018,B1803),IF(D1803<6,0,COUNTIF(B1803:$B$4018,B1803)))","v":0},1,{"$f":"IF(ISERROR(VLOOKUP(A1803,Feriados!A:A,1,FALSE)),\"n\",VLOOKUP(A1803,Feriados!A:A,1,FALSE))","v":"n"}]
[46364,1241,{"$f":"IF(E1804<>\"n\",COUNTIF(B1804:$B$4018,B1804),IF(D1804<6,0,COUNTIF(B1804:$B$4018,B1804)))","v":0},2,{"$f":"IF(ISERROR(VLOOKUP(A1804,Feriados!A:A,1,FALSE)),\"n\",VLOOKUP(A1804,Feriados!A:A,1,FALSE))","v":"n"}]
[46365,1242,{"$f":"IF(E1805<>\"n\",COUNTIF(B1805:$B$4018,B1805),IF(D1805<6,0,COUNTIF(B1805:$B$4018,B1805)))","v":0},3,{"$f":"IF(ISERROR(VLOOKUP(A1805,Feriados!A:A,1,FALSE)),\"n\",VLOOKUP(A1805,Feriados!A:A,1,FALSE))","v":"n"}]
[46366,1243,{"$f":"IF(E1806<>\"n\",COUNTIF(B1806:$B$4018,B1806),IF(D1806<6,0,COUNTIF(B1806:$B$4018,B1806)))","v":0},4,{"$f":"IF(ISERROR(VLOOKUP(A1806,Feriados!A:A,1,FALSE)),\"n\",VLOOKUP(A1806,Feriados!A:A,1,FALSE))","v":"n"}]
[46367,1244,{"$f":"IF(E1807<>\"n\",COUNTIF(B1807:$B$4018,B1807),IF(D1807<6,0,COUNTIF(B1807:$B$4018,B1807)))","v":0},5,{"$f":"IF(ISERROR(VLOOKUP(A1807,Feriados!A:A,1,FALSE)),\"n\",VLOOKUP(A1807,Feriados!A:A,1,FALSE))","v":"n"}]
[46368,1244,{"$f":"IF(E1808<>\"n\",COUNTIF(B1808:$B$4018,B1808),IF(D1808<6,0,COUNTIF(B1808:$B$4018,B1808)))","v":2},6,{"$f":"IF(ISERROR(VLOOKUP(A1808,Feriados!A:A,1,FALSE)),\"n\",VLOOKUP(A1808,Feriados!A:A,1,FALSE))","v":"n"}]
[46369,1244,{"$f":"IF(E1809<>\"n\",COUNTIF(B1809:$B$4018,B1809),IF(D1809<6,0,COUNTIF(B1809:$B$4018,B1809)))","v":1},7,{"$f":"IF(ISERROR(VLOOKUP(A1809,Feriados!A:A,1,FALSE)),\"n\",VLOOKUP(A1809,Feriados!A:A,1,FALSE))","v":"n"}]
[46370,1245,{"$f":"IF(E1810<>\"n\",COUNTIF(B1810:$B$4018,B1810),IF(D1810<6,0,COUNTIF(B1810:$B$4018,B1810)))","v":0},1,{"$f":"IF(ISERROR(VLOOKUP(A1810,Feriados!A:A,1,FALSE)),\"n\",VLOOKUP(A1810,Feriados!A:A,1,FALSE))","v":"n"}]
[46371,1246,{"$f":"IF(E1811<>\"n\",COUNTIF(B1811:$B$4018,B1811),IF(D1811<6,0,COUNTIF(B1811:$B$4018,B1811)))","v":0},2,{"$f":"IF(ISERROR(VLOOKUP(A1811,Feriados!A:A,1,FALSE)),\"n\",VLOOKUP(A1811,Feriados!A:A,1,FALSE))","v":"n"}]
[46372,1247,{"$f":"IF(E1812<>\"n\",COUNTIF(B1812:$B$4018,B1812),IF(D1812<6,0,COUNTIF(B1812:$B$4018,B1812)))","v":0},3,{"$f":"IF(ISERROR(VLOOKUP(A1812,Feriados!A:A,1,FALSE)),\"n\",VLOOKUP(A1812,Feriados!A:A,1,FALSE))","v":"n"}]
[46373,1248,{"$f":"IF(E1813<>\"n\",COUNTIF(B1813:$B$4018,B1813),IF(D1813<6,0,COUNTIF(B1813:$B$4018,B1813)))","v":0},4,{"$f":"IF(ISERROR(VLOOKUP(A1813,Feriados!A:A,1,FALSE)),\"n\",VLOOKUP(A1813,Feriados!A:A,1,FALSE))","v":"n"}]
[46374,1249,{"$f":"IF(E1814<>\"n\",COUNTIF(B1814:$B$4018,B1814),IF(D1814<6,0,COUNTIF(B1814:$B$4018,B1814)))","v":0},5,{"$f":"IF(ISERROR(VLOOKUP(A1814,Feriados!A:A,1,FALSE)),\"n\",VLOOKUP(A1814,Feriados!A:A,1,FALSE))","v":"n"}]
[46375,1249,{"$f":"IF(E1815<>\"n\",COUNTIF(B1815:$B$4018,B1815),IF(D1815<6,0,COUNTIF(B1815:$B$4018,B1815)))","v":2},6,{"$f":"IF(ISERROR(VLOOKUP(A1815,Feriados!A:A,1,FALSE)),\"n\",VLOOKUP(A1815,Feriados!A:A,1,FALSE))","v":"n"}]
[46376,1249,{"$f":"IF(E1816<>\"n\",COUNTIF(B1816:$B$4018,B1816),IF(D1816<6,0,COUNTIF(B1816:$B$4018,B1816)))","v":1},7,{"$f":"IF(ISERROR(VLOOKUP(A1816,Feriados!A:A,1,FALSE)),\"n\",VLOOKUP(A1816,Feriados!A:A,1,FALSE))","v":"n"}]
[46377,1250,{"$f":"IF(E1817<>\"n\",COUNTIF(B1817:$B$4018,B1817),IF(D1817<6,0,COUNTIF(B1817:$B$4018,B1817)))","v":0},1,{"$f":"IF(ISERROR(VLOOKUP(A1817,Feriados!A:A,1,FALSE)),\"n\",VLOOKUP(A1817,Feriados!A:A,1,FALSE))","v":"n"}]
[46378,1251,{"$f":"IF(E1818<>\"n\",COUNTIF(B1818:$B$4018,B1818),IF(D1818<6,0,COUNTIF(B1818:$B$4018,B1818)))","v":0},2,{"$f":"IF(ISERROR(VLOOKUP(A1818,Feriados!A:A,1,FALSE)),\"n\",VLOOKUP(A1818,Feriados!A:A,1,FALSE))","v":"n"}]
[46379,1252,{"$f":"IF(E1819<>\"n\",COUNTIF(B1819:$B$4018,B1819),IF(D1819<6,0,COUNTIF(B1819:$B$4018,B1819)))","v":0},3,{"$f":"IF(ISERROR(VLOOKUP(A1819,Feriados!A:A,1,FALSE)),\"n\",VLOOKUP(A1819,Feriados!A:A,1,FALSE))","v":"n"}]
[46380,1253,{"$f":"IF(E1820<>\"n\",COUNTIF(B1820:$B$4018,B1820),IF(D1820<6,0,COUNTIF(B1820:$B$4018,B1820)))","v":0},4,{"$f":"IF(ISERROR(VLOOKUP(A1820,Feriados!A:A,1,FALSE)),\"n\",VLOOKUP(A1820,Feriados!A:A,1,FALSE))","v":"n"}]
[46381,1253,{"$f":"IF(E1821<>\"n\",COUNTIF(B1821:$B$4018,B1821),IF(D1821<6,0,COUNTIF(B1821:$B$4018,B1821)))","v":3},5,{"$f":"IF(ISERROR(VLOOKUP(A1821,Feriados!A:A,1,FALSE)),\"n\",VLOOKUP(A1821,Feriados!A:A,1,FALSE))","v":"2026-12-25"}]
[46382,{"$f":"NETWORKDAYS($A$2,A1822,feriados)","v":1253},{"$f":"IF(E1822<>\"n\",COUNTIF(B1822:$B$4018,B1822),IF(D1822<6,0,COUNTIF(B1822:$B$4018,B1822)))","v":2},{"$f":"WEEKDAY(A1822,2)","v":6},{"$f":"IF(ISERROR(VLOOKUP(A1822,Feriados!A:A,1,FALSE)),\"n\",VLOOKUP(A1822,Feriados!A:A,1,FALSE))","v":"n"}]
[46383,1253,{"$f":"IF(E1823<>\"n\",COUNTIF(B1823:$B$4018,B1823),IF(D1823<6,0,COUNTIF(B1823:$B$4018,B1823)))","v":1},7,{"$f":"IF(ISERROR(VLOOKUP(A1823,Feriados!A:A,1,FALSE)),\"n\",VLOOKUP(A1823,Feriados!A:A,1,FALSE))","v":"n"}]
[46384,1254,{"$f":"IF(E1824<>\"n\",COUNTIF(B1824:$B$4018,B1824),IF(D1824<6,0,COUNTIF(B1824:$B$4018,B1824)))","v":0},1,{"$f":"IF(ISERROR(VLOOKUP(A1824,Feriados!A:A,1,FALSE)),\"n\",VLOOKUP(A1824,Feriados!A:A,1,FALSE))","v":"n"}]
[46385,1255,{"$f":"IF(E1825<>\"n\",COUNTIF(B1825:$B$4018,B1825),IF(D1825<6,0,COUNTIF(B1825:$B$4018,B1825)))","v":0},2,{"$f":"IF(ISERROR(VLOOKUP(A1825,Feriados!A:A,1,FALSE)),\"n\",VLOOKUP(A1825,Feriados!A:A,1,FALSE))","v":"n"}]
[46386,1256,{"$f":"IF(E1826<>\"n\",COUNTIF(B1826:$B$4018,B1826),IF(D1826<6,0,COUNTIF(B1826:$B$4018,B1826)))","v":0},3,{"$f":"IF(ISERROR(VLOOKUP(A1826,Feriados!A:A,1,FALSE)),\"n\",VLOOKUP(A1826,Feriados!A:A,1,FALSE))","v":"n"}]
[46387,1257,{"$f":"IF(E1827<>\"n\",COUNTIF(B1827:$B$4018,B1827),IF(D1827<6,0,COUNTIF(B1827:$B$4018,B1827)))","v":0},4,{"$f":"IF(ISERROR(VLOOKUP(A1827,Feriados!A:A,1,FALSE)),\"n\",VLOOKUP(A1827,Feriados!A:A,1,FALSE))","v":"n"}]
[46388,1257,{"$f":"IF(E1828<>\"n\",COUNTIF(B1828:$B$4018,B1828),IF(D1828<6,0,COUNTIF(B1828:$B$4018,B1828)))","v":3},5,{"$f":"IF(ISERROR(VLOOKUP(A1828,Feriados!A:A,1,FALSE)),\"n\",VLOOKUP(A1828,Feriados!A:A,1,FALSE))","v":"2027-01-01"}]
[46389,1257,{"$f":"IF(E1829<>\"n\",COUNTIF(B1829:$B$4018,B1829),IF(D1829<6,0,COUNTIF(B1829:$B$4018,B1829)))","v":2},6,{"$f":"IF(ISERROR(VLOOKUP(A1829,Feriados!A:A,1,FALSE)),\"n\",VLOOKUP(A1829,Feriados!A:A,1,FALSE))","v":"n"}]
[46390,1257,{"$f":"IF(E1830<>\"n\",COUNTIF(B1830:$B$4018,B1830),IF(D1830<6,0,COUNTIF(B1830:$B$4018,B1830)))","v":1},7,{"$f":"IF(ISERROR(VLOOKUP(A1830,Feriados!A:A,1,FALSE)),\"n\",VLOOKUP(A1830,Feriados!A:A,1,FALSE))","v":"n"}]
[46391,1258,{"$f":"IF(E1831<>\"n\",COUNTIF(B1831:$B$4018,B1831),IF(D1831<6,0,COUNTIF(B1831:$B$4018,B1831)))","v":0},1,{"$f":"IF(ISERROR(VLOOKUP(A1831,Feriados!A:A,1,FALSE)),\"n\",VLOOKUP(A1831,Feriados!A:A,1,FALSE))","v":"n"}]
[46392,1259,{"$f":"IF(E1832<>\"n\",COUNTIF(B1832:$B$4018,B1832),IF(D1832<6,0,COUNTIF(B1832:$B$4018,B1832)))","v":0},2,{"$f":"IF(ISERROR(VLOOKUP(A1832,Feriados!A:A,1,FALSE)),\"n\",VLOOKUP(A1832,Feriados!A:A,1,FALSE))","v":"n"}]
[46393,1260,{"$f":"IF(E1833<>\"n\",COUNTIF(B1833:$B$4018,B1833),IF(D1833<6,0,COUNTIF(B1833:$B$4018,B1833)))","v":0},3,{"$f":"IF(ISERROR(VLOOKUP(A1833,Feriados!A:A,1,FALSE)),\"n\",VLOOKUP(A1833,Feriados!A:A,1,FALSE))","v":"n"}]
[46394,1261,{"$f":"IF(E1834<>\"n\",COUNTIF(B1834:$B$4018,B1834),IF(D1834<6,0,COUNTIF(B1834:$B$4018,B1834)))","v":0},4,{"$f":"IF(ISERROR(VLOOKUP(A1834,Feriados!A:A,1,FALSE)),\"n\",VLOOKUP(A1834,Feriados!A:A,1,FALSE))","v":"n"}]
[46395,1262,{"$f":"IF(E1835<>\"n\",COUNTIF(B1835:$B$4018,B1835),IF(D1835<6,0,COUNTIF(B1835:$B$4018,B1835)))","v":0},5,{"$f":"IF(ISERROR(VLOOKUP(A1835,Feriados!A:A,1,FALSE)),\"n\",VLOOKUP(A1835,Feriados!A:A,1,FALSE))","v":"n"}]
[46396,1262,{"$f":"IF(E1836<>\"n\",COUNTIF(B1836:$B$4018,B1836),IF(D1836<6,0,COUNTIF(B1836:$B$4018,B1836)))","v":2},6,{"$f":"IF(ISERROR(VLOOKUP(A1836,Feriados!A:A,1,FALSE)),\"n\",VLOOKUP(A1836,Feriados!A:A,1,FALSE))","v":"n"}]
[46397,1262,{"$f":"IF(E1837<>\"n\",COUNTIF(B1837:$B$4018,B1837),IF(D1837<6,0,COUNTIF(B1837:$B$4018,B1837)))","v":1},7,{"$f":"IF(ISERROR(VLOOKUP(A1837,Feriados!A:A,1,FALSE)),\"n\",VLOOKUP(A1837,Feriados!A:A,1,FALSE))","v":"n"}]
[46398,1263,{"$f":"IF(E1838<>\"n\",COUNTIF(B1838:$B$4018,B1838),IF(D1838<6,0,COUNTIF(B1838:$B$4018,B1838)))","v":0},1,{"$f":"IF(ISERROR(VLOOKUP(A1838,Feriados!A:A,1,FALSE)),\"n\",VLOOKUP(A1838,Feriados!A:A,1,FALSE))","v":"n"}]
[46399,1264,{"$f":"IF(E1839<>\"n\",COUNTIF(B1839:$B$4018,B1839),IF(D1839<6,0,COUNTIF(B1839:$B$4018,B1839)))","v":0},2,{"$f":"IF(ISERROR(VLOOKUP(A1839,Feriados!A:A,1,FALSE)),\"n\",VLOOKUP(A1839,Feriados!A:A,1,FALSE))","v":"n"}]
[46400,1265,{"$f":"IF(E1840<>\"n\",COUNTIF(B1840:$B$4018,B1840),IF(D1840<6,0,COUNTIF(B1840:$B$4018,B1840)))","v":0},3,{"$f":"IF(ISERROR(VLOOKUP(A1840,Feriados!A:A,1,FALSE)),\"n\",VLOOKUP(A1840,Feriados!A:A,1,FALSE))","v":"n"}]
[46401,1266,{"$f":"IF(E1841<>\"n\",COUNTIF(B1841:$B$4018,B1841),IF(D1841<6,0,COUNTIF(B1841:$B$4018,B1841)))","v":0},4,{"$f":"IF(ISERROR(VLOOKUP(A1841,Feriados!A:A,1,FALSE)),\"n\",VLOOKUP(A1841,Feriados!A:A,1,FALSE))","v":"n"}]
[46402,1267,{"$f":"IF(E1842<>\"n\",COUNTIF(B1842:$B$4018,B1842),IF(D1842<6,0,COUNTIF(B1842:$B$4018,B1842)))","v":0},5,{"$f":"IF(ISERROR(VLOOKUP(A1842,Feriados!A:A,1,FALSE)),\"n\",VLOOKUP(A1842,Feriados!A:A,1,FALSE))","v":"n"}]
[46403,1267,{"$f":"IF(E1843<>\"n\",COUNTIF(B1843:$B$4018,B1843),IF(D1843<6,0,COUNTIF(B1843:$B$4018,B1843)))","v":2},6,{"$f":"IF(ISERROR(VLOOKUP(A1843,Feriados!A:A,1,FALSE)),\"n\",VLOOKUP(A1843,Feriados!A:A,1,FALSE))","v":"n"}]
[46404,1267,{"$f":"IF(E1844<>\"n\",COUNTIF(B1844:$B$4018,B1844),IF(D1844<6,0,COUNTIF(B1844:$B$4018,B1844)))","v":1},7,{"$f":"IF(ISERROR(VLOOKUP(A1844,Feriados!A:A,1,FALSE)),\"n\",VLOOKUP(A1844,Feriados!A:A,1,FALSE))","v":"n"}]
[46405,1268,{"$f":"IF(E1845<>\"n\",COUNTIF(B1845:$B$4018,B1845),IF(D1845<6,0,COUNTIF(B1845:$B$4018,B1845)))","v":0},1,{"$f":"IF(ISERROR(VLOOKUP(A1845,Feriados!A:A,1,FALSE)),\"n\",VLOOKUP(A1845,Feriados!A:A,1,FALSE))","v":"n"}]
[46406,1269,{"$f":"IF(E1846<>\"n\",COUNTIF(B1846:$B$4018,B1846),IF(D1846<6,0,COUNTIF(B1846:$B$4018,B1846)))","v":0},2,{"$f":"IF(ISERROR(VLOOKUP(A1846,Feriados!A:A,1,FALSE)),\"n\",VLOOKUP(A1846,Feriados!A:A,1,FALSE))","v":"n"}]
[46407,1270,{"$f":"IF(E1847<>\"n\",COUNTIF(B1847:$B$4018,B1847),IF(D1847<6,0,COUNTIF(B1847:$B$4018,B1847)))","v":0},3,{"$f":"IF(ISERROR(VLOOKUP(A1847,Feriados!A:A,1,FALSE)),\"n\",VLOOKUP(A1847,Feriados!A:A,1,FALSE))","v":"n"}]
[46408,1271,{"$f":"IF(E1848<>\"n\",COUNTIF(B1848:$B$4018,B1848),IF(D1848<6,0,COUNTIF(B1848:$B$4018,B1848)))","v":0},4,{"$f":"IF(ISERROR(VLOOKUP(A1848,Feriados!A:A,1,FALSE)),\"n\",VLOOKUP(A1848,Feriados!A:A,1,FALSE))","v":"n"}]
[46409,1272,{"$f":"IF(E1849<>\"n\",COUNTIF(B1849:$B$4018,B1849),IF(D1849<6,0,COUNTIF(B1849:$B$4018,B1849)))","v":0},5,{"$f":"IF(ISERROR(VLOOKUP(A1849,Feriados!A:A,1,FALSE)),\"n\",VLOOKUP(A1849,Feriados!A:A,1,FALSE))","v":"n"}]
[46410,1272,{"$f":"IF(E1850<>\"n\",COUNTIF(B1850:$B$4018,B1850),IF(D1850<6,0,COUNTIF(B1850:$B$4018,B1850)))","v":2},6,{"$f":"IF(ISERROR(VLOOKUP(A1850,Feriados!A:A,1,FALSE)),\"n\",VLOOKUP(A1850,Feriados!A:A,1,FALSE))","v":"n"}]
[46411,1272,{"$f":"IF(E1851<>\"n\",COUNTIF(B1851:$B$4018,B1851),IF(D1851<6,0,COUNTIF(B1851:$B$4018,B1851)))","v":1},7,{"$f":"IF(ISERROR(VLOOKUP(A1851,Feriados!A:A,1,FALSE)),\"n\",VLOOKUP(A1851,Feriados!A:A,1,FALSE))","v":"n"}]
[46412,1273,{"$f":"IF(E1852<>\"n\",COUNTIF(B1852:$B$4018,B1852),IF(D1852<6,0,COUNTIF(B1852:$B$4018,B1852)))","v":0},1,{"$f":"IF(ISERROR(VLOOKUP(A1852,Feriados!A:A,1,FALSE)),\"n\",VLOOKUP(A1852,Feriados!A:A,1,FALSE))","v":"n"}]
[46413,1274,{"$f":"IF(E1853<>\"n\",COUNTIF(B1853:$B$4018,B1853),IF(D1853<6,0,COUNTIF(B1853:$B$4018,B1853)))","v":0},2,{"$f":"IF(ISERROR(VLOOKUP(A1853,Feriados!A:A,1,FALSE)),\"n\",VLOOKUP(A1853,Feriados!A:A,1,FALSE))","v":"n"}]
[46414,1275,{"$f":"IF(E1854<>\"n\",COUNTIF(B1854:$B$4018,B1854),IF(D1854<6,0,COUNTIF(B1854:$B$4018,B1854)))","v":0},3,{"$f":"IF(ISERROR(VLOOKUP(A1854,Feriados!A:A,1,FALSE)),\"n\",VLOOKUP(A1854,Feriados!A:A,1,FALSE))","v":"n"}]
[46415,1276,{"$f":"IF(E1855<>\"n\",COUNTIF(B1855:$B$4018,B1855),IF(D1855<6,0,COUNTIF(B1855:$B$4018,B1855)))","v":0},4,{"$f":"IF(ISERROR(VLOOKUP(A1855,Feriados!A:A,1,FALSE)),\"n\",VLOOKUP(A1855,Feriados!A:A,1,FALSE))","v":"n"}]
[46416,1277,{"$f":"IF(E1856<>\"n\",COUNTIF(B1856:$B$4018,B1856),IF(D1856<6,0,COUNTIF(B1856:$B$4018,B1856)))","v":0},5,{"$f":"IF(ISERROR(VLOOKUP(A1856,Feriados!A:A,1,FALSE)),\"n\",VLOOKUP(A1856,Feriados!A:A,1,FALSE))","v":"n"}]
[46417,1277,{"$f":"IF(E1857<>\"n\",COUNTIF(B1857:$B$4018,B1857),IF(D1857<6,0,COUNTIF(B1857:$B$4018,B1857)))","v":2},6,{"$f":"IF(ISERROR(VLOOKUP(A1857,Feriados!A:A,1,FALSE)),\"n\",VLOOKUP(A1857,Feriados!A:A,1,FALSE))","v":"n"}]
[46418,1277,{"$f":"IF(E1858<>\"n\",COUNTIF(B1858:$B$4018,B1858),IF(D1858<6,0,COUNTIF(B1858:$B$4018,B1858)))","v":1},7,{"$f":"IF(ISERROR(VLOOKUP(A1858,Feriados!A:A,1,FALSE)),\"n\",VLOOKUP(A1858,Feriados!A:A,1,FALSE))","v":"n"}]
[46419,1278,{"$f":"IF(E1859<>\"n\",COUNTIF(B1859:$B$4018,B1859),IF(D1859<6,0,COUNTIF(B1859:$B$4018,B1859)))","v":0},1,{"$f":"IF(ISERROR(VLOOKUP(A1859,Feriados!A:A,1,FALSE)),\"n\",VLOOKUP(A1859,Feriados!A:A,1,FALSE))","v":"n"}]
[{"$f":"A1859+1","v":46420},1279,{"$f":"IF(E1860<>\"n\",COUNTIF(B1860:$B$4018,B1860),IF(D1860<6,0,COUNTIF(B1860:$B$4018,B1860)))","v":0},2,{"$f":"IF(ISERROR(VLOOKUP(A1860,Feriados!A:A,1,FALSE)),\"n\",VLOOKUP(A1860,Feriados!A:A,1,FALSE))","v":"n"}]
[46421,1280,{"$f":"IF(E1861<>\"n\",COUNTIF(B1861:$B$4018,B1861),IF(D1861<6,0,COUNTIF(B1861:$B$4018,B1861)))","v":0},3,{"$f":"IF(ISERROR(VLOOKUP(A1861,Feriados!A:A,1,FALSE)),\"n\",VLOOKUP(A1861,Feriados!A:A,1,FALSE))","v":"n"}]
[46422,1281,{"$f":"IF(E1862<>\"n\",COUNTIF(B1862:$B$4018,B1862),IF(D1862<6,0,COUNTIF(B1862:$B$4018,B1862)))","v":0},4,{"$f":"IF(ISERROR(VLOOKUP(A1862,Feriados!A:A,1,FALSE)),\"n\",VLOOKUP(A1862,Feriados!A:A,1,FALSE))","v":"n"}]
[46423,1282,{"$f":"IF(E1863<>\"n\",COUNTIF(B1863:$B$4018,B1863),IF(D1863<6,0,COUNTIF(B1863:$B$4018,B1863)))","v":0},5,{"$f":"IF(ISERROR(VLOOKUP(A1863,Feriados!A:A,1,FALSE)),\"n\",VLOOKUP(A1863,Feriados!A:A,1,FALSE))","v":"n"}]
[46424,1282,{"$f":"IF(E1864<>\"n\",COUNTIF(B1864:$B$4018,B1864),IF(D1864<6,0,COUNTIF(B1864:$B$4018,B1864)))","v":4},6,{"$f":"IF(ISERROR(VLOOKUP(A1864,Feriados!A:A,1,FALSE)),\"n\",VLOOKUP(A1864,Feriados!A:A,1,FALSE))","v":"n"}]
[46425,1282,{"$f":"IF(E1865<>\"n\",COUNTIF(B1865:$B$4018,B1865),IF(D1865<6,0,COUNTIF(B1865:$B$4018,B1865)))","v":3},7,{"$f":"IF(ISERROR(VLOOKUP(A1865,Feriados!A:A,1,FALSE)),\"n\",VLOOKUP(A1865,Feriados!A:A,1,FALSE))","v":"n"}]
[46426,1282,{"$f":"IF(E1866<>\"n\",COUNTIF(B1866:$B$4018,B1866),IF(D1866<6,0,COUNTIF(B1866:$B$4018,B1866)))","v":2},1,{"$f":"IF(ISERROR(VLOOKUP(A1866,Feriados!A:A,1,FALSE)),\"n\",VLOOKUP(A1866,Feriados!A:A,1,FALSE))","v":"2027-02-08"}]
[46427,1282,{"$f":"IF(E1867<>\"n\",COUNTIF(B1867:$B$4018,B1867),IF(D1867<6,0,COUNTIF(B1867:$B$4018,B1867)))","v":1},2,{"$f":"IF(ISERROR(VLOOKUP(A1867,Feriados!A:A,1,FALSE)),\"n\",VLOOKUP(A1867,Feriados!A:A,1,FALSE))","v":"2027-02-09"}]
[46428,1283,{"$f":"IF(E1868<>\"n\",COUNTIF(B1868:$B$4018,B1868),IF(D1868<6,0,COUNTIF(B1868:$B$4018,B1868)))","v":0},3,{"$f":"IF(ISERROR(VLOOKUP(A1868,Feriados!A:A,1,FALSE)),\"n\",VLOOKUP(A1868,Feriados!A:A,1,FALSE))","v":"n"}]
[46429,1284,{"$f":"IF(E1869<>\"n\",COUNTIF(B1869:$B$4018,B1869),IF(D1869<6,0,COUNTIF(B1869:$B$4018,B1869)))","v":0},4,{"$f":"IF(ISERROR(VLOOKUP(A1869,Feriados!A:A,1,FALSE)),\"n\",VLOOKUP(A1869,Feriados!A:A,1,FALSE))","v":"n"}]
[46430,1285,{"$f":"IF(E1870<>\"n\",COUNTIF(B1870:$B$4018,B1870),IF(D1870<6,0,COUNTIF(B1870:$B$4018,B1870)))","v":0},5,{"$f":"IF(ISERROR(VLOOKUP(A1870,Feriados!A:A,1,FALSE)),\"n\",VLOOKUP(A1870,Feriados!A:A,1,FALSE))","v":"n"}]
[46431,1285,{"$f":"IF(E1871<>\"n\",COUNTIF(B1871:$B$4018,B1871),IF(D1871<6,0,COUNTIF(B1871:$B$4018,B1871)))","v":2},6,{"$f":"IF(ISERROR(VLOOKUP(A1871,Feriados!A:A,1,FALSE)),\"n\",VLOOKUP(A1871,Feriados!A:A,1,FALSE))","v":"n"}]
[46432,1285,{"$f":"IF(E1872<>\"n\",COUNTIF(B1872:$B$4018,B1872),IF(D1872<6,0,COUNTIF(B1872:$B$4018,B1872)))","v":1},7,{"$f":"IF(ISERROR(VLOOKUP(A1872,Feriados!A:A,1,FALSE)),\"n\",VLOOKUP(A1872,Feriados!A:A,1,FALSE))","v":"n"}]
[46433,1286,{"$f":"IF(E1873<>\"n\",COUNTIF(B1873:$B$4018,B1873),IF(D1873<6,0,COUNTIF(B1873:$B$4018,B1873)))","v":0},1,{"$f":"IF(ISERROR(VLOOKUP(A1873,Feriados!A:A,1,FALSE)),\"n\",VLOOKUP(A1873,Feriados!A:A,1,FALSE))","v":"n"}]
[46434,1287,{"$f":"IF(E1874<>\"n\",COUNTIF(B1874:$B$4018,B1874),IF(D1874<6,0,COUNTIF(B1874:$B$4018,B1874)))","v":0},2,{"$f":"IF(ISERROR(VLOOKUP(A1874,Feriados!A:A,1,FALSE)),\"n\",VLOOKUP(A1874,Feriados!A:A,1,FALSE))","v":"n"}]
[46435,1288,{"$f":"IF(E1875<>\"n\",COUNTIF(B1875:$B$4018,B1875),IF(D1875<6,0,COUNTIF(B1875:$B$4018,B1875)))","v":0},3,{"$f":"IF(ISERROR(VLOOKUP(A1875,Feriados!A:A,1,FALSE)),\"n\",VLOOKUP(A1875,Feriados!A:A,1,FALSE))","v":"n"}]
[46436,1289,{"$f":"IF(E1876<>\"n\",COUNTIF(B1876:$B$4018,B1876),IF(D1876<6,0,COUNTIF(B1876:$B$4018,B1876)))","v":0},4,{"$f":"IF(ISERROR(VLOOKUP(A1876,Feriados!A:A,1,FALSE)),\"n\",VLOOKUP(A1876,Feriados!A:A,1,FALSE))","v":"n"}]
[46437,1290,{"$f":"IF(E1877<>\"n\",COUNTIF(B1877:$B$4018,B1877),IF(D1877<6,0,COUNTIF(B1877:$B$4018,B1877)))","v":0},5,{"$f":"IF(ISERROR(VLOOKUP(A1877,Feriados!A:A,1,FALSE)),\"n\",VLOOKUP(A1877,Feriados!A:A,1,FALSE))","v":"n"}]
[46438,1290,{"$f":"IF(E1878<>\"n\",COUNTIF(B1878:$B$4018,B1878),IF(D1878<6,0,COUNTIF(B1878:$B$4018,B1878)))","v":2},6,{"$f":"IF(ISERROR(VLOOKUP(A1878,Feriados!A:A,1,FALSE)),\"n\",VLOOKUP(A1878,Feriados!A:A,1,FALSE))","v":"n"}]
[46439,1290,{"$f":"IF(E1879<>\"n\",COUNTIF(B1879:$B$4018,B1879),IF(D1879<6,0,COUNTIF(B1879:$B$4018,B1879)))","v":1},7,{"$f":"IF(ISERROR(VLOOKUP(A1879,Feriados!A:A,1,FALSE)),\"n\",VLOOKUP(A1879,Feriados!A:A,1,FALSE))","v":"n"}]
[46440,1291,{"$f":"IF(E1880<>\"n\",COUNTIF(B1880:$B$4018,B1880),IF(D1880<6,0,COUNTIF(B1880:$B$4018,B1880)))","v":0},1,{"$f":"IF(ISERROR(VLOOKUP(A1880,Feriados!A:A,1,FALSE)),\"n\",VLOOKUP(A1880,Feriados!A:A,1,FALSE))","v":"n"}]
[46441,1292,{"$f":"IF(E1881<>\"n\",COUNTIF(B1881:$B$4018,B1881),IF(D1881<6,0,COUNTIF(B1881:$B$4018,B1881)))","v":0},2,{"$f":"IF(ISERROR(VLOOKUP(A1881,Feriados!A:A,1,FALSE)),\"n\",VLOOKUP(A1881,Feriados!A:A,1,FALSE))","v":"n"}]
[46442,1293,{"$f":"IF(E1882<>\"n\",COUNTIF(B1882:$B$4018,B1882),IF(D1882<6,0,COUNTIF(B1882:$B$4018,B1882)))","v":0},3,{"$f":"IF(ISERROR(VLOOKUP(A1882,Feriados!A:A,1,FALSE)),\"n\",VLOOKUP(A1882,Feriados!A:A,1,FALSE))","v":"n"}]
[46443,1294,{"$f":"IF(E1883<>\"n\",COUNTIF(B1883:$B$4018,B1883),IF(D1883<6,0,COUNTIF(B1883:$B$4018,B1883)))","v":0},4,{"$f":"IF(ISERROR(VLOOKUP(A1883,Feriados!A:A,1,FALSE)),\"n\",VLOOKUP(A1883,Feriados!A:A,1,FALSE))","v":"n"}]
[46444,1295,{"$f":"IF(E1884<>\"n\",COUNTIF(B1884:$B$4018,B1884),IF(D1884<6,0,COUNTIF(B1884:$B$4018,B1884)))","v":0},5,{"$f":"IF(ISERROR(VLOOKUP(A1884,Feriados!A:A,1,FALSE)),\"n\",VLOOKUP(A1884,Feriados!A:A,1,FALSE))","v":"n"}]
[46445,1295,{"$f":"IF(E1885<>\"n\",COUNTIF(B1885:$B$4018,B1885),IF(D1885<6,0,COUNTIF(B1885:$B$4018,B1885)))","v":2},6,{"$f":"IF(ISERROR(VLOOKUP(A1885,Feriados!A:A,1,FALSE)),\"n\",VLOOKUP(A1885,Feriados!A:A,1,FALSE))","v":"n"}]
[46446,{"$f":"NETWORKDAYS($A$2,A1886,feriados)","v":1295},{"$f":"IF(E1886<>\"n\",COUNTIF(B1886:$B$4018,B1886),IF(D1886<6,0,COUNTIF(B1886:$B$4018,B1886)))","v":1},{"$f":"WEEKDAY(A1886,2)","v":7},{"$f":"IF(ISERROR(VLOOKUP(A1886,Feriados!A:A,1,FALSE)),\"n\",VLOOKUP(A1886,Feriados!A:A,1,FALSE))","v":"n"}]
[46447,1296,{"$f":"IF(E1887<>\"n\",COUNTIF(B1887:$B$4018,B1887),IF(D1887<6,0,COUNTIF(B1887:$B$4018,B1887)))","v":0},1,{"$f":"IF(ISERROR(VLOOKUP(A1887,Feriados!A:A,1,FALSE)),\"n\",VLOOKUP(A1887,Feriados!A:A,1,FALSE))","v":"n"}]
[46448,1297,{"$f":"IF(E1888<>\"n\",COUNTIF(B1888:$B$4018,B1888),IF(D1888<6,0,COUNTIF(B1888:$B$4018,B1888)))","v":0},2,{"$f":"IF(ISERROR(VLOOKUP(A1888,Feriados!A:A,1,FALSE)),\"n\",VLOOKUP(A1888,Feriados!A:A,1,FALSE))","v":"n"}]
[46449,1298,{"$f":"IF(E1889<>\"n\",COUNTIF(B1889:$B$4018,B1889),IF(D1889<6,0,COUNTIF(B1889:$B$4018,B1889)))","v":0},3,{"$f":"IF(ISERROR(VLOOKUP(A1889,Feriados!A:A,1,FALSE)),\"n\",VLOOKUP(A1889,Feriados!A:A,1,FALSE))","v":"n"}]
[46450,1299,{"$f":"IF(E1890<>\"n\",COUNTIF(B1890:$B$4018,B1890),IF(D1890<6,0,COUNTIF(B1890:$B$4018,B1890)))","v":0},4,{"$f":"IF(ISERROR(VLOOKUP(A1890,Feriados!A:A,1,FALSE)),\"n\",VLOOKUP(A1890,Feriados!A:A,1,FALSE))","v":"n"}]
[46451,1300,{"$f":"IF(E1891<>\"n\",COUNTIF(B1891:$B$4018,B1891),IF(D1891<6,0,COUNTIF(B1891:$B$4018,B1891)))","v":0},5,{"$f":"IF(ISERROR(VLOOKUP(A1891,Feriados!A:A,1,FALSE)),\"n\",VLOOKUP(A1891,Feriados!A:A,1,FALSE))","v":"n"}]
[46452,1300,{"$f":"IF(E1892<>\"n\",COUNTIF(B1892:$B$4018,B1892),IF(D1892<6,0,COUNTIF(B1892:$B$4018,B1892)))","v":2},6,{"$f":"IF(ISERROR(VLOOKUP(A1892,Feriados!A:A,1,FALSE)),\"n\",VLOOKUP(A1892,Feriados!A:A,1,FALSE))","v":"n"}]
[46453,1300,{"$f":"IF(E1893<>\"n\",COUNTIF(B1893:$B$4018,B1893),IF(D1893<6,0,COUNTIF(B1893:$B$4018,B1893)))","v":1},7,{"$f":"IF(ISERROR(VLOOKUP(A1893,Feriados!A:A,1,FALSE)),\"n\",VLOOKUP(A1893,Feriados!A:A,1,FALSE))","v":"n"}]
[46454,1301,{"$f":"IF(E1894<>\"n\",COUNTIF(B1894:$B$4018,B1894),IF(D1894<6,0,COUNTIF(B1894:$B$4018,B1894)))","v":0},1,{"$f":"IF(ISERROR(VLOOKUP(A1894,Feriados!A:A,1,FALSE)),\"n\",VLOOKUP(A1894,Feriados!A:A,1,FALSE))","v":"n"}]
[46455,1302,{"$f":"IF(E1895<>\"n\",COUNTIF(B1895:$B$4018,B1895),IF(D1895<6,0,COUNTIF(B1895:$B$4018,B1895)))","v":0},2,{"$f":"IF(ISERROR(VLOOKUP(A1895,Feriados!A:A,1,FALSE)),\"n\",VLOOKUP(A1895,Feriados!A:A,1,FALSE))","v":"n"}]
[46456,1303,{"$f":"IF(E1896<>\"n\",COUNTIF(B1896:$B$4018,B1896),IF(D1896<6,0,COUNTIF(B1896:$B$4018,B1896)))","v":0},3,{"$f":"IF(ISERROR(VLOOKUP(A1896,Feriados!A:A,1,FALSE)),\"n\",VLOOKUP(A1896,Feriados!A:A,1,FALSE))","v":"n"}]
[46457,1304,{"$f":"IF(E1897<>\"n\",COUNTIF(B1897:$B$4018,B1897),IF(D1897<6,0,COUNTIF(B1897:$B$4018,B1897)))","v":0},4,{"$f":"IF(ISERROR(VLOOKUP(A1897,Feriados!A:A,1,FALSE)),\"n\",VLOOKUP(A1897,Feriados!A:A,1,FALSE))","v":"n"}]
[46458,1305,{"$f":"IF(E1898<>\"n\",COUNTIF(B1898:$B$4018,B1898),IF(D1898<6,0,COUNTIF(B1898:$B$4018,B1898)))","v":0},5,{"$f":"IF(ISERROR(VLOOKUP(A1898,Feriados!A:A,1,FALSE)),\"n\",VLOOKUP(A1898,Feriados!A:A,1,FALSE))","v":"n"}]
[46459,1305,{"$f":"IF(E1899<>\"n\",COUNTIF(B1899:$B$4018,B1899),IF(D1899<6,0,COUNTIF(B1899:$B$4018,B1899)))","v":2},6,{"$f":"IF(ISERROR(VLOOKUP(A1899,Feriados!A:A,1,FALSE)),\"n\",VLOOKUP(A1899,Feriados!A:A,1,FALSE))","v":"n"}]
[46460,1305,{"$f":"IF(E1900<>\"n\",COUNTIF(B1900:$B$4018,B1900),IF(D1900<6,0,COUNTIF(B1900:$B$4018,B1900)))","v":1},7,{"$f":"IF(ISERROR(VLOOKUP(A1900,Feriados!A:A,1,FALSE)),\"n\",VLOOKUP(A1900,Feriados!A:A,1,FALSE))","v":"n"}]
[46461,1306,{"$f":"IF(E1901<>\"n\",COUNTIF(B1901:$B$4018,B1901),IF(D1901<6,0,COUNTIF(B1901:$B$4018,B1901)))","v":0},1,{"$f":"IF(ISERROR(VLOOKUP(A1901,Feriados!A:A,1,FALSE)),\"n\",VLOOKUP(A1901,Feriados!A:A,1,FALSE))","v":"n"}]
[46462,1307,{"$f":"IF(E1902<>\"n\",COUNTIF(B1902:$B$4018,B1902),IF(D1902<6,0,COUNTIF(B1902:$B$4018,B1902)))","v":0},2,{"$f":"IF(ISERROR(VLOOKUP(A1902,Feriados!A:A,1,FALSE)),\"n\",VLOOKUP(A1902,Feriados!A:A,1,FALSE))","v":"n"}]
[46463,1308,{"$f":"IF(E1903<>\"n\",COUNTIF(B1903:$B$4018,B1903),IF(D1903<6,0,COUNTIF(B1903:$B$4018,B1903)))","v":0},3,{"$f":"IF(ISERROR(VLOOKUP(A1903,Feriados!A:A,1,FALSE)),\"n\",VLOOKUP(A1903,Feriados!A:A,1,FALSE))","v":"n"}]
[46464,1309,{"$f":"IF(E1904<>\"n\",COUNTIF(B1904:$B$4018,B1904),IF(D1904<6,0,COUNTIF(B1904:$B$4018,B1904)))","v":0},4,{"$f":"IF(ISERROR(VLOOKUP(A1904,Feriados!A:A,1,FALSE)),\"n\",VLOOKUP(A1904,Feriados!A:A,1,FALSE))","v":"n"}]
[46465,1310,{"$f":"IF(E1905<>\"n\",COUNTIF(B1905:$B$4018,B1905),IF(D1905<6,0,COUNTIF(B1905:$B$4018,B1905)))","v":0},5,{"$f":"IF(ISERROR(VLOOKUP(A1905,Feriados!A:A,1,FALSE)),\"n\",VLOOKUP(A1905,Feriados!A:A,1,FALSE))","v":"n"}]
[46466,1310,{"$f":"IF(E1906<>\"n\",COUNTIF(B1906:$B$4018,B1906),IF(D1906<6,0,COUNTIF(B1906:$B$4018,B1906)))","v":2},6,{"$f":"IF(ISERROR(VLOOKUP(A1906,Feriados!A:A,1,FALSE)),\"n\",VLOOKUP(A1906,Feriados!A:A,1,FALSE))","v":"n"}]
[46467,1310,{"$f":"IF(E1907<>\"n\",COUNTIF(B1907:$B$4018,B1907),IF(D1907<6,0,COUNTIF(B1907:$B$4018,B1907)))","v":1},7,{"$f":"IF(ISERROR(VLOOKUP(A1907,Feriados!A:A,1,FALSE)),\"n\",VLOOKUP(A1907,Feriados!A:A,1,FALSE))","v":"n"}]
[46468,1311,{"$f":"IF(E1908<>\"n\",COUNTIF(B1908:$B$4018,B1908),IF(D1908<6,0,COUNTIF(B1908:$B$4018,B1908)))","v":0},1,{"$f":"IF(ISERROR(VLOOKUP(A1908,Feriados!A:A,1,FALSE)),\"n\",VLOOKUP(A1908,Feriados!A:A,1,FALSE))","v":"n"}]
[46469,1312,{"$f":"IF(E1909<>\"n\",COUNTIF(B1909:$B$4018,B1909),IF(D1909<6,0,COUNTIF(B1909:$B$4018,B1909)))","v":0},2,{"$f":"IF(ISERROR(VLOOKUP(A1909,Feriados!A:A,1,FALSE)),\"n\",VLOOKUP(A1909,Feriados!A:A,1,FALSE))","v":"n"}]
[46470,1313,{"$f":"IF(E1910<>\"n\",COUNTIF(B1910:$B$4018,B1910),IF(D1910<6,0,COUNTIF(B1910:$B$4018,B1910)))","v":0},3,{"$f":"IF(ISERROR(VLOOKUP(A1910,Feriados!A:A,1,FALSE)),\"n\",VLOOKUP(A1910,Feriados!A:A,1,FALSE))","v":"n"}]
[46471,1314,{"$f":"IF(E1911<>\"n\",COUNTIF(B1911:$B$4018,B1911),IF(D1911<6,0,COUNTIF(B1911:$B$4018,B1911)))","v":0},4,{"$f":"IF(ISERROR(VLOOKUP(A1911,Feriados!A:A,1,FALSE)),\"n\",VLOOKUP(A1911,Feriados!A:A,1,FALSE))","v":"n"}]
[46472,1314,{"$f":"IF(E1912<>\"n\",COUNTIF(B1912:$B$4018,B1912),IF(D1912<6,0,COUNTIF(B1912:$B$4018,B1912)))","v":3},5,{"$f":"IF(ISERROR(VLOOKUP(A1912,Feriados!A:A,1,FALSE)),\"n\",VLOOKUP(A1912,Feriados!A:A,1,FALSE))","v":"2027-03-26"}]
[46473,1314,{"$f":"IF(E1913<>\"n\",COUNTIF(B1913:$B$4018,B1913),IF(D1913<6,0,COUNTIF(B1913:$B$4018,B1913)))","v":2},6,{"$f":"IF(ISERROR(VLOOKUP(A1913,Feriados!A:A,1,FALSE)),\"n\",VLOOKUP(A1913,Feriados!A:A,1,FALSE))","v":"n"}]
[46474,1314,{"$f":"IF(E1914<>\"n\",COUNTIF(B1914:$B$4018,B1914),IF(D1914<6,0,COUNTIF(B1914:$B$4018,B1914)))","v":1},7,{"$f":"IF(ISERROR(VLOOKUP(A1914,Feriados!A:A,1,FALSE)),\"n\",VLOOKUP(A1914,Feriados!A:A,1,FALSE))","v":"n"}]
[46475,1315,{"$f":"IF(E1915<>\"n\",COUNTIF(B1915:$B$4018,B1915),IF(D1915<6,0,COUNTIF(B1915:$B$4018,B1915)))","v":0},1,{"$f":"IF(ISERROR(VLOOKUP(A1915,Feriados!A:A,1,FALSE)),\"n\",VLOOKUP(A1915,Feriados!A:A,1,FALSE))","v":"n"}]
[46476,1316,{"$f":"IF(E1916<>\"n\",COUNTIF(B1916:$B$4018,B1916),IF(D1916<6,0,COUNTIF(B1916:$B$4018,B1916)))","v":0},2,{"$f":"IF(ISERROR(VLOOKUP(A1916,Feriados!A:A,1,FALSE)),\"n\",VLOOKUP(A1916,Feriados!A:A,1,FALSE))","v":"n"}]
[46477,1317,{"$f":"IF(E1917<>\"n\",COUNTIF(B1917:$B$4018,B1917),IF(D1917<6,0,COUNTIF(B1917:$B$4018,B1917)))","v":0},3,{"$f":"IF(ISERROR(VLOOKUP(A1917,Feriados!A:A,1,FALSE)),\"n\",VLOOKUP(A1917,Feriados!A:A,1,FALSE))","v":"n"}]
[46478,1318,{"$f":"IF(E1918<>\"n\",COUNTIF(B1918:$B$4018,B1918),IF(D1918<6,0,COUNTIF(B1918:$B$4018,B1918)))","v":0},4,{"$f":"IF(ISERROR(VLOOKUP(A1918,Feriados!A:A,1,FALSE)),\"n\",VLOOKUP(A1918,Feriados!A:A,1,FALSE))","v":"n"}]
[46479,1319,{"$f":"IF(E1919<>\"n\",COUNTIF(B1919:$B$4018,B1919),IF(D1919<6,0,COUNTIF(B1919:$B$4018,B1919)))","v":0},5,{"$f":"IF(ISERROR(VLOOKUP(A1919,Feriados!A:A,1,FALSE)),\"n\",VLOOKUP(A1919,Feriados!A:A,1,FALSE))","v":"n"}]
[46480,1319,{"$f":"IF(E1920<>\"n\",COUNTIF(B1920:$B$4018,B1920),IF(D1920<6,0,COUNTIF(B1920:$B$4018,B1920)))","v":2},6,{"$f":"IF(ISERROR(VLOOKUP(A1920,Feriados!A:A,1,FALSE)),\"n\",VLOOKUP(A1920,Feriados!A:A,1,FALSE))","v":"n"}]
[46481,1319,{"$f":"IF(E1921<>\"n\",COUNTIF(B1921:$B$4018,B1921),IF(D1921<6,0,COUNTIF(B1921:$B$4018,B1921)))","v":1},7,{"$f":"IF(ISERROR(VLOOKUP(A1921,Feriados!A:A,1,FALSE)),\"n\",VLOOKUP(A1921,Feriados!A:A,1,FALSE))","v":"n"}]
[46482,1320,{"$f":"IF(E1922<>\"n\",COUNTIF(B1922:$B$4018,B1922),IF(D1922<6,0,COUNTIF(B1922:$B$4018,B1922)))","v":0},1,{"$f":"IF(ISERROR(VLOOKUP(A1922,Feriados!A:A,1,FALSE)),\"n\",VLOOKUP(A1922,Feriados!A:A,1,FALSE))","v":"n"}]
[46483,1321,{"$f":"IF(E1923<>\"n\",COUNTIF(B1923:$B$4018,B1923),IF(D1923<6,0,COUNTIF(B1923:$B$4018,B1923)))","v":0},2,{"$f":"IF(ISERROR(VLOOKUP(A1923,Feriados!A:A,1,FALSE)),\"n\",VLOOKUP(A1923,Feriados!A:A,1,FALSE))","v":"n"}]
[{"$f":"A1923+1","v":46484},1322,{"$f":"IF(E1924<>\"n\",COUNTIF(B1924:$B$4018,B1924),IF(D1924<6,0,COUNTIF(B1924:$B$4018,B1924)))","v":0},3,{"$f":"IF(ISERROR(VLOOKUP(A1924,Feriados!A:A,1,FALSE)),\"n\",VLOOKUP(A1924,Feriados!A:A,1,FALSE))","v":"n"}]
[46485,1323,{"$f":"IF(E1925<>\"n\",COUNTIF(B1925:$B$4018,B1925),IF(D1925<6,0,COUNTIF(B1925:$B$4018,B1925)))","v":0},4,{"$f":"IF(ISERROR(VLOOKUP(A1925,Feriados!A:A,1,FALSE)),\"n\",VLOOKUP(A1925,Feriados!A:A,1,FALSE))","v":"n"}]
[46486,1324,{"$f":"IF(E1926<>\"n\",COUNTIF(B1926:$B$4018,B1926),IF(D1926<6,0,COUNTIF(B1926:$B$4018,B1926)))","v":0},5,{"$f":"IF(ISERROR(VLOOKUP(A1926,Feriados!A:A,1,FALSE)),\"n\",VLOOKUP(A1926,Feriados!A:A,1,FALSE))","v":"n"}]
[46487,1324,{"$f":"IF(E1927<>\"n\",COUNTIF(B1927:$B$4018,B1927),IF(D1927<6,0,COUNTIF(B1927:$B$4018,B1927)))","v":2},6,{"$f":"IF(ISERROR(VLOOKUP(A1927,Feriados!A:A,1,FALSE)),\"n\",VLOOKUP(A1927,Feriados!A:A,1,FALSE))","v":"n"}]
[46488,1324,{"$f":"IF(E1928<>\"n\",COUNTIF(B1928:$B$4018,B1928),IF(D1928<6,0,COUNTIF(B1928:$B$4018,B1928)))","v":1},7,{"$f":"IF(ISERROR(VLOOKUP(A1928,Feriados!A:A,1,FALSE)),\"n\",VLOOKUP(A1928,Feriados!A:A,1,FALSE))","v":"n"}]
[46489,1325,{"$f":"IF(E1929<>\"n\",COUNTIF(B1929:$B$4018,B1929),IF(D1929<6,0,COUNTIF(B1929:$B$4018,B1929)))","v":0},1,{"$f":"IF(ISERROR(VLOOKUP(A1929,Feriados!A:A,1,FALSE)),\"n\",VLOOKUP(A1929,Feriados!A:A,1,FALSE))","v":"n"}]
[46490,1326,{"$f":"IF(E1930<>\"n\",COUNTIF(B1930:$B$4018,B1930),IF(D1930<6,0,COUNTIF(B1930:$B$4018,B1930)))","v":0},2,{"$f":"IF(ISERROR(VLOOKUP(A1930,Feriados!A:A,1,FALSE)),\"n\",VLOOKUP(A1930,Feriados!A:A,1,FALSE))","v":"n"}]
[46491,1327,{"$f":"IF(E1931<>\"n\",COUNTIF(B1931:$B$4018,B1931),IF(D1931<6,0,COUNTIF(B1931:$B$4018,B1931)))","v":0},3,{"$f":"IF(ISERROR(VLOOKUP(A1931,Feriados!A:A,1,FALSE)),\"n\",VLOOKUP(A1931,Feriados!A:A,1,FALSE))","v":"n"}]
[46492,1328,{"$f":"IF(E1932<>\"n\",COUNTIF(B1932:$B$4018,B1932),IF(D1932<6,0,COUNTIF(B1932:$B$4018,B1932)))","v":0},4,{"$f":"IF(ISERROR(VLOOKUP(A1932,Feriados!A:A,1,FALSE)),\"n\",VLOOKUP(A1932,Feriados!A:A,1,FALSE))","v":"n"}]
[46493,1329,{"$f":"IF(E1933<>\"n\",COUNTIF(B1933:$B$4018,B1933),IF(D1933<6,0,COUNTIF(B1933:$B$4018,B1933)))","v":0},5,{"$f":"IF(ISERROR(VLOOKUP(A1933,Feriados!A:A,1,FALSE)),\"n\",VLOOKUP(A1933,Feriados!A:A,1,FALSE))","v":"n"}]
[46494,1329,{"$f":"IF(E1934<>\"n\",COUNTIF(B1934:$B$4018,B1934),IF(D1934<6,0,COUNTIF(B1934:$B$4018,B1934)))","v":2},6,{"$f":"IF(ISERROR(VLOOKUP(A1934,Feriados!A:A,1,FALSE)),\"n\",VLOOKUP(A1934,Feriados!A:A,1,FALSE))","v":"n"}]
[46495,1329,{"$f":"IF(E1935<>\"n\",COUNTIF(B1935:$B$4018,B1935),IF(D1935<6,0,COUNTIF(B1935:$B$4018,B1935)))","v":1},7,{"$f":"IF(ISERROR(VLOOKUP(A1935,Feriados!A:A,1,FALSE)),\"n\",VLOOKUP(A1935,Feriados!A:A,1,FALSE))","v":"n"}]
[46496,1330,{"$f":"IF(E1936<>\"n\",COUNTIF(B1936:$B$4018,B1936),IF(D1936<6,0,COUNTIF(B1936:$B$4018,B1936)))","v":0},1,{"$f":"IF(ISERROR(VLOOKUP(A1936,Feriados!A:A,1,FALSE)),\"n\",VLOOKUP(A1936,Feriados!A:A,1,FALSE))","v":"n"}]
[46497,1331,{"$f":"IF(E1937<>\"n\",COUNTIF(B1937:$B$4018,B1937),IF(D1937<6,0,COUNTIF(B1937:$B$4018,B1937)))","v":0},2,{"$f":"IF(ISERROR(VLOOKUP(A1937,Feriados!A:A,1,FALSE)),\"n\",VLOOKUP(A1937,Feriados!A:A,1,FALSE))","v":"n"}]
[46498,1331,{"$f":"IF(E1938<>\"n\",COUNTIF(B1938:$B$4018,B1938),IF(D1938<6,0,COUNTIF(B1938:$B$4018,B1938)))","v":1},3,{"$f":"IF(ISERROR(VLOOKUP(A1938,Feriados!A:A,1,FALSE)),\"n\",VLOOKUP(A1938,Feriados!A:A,1,FALSE))","v":"2027-04-21"}]
[46499,1332,{"$f":"IF(E1939<>\"n\",COUNTIF(B1939:$B$4018,B1939),IF(D1939<6,0,COUNTIF(B1939:$B$4018,B1939)))","v":0},4,{"$f":"IF(ISERROR(VLOOKUP(A1939,Feriados!A:A,1,FALSE)),\"n\",VLOOKUP(A1939,Feriados!A:A,1,FALSE))","v":"n"}]
[46500,1333,{"$f":"IF(E1940<>\"n\",COUNTIF(B1940:$B$4018,B1940),IF(D1940<6,0,COUNTIF(B1940:$B$4018,B1940)))","v":0},5,{"$f":"IF(ISERROR(VLOOKUP(A1940,Feriados!A:A,1,FALSE)),\"n\",VLOOKUP(A1940,Feriados!A:A,1,FALSE))","v":"n"}]
[46501,1333,{"$f":"IF(E1941<>\"n\",COUNTIF(B1941:$B$4018,B1941),IF(D1941<6,0,COUNTIF(B1941:$B$4018,B1941)))","v":2},6,{"$f":"IF(ISERROR(VLOOKUP(A1941,Feriados!A:A,1,FALSE)),\"n\",VLOOKUP(A1941,Feriados!A:A,1,FALSE))","v":"n"}]
[46502,1333,{"$f":"IF(E1942<>\"n\",COUNTIF(B1942:$B$4018,B1942),IF(D1942<6,0,COUNTIF(B1942:$B$4018,B1942)))","v":1},7,{"$f":"IF(ISERROR(VLOOKUP(A1942,Feriados!A:A,1,FALSE)),\"n\",VLOOKUP(A1942,Feriados!A:A,1,FALSE))","v":"n"}]
[46503,1334,{"$f":"IF(E1943<>\"n\",COUNTIF(B1943:$B$4018,B1943),IF(D1943<6,0,COUNTIF(B1943:$B$4018,B1943)))","v":0},1,{"$f":"IF(ISERROR(VLOOKUP(A1943,Feriados!A:A,1,FALSE)),\"n\",VLOOKUP(A1943,Feriados!A:A,1,FALSE))","v":"n"}]
[46504,1335,{"$f":"IF(E1944<>\"n\",COUNTIF(B1944:$B$4018,B1944),IF(D1944<6,0,COUNTIF(B1944:$B$4018,B1944)))","v":0},2,{"$f":"IF(ISERROR(VLOOKUP(A1944,Feriados!A:A,1,FALSE)),\"n\",VLOOKUP(A1944,Feriados!A:A,1,FALSE))","v":"n"}]
[46505,1336,{"$f":"IF(E1945<>\"n\",COUNTIF(B1945:$B$4018,B1945),IF(D1945<6,0,COUNTIF(B1945:$B$4018,B1945)))","v":0},3,{"$f":"IF(ISERROR(VLOOKUP(A1945,Feriados!A:A,1,FALSE)),\"n\",VLOOKUP(A1945,Feriados!A:A,1,FALSE))","v":"n"}]
[46506,1337,{"$f":"IF(E1946<>\"n\",COUNTIF(B1946:$B$4018,B1946),IF(D1946<6,0,COUNTIF(B1946:$B$4018,B1946)))","v":0},4,{"$f":"IF(ISERROR(VLOOKUP(A1946,Feriados!A:A,1,FALSE)),\"n\",VLOOKUP(A1946,Feriados!A:A,1,FALSE))","v":"n"}]
[46507,1338,{"$f":"IF(E1947<>\"n\",COUNTIF(B1947:$B$4018,B1947),IF(D1947<6,0,COUNTIF(B1947:$B$4018,B1947)))","v":0},5,{"$f":"IF(ISERROR(VLOOKUP(A1947,Feriados!A:A,1,FALSE)),\"n\",VLOOKUP(A1947,Feriados!A:A,1,FALSE))","v":"n"}]
[46508,1338,{"$f":"IF(E1948<>\"n\",COUNTIF(B1948:$B$4018,B1948),IF(D1948<6,0,COUNTIF(B1948:$B$4018,B1948)))","v":2},6,{"$f":"IF(ISERROR(VLOOKUP(A1948,Feriados!A:A,1,FALSE)),\"n\",VLOOKUP(A1948,Feriados!A:A,1,FALSE))","v":"2027-05-01"}]
[46509,1338,{"$f":"IF(E1949<>\"n\",COUNTIF(B1949:$B$4018,B1949),IF(D1949<6,0,COUNTIF(B1949:$B$4018,B1949)))","v":1},7,{"$f":"IF(ISERROR(VLOOKUP(A1949,Feriados!A:A,1,FALSE)),\"n\",VLOOKUP(A1949,Feriados!A:A,1,FALSE))","v":"n"}]
[46510,{"$f":"NETWORKDAYS($A$2,A1950,feriados)","v":1339},{"$f":"IF(E1950<>\"n\",COUNTIF(B1950:$B$4018,B1950),IF(D1950<6,0,COUNTIF(B1950:$B$4018,B1950)))","v":0},{"$f":"WEEKDAY(A1950,2)","v":1},{"$f":"IF(ISERROR(VLOOKUP(A1950,Feriados!A:A,1,FALSE)),\"n\",VLOOKUP(A1950,Feriados!A:A,1,FALSE))","v":"n"}]
[46511,1340,{"$f":"IF(E1951<>\"n\",COUNTIF(B1951:$B$4018,B1951),IF(D1951<6,0,COUNTIF(B1951:$B$4018,B1951)))","v":0},2,{"$f":"IF(ISERROR(VLOOKUP(A1951,Feriados!A:A,1,FALSE)),\"n\",VLOOKUP(A1951,Feriados!A:A,1,FALSE))","v":"n"}]
[46512,1341,{"$f":"IF(E1952<>\"n\",COUNTIF(B1952:$B$4018,B1952),IF(D1952<6,0,COUNTIF(B1952:$B$4018,B1952)))","v":0},3,{"$f":"IF(ISERROR(VLOOKUP(A1952,Feriados!A:A,1,FALSE)),\"n\",VLOOKUP(A1952,Feriados!A:A,1,FALSE))","v":"n"}]
[46513,1342,{"$f":"IF(E1953<>\"n\",COUNTIF(B1953:$B$4018,B1953),IF(D1953<6,0,COUNTIF(B1953:$B$4018,B1953)))","v":0},4,{"$f":"IF(ISERROR(VLOOKUP(A1953,Feriados!A:A,1,FALSE)),\"n\",VLOOKUP(A1953,Feriados!A:A,1,FALSE))","v":"n"}]
[46514,1343,{"$f":"IF(E1954<>\"n\",COUNTIF(B1954:$B$4018,B1954),IF(D1954<6,0,COUNTIF(B1954:$B$4018,B1954)))","v":0},5,{"$f":"IF(ISERROR(VLOOKUP(A1954,Feriados!A:A,1,FALSE)),\"n\",VLOOKUP(A1954,Feriados!A:A,1,FALSE))","v":"n"}]
[46515,1343,{"$f":"IF(E1955<>\"n\",COUNTIF(B1955:$B$4018,B1955),IF(D1955<6,0,COUNTIF(B1955:$B$4018,B1955)))","v":2},6,{"$f":"IF(ISERROR(VLOOKUP(A1955,Feriados!A:A,1,FALSE)),\"n\",VLOOKUP(A1955,Feriados!A:A,1,FALSE))","v":"n"}]
[46516,1343,{"$f":"IF(E1956<>\"n\",COUNTIF(B1956:$B$4018,B1956),IF(D1956<6,0,COUNTIF(B1956:$B$4018,B1956)))","v":1},7,{"$f":"IF(ISERROR(VLOOKUP(A1956,Feriados!A:A,1,FALSE)),\"n\",VLOOKUP(A1956,Feriados!A:A,1,FALSE))","v":"n"}]
[46517,1344,{"$f":"IF(E1957<>\"n\",COUNTIF(B1957:$B$4018,B1957),IF(D1957<6,0,COUNTIF(B1957:$B$4018,B1957)))","v":0},1,{"$f":"IF(ISERROR(VLOOKUP(A1957,Feriados!A:A,1,FALSE)),\"n\",VLOOKUP(A1957,Feriados!A:A,1,FALSE))","v":"n"}]
[46518,1345,{"$f":"IF(E1958<>\"n\",COUNTIF(B1958:$B$4018,B1958),IF(D1958<6,0,COUNTIF(B1958:$B$4018,B1958)))","v":0},2,{"$f":"IF(ISERROR(VLOOKUP(A1958,Feriados!A:A,1,FALSE)),\"n\",VLOOKUP(A1958,Feriados!A:A,1,FALSE))","v":"n"}]
[46519,1346,{"$f":"IF(E1959<>\"n\",COUNTIF(B1959:$B$4018,B1959),IF(D1959<6,0,COUNTIF(B1959:$B$4018,B1959)))","v":0},3,{"$f":"IF(ISERROR(VLOOKUP(A1959,Feriados!A:A,1,FALSE)),\"n\",VLOOKUP(A1959,Feriados!A:A,1,FALSE))","v":"n"}]
[46520,1347,{"$f":"IF(E1960<>\"n\",COUNTIF(B1960:$B$4018,B1960),IF(D1960<6,0,COUNTIF(B1960:$B$4018,B1960)))","v":0},4,{"$f":"IF(ISERROR(VLOOKUP(A1960,Feriados!A:A,1,FALSE)),\"n\",VLOOKUP(A1960,Feriados!A:A,1,FALSE))","v":"n"}]
[46521,1348,{"$f":"IF(E1961<>\"n\",COUNTIF(B1961:$B$4018,B1961),IF(D1961<6,0,COUNTIF(B1961:$B$4018,B1961)))","v":0},5,{"$f":"IF(ISERROR(VLOOKUP(A1961,Feriados!A:A,1,FALSE)),\"n\",VLOOKUP(A1961,Feriados!A:A,1,FALSE))","v":"n"}]
[46522,1348,{"$f":"IF(E1962<>\"n\",COUNTIF(B1962:$B$4018,B1962),IF(D1962<6,0,COUNTIF(B1962:$B$4018,B1962)))","v":2},6,{"$f":"IF(ISERROR(VLOOKUP(A1962,Feriados!A:A,1,FALSE)),\"n\",VLOOKUP(A1962,Feriados!A:A,1,FALSE))","v":"n"}]
[46523,1348,{"$f":"IF(E1963<>\"n\",COUNTIF(B1963:$B$4018,B1963),IF(D1963<6,0,COUNTIF(B1963:$B$4018,B1963)))","v":1},7,{"$f":"IF(ISERROR(VLOOKUP(A1963,Feriados!A:A,1,FALSE)),\"n\",VLOOKUP(A1963,Feriados!A:A,1,FALSE))","v":"n"}]
[46524,1349,{"$f":"IF(E1964<>\"n\",COUNTIF(B1964:$B$4018,B1964),IF(D1964<6,0,COUNTIF(B1964:$B$4018,B1964)))","v":0},1,{"$f":"IF(ISERROR(VLOOKUP(A1964,Feriados!A:A,1,FALSE)),\"n\",VLOOKUP(A1964,Feriados!A:A,1,FALSE))","v":"n"}]
[46525,1350,{"$f":"IF(E1965<>\"n\",COUNTIF(B1965:$B$4018,B1965),IF(D1965<6,0,COUNTIF(B1965:$B$4018,B1965)))","v":0},2,{"$f":"IF(ISERROR(VLOOKUP(A1965,Feriados!A:A,1,FALSE)),\"n\",VLOOKUP(A1965,Feriados!A:A,1,FALSE))","v":"n"}]
[46526,1351,{"$f":"IF(E1966<>\"n\",COUNTIF(B1966:$B$4018,B1966),IF(D1966<6,0,COUNTIF(B1966:$B$4018,B1966)))","v":0},3,{"$f":"IF(ISERROR(VLOOKUP(A1966,Feriados!A:A,1,FALSE)),\"n\",VLOOKUP(A1966,Feriados!A:A,1,FALSE))","v":"n"}]
[46527,1352,{"$f":"IF(E1967<>\"n\",COUNTIF(B1967:$B$4018,B1967),IF(D1967<6,0,COUNTIF(B1967:$B$4018,B1967)))","v":0},4,{"$f":"IF(ISERROR(VLOOKUP(A1967,Feriados!A:A,1,FALSE)),\"n\",VLOOKUP(A1967,Feriados!A:A,1,FALSE))","v":"n"}]
[46528,1353,{"$f":"IF(E1968<>\"n\",COUNTIF(B1968:$B$4018,B1968),IF(D1968<6,0,COUNTIF(B1968:$B$4018,B1968)))","v":0},5,{"$f":"IF(ISERROR(VLOOKUP(A1968,Feriados!A:A,1,FALSE)),\"n\",VLOOKUP(A1968,Feriados!A:A,1,FALSE))","v":"n"}]
[46529,1353,{"$f":"IF(E1969<>\"n\",COUNTIF(B1969:$B$4018,B1969),IF(D1969<6,0,COUNTIF(B1969:$B$4018,B1969)))","v":2},6,{"$f":"IF(ISERROR(VLOOKUP(A1969,Feriados!A:A,1,FALSE)),\"n\",VLOOKUP(A1969,Feriados!A:A,1,FALSE))","v":"n"}]
[46530,1353,{"$f":"IF(E1970<>\"n\",COUNTIF(B1970:$B$4018,B1970),IF(D1970<6,0,COUNTIF(B1970:$B$4018,B1970)))","v":1},7,{"$f":"IF(ISERROR(VLOOKUP(A1970,Feriados!A:A,1,FALSE)),\"n\",VLOOKUP(A1970,Feriados!A:A,1,FALSE))","v":"n"}]
[46531,1354,{"$f":"IF(E1971<>\"n\",COUNTIF(B1971:$B$4018,B1971),IF(D1971<6,0,COUNTIF(B1971:$B$4018,B1971)))","v":0},1,{"$f":"IF(ISERROR(VLOOKUP(A1971,Feriados!A:A,1,FALSE)),\"n\",VLOOKUP(A1971,Feriados!A:A,1,FALSE))","v":"n"}]
[46532,1355,{"$f":"IF(E1972<>\"n\",COUNTIF(B1972:$B$4018,B1972),IF(D1972<6,0,COUNTIF(B1972:$B$4018,B1972)))","v":0},2,{"$f":"IF(ISERROR(VLOOKUP(A1972,Feriados!A:A,1,FALSE)),\"n\",VLOOKUP(A1972,Feriados!A:A,1,FALSE))","v":"n"}]
[46533,1356,{"$f":"IF(E1973<>\"n\",COUNTIF(B1973:$B$4018,B1973),IF(D1973<6,0,COUNTIF(B1973:$B$4018,B1973)))","v":0},3,{"$f":"IF(ISERROR(VLOOKUP(A1973,Feriados!A:A,1,FALSE)),\"n\",VLOOKUP(A1973,Feriados!A:A,1,FALSE))","v":"n"}]
[46534,1356,{"$f":"IF(E1974<>\"n\",COUNTIF(B1974:$B$4018,B1974),IF(D1974<6,0,COUNTIF(B1974:$B$4018,B1974)))","v":1},4,{"$f":"IF(ISERROR(VLOOKUP(A1974,Feriados!A:A,1,FALSE)),\"n\",VLOOKUP(A1974,Feriados!A:A,1,FALSE))","v":"2027-05-27"}]
[46535,1357,{"$f":"IF(E1975<>\"n\",COUNTIF(B1975:$B$4018,B1975),IF(D1975<6,0,COUNTIF(B1975:$B$4018,B1975)))","v":0},5,{"$f":"IF(ISERROR(VLOOKUP(A1975,Feriados!A:A,1,FALSE)),\"n\",VLOOKUP(A1975,Feriados!A:A,1,FALSE))","v":"n"}]
[46536,1357,{"$f":"IF(E1976<>\"n\",COUNTIF(B1976:$B$4018,B1976),IF(D1976<6,0,COUNTIF(B1976:$B$4018,B1976)))","v":2},6,{"$f":"IF(ISERROR(VLOOKUP(A1976,Feriados!A:A,1,FALSE)),\"n\",VLOOKUP(A1976,Feriados!A:A,1,FALSE))","v":"n"}]
[46537,1357,{"$f":"IF(E1977<>\"n\",COUNTIF(B1977:$B$4018,B1977),IF(D1977<6,0,COUNTIF(B1977:$B$4018,B1977)))","v":1},7,{"$f":"IF(ISERROR(VLOOKUP(A1977,Feriados!A:A,1,FALSE)),\"n\",VLOOKUP(A1977,Feriados!A:A,1,FALSE))","v":"n"}]
[46538,1358,{"$f":"IF(E1978<>\"n\",COUNTIF(B1978:$B$4018,B1978),IF(D1978<6,0,COUNTIF(B1978:$B$4018,B1978)))","v":0},1,{"$f":"IF(ISERROR(VLOOKUP(A1978,Feriados!A:A,1,FALSE)),\"n\",VLOOKUP(A1978,Feriados!A:A,1,FALSE))","v":"n"}]
[46539,1359,{"$f":"IF(E1979<>\"n\",COUNTIF(B1979:$B$4018,B1979),IF(D1979<6,0,COUNTIF(B1979:$B$4018,B1979)))","v":0},2,{"$f":"IF(ISERROR(VLOOKUP(A1979,Feriados!A:A,1,FALSE)),\"n\",VLOOKUP(A1979,Feriados!A:A,1,FALSE))","v":"n"}]
[46540,1360,{"$f":"IF(E1980<>\"n\",COUNTIF(B1980:$B$4018,B1980),IF(D1980<6,0,COUNTIF(B1980:$B$4018,B1980)))","v":0},3,{"$f":"IF(ISERROR(VLOOKUP(A1980,Feriados!A:A,1,FALSE)),\"n\",VLOOKUP(A1980,Feriados!A:A,1,FALSE))","v":"n"}]
[46541,1361,{"$f":"IF(E1981<>\"n\",COUNTIF(B1981:$B$4018,B1981),IF(D1981<6,0,COUNTIF(B1981:$B$4018,B1981)))","v":0},4,{"$f":"IF(ISERROR(VLOOKUP(A1981,Feriados!A:A,1,FALSE)),\"n\",VLOOKUP(A1981,Feriados!A:A,1,FALSE))","v":"n"}]
[46542,1362,{"$f":"IF(E1982<>\"n\",COUNTIF(B1982:$B$4018,B1982),IF(D1982<6,0,COUNTIF(B1982:$B$4018,B1982)))","v":0},5,{"$f":"IF(ISERROR(VLOOKUP(A1982,Feriados!A:A,1,FALSE)),\"n\",VLOOKUP(A1982,Feriados!A:A,1,FALSE))","v":"n"}]
[46543,1362,{"$f":"IF(E1983<>\"n\",COUNTIF(B1983:$B$4018,B1983),IF(D1983<6,0,COUNTIF(B1983:$B$4018,B1983)))","v":2},6,{"$f":"IF(ISERROR(VLOOKUP(A1983,Feriados!A:A,1,FALSE)),\"n\",VLOOKUP(A1983,Feriados!A:A,1,FALSE))","v":"n"}]
[46544,1362,{"$f":"IF(E1984<>\"n\",COUNTIF(B1984:$B$4018,B1984),IF(D1984<6,0,COUNTIF(B1984:$B$4018,B1984)))","v":1},7,{"$f":"IF(ISERROR(VLOOKUP(A1984,Feriados!A:A,1,FALSE)),\"n\",VLOOKUP(A1984,Feriados!A:A,1,FALSE))","v":"n"}]
[46545,1363,{"$f":"IF(E1985<>\"n\",COUNTIF(B1985:$B$4018,B1985),IF(D1985<6,0,COUNTIF(B1985:$B$4018,B1985)))","v":0},1,{"$f":"IF(ISERROR(VLOOKUP(A1985,Feriados!A:A,1,FALSE)),\"n\",VLOOKUP(A1985,Feriados!A:A,1,FALSE))","v":"n"}]
[46546,1364,{"$f":"IF(E1986<>\"n\",COUNTIF(B1986:$B$4018,B1986),IF(D1986<6,0,COUNTIF(B1986:$B$4018,B1986)))","v":0},2,{"$f":"IF(ISERROR(VLOOKUP(A1986,Feriados!A:A,1,FALSE)),\"n\",VLOOKUP(A1986,Feriados!A:A,1,FALSE))","v":"n"}]
[46547,1365,{"$f":"IF(E1987<>\"n\",COUNTIF(B1987:$B$4018,B1987),IF(D1987<6,0,COUNTIF(B1987:$B$4018,B1987)))","v":0},3,{"$f":"IF(ISERROR(VLOOKUP(A1987,Feriados!A:A,1,FALSE)),\"n\",VLOOKUP(A1987,Feriados!A:A,1,FALSE))","v":"n"}]
[{"$f":"A1987+1","v":46548},1366,{"$f":"IF(E1988<>\"n\",COUNTIF(B1988:$B$4018,B1988),IF(D1988<6,0,COUNTIF(B1988:$B$4018,B1988)))","v":0},4,{"$f":"IF(ISERROR(VLOOKUP(A1988,Feriados!A:A,1,FALSE)),\"n\",VLOOKUP(A1988,Feriados!A:A,1,FALSE))","v":"n"}]
[46549,1367,{"$f":"IF(E1989<>\"n\",COUNTIF(B1989:$B$4018,B1989),IF(D1989<6,0,COUNTIF(B1989:$B$4018,B1989)))","v":0},5,{"$f":"IF(ISERROR(VLOOKUP(A1989,Feriados!A:A,1,FALSE)),\"n\",VLOOKUP(A1989,Feriados!A:A,1,FALSE))","v":"n"}]
[46550,1367,{"$f":"IF(E1990<>\"n\",COUNTIF(B1990:$B$4018,B1990),IF(D1990<6,0,COUNTIF(B1990:$B$4018,B1990)))","v":2},6,{"$f":"IF(ISERROR(VLOOKUP(A1990,Feriados!A:A,1,FALSE)),\"n\",VLOOKUP(A1990,Feriados!A:A,1,FALSE))","v":"n"}]
[46551,1367,{"$f":"IF(E1991<>\"n\",COUNTIF(B1991:$B$4018,B1991),IF(D1991<6,0,COUNTIF(B1991:$B$4018,B1991)))","v":1},7,{"$f":"IF(ISERROR(VLOOKUP(A1991,Feriados!A:A,1,FALSE)),\"n\",VLOOKUP(A1991,Feriados!A:A,1,FALSE))","v":"n"}]
[46552,1368,{"$f":"IF(E1992<>\"n\",COUNTIF(B1992:$B$4018,B1992),IF(D1992<6,0,COUNTIF(B1992:$B$4018,B1992)))","v":0},1,{"$f":"IF(ISERROR(VLOOKUP(A1992,Feriados!A:A,1,FALSE)),\"n\",VLOOKUP(A1992,Feriados!A:A,1,FALSE))","v":"n"}]
[46553,1369,{"$f":"IF(E1993<>\"n\",COUNTIF(B1993:$B$4018,B1993),IF(D1993<6,0,COUNTIF(B1993:$B$4018,B1993)))","v":0},2,{"$f":"IF(ISERROR(VLOOKUP(A1993,Feriados!A:A,1,FALSE)),\"n\",VLOOKUP(A1993,Feriados!A:A,1,FALSE))","v":"n"}]
[46554,1370,{"$f":"IF(E1994<>\"n\",COUNTIF(B1994:$B$4018,B1994),IF(D1994<6,0,COUNTIF(B1994:$B$4018,B1994)))","v":0},3,{"$f":"IF(ISERROR(VLOOKUP(A1994,Feriados!A:A,1,FALSE)),\"n\",VLOOKUP(A1994,Feriados!A:A,1,FALSE))","v":"n"}]
[46555,1371,{"$f":"IF(E1995<>\"n\",COUNTIF(B1995:$B$4018,B1995),IF(D1995<6,0,COUNTIF(B1995:$B$4018,B1995)))","v":0},4,{"$f":"IF(ISERROR(VLOOKUP(A1995,Feriados!A:A,1,FALSE)),\"n\",VLOOKUP(A1995,Feriados!A:A,1,FALSE))","v":"n"}]
[46556,1372,{"$f":"IF(E1996<>\"n\",COUNTIF(B1996:$B$4018,B1996),IF(D1996<6,0,COUNTIF(B1996:$B$4018,B1996)))","v":0},5,{"$f":"IF(ISERROR(VLOOKUP(A1996,Feriados!A:A,1,FALSE)),\"n\",VLOOKUP(A1996,Feriados!A:A,1,FALSE))","v":"n"}]
[46557,1372,{"$f":"IF(E1997<>\"n\",COUNTIF(B1997:$B$4018,B1997),IF(D1997<6,0,COUNTIF(B1997:$B$4018,B1997)))","v":2},6,{"$f":"IF(ISERROR(VLOOKUP(A1997,Feriados!A:A,1,FALSE)),\"n\",VLOOKUP(A1997,Feriados!A:A,1,FALSE))","v":"n"}]
[46558,1372,{"$f":"IF(E1998<>\"n\",COUNTIF(B1998:$B$4018,B1998),IF(D1998<6,0,COUNTIF(B1998:$B$4018,B1998)))","v":1},7,{"$f":"IF(ISERROR(VLOOKUP(A1998,Feriados!A:A,1,FALSE)),\"n\",VLOOKUP(A1998,Feriados!A:A,1,FALSE))","v":"n"}]
[46559,1373,{"$f":"IF(E1999<>\"n\",COUNTIF(B1999:$B$4018,B1999),IF(D1999<6,0,COUNTIF(B1999:$B$4018,B1999)))","v":0},1,{"$f":"IF(ISERROR(VLOOKUP(A1999,Feriados!A:A,1,FALSE)),\"n\",VLOOKUP(A1999,Feriados!A:A,1,FALSE))","v":"n"}]
[46560,1374,{"$f":"IF(E2000<>\"n\",COUNTIF(B2000:$B$4018,B2000),IF(D2000<6,0,COUNTIF(B2000:$B$4018,B2000)))","v":0},2,{"$f":"IF(ISERROR(VLOOKUP(A2000,Feriados!A:A,1,FALSE)),\"n\",VLOOKUP(A2000,Feriados!A:A,1,FALSE))","v":"n"}]
[46561,1375,{"$f":"IF(E2001<>\"n\",COUNTIF(B2001:$B$4018,B2001),IF(D2001<6,0,COUNTIF(B2001:$B$4018,B2001)))","v":0},3,{"$f":"IF(ISERROR(VLOOKUP(A2001,Feriados!A:A,1,FALSE)),\"n\",VLOOKUP(A2001,Feriados!A:A,1,FALSE))","v":"n"}]
[46562,1376,{"$f":"IF(E2002<>\"n\",COUNTIF(B2002:$B$4018,B2002),IF(D2002<6,0,COUNTIF(B2002:$B$4018,B2002)))","v":0},4,{"$f":"IF(ISERROR(VLOOKUP(A2002,Feriados!A:A,1,FALSE)),\"n\",VLOOKUP(A2002,Feriados!A:A,1,FALSE))","v":"n"}]
[46563,1377,{"$f":"IF(E2003<>\"n\",COUNTIF(B2003:$B$4018,B2003),IF(D2003<6,0,COUNTIF(B2003:$B$4018,B2003)))","v":0},5,{"$f":"IF(ISERROR(VLOOKUP(A2003,Feriados!A:A,1,FALSE)),\"n\",VLOOKUP(A2003,Feriados!A:A,1,FALSE))","v":"n"}]
[46564,1377,{"$f":"IF(E2004<>\"n\",COUNTIF(B2004:$B$4018,B2004),IF(D2004<6,0,COUNTIF(B2004:$B$4018,B2004)))","v":2},6,{"$f":"IF(ISERROR(VLOOKUP(A2004,Feriados!A:A,1,FALSE)),\"n\",VLOOKUP(A2004,Feriados!A:A,1,FALSE))","v":"n"}]
[46565,1377,{"$f":"IF(E2005<>\"n\",COUNTIF(B2005:$B$4018,B2005),IF(D2005<6,0,COUNTIF(B2005:$B$4018,B2005)))","v":1},7,{"$f":"IF(ISERROR(VLOOKUP(A2005,Feriados!A:A,1,FALSE)),\"n\",VLOOKUP(A2005,Feriados!A:A,1,FALSE))","v":"n"}]
[46566,1378,{"$f":"IF(E2006<>\"n\",COUNTIF(B2006:$B$4018,B2006),IF(D2006<6,0,COUNTIF(B2006:$B$4018,B2006)))","v":0},1,{"$f":"IF(ISERROR(VLOOKUP(A2006,Feriados!A:A,1,FALSE)),\"n\",VLOOKUP(A2006,Feriados!A:A,1,FALSE))","v":"n"}]
[46567,1379,{"$f":"IF(E2007<>\"n\",COUNTIF(B2007:$B$4018,B2007),IF(D2007<6,0,COUNTIF(B2007:$B$4018,B2007)))","v":0},2,{"$f":"IF(ISERROR(VLOOKUP(A2007,Feriados!A:A,1,FALSE)),\"n\",VLOOKUP(A2007,Feriados!A:A,1,FALSE))","v":"n"}]
[46568,1380,{"$f":"IF(E2008<>\"n\",COUNTIF(B2008:$B$4018,B2008),IF(D2008<6,0,COUNTIF(B2008:$B$4018,B2008)))","v":0},3,{"$f":"IF(ISERROR(VLOOKUP(A2008,Feriados!A:A,1,FALSE)),\"n\",VLOOKUP(A2008,Feriados!A:A,1,FALSE))","v":"n"}]
[46569,1381,{"$f":"IF(E2009<>\"n\",COUNTIF(B2009:$B$4018,B2009),IF(D2009<6,0,COUNTIF(B2009:$B$4018,B2009)))","v":0},4,{"$f":"IF(ISERROR(VLOOKUP(A2009,Feriados!A:A,1,FALSE)),\"n\",VLOOKUP(A2009,Feriados!A:A,1,FALSE))","v":"n"}]
[46570,1382,{"$f":"IF(E2010<>\"n\",COUNTIF(B2010:$B$4018,B2010),IF(D2010<6,0,COUNTIF(B2010:$B$4018,B2010)))","v":0},5,{"$f":"IF(ISERROR(VLOOKUP(A2010,Feriados!A:A,1,FALSE)),\"n\",VLOOKUP(A2010,Feriados!A:A,1,FALSE))","v":"n"}]
[46571,1382,{"$f":"IF(E2011<>\"n\",COUNTIF(B2011:$B$4018,B2011),IF(D2011<6,0,COUNTIF(B2011:$B$4018,B2011)))","v":2},6,{"$f":"IF(ISERROR(VLOOKUP(A2011,Feriados!A:A,1,FALSE)),\"n\",VLOOKUP(A2011,Feriados!A:A,1,FALSE))","v":"n"}]
[46572,1382,{"$f":"IF(E2012<>\"n\",COUNTIF(B2012:$B$4018,B2012),IF(D2012<6,0,COUNTIF(B2012:$B$4018,B2012)))","v":1},7,{"$f":"IF(ISERROR(VLOOKUP(A2012,Feriados!A:A,1,FALSE)),\"n\",VLOOKUP(A2012,Feriados!A:A,1,FALSE))","v":"n"}]
[46573,1383,{"$f":"IF(E2013<>\"n\",COUNTIF(B2013:$B$4018,B2013),IF(D2013<6,0,COUNTIF(B2013:$B$4018,B2013)))","v":0},1,{"$f":"IF(ISERROR(VLOOKUP(A2013,Feriados!A:A,1,FALSE)),\"n\",VLOOKUP(A2013,Feriados!A:A,1,FALSE))","v":"n"}]
[46574,{"$f":"NETWORKDAYS($A$2,A2014,feriados)","v":1384},{"$f":"IF(E2014<>\"n\",COUNTIF(B2014:$B$4018,B2014),IF(D2014<6,0,COUNTIF(B2014:$B$4018,B2014)))","v":0},{"$f":"WEEKDAY(A2014,2)","v":2},{"$f":"IF(ISERROR(VLOOKUP(A2014,Feriados!A:A,1,FALSE)),\"n\",VLOOKUP(A2014,Feriados!A:A,1,FALSE))","v":"n"}]
[46575,1385,{"$f":"IF(E2015<>\"n\",COUNTIF(B2015:$B$4018,B2015),IF(D2015<6,0,COUNTIF(B2015:$B$4018,B2015)))","v":0},3,{"$f":"IF(ISERROR(VLOOKUP(A2015,Feriados!A:A,1,FALSE)),\"n\",VLOOKUP(A2015,Feriados!A:A,1,FALSE))","v":"n"}]
[46576,1386,{"$f":"IF(E2016<>\"n\",COUNTIF(B2016:$B$4018,B2016),IF(D2016<6,0,COUNTIF(B2016:$B$4018,B2016)))","v":0},4,{"$f":"IF(ISERROR(VLOOKUP(A2016,Feriados!A:A,1,FALSE)),\"n\",VLOOKUP(A2016,Feriados!A:A,1,FALSE))","v":"n"}]
[46577,1387,{"$f":"IF(E2017<>\"n\",COUNTIF(B2017:$B$4018,B2017),IF(D2017<6,0,COUNTIF(B2017:$B$4018,B2017)))","v":0},5,{"$f":"IF(ISERROR(VLOOKUP(A2017,Feriados!A:A,1,FALSE)),\"n\",VLOOKUP(A2017,Feriados!A:A,1,FALSE))","v":"n"}]
[46578,1387,{"$f":"IF(E2018<>\"n\",COUNTIF(B2018:$B$4018,B2018),IF(D2018<6,0,COUNTIF(B2018:$B$4018,B2018)))","v":2},6,{"$f":"IF(ISERROR(VLOOKUP(A2018,Feriados!A:A,1,FALSE)),\"n\",VLOOKUP(A2018,Feriados!A:A,1,FALSE))","v":"n"}]
[46579,1387,{"$f":"IF(E2019<>\"n\",COUNTIF(B2019:$B$4018,B2019),IF(D2019<6,0,COUNTIF(B2019:$B$4018,B2019)))","v":1},7,{"$f":"IF(ISERROR(VLOOKUP(A2019,Feriados!A:A,1,FALSE)),\"n\",VLOOKUP(A2019,Feriados!A:A,1,FALSE))","v":"n"}]
[46580,1388,{"$f":"IF(E2020<>\"n\",COUNTIF(B2020:$B$4018,B2020),IF(D2020<6,0,COUNTIF(B2020:$B$4018,B2020)))","v":0},1,{"$f":"IF(ISERROR(VLOOKUP(A2020,Feriados!A:A,1,FALSE)),\"n\",VLOOKUP(A2020,Feriados!A:A,1,FALSE))","v":"n"}]
[46581,1389,{"$f":"IF(E2021<>\"n\",COUNTIF(B2021:$B$4018,B2021),IF(D2021<6,0,COUNTIF(B2021:$B$4018,B2021)))","v":0},2,{"$f":"IF(ISERROR(VLOOKUP(A2021,Feriados!A:A,1,FALSE)),\"n\",VLOOKUP(A2021,Feriados!A:A,1,FALSE))","v":"n"}]
[46582,1390,{"$f":"IF(E2022<>\"n\",COUNTIF(B2022:$B$4018,B2022),IF(D2022<6,0,COUNTIF(B2022:$B$4018,B2022)))","v":0},3,{"$f":"IF(ISERROR(VLOOKUP(A2022,Feriados!A:A,1,FALSE)),\"n\",VLOOKUP(A2022,Feriados!A:A,1,FALSE))","v":"n"}]
[46583,1391,{"$f":"IF(E2023<>\"n\",COUNTIF(B2023:$B$4018,B2023),IF(D2023<6,0,COUNTIF(B2023:$B$4018,B2023)))","v":0},4,{"$f":"IF(ISERROR(VLOOKUP(A2023,Feriados!A:A,1,FALSE)),\"n\",VLOOKUP(A2023,Feriados!A:A,1,FALSE))","v":"n"}]
[46584,1392,{"$f":"IF(E2024<>\"n\",COUNTIF(B2024:$B$4018,B2024),IF(D2024<6,0,COUNTIF(B2024:$B$4018,B2024)))","v":0},5,{"$f":"IF(ISERROR(VLOOKUP(A2024,Feriados!A:A,1,FALSE)),\"n\",VLOOKUP(A2024,Feriados!A:A,1,FALSE))","v":"n"}]
[46585,1392,{"$f":"IF(E2025<>\"n\",COUNTIF(B2025:$B$4018,B2025),IF(D2025<6,0,COUNTIF(B2025:$B$4018,B2025)))","v":2},6,{"$f":"IF(ISERROR(VLOOKUP(A2025,Feriados!A:A,1,FALSE)),\"n\",VLOOKUP(A2025,Feriados!A:A,1,FALSE))","v":"n"}]
[46586,1392,{"$f":"IF(E2026<>\"n\",COUNTIF(B2026:$B$4018,B2026),IF(D2026<6,0,COUNTIF(B2026:$B$4018,B2026)))","v":1},7,{"$f":"IF(ISERROR(VLOOKUP(A2026,Feriados!A:A,1,FALSE)),\"n\",VLOOKUP(A2026,Feriados!A:A,1,FALSE))","v":"n"}]
[46587,1393,{"$f":"IF(E2027<>\"n\",COUNTIF(B2027:$B$4018,B2027),IF(D2027<6,0,COUNTIF(B2027:$B$4018,B2027)))","v":0},1,{"$f":"IF(ISERROR(VLOOKUP(A2027,Feriados!A:A,1,FALSE)),\"n\",VLOOKUP(A2027,Feriados!A:A,1,FALSE))","v":"n"}]
[46588,1394,{"$f":"IF(E2028<>\"n\",COUNTIF(B2028:$B$4018,B2028),IF(D2028<6,0,COUNTIF(B2028:$B$4018,B2028)))","v":0},2,{"$f":"IF(ISERROR(VLOOKUP(A2028,Feriados!A:A,1,FALSE)),\"n\",VLOOKUP(A2028,Feriados!A:A,1,FALSE))","v":"n"}]
[46589,1395,{"$f":"IF(E2029<>\"n\",COUNTIF(B2029:$B$4018,B2029),IF(D2029<6,0,COUNTIF(B2029:$B$4018,B2029)))","v":0},3,{"$f":"IF(ISERROR(VLOOKUP(A2029,Feriados!A:A,1,FALSE)),\"n\",VLOOKUP(A2029,Feriados!A:A,1,FALSE))","v":"n"}]
[46590,1396,{"$f":"IF(E2030<>\"n\",COUNTIF(B2030:$B$4018,B2030),IF(D2030<6,0,COUNTIF(B2030:$B$4018,B2030)))","v":0},4,{"$f":"IF(ISERROR(VLOOKUP(A2030,Feriados!A:A,1,FALSE)),\"n\",VLOOKUP(A2030,Feriados!A:A,1,FALSE))","v":"n"}]
[46591,1397,{"$f":"IF(E2031<>\"n\",COUNTIF(B2031:$B$4018,B2031),IF(D2031<6,0,COUNTIF(B2031:$B$4018,B2031)))","v":0},5,{"$f":"IF(ISERROR(VLOOKUP(A2031,Feriados!A:A,1,FALSE)),\"n\",VLOOKUP(A2031,Feriados!A:A,1,FALSE))","v":"n"}]
[46592,1397,{"$f":"IF(E2032<>\"n\",COUNTIF(B2032:$B$4018,B2032),IF(D2032<6,0,COUNTIF(B2032:$B$4018,B2032)))","v":2},6,{"$f":"IF(ISERROR(VLOOKUP(A2032,Feriados!A:A,1,FALSE)),\"n\",VLOOKUP(A2032,Feriados!A:A,1,FALSE))","v":"n"}]
[46593,1397,{"$f":"IF(E2033<>\"n\",COUNTIF(B2033:$B$4018,B2033),IF(D2033<6,0,COUNTIF(B2033:$B$4018,B2033)))","v":1},7,{"$f":"IF(ISERROR(VLOOKUP(A2033,Feriados!A:A,1,FALSE)),\"n\",VLOOKUP(A2033,Feriados!A:A,1,FALSE))","v":"n"}]
[46594,1398,{"$f":"IF(E2034<>\"n\",COUNTIF(B2034:$B$4018,B2034),IF(D2034<6,0,COUNTIF(B2034:$B$4018,B2034)))","v":0},1,{"$f":"IF(ISERROR(VLOOKUP(A2034,Feriados!A:A,1,FALSE)),\"n\",VLOOKUP(A2034,Feriados!A:A,1,FALSE))","v":"n"}]
[46595,1399,{"$f":"IF(E2035<>\"n\",COUNTIF(B2035:$B$4018,B2035),IF(D2035<6,0,COUNTIF(B2035:$B$4018,B2035)))","v":0},2,{"$f":"IF(ISERROR(VLOOKUP(A2035,Feriados!A:A,1,FALSE)),\"n\",VLOOKUP(A2035,Feriados!A:A,1,FALSE))","v":"n"}]
[46596,1400,{"$f":"IF(E2036<>\"n\",COUNTIF(B2036:$B$4018,B2036),IF(D2036<6,0,COUNTIF(B2036:$B$4018,B2036)))","v":0},3,{"$f":"IF(ISERROR(VLOOKUP(A2036,Feriados!A:A,1,FALSE)),\"n\",VLOOKUP(A2036,Feriados!A:A,1,FALSE))","v":"n"}]
[46597,1401,{"$f":"IF(E2037<>\"n\",COUNTIF(B2037:$B$4018,B2037),IF(D2037<6,0,COUNTIF(B2037:$B$4018,B2037)))","v":0},4,{"$f":"IF(ISERROR(VLOOKUP(A2037,Feriados!A:A,1,FALSE)),\"n\",VLOOKUP(A2037,Feriados!A:A,1,FALSE))","v":"n"}]
[46598,1402,{"$f":"IF(E2038<>\"n\",COUNTIF(B2038:$B$4018,B2038),IF(D2038<6,0,COUNTIF(B2038:$B$4018,B2038)))","v":0},5,{"$f":"IF(ISERROR(VLOOKUP(A2038,Feriados!A:A,1,FALSE)),\"n\",VLOOKUP(A2038,Feriados!A:A,1,FALSE))","v":"n"}]
[46599,1402,{"$f":"IF(E2039<>\"n\",COUNTIF(B2039:$B$4018,B2039),IF(D2039<6,0,COUNTIF(B2039:$B$4018,B2039)))","v":2},6,{"$f":"IF(ISERROR(VLOOKUP(A2039,Feriados!A:A,1,FALSE)),\"n\",VLOOKUP(A2039,Feriados!A:A,1,FALSE))","v":"n"}]
[46600,1402,{"$f":"IF(E2040<>\"n\",COUNTIF(B2040:$B$4018,B2040),IF(D2040<6,0,COUNTIF(B2040:$B$4018,B2040)))","v":1},7,{"$f":"IF(ISERROR(VLOOKUP(A2040,Feriados!A:A,1,FALSE)),\"n\",VLOOKUP(A2040,Feriados!A:A,1,FALSE))","v":"n"}]
[46601,1403,{"$f":"IF(E2041<>\"n\",COUNTIF(B2041:$B$4018,B2041),IF(D2041<6,0,COUNTIF(B2041:$B$4018,B2041)))","v":0},1,{"$f":"IF(ISERROR(VLOOKUP(A2041,Feriados!A:A,1,FALSE)),\"n\",VLOOKUP(A2041,Feriados!A:A,1,FALSE))","v":"n"}]
[46602,1404,{"$f":"IF(E2042<>\"n\",COUNTIF(B2042:$B$4018,B2042),IF(D2042<6,0,COUNTIF(B2042:$B$4018,B2042)))","v":0},2,{"$f":"IF(ISERROR(VLOOKUP(A2042,Feriados!A:A,1,FALSE)),\"n\",VLOOKUP(A2042,Feriados!A:A,1,FALSE))","v":"n"}]
[46603,1405,{"$f":"IF(E2043<>\"n\",COUNTIF(B2043:$B$4018,B2043),IF(D2043<6,0,COUNTIF(B2043:$B$4018,B2043)))","v":0},3,{"$f":"IF(ISERROR(VLOOKUP(A2043,Feriados!A:A,1,FALSE)),\"n\",VLOOKUP(A2043,Feriados!A:A,1,FALSE))","v":"n"}]
[46604,1406,{"$f":"IF(E2044<>\"n\",COUNTIF(B2044:$B$4018,B2044),IF(D2044<6,0,COUNTIF(B2044:$B$4018,B2044)))","v":0},4,{"$f":"IF(ISERROR(VLOOKUP(A2044,Feriados!A:A,1,FALSE)),\"n\",VLOOKUP(A2044,Feriados!A:A,1,FALSE))","v":"n"}]
[46605,1407,{"$f":"IF(E2045<>\"n\",COUNTIF(B2045:$B$4018,B2045),IF(D2045<6,0,COUNTIF(B2045:$B$4018,B2045)))","v":0},5,{"$f":"IF(ISERROR(VLOOKUP(A2045,Feriados!A:A,1,FALSE)),\"n\",VLOOKUP(A2045,Feriados!A:A,1,FALSE))","v":"n"}]
[46606,1407,{"$f":"IF(E2046<>\"n\",COUNTIF(B2046:$B$4018,B2046),IF(D2046<6,0,COUNTIF(B2046:$B$4018,B2046)))","v":2},6,{"$f":"IF(ISERROR(VLOOKUP(A2046,Feriados!A:A,1,FALSE)),\"n\",VLOOKUP(A2046,Feriados!A:A,1,FALSE))","v":"n"}]
[46607,1407,{"$f":"IF(E2047<>\"n\",COUNTIF(B2047:$B$4018,B2047),IF(D2047<6,0,COUNTIF(B2047:$B$4018,B2047)))","v":1},7,{"$f":"IF(ISERROR(VLOOKUP(A2047,Feriados!A:A,1,FALSE)),\"n\",VLOOKUP(A2047,Feriados!A:A,1,FALSE))","v":"n"}]
[46608,1408,{"$f":"IF(E2048<>\"n\",COUNTIF(B2048:$B$4018,B2048),IF(D2048<6,0,COUNTIF(B2048:$B$4018,B2048)))","v":0},1,{"$f":"IF(ISERROR(VLOOKUP(A2048,Feriados!A:A,1,FALSE)),\"n\",VLOOKUP(A2048,Feriados!A:A,1,FALSE))","v":"n"}]
[46609,1409,{"$f":"IF(E2049<>\"n\",COUNTIF(B2049:$B$4018,B2049),IF(D2049<6,0,COUNTIF(B2049:$B$4018,B2049)))","v":0},2,{"$f":"IF(ISERROR(VLOOKUP(A2049,Feriados!A:A,1,FALSE)),\"n\",VLOOKUP(A2049,Feriados!A:A,1,FALSE))","v":"n"}]
[46610,1410,{"$f":"IF(E2050<>\"n\",COUNTIF(B2050:$B$4018,B2050),IF(D2050<6,0,COUNTIF(B2050:$B$4018,B2050)))","v":0},3,{"$f":"IF(ISERROR(VLOOKUP(A2050,Feriados!A:A,1,FALSE)),\"n\",VLOOKUP(A2050,Feriados!A:A,1,FALSE))","v":"n"}]
[46611,1411,{"$f":"IF(E2051<>\"n\",COUNTIF(B2051:$B$4018,B2051),IF(D2051<6,0,COUNTIF(B2051:$B$4018,B2051)))","v":0},4,{"$f":"IF(ISERROR(VLOOKUP(A2051,Feriados!A:A,1,FALSE)),\"n\",VLOOKUP(A2051,Feriados!A:A,1,FALSE))","v":"n"}]
[{"$f":"A2051+1","v":46612},1412,{"$f":"IF(E2052<>\"n\",COUNTIF(B2052:$B$4018,B2052),IF(D2052<6,0,COUNTIF(B2052:$B$4018,B2052)))","v":0},5,{"$f":"IF(ISERROR(VLOOKUP(A2052,Feriados!A:A,1,FALSE)),\"n\",VLOOKUP(A2052,Feriados!A:A,1,FALSE))","v":"n"}]
[46613,1412,{"$f":"IF(E2053<>\"n\",COUNTIF(B2053:$B$4018,B2053),IF(D2053<6,0,COUNTIF(B2053:$B$4018,B2053)))","v":2},6,{"$f":"IF(ISERROR(VLOOKUP(A2053,Feriados!A:A,1,FALSE)),\"n\",VLOOKUP(A2053,Feriados!A:A,1,FALSE))","v":"n"}]
[46614,1412,{"$f":"IF(E2054<>\"n\",COUNTIF(B2054:$B$4018,B2054),IF(D2054<6,0,COUNTIF(B2054:$B$4018,B2054)))","v":1},7,{"$f":"IF(ISERROR(VLOOKUP(A2054,Feriados!A:A,1,FALSE)),\"n\",VLOOKUP(A2054,Feriados!A:A,1,FALSE))","v":"n"}]
[46615,1413,{"$f":"IF(E2055<>\"n\",COUNTIF(B2055:$B$4018,B2055),IF(D2055<6,0,COUNTIF(B2055:$B$4018,B2055)))","v":0},1,{"$f":"IF(ISERROR(VLOOKUP(A2055,Feriados!A:A,1,FALSE)),\"n\",VLOOKUP(A2055,Feriados!A:A,1,FALSE))","v":"n"}]
[46616,1414,{"$f":"IF(E2056<>\"n\",COUNTIF(B2056:$B$4018,B2056),IF(D2056<6,0,COUNTIF(B2056:$B$4018,B2056)))","v":0},2,{"$f":"IF(ISERROR(VLOOKUP(A2056,Feriados!A:A,1,FALSE)),\"n\",VLOOKUP(A2056,Feriados!A:A,1,FALSE))","v":"n"}]
[46617,1415,{"$f":"IF(E2057<>\"n\",COUNTIF(B2057:$B$4018,B2057),IF(D2057<6,0,COUNTIF(B2057:$B$4018,B2057)))","v":0},3,{"$f":"IF(ISERROR(VLOOKUP(A2057,Feriados!A:A,1,FALSE)),\"n\",VLOOKUP(A2057,Feriados!A:A,1,FALSE))","v":"n"}]
[46618,1416,{"$f":"IF(E2058<>\"n\",COUNTIF(B2058:$B$4018,B2058),IF(D2058<6,0,COUNTIF(B2058:$B$4018,B2058)))","v":0},4,{"$f":"IF(ISERROR(VLOOKUP(A2058,Feriados!A:A,1,FALSE)),\"n\",VLOOKUP(A2058,Feriados!A:A,1,FALSE))","v":"n"}]
[46619,1417,{"$f":"IF(E2059<>\"n\",COUNTIF(B2059:$B$4018,B2059),IF(D2059<6,0,COUNTIF(B2059:$B$4018,B2059)))","v":0},5,{"$f":"IF(ISERROR(VLOOKUP(A2059,Feriados!A:A,1,FALSE)),\"n\",VLOOKUP(A2059,Feriados!A:A,1,FALSE))","v":"n"}]
[46620,1417,{"$f":"IF(E2060<>\"n\",COUNTIF(B2060:$B$4018,B2060),IF(D2060<6,0,COUNTIF(B2060:$B$4018,B2060)))","v":2},6,{"$f":"IF(ISERROR(VLOOKUP(A2060,Feriados!A:A,1,FALSE)),\"n\",VLOOKUP(A2060,Feriados!A:A,1,FALSE))","v":"n"}]
[46621,1417,{"$f":"IF(E2061<>\"n\",COUNTIF(B2061:$B$4018,B2061),IF(D2061<6,0,COUNTIF(B2061:$B$4018,B2061)))","v":1},7,{"$f":"IF(ISERROR(VLOOKUP(A2061,Feriados!A:A,1,FALSE)),\"n\",VLOOKUP(A2061,Feriados!A:A,1,FALSE))","v":"n"}]
[46622,1418,{"$f":"IF(E2062<>\"n\",COUNTIF(B2062:$B$4018,B2062),IF(D2062<6,0,COUNTIF(B2062:$B$4018,B2062)))","v":0},1,{"$f":"IF(ISERROR(VLOOKUP(A2062,Feriados!A:A,1,FALSE)),\"n\",VLOOKUP(A2062,Feriados!A:A,1,FALSE))","v":"n"}]
[46623,1419,{"$f":"IF(E2063<>\"n\",COUNTIF(B2063:$B$4018,B2063),IF(D2063<6,0,COUNTIF(B2063:$B$4018,B2063)))","v":0},2,{"$f":"IF(ISERROR(VLOOKUP(A2063,Feriados!A:A,1,FALSE)),\"n\",VLOOKUP(A2063,Feriados!A:A,1,FALSE))","v":"n"}]
[46624,1420,{"$f":"IF(E2064<>\"n\",COUNTIF(B2064:$B$4018,B2064),IF(D2064<6,0,COUNTIF(B2064:$B$4018,B2064)))","v":0},3,{"$f":"IF(ISERROR(VLOOKUP(A2064,Feriados!A:A,1,FALSE)),\"n\",VLOOKUP(A2064,Feriados!A:A,1,FALSE))","v":"n"}]
[46625,1421,{"$f":"IF(E2065<>\"n\",COUNTIF(B2065:$B$4018,B2065),IF(D2065<6,0,COUNTIF(B2065:$B$4018,B2065)))","v":0},4,{"$f":"IF(ISERROR(VLOOKUP(A2065,Feriados!A:A,1,FALSE)),\"n\",VLOOKUP(A2065,Feriados!A:A,1,FALSE))","v":"n"}]
[46626,1422,{"$f":"IF(E2066<>\"n\",COUNTIF(B2066:$B$4018,B2066),IF(D2066<6,0,COUNTIF(B2066:$B$4018,B2066)))","v":0},5,{"$f":"IF(ISERROR(VLOOKUP(A2066,Feriados!A:A,1,FALSE)),\"n\",VLOOKUP(A2066,Feriados!A:A,1,FALSE))","v":"n"}]
[46627,1422,{"$f":"IF(E2067<>\"n\",COUNTIF(B2067:$B$4018,B2067),IF(D2067<6,0,COUNTIF(B2067:$B$4018,B2067)))","v":2},6,{"$f":"IF(ISERROR(VLOOKUP(A2067,Feriados!A:A,1,FALSE)),\"n\",VLOOKUP(A2067,Feriados!A:A,1,FALSE))","v":"n"}]
[46628,1422,{"$f":"IF(E2068<>\"n\",COUNTIF(B2068:$B$4018,B2068),IF(D2068<6,0,COUNTIF(B2068:$B$4018,B2068)))","v":1},7,{"$f":"IF(ISERROR(VLOOKUP(A2068,Feriados!A:A,1,FALSE)),\"n\",VLOOKUP(A2068,Feriados!A:A,1,FALSE))","v":"n"}]
[46629,1423,{"$f":"IF(E2069<>\"n\",COUNTIF(B2069:$B$4018,B2069),IF(D2069<6,0,COUNTIF(B2069:$B$4018,B2069)))","v":0},1,{"$f":"IF(ISERROR(VLOOKUP(A2069,Feriados!A:A,1,FALSE)),\"n\",VLOOKUP(A2069,Feriados!A:A,1,FALSE))","v":"n"}]
[46630,1424,{"$f":"IF(E2070<>\"n\",COUNTIF(B2070:$B$4018,B2070),IF(D2070<6,0,COUNTIF(B2070:$B$4018,B2070)))","v":0},2,{"$f":"IF(ISERROR(VLOOKUP(A2070,Feriados!A:A,1,FALSE)),\"n\",VLOOKUP(A2070,Feriados!A:A,1,FALSE))","v":"n"}]
[46631,1425,{"$f":"IF(E2071<>\"n\",COUNTIF(B2071:$B$4018,B2071),IF(D2071<6,0,COUNTIF(B2071:$B$4018,B2071)))","v":0},3,{"$f":"IF(ISERROR(VLOOKUP(A2071,Feriados!A:A,1,FALSE)),\"n\",VLOOKUP(A2071,Feriados!A:A,1,FALSE))","v":"n"}]
[46632,1426,{"$f":"IF(E2072<>\"n\",COUNTIF(B2072:$B$4018,B2072),IF(D2072<6,0,COUNTIF(B2072:$B$4018,B2072)))","v":0},4,{"$f":"IF(ISERROR(VLOOKUP(A2072,Feriados!A:A,1,FALSE)),\"n\",VLOOKUP(A2072,Feriados!A:A,1,FALSE))","v":"n"}]
[46633,1427,{"$f":"IF(E2073<>\"n\",COUNTIF(B2073:$B$4018,B2073),IF(D2073<6,0,COUNTIF(B2073:$B$4018,B2073)))","v":0},5,{"$f":"IF(ISERROR(VLOOKUP(A2073,Feriados!A:A,1,FALSE)),\"n\",VLOOKUP(A2073,Feriados!A:A,1,FALSE))","v":"n"}]
[46634,1427,{"$f":"IF(E2074<>\"n\",COUNTIF(B2074:$B$4018,B2074),IF(D2074<6,0,COUNTIF(B2074:$B$4018,B2074)))","v":2},6,{"$f":"IF(ISERROR(VLOOKUP(A2074,Feriados!A:A,1,FALSE)),\"n\",VLOOKUP(A2074,Feriados!A:A,1,FALSE))","v":"n"}]
[46635,1427,{"$f":"IF(E2075<>\"n\",COUNTIF(B2075:$B$4018,B2075),IF(D2075<6,0,COUNTIF(B2075:$B$4018,B2075)))","v":1},7,{"$f":"IF(ISERROR(VLOOKUP(A2075,Feriados!A:A,1,FALSE)),\"n\",VLOOKUP(A2075,Feriados!A:A,1,FALSE))","v":"n"}]
[46636,1428,{"$f":"IF(E2076<>\"n\",COUNTIF(B2076:$B$4018,B2076),IF(D2076<6,0,COUNTIF(B2076:$B$4018,B2076)))","v":0},1,{"$f":"IF(ISERROR(VLOOKUP(A2076,Feriados!A:A,1,FALSE)),\"n\",VLOOKUP(A2076,Feriados!A:A,1,FALSE))","v":"n"}]
[46637,1428,{"$f":"IF(E2077<>\"n\",COUNTIF(B2077:$B$4018,B2077),IF(D2077<6,0,COUNTIF(B2077:$B$4018,B2077)))","v":1},2,{"$f":"IF(ISERROR(VLOOKUP(A2077,Feriados!A:A,1,FALSE)),\"n\",VLOOKUP(A2077,Feriados!A:A,1,FALSE))","v":"2027-09-07"}]
[46638,{"$f":"NETWORKDAYS($A$2,A2078,feriados)","v":1429},{"$f":"IF(E2078<>\"n\",COUNTIF(B2078:$B$4018,B2078),IF(D2078<6,0,COUNTIF(B2078:$B$4018,B2078)))","v":0},{"$f":"WEEKDAY(A2078,2)","v":3},{"$f":"IF(ISERROR(VLOOKUP(A2078,Feriados!A:A,1,FALSE)),\"n\",VLOOKUP(A2078,Feriados!A:A,1,FALSE))","v":"n"}]
[46639,1430,{"$f":"IF(E2079<>\"n\",COUNTIF(B2079:$B$4018,B2079),IF(D2079<6,0,COUNTIF(B2079:$B$4018,B2079)))","v":0},4,{"$f":"IF(ISERROR(VLOOKUP(A2079,Feriados!A:A,1,FALSE)),\"n\",VLOOKUP(A2079,Feriados!A:A,1,FALSE))","v":"n"}]
[46640,1431,{"$f":"IF(E2080<>\"n\",COUNTIF(B2080:$B$4018,B2080),IF(D2080<6,0,COUNTIF(B2080:$B$4018,B2080)))","v":0},5,{"$f":"IF(ISERROR(VLOOKUP(A2080,Feriados!A:A,1,FALSE)),\"n\",VLOOKUP(A2080,Feriados!A:A,1,FALSE))","v":"n"}]
[46641,1431,{"$f":"IF(E2081<>\"n\",COUNTIF(B2081:$B$4018,B2081),IF(D2081<6,0,COUNTIF(B2081:$B$4018,B2081)))","v":2},6,{"$f":"IF(ISERROR(VLOOKUP(A2081,Feriados!A:A,1,FALSE)),\"n\",VLOOKUP(A2081,Feriados!A:A,1,FALSE))","v":"n"}]
[46642,1431,{"$f":"IF(E2082<>\"n\",COUNTIF(B2082:$B$4018,B2082),IF(D2082<6,0,COUNTIF(B2082:$B$4018,B2082)))","v":1},7,{"$f":"IF(ISERROR(VLOOKUP(A2082,Feriados!A:A,1,FALSE)),\"n\",VLOOKUP(A2082,Feriados!A:A,1,FALSE))","v":"n"}]
[46643,1432,{"$f":"IF(E2083<>\"n\",COUNTIF(B2083:$B$4018,B2083),IF(D2083<6,0,COUNTIF(B2083:$B$4018,B2083)))","v":0},1,{"$f":"IF(ISERROR(VLOOKUP(A2083,Feriados!A:A,1,FALSE)),\"n\",VLOOKUP(A2083,Feriados!A:A,1,FALSE))","v":"n"}]
[46644,1433,{"$f":"IF(E2084<>\"n\",COUNTIF(B2084:$B$4018,B2084),IF(D2084<6,0,COUNTIF(B2084:$B$4018,B2084)))","v":0},2,{"$f":"IF(ISERROR(VLOOKUP(A2084,Feriados!A:A,1,FALSE)),\"n\",VLOOKUP(A2084,Feriados!A:A,1,FALSE))","v":"n"}]
[46645,1434,{"$f":"IF(E2085<>\"n\",COUNTIF(B2085:$B$4018,B2085),IF(D2085<6,0,COUNTIF(B2085:$B$4018,B2085)))","v":0},3,{"$f":"IF(ISERROR(VLOOKUP(A2085,Feriados!A:A,1,FALSE)),\"n\",VLOOKUP(A2085,Feriados!A:A,1,FALSE))","v":"n"}]
[46646,1435,{"$f":"IF(E2086<>\"n\",COUNTIF(B2086:$B$4018,B2086),IF(D2086<6,0,COUNTIF(B2086:$B$4018,B2086)))","v":0},4,{"$f":"IF(ISERROR(VLOOKUP(A2086,Feriados!A:A,1,FALSE)),\"n\",VLOOKUP(A2086,Feriados!A:A,1,FALSE))","v":"n"}]
[46647,1436,{"$f":"IF(E2087<>\"n\",COUNTIF(B2087:$B$4018,B2087),IF(D2087<6,0,COUNTIF(B2087:$B$4018,B2087)))","v":0},5,{"$f":"IF(ISERROR(VLOOKUP(A2087,Feriados!A:A,1,FALSE)),\"n\",VLOOKUP(A2087,Feriados!A:A,1,FALSE))","v":"n"}]
[46648,1436,{"$f":"IF(E2088<>\"n\",COUNTIF(B2088:$B$4018,B2088),IF(D2088<6,0,COUNTIF(B2088:$B$4018,B2088)))","v":2},6,{"$f":"IF(ISERROR(VLOOKUP(A2088,Feriados!A:A,1,FALSE)),\"n\",VLOOKUP(A2088,Feriados!A:A,1,FALSE))","v":"n"}]
[46649,1436,{"$f":"IF(E2089<>\"n\",COUNTIF(B2089:$B$4018,B2089),IF(D2089<6,0,COUNTIF(B2089:$B$4018,B2089)))","v":1},7,{"$f":"IF(ISERROR(VLOOKUP(A2089,Feriados!A:A,1,FALSE)),\"n\",VLOOKUP(A2089,Feriados!A:A,1,FALSE))","v":"n"}]
[46650,1437,{"$f":"IF(E2090<>\"n\",COUNTIF(B2090:$B$4018,B2090),IF(D2090<6,0,COUNTIF(B2090:$B$4018,B2090)))","v":0},1,{"$f":"IF(ISERROR(VLOOKUP(A2090,Feriados!A:A,1,FALSE)),\"n\",VLOOKUP(A2090,Feriados!A:A,1,FALSE))","v":"n"}]
[46651,1438,{"$f":"IF(E2091<>\"n\",COUNTIF(B2091:$B$4018,B2091),IF(D2091<6,0,COUNTIF(B2091:$B$4018,B2091)))","v":0},2,{"$f":"IF(ISERROR(VLOOKUP(A2091,Feriados!A:A,1,FALSE)),\"n\",VLOOKUP(A2091,Feriados!A:A,1,FALSE))","v":"n"}]
[46652,1439,{"$f":"IF(E2092<>\"n\",COUNTIF(B2092:$B$4018,B2092),IF(D2092<6,0,COUNTIF(B2092:$B$4018,B2092)))","v":0},3,{"$f":"IF(ISERROR(VLOOKUP(A2092,Feriados!A:A,1,FALSE)),\"n\",VLOOKUP(A2092,Feriados!A:A,1,FALSE))","v":"n"}]
[46653,1440,{"$f":"IF(E2093<>\"n\",COUNTIF(B2093:$B$4018,B2093),IF(D2093<6,0,COUNTIF(B2093:$B$4018,B2093)))","v":0},4,{"$f":"IF(ISERROR(VLOOKUP(A2093,Feriados!A:A,1,FALSE)),\"n\",VLOOKUP(A2093,Feriados!A:A,1,FALSE))","v":"n"}]
[46654,1441,{"$f":"IF(E2094<>\"n\",COUNTIF(B2094:$B$4018,B2094),IF(D2094<6,0,COUNTIF(B2094:$B$4018,B2094)))","v":0},5,{"$f":"IF(ISERROR(VLOOKUP(A2094,Feriados!A:A,1,FALSE)),\"n\",VLOOKUP(A2094,Feriados!A:A,1,FALSE))","v":"n"}]
[46655,1441,{"$f":"IF(E2095<>\"n\",COUNTIF(B2095:$B$4018,B2095),IF(D2095<6,0,COUNTIF(B2095:$B$4018,B2095)))","v":2},6,{"$f":"IF(ISERROR(VLOOKUP(A2095,Feriados!A:A,1,FALSE)),\"n\",VLOOKUP(A2095,Feriados!A:A,1,FALSE))","v":"n"}]
[46656,1441,{"$f":"IF(E2096<>\"n\",COUNTIF(B2096:$B$4018,B2096),IF(D2096<6,0,COUNTIF(B2096:$B$4018,B2096)))","v":1},7,{"$f":"IF(ISERROR(VLOOKUP(A2096,Feriados!A:A,1,FALSE)),\"n\",VLOOKUP(A2096,Feriados!A:A,1,FALSE))","v":"n"}]
[46657,1442,{"$f":"IF(E2097<>\"n\",COUNTIF(B2097:$B$4018,B2097),IF(D2097<6,0,COUNTIF(B2097:$B$4018,B2097)))","v":0},1,{"$f":"IF(ISERROR(VLOOKUP(A2097,Feriados!A:A,1,FALSE)),\"n\",VLOOKUP(A2097,Feriados!A:A,1,FALSE))","v":"n"}]
[46658,1443,{"$f":"IF(E2098<>\"n\",COUNTIF(B2098:$B$4018,B2098),IF(D2098<6,0,COUNTIF(B2098:$B$4018,B2098)))","v":0},2,{"$f":"IF(ISERROR(VLOOKUP(A2098,Feriados!A:A,1,FALSE)),\"n\",VLOOKUP(A2098,Feriados!A:A,1,FALSE))","v":"n"}]
[46659,1444,{"$f":"IF(E2099<>\"n\",COUNTIF(B2099:$B$4018,B2099),IF(D2099<6,0,COUNTIF(B2099:$B$4018,B2099)))","v":0},3,{"$f":"IF(ISERROR(VLOOKUP(A2099,Feriados!A:A,1,FALSE)),\"n\",VLOOKUP(A2099,Feriados!A:A,1,FALSE))","v":"n"}]
[46660,1445,{"$f":"IF(E2100<>\"n\",COUNTIF(B2100:$B$4018,B2100),IF(D2100<6,0,COUNTIF(B2100:$B$4018,B2100)))","v":0},4,{"$f":"IF(ISERROR(VLOOKUP(A2100,Feriados!A:A,1,FALSE)),\"n\",VLOOKUP(A2100,Feriados!A:A,1,FALSE))","v":"n"}]
[46661,1446,{"$f":"IF(E2101<>\"n\",COUNTIF(B2101:$B$4018,B2101),IF(D2101<6,0,COUNTIF(B2101:$B$4018,B2101)))","v":0},5,{"$f":"IF(ISERROR(VLOOKUP(A2101,Feriados!A:A,1,FALSE)),\"n\",VLOOKUP(A2101,Feriados!A:A,1,FALSE))","v":"n"}]
[46662,1446,{"$f":"IF(E2102<>\"n\",COUNTIF(B2102:$B$4018,B2102),IF(D2102<6,0,COUNTIF(B2102:$B$4018,B2102)))","v":2},6,{"$f":"IF(ISERROR(VLOOKUP(A2102,Feriados!A:A,1,FALSE)),\"n\",VLOOKUP(A2102,Feriados!A:A,1,FALSE))","v":"n"}]
[46663,1446,{"$f":"IF(E2103<>\"n\",COUNTIF(B2103:$B$4018,B2103),IF(D2103<6,0,COUNTIF(B2103:$B$4018,B2103)))","v":1},7,{"$f":"IF(ISERROR(VLOOKUP(A2103,Feriados!A:A,1,FALSE)),\"n\",VLOOKUP(A2103,Feriados!A:A,1,FALSE))","v":"n"}]
[46664,1447,{"$f":"IF(E2104<>\"n\",COUNTIF(B2104:$B$4018,B2104),IF(D2104<6,0,COUNTIF(B2104:$B$4018,B2104)))","v":0},1,{"$f":"IF(ISERROR(VLOOKUP(A2104,Feriados!A:A,1,FALSE)),\"n\",VLOOKUP(A2104,Feriados!A:A,1,FALSE))","v":"n"}]
[46665,1448,{"$f":"IF(E2105<>\"n\",COUNTIF(B2105:$B$4018,B2105),IF(D2105<6,0,COUNTIF(B2105:$B$4018,B2105)))","v":0},2,{"$f":"IF(ISERROR(VLOOKUP(A2105,Feriados!A:A,1,FALSE)),\"n\",VLOOKUP(A2105,Feriados!A:A,1,FALSE))","v":"n"}]
[46666,1449,{"$f":"IF(E2106<>\"n\",COUNTIF(B2106:$B$4018,B2106),IF(D2106<6,0,COUNTIF(B2106:$B$4018,B2106)))","v":0},3,{"$f":"IF(ISERROR(VLOOKUP(A2106,Feriados!A:A,1,FALSE)),\"n\",VLOOKUP(A2106,Feriados!A:A,1,FALSE))","v":"n"}]
[46667,1450,{"$f":"IF(E2107<>\"n\",COUNTIF(B2107:$B$4018,B2107),IF(D2107<6,0,COUNTIF(B2107:$B$4018,B2107)))","v":0},4,{"$f":"IF(ISERROR(VLOOKUP(A2107,Feriados!A:A,1,FALSE)),\"n\",VLOOKUP(A2107,Feriados!A:A,1,FALSE))","v":"n"}]
[46668,1451,{"$f":"IF(E2108<>\"n\",COUNTIF(B2108:$B$4018,B2108),IF(D2108<6,0,COUNTIF(B2108:$B$4018,B2108)))","v":0},5,{"$f":"IF(ISERROR(VLOOKUP(A2108,Feriados!A:A,1,FALSE)),\"n\",VLOOKUP(A2108,Feriados!A:A,1,FALSE))","v":"n"}]
[46669,1451,{"$f":"IF(E2109<>\"n\",COUNTIF(B2109:$B$4018,B2109),IF(D2109<6,0,COUNTIF(B2109:$B$4018,B2109)))","v":2},6,{"$f":"IF(ISERROR(VLOOKUP(A2109,Feriados!A:A,1,FALSE)),\"n\",VLOOKUP(A2109,Feriados!A:A,1,FALSE))","v":"n"}]
[46670,1451,{"$f":"IF(E2110<>\"n\",COUNTIF(B2110:$B$4018,B2110),IF(D2110<6,0,COUNTIF(B2110:$B$4018,B2110)))","v":1},7,{"$f":"IF(ISERROR(VLOOKUP(A2110,Feriados!A:A,1,FALSE)),\"n\",VLOOKUP(A2110,Feriados!A:A,1,FALSE))","v":"n"}]
[46671,1452,{"$f":"IF(E2111<>\"n\",COUNTIF(B2111:$B$4018,B2111),IF(D2111<6,0,COUNTIF(B2111:$B$4018,B2111)))","v":0},1,{"$f":"IF(ISERROR(VLOOKUP(A2111,Feriados!A:A,1,FALSE)),\"n\",VLOOKUP(A2111,Feriados!A:A,1,FALSE))","v":"n"}]
[46672,1452,{"$f":"IF(E2112<>\"n\",COUNTIF(B2112:$B$4018,B2112),IF(D2112<6,0,COUNTIF(B2112:$B$4018,B2112)))","v":1},2,{"$f":"IF(ISERROR(VLOOKUP(A2112,Feriados!A:A,1,FALSE)),\"n\",VLOOKUP(A2112,Feriados!A:A,1,FALSE))","v":"2027-10-12"}]
[46673,1453,{"$f":"IF(E2113<>\"n\",COUNTIF(B2113:$B$4018,B2113),IF(D2113<6,0,COUNTIF(B2113:$B$4018,B2113)))","v":0},3,{"$f":"IF(ISERROR(VLOOKUP(A2113,Feriados!A:A,1,FALSE)),\"n\",VLOOKUP(A2113,Feriados!A:A,1,FALSE))","v":"n"}]
[46674,1454,{"$f":"IF(E2114<>\"n\",COUNTIF(B2114:$B$4018,B2114),IF(D2114<6,0,COUNTIF(B2114:$B$4018,B2114)))","v":0},4,{"$f":"IF(ISERROR(VLOOKUP(A2114,Feriados!A:A,1,FALSE)),\"n\",VLOOKUP(A2114,Feriados!A:A,1,FALSE))","v":"n"}]
[46675,1455,{"$f":"IF(E2115<>\"n\",COUNTIF(B2115:$B$4018,B2115),IF(D2115<6,0,COUNTIF(B2115:$B$4018,B2115)))","v":0},5,{"$f":"IF(ISERROR(VLOOKUP(A2115,Feriados!A:A,1,FALSE)),\"n\",VLOOKUP(A2115,Feriados!A:A,1,FALSE))","v":"n"}]
[{"$f":"A2115+1","v":46676},1455,{"$f":"IF(E2116<>\"n\",COUNTIF(B2116:$B$4018,B2116),IF(D2116<6,0,COUNTIF(B2116:$B$4018,B2116)))","v":2},6,{"$f":"IF(ISERROR(VLOOKUP(A2116,Feriados!A:A,1,FALSE)),\"n\",VLOOKUP(A2116,Feriados!A:A,1,FALSE))","v":"n"}]
[46677,1455,{"$f":"IF(E2117<>\"n\",COUNTIF(B2117:$B$4018,B2117),IF(D2117<6,0,COUNTIF(B2117:$B$4018,B2117)))","v":1},7,{"$f":"IF(ISERROR(VLOOKUP(A2117,Feriados!A:A,1,FALSE)),\"n\",VLOOKUP(A2117,Feriados!A:A,1,FALSE))","v":"n"}]
[46678,1456,{"$f":"IF(E2118<>\"n\",COUNTIF(B2118:$B$4018,B2118),IF(D2118<6,0,COUNTIF(B2118:$B$4018,B2118)))","v":0},1,{"$f":"IF(ISERROR(VLOOKUP(A2118,Feriados!A:A,1,FALSE)),\"n\",VLOOKUP(A2118,Feriados!A:A,1,FALSE))","v":"n"}]
[46679,1457,{"$f":"IF(E2119<>\"n\",COUNTIF(B2119:$B$4018,B2119),IF(D2119<6,0,COUNTIF(B2119:$B$4018,B2119)))","v":0},2,{"$f":"IF(ISERROR(VLOOKUP(A2119,Feriados!A:A,1,FALSE)),\"n\",VLOOKUP(A2119,Feriados!A:A,1,FALSE))","v":"n"}]
[46680,1458,{"$f":"IF(E2120<>\"n\",COUNTIF(B2120:$B$4018,B2120),IF(D2120<6,0,COUNTIF(B2120:$B$4018,B2120)))","v":0},3,{"$f":"IF(ISERROR(VLOOKUP(A2120,Feriados!A:A,1,FALSE)),\"n\",VLOOKUP(A2120,Feriados!A:A,1,FALSE))","v":"n"}]
[46681,1459,{"$f":"IF(E2121<>\"n\",COUNTIF(B2121:$B$4018,B2121),IF(D2121<6,0,COUNTIF(B2121:$B$4018,B2121)))","v":0},4,{"$f":"IF(ISERROR(VLOOKUP(A2121,Feriados!A:A,1,FALSE)),\"n\",VLOOKUP(A2121,Feriados!A:A,1,FALSE))","v":"n"}]
[46682,1460,{"$f":"IF(E2122<>\"n\",COUNTIF(B2122:$B$4018,B2122),IF(D2122<6,0,COUNTIF(B2122:$B$4018,B2122)))","v":0},5,{"$f":"IF(ISERROR(VLOOKUP(A2122,Feriados!A:A,1,FALSE)),\"n\",VLOOKUP(A2122,Feriados!A:A,1,FALSE))","v":"n"}]
[46683,1460,{"$f":"IF(E2123<>\"n\",COUNTIF(B2123:$B$4018,B2123),IF(D2123<6,0,COUNTIF(B2123:$B$4018,B2123)))","v":2},6,{"$f":"IF(ISERROR(VLOOKUP(A2123,Feriados!A:A,1,FALSE)),\"n\",VLOOKUP(A2123,Feriados!A:A,1,FALSE))","v":"n"}]
[46684,1460,{"$f":"IF(E2124<>\"n\",COUNTIF(B2124:$B$4018,B2124),IF(D2124<6,0,COUNTIF(B2124:$B$4018,B2124)))","v":1},7,{"$f":"IF(ISERROR(VLOOKUP(A2124,Feriados!A:A,1,FALSE)),\"n\",VLOOKUP(A2124,Feriados!A:A,1,FALSE))","v":"n"}]
[46685,1461,{"$f":"IF(E2125<>\"n\",COUNTIF(B2125:$B$4018,B2125),IF(D2125<6,0,COUNTIF(B2125:$B$4018,B2125)))","v":0},1,{"$f":"IF(ISERROR(VLOOKUP(A2125,Feriados!A:A,1,FALSE)),\"n\",VLOOKUP(A2125,Feriados!A:A,1,FALSE))","v":"n"}]
[46686,1462,{"$f":"IF(E2126<>\"n\",COUNTIF(B2126:$B$4018,B2126),IF(D2126<6,0,COUNTIF(B2126:$B$4018,B2126)))","v":0},2,{"$f":"IF(ISERROR(VLOOKUP(A2126,Feriados!A:A,1,FALSE)),\"n\",VLOOKUP(A2126,Feriados!A:A,1,FALSE))","v":"n"}]
[46687,1463,{"$f":"IF(E2127<>\"n\",COUNTIF(B2127:$B$4018,B2127),IF(D2127<6,0,COUNTIF(B2127:$B$4018,B2127)))","v":0},3,{"$f":"IF(ISERROR(VLOOKUP(A2127,Feriados!A:A,1,FALSE)),\"n\",VLOOKUP(A2127,Feriados!A:A,1,FALSE))","v":"n"}]
[46688,1464,{"$f":"IF(E2128<>\"n\",COUNTIF(B2128:$B$4018,B2128),IF(D2128<6,0,COUNTIF(B2128:$B$4018,B2128)))","v":0},4,{"$f":"IF(ISERROR(VLOOKUP(A2128,Feriados!A:A,1,FALSE)),\"n\",VLOOKUP(A2128,Feriados!A:A,1,FALSE))","v":"n"}]
[46689,1465,{"$f":"IF(E2129<>\"n\",COUNTIF(B2129:$B$4018,B2129),IF(D2129<6,0,COUNTIF(B2129:$B$4018,B2129)))","v":0},5,{"$f":"IF(ISERROR(VLOOKUP(A2129,Feriados!A:A,1,FALSE)),\"n\",VLOOKUP(A2129,Feriados!A:A,1,FALSE))","v":"n"}]
[46690,1465,{"$f":"IF(E2130<>\"n\",COUNTIF(B2130:$B$4018,B2130),IF(D2130<6,0,COUNTIF(B2130:$B$4018,B2130)))","v":2},6,{"$f":"IF(ISERROR(VLOOKUP(A2130,Feriados!A:A,1,FALSE)),\"n\",VLOOKUP(A2130,Feriados!A:A,1,FALSE))","v":"n"}]
[46691,1465,{"$f":"IF(E2131<>\"n\",COUNTIF(B2131:$B$4018,B2131),IF(D2131<6,0,COUNTIF(B2131:$B$4018,B2131)))","v":1},7,{"$f":"IF(ISERROR(VLOOKUP(A2131,Feriados!A:A,1,FALSE)),\"n\",VLOOKUP(A2131,Feriados!A:A,1,FALSE))","v":"n"}]
[46692,1466,{"$f":"IF(E2132<>\"n\",COUNTIF(B2132:$B$4018,B2132),IF(D2132<6,0,COUNTIF(B2132:$B$4018,B2132)))","v":0},1,{"$f":"IF(ISERROR(VLOOKUP(A2132,Feriados!A:A,1,FALSE)),\"n\",VLOOKUP(A2132,Feriados!A:A,1,FALSE))","v":"n"}]
[46693,1466,{"$f":"IF(E2133<>\"n\",COUNTIF(B2133:$B$4018,B2133),IF(D2133<6,0,COUNTIF(B2133:$B$4018,B2133)))","v":1},2,{"$f":"IF(ISERROR(VLOOKUP(A2133,Feriados!A:A,1,FALSE)),\"n\",VLOOKUP(A2133,Feriados!A:A,1,FALSE))","v":"2027-11-02"}]
[46694,1467,{"$f":"IF(E2134<>\"n\",COUNTIF(B2134:$B$4018,B2134),IF(D2134<6,0,COUNTIF(B2134:$B$4018,B2134)))","v":0},3,{"$f":"IF(ISERROR(VLOOKUP(A2134,Feriados!A:A,1,FALSE)),\"n\",VLOOKUP(A2134,Feriados!A:A,1,FALSE))","v":"n"}]
[46695,1468,{"$f":"IF(E2135<>\"n\",COUNTIF(B2135:$B$4018,B2135),IF(D2135<6,0,COUNTIF(B2135:$B$4018,B2135)))","v":0},4,{"$f":"IF(ISERROR(VLOOKUP(A2135,Feriados!A:A,1,FALSE)),\"n\",VLOOKUP(A2135,Feriados!A:A,1,FALSE))","v":"n"}]
[46696,1469,{"$f":"IF(E2136<>\"n\",COUNTIF(B2136:$B$4018,B2136),IF(D2136<6,0,COUNTIF(B2136:$B$4018,B2136)))","v":0},5,{"$f":"IF(ISERROR(VLOOKUP(A2136,Feriados!A:A,1,FALSE)),\"n\",VLOOKUP(A2136,Feriados!A:A,1,FALSE))","v":"n"}]
[46697,1469,{"$f":"IF(E2137<>\"n\",COUNTIF(B2137:$B$4018,B2137),IF(D2137<6,0,COUNTIF(B2137:$B$4018,B2137)))","v":2},6,{"$f":"IF(ISERROR(VLOOKUP(A2137,Feriados!A:A,1,FALSE)),\"n\",VLOOKUP(A2137,Feriados!A:A,1,FALSE))","v":"n"}]
[46698,1469,{"$f":"IF(E2138<>\"n\",COUNTIF(B2138:$B$4018,B2138),IF(D2138<6,0,COUNTIF(B2138:$B$4018,B2138)))","v":1},7,{"$f":"IF(ISERROR(VLOOKUP(A2138,Feriados!A:A,1,FALSE)),\"n\",VLOOKUP(A2138,Feriados!A:A,1,FALSE))","v":"n"}]
[46699,1470,{"$f":"IF(E2139<>\"n\",COUNTIF(B2139:$B$4018,B2139),IF(D2139<6,0,COUNTIF(B2139:$B$4018,B2139)))","v":0},1,{"$f":"IF(ISERROR(VLOOKUP(A2139,Feriados!A:A,1,FALSE)),\"n\",VLOOKUP(A2139,Feriados!A:A,1,FALSE))","v":"n"}]
[46700,1471,{"$f":"IF(E2140<>\"n\",COUNTIF(B2140:$B$4018,B2140),IF(D2140<6,0,COUNTIF(B2140:$B$4018,B2140)))","v":0},2,{"$f":"IF(ISERROR(VLOOKUP(A2140,Feriados!A:A,1,FALSE)),\"n\",VLOOKUP(A2140,Feriados!A:A,1,FALSE))","v":"n"}]
[46701,1472,{"$f":"IF(E2141<>\"n\",COUNTIF(B2141:$B$4018,B2141),IF(D2141<6,0,COUNTIF(B2141:$B$4018,B2141)))","v":0},3,{"$f":"IF(ISERROR(VLOOKUP(A2141,Feriados!A:A,1,FALSE)),\"n\",VLOOKUP(A2141,Feriados!A:A,1,FALSE))","v":"n"}]
[46702,{"$f":"NETWORKDAYS($A$2,A2142,feriados)","v":1473},{"$f":"IF(E2142<>\"n\",COUNTIF(B2142:$B$4018,B2142),IF(D2142<6,0,COUNTIF(B2142:$B$4018,B2142)))","v":0},{"$f":"WEEKDAY(A2142,2)","v":4},{"$f":"IF(ISERROR(VLOOKUP(A2142,Feriados!A:A,1,FALSE)),\"n\",VLOOKUP(A2142,Feriados!A:A,1,FALSE))","v":"n"}]
[46703,1474,{"$f":"IF(E2143<>\"n\",COUNTIF(B2143:$B$4018,B2143),IF(D2143<6,0,COUNTIF(B2143:$B$4018,B2143)))","v":0},5,{"$f":"IF(ISERROR(VLOOKUP(A2143,Feriados!A:A,1,FALSE)),\"n\",VLOOKUP(A2143,Feriados!A:A,1,FALSE))","v":"n"}]
[46704,1474,{"$f":"IF(E2144<>\"n\",COUNTIF(B2144:$B$4018,B2144),IF(D2144<6,0,COUNTIF(B2144:$B$4018,B2144)))","v":3},6,{"$f":"IF(ISERROR(VLOOKUP(A2144,Feriados!A:A,1,FALSE)),\"n\",VLOOKUP(A2144,Feriados!A:A,1,FALSE))","v":"n"}]
[46705,1474,{"$f":"IF(E2145<>\"n\",COUNTIF(B2145:$B$4018,B2145),IF(D2145<6,0,COUNTIF(B2145:$B$4018,B2145)))","v":2},7,{"$f":"IF(ISERROR(VLOOKUP(A2145,Feriados!A:A,1,FALSE)),\"n\",VLOOKUP(A2145,Feriados!A:A,1,FALSE))","v":"n"}]
[46706,1474,{"$f":"IF(E2146<>\"n\",COUNTIF(B2146:$B$4018,B2146),IF(D2146<6,0,COUNTIF(B2146:$B$4018,B2146)))","v":1},1,{"$f":"IF(ISERROR(VLOOKUP(A2146,Feriados!A:A,1,FALSE)),\"n\",VLOOKUP(A2146,Feriados!A:A,1,FALSE))","v":"2027-11-15"}]
[46707,1475,{"$f":"IF(E2147<>\"n\",COUNTIF(B2147:$B$4018,B2147),IF(D2147<6,0,COUNTIF(B2147:$B$4018,B2147)))","v":0},2,{"$f":"IF(ISERROR(VLOOKUP(A2147,Feriados!A:A,1,FALSE)),\"n\",VLOOKUP(A2147,Feriados!A:A,1,FALSE))","v":"n"}]
[46708,1476,{"$f":"IF(E2148<>\"n\",COUNTIF(B2148:$B$4018,B2148),IF(D2148<6,0,COUNTIF(B2148:$B$4018,B2148)))","v":0},3,{"$f":"IF(ISERROR(VLOOKUP(A2148,Feriados!A:A,1,FALSE)),\"n\",VLOOKUP(A2148,Feriados!A:A,1,FALSE))","v":"n"}]
[46709,1477,{"$f":"IF(E2149<>\"n\",COUNTIF(B2149:$B$4018,B2149),IF(D2149<6,0,COUNTIF(B2149:$B$4018,B2149)))","v":0},4,{"$f":"IF(ISERROR(VLOOKUP(A2149,Feriados!A:A,1,FALSE)),\"n\",VLOOKUP(A2149,Feriados!A:A,1,FALSE))","v":"n"}]
[46710,1478,{"$f":"IF(E2150<>\"n\",COUNTIF(B2150:$B$4018,B2150),IF(D2150<6,0,COUNTIF(B2150:$B$4018,B2150)))","v":0},5,{"$f":"IF(ISERROR(VLOOKUP(A2150,Feriados!A:A,1,FALSE)),\"n\",VLOOKUP(A2150,Feriados!A:A,1,FALSE))","v":"n"}]
[46711,1478,{"$f":"IF(E2151<>\"n\",COUNTIF(B2151:$B$4018,B2151),IF(D2151<6,0,COUNTIF(B2151:$B$4018,B2151)))","v":2},6,{"$f":"IF(ISERROR(VLOOKUP(A2151,Feriados!A:A,1,FALSE)),\"n\",VLOOKUP(A2151,Feriados!A:A,1,FALSE))","v":"n"}]
[46712,1478,{"$f":"IF(E2152<>\"n\",COUNTIF(B2152:$B$4018,B2152),IF(D2152<6,0,COUNTIF(B2152:$B$4018,B2152)))","v":1},7,{"$f":"IF(ISERROR(VLOOKUP(A2152,Feriados!A:A,1,FALSE)),\"n\",VLOOKUP(A2152,Feriados!A:A,1,FALSE))","v":"n"}]
[46713,1479,{"$f":"IF(E2153<>\"n\",COUNTIF(B2153:$B$4018,B2153),IF(D2153<6,0,COUNTIF(B2153:$B$4018,B2153)))","v":0},1,{"$f":"IF(ISERROR(VLOOKUP(A2153,Feriados!A:A,1,FALSE)),\"n\",VLOOKUP(A2153,Feriados!A:A,1,FALSE))","v":"n"}]
[46714,1480,{"$f":"IF(E2154<>\"n\",COUNTIF(B2154:$B$4018,B2154),IF(D2154<6,0,COUNTIF(B2154:$B$4018,B2154)))","v":0},2,{"$f":"IF(ISERROR(VLOOKUP(A2154,Feriados!A:A,1,FALSE)),\"n\",VLOOKUP(A2154,Feriados!A:A,1,FALSE))","v":"n"}]
[46715,1481,{"$f":"IF(E2155<>\"n\",COUNTIF(B2155:$B$4018,B2155),IF(D2155<6,0,COUNTIF(B2155:$B$4018,B2155)))","v":0},3,{"$f":"IF(ISERROR(VLOOKUP(A2155,Feriados!A:A,1,FALSE)),\"n\",VLOOKUP(A2155,Feriados!A:A,1,FALSE))","v":"n"}]
[46716,1482,{"$f":"IF(E2156<>\"n\",COUNTIF(B2156:$B$4018,B2156),IF(D2156<6,0,COUNTIF(B2156:$B$4018,B2156)))","v":0},4,{"$f":"IF(ISERROR(VLOOKUP(A2156,Feriados!A:A,1,FALSE)),\"n\",VLOOKUP(A2156,Feriados!A:A,1,FALSE))","v":"n"}]
[46717,1483,{"$f":"IF(E2157<>\"n\",COUNTIF(B2157:$B$4018,B2157),IF(D2157<6,0,COUNTIF(B2157:$B$4018,B2157)))","v":0},5,{"$f":"IF(ISERROR(VLOOKUP(A2157,Feriados!A:A,1,FALSE)),\"n\",VLOOKUP(A2157,Feriados!A:A,1,FALSE))","v":"n"}]
[46718,1483,{"$f":"IF(E2158<>\"n\",COUNTIF(B2158:$B$4018,B2158),IF(D2158<6,0,COUNTIF(B2158:$B$4018,B2158)))","v":2},6,{"$f":"IF(ISERROR(VLOOKUP(A2158,Feriados!A:A,1,FALSE)),\"n\",VLOOKUP(A2158,Feriados!A:A,1,FALSE))","v":"n"}]
[46719,1483,{"$f":"IF(E2159<>\"n\",COUNTIF(B2159:$B$4018,B2159),IF(D2159<6,0,COUNTIF(B2159:$B$4018,B2159)))","v":1},7,{"$f":"IF(ISERROR(VLOOKUP(A2159,Feriados!A:A,1,FALSE)),\"n\",VLOOKUP(A2159,Feriados!A:A,1,FALSE))","v":"n"}]
[46720,1484,{"$f":"IF(E2160<>\"n\",COUNTIF(B2160:$B$4018,B2160),IF(D2160<6,0,COUNTIF(B2160:$B$4018,B2160)))","v":0},1,{"$f":"IF(ISERROR(VLOOKUP(A2160,Feriados!A:A,1,FALSE)),\"n\",VLOOKUP(A2160,Feriados!A:A,1,FALSE))","v":"n"}]
[46721,1485,{"$f":"IF(E2161<>\"n\",COUNTIF(B2161:$B$4018,B2161),IF(D2161<6,0,COUNTIF(B2161:$B$4018,B2161)))","v":0},2,{"$f":"IF(ISERROR(VLOOKUP(A2161,Feriados!A:A,1,FALSE)),\"n\",VLOOKUP(A2161,Feriados!A:A,1,FALSE))","v":"n"}]
[46722,1486,{"$f":"IF(E2162<>\"n\",COUNTIF(B2162:$B$4018,B2162),IF(D2162<6,0,COUNTIF(B2162:$B$4018,B2162)))","v":0},3,{"$f":"IF(ISERROR(VLOOKUP(A2162,Feriados!A:A,1,FALSE)),\"n\",VLOOKUP(A2162,Feriados!A:A,1,FALSE))","v":"n"}]
[46723,1487,{"$f":"IF(E2163<>\"n\",COUNTIF(B2163:$B$4018,B2163),IF(D2163<6,0,COUNTIF(B2163:$B$4018,B2163)))","v":0},4,{"$f":"IF(ISERROR(VLOOKUP(A2163,Feriados!A:A,1,FALSE)),\"n\",VLOOKUP(A2163,Feriados!A:A,1,FALSE))","v":"n"}]
[46724,1488,{"$f":"IF(E2164<>\"n\",COUNTIF(B2164:$B$4018,B2164),IF(D2164<6,0,COUNTIF(B2164:$B$4018,B2164)))","v":0},5,{"$f":"IF(ISERROR(VLOOKUP(A2164,Feriados!A:A,1,FALSE)),\"n\",VLOOKUP(A2164,Feriados!A:A,1,FALSE))","v":"n"}]
[46725,1488,{"$f":"IF(E2165<>\"n\",COUNTIF(B2165:$B$4018,B2165),IF(D2165<6,0,COUNTIF(B2165:$B$4018,B2165)))","v":2},6,{"$f":"IF(ISERROR(VLOOKUP(A2165,Feriados!A:A,1,FALSE)),\"n\",VLOOKUP(A2165,Feriados!A:A,1,FALSE))","v":"n"}]
[46726,1488,{"$f":"IF(E2166<>\"n\",COUNTIF(B2166:$B$4018,B2166),IF(D2166<6,0,COUNTIF(B2166:$B$4018,B2166)))","v":1},7,{"$f":"IF(ISERROR(VLOOKUP(A2166,Feriados!A:A,1,FALSE)),\"n\",VLOOKUP(A2166,Feriados!A:A,1,FALSE))","v":"n"}]
[46727,1489,{"$f":"IF(E2167<>\"n\",COUNTIF(B2167:$B$4018,B2167),IF(D2167<6,0,COUNTIF(B2167:$B$4018,B2167)))","v":0},1,{"$f":"IF(ISERROR(VLOOKUP(A2167,Feriados!A:A,1,FALSE)),\"n\",VLOOKUP(A2167,Feriados!A:A,1,FALSE))","v":"n"}]
[46728,1490,{"$f":"IF(E2168<>\"n\",COUNTIF(B2168:$B$4018,B2168),IF(D2168<6,0,COUNTIF(B2168:$B$4018,B2168)))","v":0},2,{"$f":"IF(ISERROR(VLOOKUP(A2168,Feriados!A:A,1,FALSE)),\"n\",VLOOKUP(A2168,Feriados!A:A,1,FALSE))","v":"n"}]
[46729,1491,{"$f":"IF(E2169<>\"n\",COUNTIF(B2169:$B$4018,B2169),IF(D2169<6,0,COUNTIF(B2169:$B$4018,B2169)))","v":0},3,{"$f":"IF(ISERROR(VLOOKUP(A2169,Feriados!A:A,1,FALSE)),\"n\",VLOOKUP(A2169,Feriados!A:A,1,FALSE))","v":"n"}]
[46730,1492,{"$f":"IF(E2170<>\"n\",COUNTIF(B2170:$B$4018,B2170),IF(D2170<6,0,COUNTIF(B2170:$B$4018,B2170)))","v":0},4,{"$f":"IF(ISERROR(VLOOKUP(A2170,Feriados!A:A,1,FALSE)),\"n\",VLOOKUP(A2170,Feriados!A:A,1,FALSE))","v":"n"}]
[46731,1493,{"$f":"IF(E2171<>\"n\",COUNTIF(B2171:$B$4018,B2171),IF(D2171<6,0,COUNTIF(B2171:$B$4018,B2171)))","v":0},5,{"$f":"IF(ISERROR(VLOOKUP(A2171,Feriados!A:A,1,FALSE)),\"n\",VLOOKUP(A2171,Feriados!A:A,1,FALSE))","v":"n"}]
[46732,1493,{"$f":"IF(E2172<>\"n\",COUNTIF(B2172:$B$4018,B2172),IF(D2172<6,0,COUNTIF(B2172:$B$4018,B2172)))","v":2},6,{"$f":"IF(ISERROR(VLOOKUP(A2172,Feriados!A:A,1,FALSE)),\"n\",VLOOKUP(A2172,Feriados!A:A,1,FALSE))","v":"n"}]
[46733,1493,{"$f":"IF(E2173<>\"n\",COUNTIF(B2173:$B$4018,B2173),IF(D2173<6,0,COUNTIF(B2173:$B$4018,B2173)))","v":1},7,{"$f":"IF(ISERROR(VLOOKUP(A2173,Feriados!A:A,1,FALSE)),\"n\",VLOOKUP(A2173,Feriados!A:A,1,FALSE))","v":"n"}]
[46734,1494,{"$f":"IF(E2174<>\"n\",COUNTIF(B2174:$B$4018,B2174),IF(D2174<6,0,COUNTIF(B2174:$B$4018,B2174)))","v":0},1,{"$f":"IF(ISERROR(VLOOKUP(A2174,Feriados!A:A,1,FALSE)),\"n\",VLOOKUP(A2174,Feriados!A:A,1,FALSE))","v":"n"}]
[46735,1495,{"$f":"IF(E2175<>\"n\",COUNTIF(B2175:$B$4018,B2175),IF(D2175<6,0,COUNTIF(B2175:$B$4018,B2175)))","v":0},2,{"$f":"IF(ISERROR(VLOOKUP(A2175,Feriados!A:A,1,FALSE)),\"n\",VLOOKUP(A2175,Feriados!A:A,1,FALSE))","v":"n"}]
[46736,1496,{"$f":"IF(E2176<>\"n\",COUNTIF(B2176:$B$4018,B2176),IF(D2176<6,0,COUNTIF(B2176:$B$4018,B2176)))","v":0},3,{"$f":"IF(ISERROR(VLOOKUP(A2176,Feriados!A:A,1,FALSE)),\"n\",VLOOKUP(A2176,Feriados!A:A,1,FALSE))","v":"n"}]
[46737,1497,{"$f":"IF(E2177<>\"n\",COUNTIF(B2177:$B$4018,B2177),IF(D2177<6,0,COUNTIF(B2177:$B$4018,B2177)))","v":0},4,{"$f":"IF(ISERROR(VLOOKUP(A2177,Feriados!A:A,1,FALSE)),\"n\",VLOOKUP(A2177,Feriados!A:A,1,FALSE))","v":"n"}]
[46738,1498,{"$f":"IF(E2178<>\"n\",COUNTIF(B2178:$B$4018,B2178),IF(D2178<6,0,COUNTIF(B2178:$B$4018,B2178)))","v":0},5,{"$f":"IF(ISERROR(VLOOKUP(A2178,Feriados!A:A,1,FALSE)),\"n\",VLOOKUP(A2178,Feriados!A:A,1,FALSE))","v":"n"}]
[46739,1498,{"$f":"IF(E2179<>\"n\",COUNTIF(B2179:$B$4018,B2179),IF(D2179<6,0,COUNTIF(B2179:$B$4018,B2179)))","v":2},6,{"$f":"IF(ISERROR(VLOOKUP(A2179,Feriados!A:A,1,FALSE)),\"n\",VLOOKUP(A2179,Feriados!A:A,1,FALSE))","v":"n"}]
[{"$f":"A2179+1","v":46740},1498,{"$f":"IF(E2180<>\"n\",COUNTIF(B2180:$B$4018,B2180),IF(D2180<6,0,COUNTIF(B2180:$B$4018,B2180)))","v":1},7,{"$f":"IF(ISERROR(VLOOKUP(A2180,Feriados!A:A,1,FALSE)),\"n\",VLOOKUP(A2180,Feriados!A:A,1,FALSE))","v":"n"}]
[46741,1499,{"$f":"IF(E2181<>\"n\",COUNTIF(B2181:$B$4018,B2181),IF(D2181<6,0,COUNTIF(B2181:$B$4018,B2181)))","v":0},1,{"$f":"IF(ISERROR(VLOOKUP(A2181,Feriados!A:A,1,FALSE)),\"n\",VLOOKUP(A2181,Feriados!A:A,1,FALSE))","v":"n"}]
[46742,1500,{"$f":"IF(E2182<>\"n\",COUNTIF(B2182:$B$4018,B2182),IF(D2182<6,0,COUNTIF(B2182:$B$4018,B2182)))","v":0},2,{"$f":"IF(ISERROR(VLOOKUP(A2182,Feriados!A:A,1,FALSE)),\"n\",VLOOKUP(A2182,Feriados!A:A,1,FALSE))","v":"n"}]
[46743,1501,{"$f":"IF(E2183<>\"n\",COUNTIF(B2183:$B$4018,B2183),IF(D2183<6,0,COUNTIF(B2183:$B$4018,B2183)))","v":0},3,{"$f":"IF(ISERROR(VLOOKUP(A2183,Feriados!A:A,1,FALSE)),\"n\",VLOOKUP(A2183,Feriados!A:A,1,FALSE))","v":"n"}]
[46744,1502,{"$f":"IF(E2184<>\"n\",COUNTIF(B2184:$B$4018,B2184),IF(D2184<6,0,COUNTIF(B2184:$B$4018,B2184)))","v":0},4,{"$f":"IF(ISERROR(VLOOKUP(A2184,Feriados!A:A,1,FALSE)),\"n\",VLOOKUP(A2184,Feriados!A:A,1,FALSE))","v":"n"}]
[46745,1503,{"$f":"IF(E2185<>\"n\",COUNTIF(B2185:$B$4018,B2185),IF(D2185<6,0,COUNTIF(B2185:$B$4018,B2185)))","v":0},5,{"$f":"IF(ISERROR(VLOOKUP(A2185,Feriados!A:A,1,FALSE)),\"n\",VLOOKUP(A2185,Feriados!A:A,1,FALSE))","v":"n"}]
[46746,1503,{"$f":"IF(E2186<>\"n\",COUNTIF(B2186:$B$4018,B2186),IF(D2186<6,0,COUNTIF(B2186:$B$4018,B2186)))","v":2},6,{"$f":"IF(ISERROR(VLOOKUP(A2186,Feriados!A:A,1,FALSE)),\"n\",VLOOKUP(A2186,Feriados!A:A,1,FALSE))","v":"2027-12-25"}]
[46747,1503,{"$f":"IF(E2187<>\"n\",COUNTIF(B2187:$B$4018,B2187),IF(D2187<6,0,COUNTIF(B2187:$B$4018,B2187)))","v":1},7,{"$f":"IF(ISERROR(VLOOKUP(A2187,Feriados!A:A,1,FALSE)),\"n\",VLOOKUP(A2187,Feriados!A:A,1,FALSE))","v":"n"}]
[46748,1504,{"$f":"IF(E2188<>\"n\",COUNTIF(B2188:$B$4018,B2188),IF(D2188<6,0,COUNTIF(B2188:$B$4018,B2188)))","v":0},1,{"$f":"IF(ISERROR(VLOOKUP(A2188,Feriados!A:A,1,FALSE)),\"n\",VLOOKUP(A2188,Feriados!A:A,1,FALSE))","v":"n"}]
[46749,1505,{"$f":"IF(E2189<>\"n\",COUNTIF(B2189:$B$4018,B2189),IF(D2189<6,0,COUNTIF(B2189:$B$4018,B2189)))","v":0},2,{"$f":"IF(ISERROR(VLOOKUP(A2189,Feriados!A:A,1,FALSE)),\"n\",VLOOKUP(A2189,Feriados!A:A,1,FALSE))","v":"n"}]
[46750,1506,{"$f":"IF(E2190<>\"n\",COUNTIF(B2190:$B$4018,B2190),IF(D2190<6,0,COUNTIF(B2190:$B$4018,B2190)))","v":0},3,{"$f":"IF(ISERROR(VLOOKUP(A2190,Feriados!A:A,1,FALSE)),\"n\",VLOOKUP(A2190,Feriados!A:A,1,FALSE))","v":"n"}]
[46751,1507,{"$f":"IF(E2191<>\"n\",COUNTIF(B2191:$B$4018,B2191),IF(D2191<6,0,COUNTIF(B2191:$B$4018,B2191)))","v":0},4,{"$f":"IF(ISERROR(VLOOKUP(A2191,Feriados!A:A,1,FALSE)),\"n\",VLOOKUP(A2191,Feriados!A:A,1,FALSE))","v":"n"}]
[46752,1508,{"$f":"IF(E2192<>\"n\",COUNTIF(B2192:$B$4018,B2192),IF(D2192<6,0,COUNTIF(B2192:$B$4018,B2192)))","v":0},5,{"$f":"IF(ISERROR(VLOOKUP(A2192,Feriados!A:A,1,FALSE)),\"n\",VLOOKUP(A2192,Feriados!A:A,1,FALSE))","v":"n"}]
[46753,1508,{"$f":"IF(E2193<>\"n\",COUNTIF(B2193:$B$4018,B2193),IF(D2193<6,0,COUNTIF(B2193:$B$4018,B2193)))","v":2},6,{"$f":"IF(ISERROR(VLOOKUP(A2193,Feriados!A:A,1,FALSE)),\"n\",VLOOKUP(A2193,Feriados!A:A,1,FALSE))","v":"2028-01-01"}]
[46754,1508,{"$f":"IF(E2194<>\"n\",COUNTIF(B2194:$B$4018,B2194),IF(D2194<6,0,COUNTIF(B2194:$B$4018,B2194)))","v":1},7,{"$f":"IF(ISERROR(VLOOKUP(A2194,Feriados!A:A,1,FALSE)),\"n\",VLOOKUP(A2194,Feriados!A:A,1,FALSE))","v":"n"}]
[46755,1509,{"$f":"IF(E2195<>\"n\",COUNTIF(B2195:$B$4018,B2195),IF(D2195<6,0,COUNTIF(B2195:$B$4018,B2195)))","v":0},1,{"$f":"IF(ISERROR(VLOOKUP(A2195,Feriados!A:A,1,FALSE)),\"n\",VLOOKUP(A2195,Feriados!A:A,1,FALSE))","v":"n"}]
[46756,1510,{"$f":"IF(E2196<>\"n\",COUNTIF(B2196:$B$4018,B2196),IF(D2196<6,0,COUNTIF(B2196:$B$4018,B2196)))","v":0},2,{"$f":"IF(ISERROR(VLOOKUP(A2196,Feriados!A:A,1,FALSE)),\"n\",VLOOKUP(A2196,Feriados!A:A,1,FALSE))","v":"n"}]
[46757,1511,{"$f":"IF(E2197<>\"n\",COUNTIF(B2197:$B$4018,B2197),IF(D2197<6,0,COUNTIF(B2197:$B$4018,B2197)))","v":0},3,{"$f":"IF(ISERROR(VLOOKUP(A2197,Feriados!A:A,1,FALSE)),\"n\",VLOOKUP(A2197,Feriados!A:A,1,FALSE))","v":"n"}]
[46758,1512,{"$f":"IF(E2198<>\"n\",COUNTIF(B2198:$B$4018,B2198),IF(D2198<6,0,COUNTIF(B2198:$B$4018,B2198)))","v":0},4,{"$f":"IF(ISERROR(VLOOKUP(A2198,Feriados!A:A,1,FALSE)),\"n\",VLOOKUP(A2198,Feriados!A:A,1,FALSE))","v":"n"}]
[46759,1513,{"$f":"IF(E2199<>\"n\",COUNTIF(B2199:$B$4018,B2199),IF(D2199<6,0,COUNTIF(B2199:$B$4018,B2199)))","v":0},5,{"$f":"IF(ISERROR(VLOOKUP(A2199,Feriados!A:A,1,FALSE)),\"n\",VLOOKUP(A2199,Feriados!A:A,1,FALSE))","v":"n"}]
[46760,1513,{"$f":"IF(E2200<>\"n\",COUNTIF(B2200:$B$4018,B2200),IF(D2200<6,0,COUNTIF(B2200:$B$4018,B2200)))","v":2},6,{"$f":"IF(ISERROR(VLOOKUP(A2200,Feriados!A:A,1,FALSE)),\"n\",VLOOKUP(A2200,Feriados!A:A,1,FALSE))","v":"n"}]
[46761,1513,{"$f":"IF(E2201<>\"n\",COUNTIF(B2201:$B$4018,B2201),IF(D2201<6,0,COUNTIF(B2201:$B$4018,B2201)))","v":1},7,{"$f":"IF(ISERROR(VLOOKUP(A2201,Feriados!A:A,1,FALSE)),\"n\",VLOOKUP(A2201,Feriados!A:A,1,FALSE))","v":"n"}]
[46762,1514,{"$f":"IF(E2202<>\"n\",COUNTIF(B2202:$B$4018,B2202),IF(D2202<6,0,COUNTIF(B2202:$B$4018,B2202)))","v":0},1,{"$f":"IF(ISERROR(VLOOKUP(A2202,Feriados!A:A,1,FALSE)),\"n\",VLOOKUP(A2202,Feriados!A:A,1,FALSE))","v":"n"}]
[46763,1515,{"$f":"IF(E2203<>\"n\",COUNTIF(B2203:$B$4018,B2203),IF(D2203<6,0,COUNTIF(B2203:$B$4018,B2203)))","v":0},2,{"$f":"IF(ISERROR(VLOOKUP(A2203,Feriados!A:A,1,FALSE)),\"n\",VLOOKUP(A2203,Feriados!A:A,1,FALSE))","v":"n"}]
[46764,1516,{"$f":"IF(E2204<>\"n\",COUNTIF(B2204:$B$4018,B2204),IF(D2204<6,0,COUNTIF(B2204:$B$4018,B2204)))","v":0},3,{"$f":"IF(ISERROR(VLOOKUP(A2204,Feriados!A:A,1,FALSE)),\"n\",VLOOKUP(A2204,Feriados!A:A,1,FALSE))","v":"n"}]
[46765,1517,{"$f":"IF(E2205<>\"n\",COUNTIF(B2205:$B$4018,B2205),IF(D2205<6,0,COUNTIF(B2205:$B$4018,B2205)))","v":0},4,{"$f":"IF(ISERROR(VLOOKUP(A2205,Feriados!A:A,1,FALSE)),\"n\",VLOOKUP(A2205,Feriados!A:A,1,FALSE))","v":"n"}]
[46766,{"$f":"NETWORKDAYS($A$2,A2206,feriados)","v":1518},{"$f":"IF(E2206<>\"n\",COUNTIF(B2206:$B$4018,B2206),IF(D2206<6,0,COUNTIF(B2206:$B$4018,B2206)))","v":0},{"$f":"WEEKDAY(A2206,2)","v":5},{"$f":"IF(ISERROR(VLOOKUP(A2206,Feriados!A:A,1,FALSE)),\"n\",VLOOKUP(A2206,Feriados!A:A,1,FALSE))","v":"n"}]
[46767,1518,{"$f":"IF(E2207<>\"n\",COUNTIF(B2207:$B$4018,B2207),IF(D2207<6,0,COUNTIF(B2207:$B$4018,B2207)))","v":2},6,{"$f":"IF(ISERROR(VLOOKUP(A2207,Feriados!A:A,1,FALSE)),\"n\",VLOOKUP(A2207,Feriados!A:A,1,FALSE))","v":"n"}]
[46768,1518,{"$f":"IF(E2208<>\"n\",COUNTIF(B2208:$B$4018,B2208),IF(D2208<6,0,COUNTIF(B2208:$B$4018,B2208)))","v":1},7,{"$f":"IF(ISERROR(VLOOKUP(A2208,Feriados!A:A,1,FALSE)),\"n\",VLOOKUP(A2208,Feriados!A:A,1,FALSE))","v":"n"}]
[46769,1519,{"$f":"IF(E2209<>\"n\",COUNTIF(B2209:$B$4018,B2209),IF(D2209<6,0,COUNTIF(B2209:$B$4018,B2209)))","v":0},1,{"$f":"IF(ISERROR(VLOOKUP(A2209,Feriados!A:A,1,FALSE)),\"n\",VLOOKUP(A2209,Feriados!A:A,1,FALSE))","v":"n"}]
[46770,1520,{"$f":"IF(E2210<>\"n\",COUNTIF(B2210:$B$4018,B2210),IF(D2210<6,0,COUNTIF(B2210:$B$4018,B2210)))","v":0},2,{"$f":"IF(ISERROR(VLOOKUP(A2210,Feriados!A:A,1,FALSE)),\"n\",VLOOKUP(A2210,Feriados!A:A,1,FALSE))","v":"n"}]
[46771,1521,{"$f":"IF(E2211<>\"n\",COUNTIF(B2211:$B$4018,B2211),IF(D2211<6,0,COUNTIF(B2211:$B$4018,B2211)))","v":0},3,{"$f":"IF(ISERROR(VLOOKUP(A2211,Feriados!A:A,1,FALSE)),\"n\",VLOOKUP(A2211,Feriados!A:A,1,FALSE))","v":"n"}]
[46772,1522,{"$f":"IF(E2212<>\"n\",COUNTIF(B2212:$B$4018,B2212),IF(D2212<6,0,COUNTIF(B2212:$B$4018,B2212)))","v":0},4,{"$f":"IF(ISERROR(VLOOKUP(A2212,Feriados!A:A,1,FALSE)),\"n\",VLOOKUP(A2212,Feriados!A:A,1,FALSE))","v":"n"}]
[46773,1523,{"$f":"IF(E2213<>\"n\",COUNTIF(B2213:$B$4018,B2213),IF(D2213<6,0,COUNTIF(B2213:$B$4018,B2213)))","v":0},5,{"$f":"IF(ISERROR(VLOOKUP(A2213,Feriados!A:A,1,FALSE)),\"n\",VLOOKUP(A2213,Feriados!A:A,1,FALSE))","v":"n"}]
[46774,1523,{"$f":"IF(E2214<>\"n\",COUNTIF(B2214:$B$4018,B2214),IF(D2214<6,0,COUNTIF(B2214:$B$4018,B2214)))","v":2},6,{"$f":"IF(ISERROR(VLOOKUP(A2214,Feriados!A:A,1,FALSE)),\"n\",VLOOKUP(A2214,Feriados!A:A,1,FALSE))","v":"n"}]
[46775,1523,{"$f":"IF(E2215<>\"n\",COUNTIF(B2215:$B$4018,B2215),IF(D2215<6,0,COUNTIF(B2215:$B$4018,B2215)))","v":1},7,{"$f":"IF(ISERROR(VLOOKUP(A2215,Feriados!A:A,1,FALSE)),\"n\",VLOOKUP(A2215,Feriados!A:A,1,FALSE))","v":"n"}]
[46776,1524,{"$f":"IF(E2216<>\"n\",COUNTIF(B2216:$B$4018,B2216),IF(D2216<6,0,COUNTIF(B2216:$B$4018,B2216)))","v":0},1,{"$f":"IF(ISERROR(VLOOKUP(A2216,Feriados!A:A,1,FALSE)),\"n\",VLOOKUP(A2216,Feriados!A:A,1,FALSE))","v":"n"}]
[46777,1525,{"$f":"IF(E2217<>\"n\",COUNTIF(B2217:$B$4018,B2217),IF(D2217<6,0,COUNTIF(B2217:$B$4018,B2217)))","v":0},2,{"$f":"IF(ISERROR(VLOOKUP(A2217,Feriados!A:A,1,FALSE)),\"n\",VLOOKUP(A2217,Feriados!A:A,1,FALSE))","v":"n"}]
[46778,1526,{"$f":"IF(E2218<>\"n\",COUNTIF(B2218:$B$4018,B2218),IF(D2218<6,0,COUNTIF(B2218:$B$4018,B2218)))","v":0},3,{"$f":"IF(ISERROR(VLOOKUP(A2218,Feriados!A:A,1,FALSE)),\"n\",VLOOKUP(A2218,Feriados!A:A,1,FALSE))","v":"n"}]
[46779,1527,{"$f":"IF(E2219<>\"n\",COUNTIF(B2219:$B$4018,B2219),IF(D2219<6,0,COUNTIF(B2219:$B$4018,B2219)))","v":0},4,{"$f":"IF(ISERROR(VLOOKUP(A2219,Feriados!A:A,1,FALSE)),\"n\",VLOOKUP(A2219,Feriados!A:A,1,FALSE))","v":"n"}]
[46780,1528,{"$f":"IF(E2220<>\"n\",COUNTIF(B2220:$B$4018,B2220),IF(D2220<6,0,COUNTIF(B2220:$B$4018,B2220)))","v":0},5,{"$f":"IF(ISERROR(VLOOKUP(A2220,Feriados!A:A,1,FALSE)),\"n\",VLOOKUP(A2220,Feriados!A:A,1,FALSE))","v":"n"}]
[46781,1528,{"$f":"IF(E2221<>\"n\",COUNTIF(B2221:$B$4018,B2221),IF(D2221<6,0,COUNTIF(B2221:$B$4018,B2221)))","v":2},6,{"$f":"IF(ISERROR(VLOOKUP(A2221,Feriados!A:A,1,FALSE)),\"n\",VLOOKUP(A2221,Feriados!A:A,1,FALSE))","v":"n"}]
[46782,1528,{"$f":"IF(E2222<>\"n\",COUNTIF(B2222:$B$4018,B2222),IF(D2222<6,0,COUNTIF(B2222:$B$4018,B2222)))","v":1},7,{"$f":"IF(ISERROR(VLOOKUP(A2222,Feriados!A:A,1,FALSE)),\"n\",VLOOKUP(A2222,Feriados!A:A,1,FALSE))","v":"n"}]
[46783,1529,{"$f":"IF(E2223<>\"n\",COUNTIF(B2223:$B$4018,B2223),IF(D2223<6,0,COUNTIF(B2223:$B$4018,B2223)))","v":0},1,{"$f":"IF(ISERROR(VLOOKUP(A2223,Feriados!A:A,1,FALSE)),\"n\",VLOOKUP(A2223,Feriados!A:A,1,FALSE))","v":"n"}]
[46784,1530,{"$f":"IF(E2224<>\"n\",COUNTIF(B2224:$B$4018,B2224),IF(D2224<6,0,COUNTIF(B2224:$B$4018,B2224)))","v":0},2,{"$f":"IF(ISERROR(VLOOKUP(A2224,Feriados!A:A,1,FALSE)),\"n\",VLOOKUP(A2224,Feriados!A:A,1,FALSE))","v":"n"}]
[46785,1531,{"$f":"IF(E2225<>\"n\",COUNTIF(B2225:$B$4018,B2225),IF(D2225<6,0,COUNTIF(B2225:$B$4018,B2225)))","v":0},3,{"$f":"IF(ISERROR(VLOOKUP(A2225,Feriados!A:A,1,FALSE)),\"n\",VLOOKUP(A2225,Feriados!A:A,1,FALSE))","v":"n"}]
[46786,1532,{"$f":"IF(E2226<>\"n\",COUNTIF(B2226:$B$4018,B2226),IF(D2226<6,0,COUNTIF(B2226:$B$4018,B2226)))","v":0},4,{"$f":"IF(ISERROR(VLOOKUP(A2226,Feriados!A:A,1,FALSE)),\"n\",VLOOKUP(A2226,Feriados!A:A,1,FALSE))","v":"n"}]
[46787,1533,{"$f":"IF(E2227<>\"n\",COUNTIF(B2227:$B$4018,B2227),IF(D2227<6,0,COUNTIF(B2227:$B$4018,B2227)))","v":0},5,{"$f":"IF(ISERROR(VLOOKUP(A2227,Feriados!A:A,1,FALSE)),\"n\",VLOOKUP(A2227,Feriados!A:A,1,FALSE))","v":"n"}]
[46788,1533,{"$f":"IF(E2228<>\"n\",COUNTIF(B2228:$B$4018,B2228),IF(D2228<6,0,COUNTIF(B2228:$B$4018,B2228)))","v":2},6,{"$f":"IF(ISERROR(VLOOKUP(A2228,Feriados!A:A,1,FALSE)),\"n\",VLOOKUP(A2228,Feriados!A:A,1,FALSE))","v":"n"}]
[46789,1533,{"$f":"IF(E2229<>\"n\",COUNTIF(B2229:$B$4018,B2229),IF(D2229<6,0,COUNTIF(B2229:$B$4018,B2229)))","v":1},7,{"$f":"IF(ISERROR(VLOOKUP(A2229,Feriados!A:A,1,FALSE)),\"n\",VLOOKUP(A2229,Feriados!A:A,1,FALSE))","v":"n"}]
[46790,1534,{"$f":"IF(E2230<>\"n\",COUNTIF(B2230:$B$4018,B2230),IF(D2230<6,0,COUNTIF(B2230:$B$4018,B2230)))","v":0},1,{"$f":"IF(ISERROR(VLOOKUP(A2230,Feriados!A:A,1,FALSE)),\"n\",VLOOKUP(A2230,Feriados!A:A,1,FALSE))","v":"n"}]
[46791,1535,{"$f":"IF(E2231<>\"n\",COUNTIF(B2231:$B$4018,B2231),IF(D2231<6,0,COUNTIF(B2231:$B$4018,B2231)))","v":0},2,{"$f":"IF(ISERROR(VLOOKUP(A2231,Feriados!A:A,1,FALSE)),\"n\",VLOOKUP(A2231,Feriados!A:A,1,FALSE))","v":"n"}]
[46792,1536,{"$f":"IF(E2232<>\"n\",COUNTIF(B2232:$B$4018,B2232),IF(D2232<6,0,COUNTIF(B2232:$B$4018,B2232)))","v":0},3,{"$f":"IF(ISERROR(VLOOKUP(A2232,Feriados!A:A,1,FALSE)),\"n\",VLOOKUP(A2232,Feriados!A:A,1,FALSE))","v":"n"}]
[46793,1537,{"$f":"IF(E2233<>\"n\",COUNTIF(B2233:$B$4018,B2233),IF(D2233<6,0,COUNTIF(B2233:$B$4018,B2233)))","v":0},4,{"$f":"IF(ISERROR(VLOOKUP(A2233,Feriados!A:A,1,FALSE)),\"n\",VLOOKUP(A2233,Feriados!A:A,1,FALSE))","v":"n"}]
[46794,1538,{"$f":"IF(E2234<>\"n\",COUNTIF(B2234:$B$4018,B2234),IF(D2234<6,0,COUNTIF(B2234:$B$4018,B2234)))","v":0},5,{"$f":"IF(ISERROR(VLOOKUP(A2234,Feriados!A:A,1,FALSE)),\"n\",VLOOKUP(A2234,Feriados!A:A,1,FALSE))","v":"n"}]
[46795,1538,{"$f":"IF(E2235<>\"n\",COUNTIF(B2235:$B$4018,B2235),IF(D2235<6,0,COUNTIF(B2235:$B$4018,B2235)))","v":2},6,{"$f":"IF(ISERROR(VLOOKUP(A2235,Feriados!A:A,1,FALSE)),\"n\",VLOOKUP(A2235,Feriados!A:A,1,FALSE))","v":"n"}]
[46796,1538,{"$f":"IF(E2236<>\"n\",COUNTIF(B2236:$B$4018,B2236),IF(D2236<6,0,COUNTIF(B2236:$B$4018,B2236)))","v":1},7,{"$f":"IF(ISERROR(VLOOKUP(A2236,Feriados!A:A,1,FALSE)),\"n\",VLOOKUP(A2236,Feriados!A:A,1,FALSE))","v":"n"}]
[46797,1539,{"$f":"IF(E2237<>\"n\",COUNTIF(B2237:$B$4018,B2237),IF(D2237<6,0,COUNTIF(B2237:$B$4018,B2237)))","v":0},1,{"$f":"IF(ISERROR(VLOOKUP(A2237,Feriados!A:A,1,FALSE)),\"n\",VLOOKUP(A2237,Feriados!A:A,1,FALSE))","v":"n"}]
[46798,1540,{"$f":"IF(E2238<>\"n\",COUNTIF(B2238:$B$4018,B2238),IF(D2238<6,0,COUNTIF(B2238:$B$4018,B2238)))","v":0},2,{"$f":"IF(ISERROR(VLOOKUP(A2238,Feriados!A:A,1,FALSE)),\"n\",VLOOKUP(A2238,Feriados!A:A,1,FALSE))","v":"n"}]
[46799,1541,{"$f":"IF(E2239<>\"n\",COUNTIF(B2239:$B$4018,B2239),IF(D2239<6,0,COUNTIF(B2239:$B$4018,B2239)))","v":0},3,{"$f":"IF(ISERROR(VLOOKUP(A2239,Feriados!A:A,1,FALSE)),\"n\",VLOOKUP(A2239,Feriados!A:A,1,FALSE))","v":"n"}]
[46800,1542,{"$f":"IF(E2240<>\"n\",COUNTIF(B2240:$B$4018,B2240),IF(D2240<6,0,COUNTIF(B2240:$B$4018,B2240)))","v":0},4,{"$f":"IF(ISERROR(VLOOKUP(A2240,Feriados!A:A,1,FALSE)),\"n\",VLOOKUP(A2240,Feriados!A:A,1,FALSE))","v":"n"}]
[46801,1543,{"$f":"IF(E2241<>\"n\",COUNTIF(B2241:$B$4018,B2241),IF(D2241<6,0,COUNTIF(B2241:$B$4018,B2241)))","v":0},5,{"$f":"IF(ISERROR(VLOOKUP(A2241,Feriados!A:A,1,FALSE)),\"n\",VLOOKUP(A2241,Feriados!A:A,1,FALSE))","v":"n"}]
[46802,1543,{"$f":"IF(E2242<>\"n\",COUNTIF(B2242:$B$4018,B2242),IF(D2242<6,0,COUNTIF(B2242:$B$4018,B2242)))","v":2},6,{"$f":"IF(ISERROR(VLOOKUP(A2242,Feriados!A:A,1,FALSE)),\"n\",VLOOKUP(A2242,Feriados!A:A,1,FALSE))","v":"n"}]
[46803,1543,{"$f":"IF(E2243<>\"n\",COUNTIF(B2243:$B$4018,B2243),IF(D2243<6,0,COUNTIF(B2243:$B$4018,B2243)))","v":1},7,{"$f":"IF(ISERROR(VLOOKUP(A2243,Feriados!A:A,1,FALSE)),\"n\",VLOOKUP(A2243,Feriados!A:A,1,FALSE))","v":"n"}]
[{"$f":"A2243+1","v":46804},1544,{"$f":"IF(E2244<>\"n\",COUNTIF(B2244:$B$4018,B2244),IF(D2244<6,0,COUNTIF(B2244:$B$4018,B2244)))","v":0},1,{"$f":"IF(ISERROR(VLOOKUP(A2244,Feriados!A:A,1,FALSE)),\"n\",VLOOKUP(A2244,Feriados!A:A,1,FALSE))","v":"n"}]
[46805,1545,{"$f":"IF(E2245<>\"n\",COUNTIF(B2245:$B$4018,B2245),IF(D2245<6,0,COUNTIF(B2245:$B$4018,B2245)))","v":0},2,{"$f":"IF(ISERROR(VLOOKUP(A2245,Feriados!A:A,1,FALSE)),\"n\",VLOOKUP(A2245,Feriados!A:A,1,FALSE))","v":"n"}]
[46806,1546,{"$f":"IF(E2246<>\"n\",COUNTIF(B2246:$B$4018,B2246),IF(D2246<6,0,COUNTIF(B2246:$B$4018,B2246)))","v":0},3,{"$f":"IF(ISERROR(VLOOKUP(A2246,Feriados!A:A,1,FALSE)),\"n\",VLOOKUP(A2246,Feriados!A:A,1,FALSE))","v":"n"}]
[46807,1547,{"$f":"IF(E2247<>\"n\",COUNTIF(B2247:$B$4018,B2247),IF(D2247<6,0,COUNTIF(B2247:$B$4018,B2247)))","v":0},4,{"$f":"IF(ISERROR(VLOOKUP(A2247,Feriados!A:A,1,FALSE)),\"n\",VLOOKUP(A2247,Feriados!A:A,1,FALSE))","v":"n"}]
[46808,1548,{"$f":"IF(E2248<>\"n\",COUNTIF(B2248:$B$4018,B2248),IF(D2248<6,0,COUNTIF(B2248:$B$4018,B2248)))","v":0},5,{"$f":"IF(ISERROR(VLOOKUP(A2248,Feriados!A:A,1,FALSE)),\"n\",VLOOKUP(A2248,Feriados!A:A,1,FALSE))","v":"n"}]
[46809,1548,{"$f":"IF(E2249<>\"n\",COUNTIF(B2249:$B$4018,B2249),IF(D2249<6,0,COUNTIF(B2249:$B$4018,B2249)))","v":4},6,{"$f":"IF(ISERROR(VLOOKUP(A2249,Feriados!A:A,1,FALSE)),\"n\",VLOOKUP(A2249,Feriados!A:A,1,FALSE))","v":"n"}]
[46810,1548,{"$f":"IF(E2250<>\"n\",COUNTIF(B2250:$B$4018,B2250),IF(D2250<6,0,COUNTIF(B2250:$B$4018,B2250)))","v":3},7,{"$f":"IF(ISERROR(VLOOKUP(A2250,Feriados!A:A,1,FALSE)),\"n\",VLOOKUP(A2250,Feriados!A:A,1,FALSE))","v":"n"}]
[46811,1548,{"$f":"IF(E2251<>\"n\",COUNTIF(B2251:$B$4018,B2251),IF(D2251<6,0,COUNTIF(B2251:$B$4018,B2251)))","v":2},1,{"$f":"IF(ISERROR(VLOOKUP(A2251,Feriados!A:A,1,FALSE)),\"n\",VLOOKUP(A2251,Feriados!A:A,1,FALSE))","v":"2028-02-28"}]
[46812,1548,{"$f":"IF(E2252<>\"n\",COUNTIF(B2252:$B$4018,B2252),IF(D2252<6,0,COUNTIF(B2252:$B$4018,B2252)))","v":1},2,{"$f":"IF(ISERROR(VLOOKUP(A2252,Feriados!A:A,1,FALSE)),\"n\",VLOOKUP(A2252,Feriados!A:A,1,FALSE))","v":"2028-02-29"}]
[46813,1549,{"$f":"IF(E2253<>\"n\",COUNTIF(B2253:$B$4018,B2253),IF(D2253<6,0,COUNTIF(B2253:$B$4018,B2253)))","v":0},3,{"$f":"IF(ISERROR(VLOOKUP(A2253,Feriados!A:A,1,FALSE)),\"n\",VLOOKUP(A2253,Feriados!A:A,1,FALSE))","v":"n"}]
[46814,1550,{"$f":"IF(E2254<>\"n\",COUNTIF(B2254:$B$4018,B2254),IF(D2254<6,0,COUNTIF(B2254:$B$4018,B2254)))","v":0},4,{"$f":"IF(ISERROR(VLOOKUP(A2254,Feriados!A:A,1,FALSE)),\"n\",VLOOKUP(A2254,Feriados!A:A,1,FALSE))","v":"n"}]
[46815,1551,{"$f":"IF(E2255<>\"n\",COUNTIF(B2255:$B$4018,B2255),IF(D2255<6,0,COUNTIF(B2255:$B$4018,B2255)))","v":0},5,{"$f":"IF(ISERROR(VLOOKUP(A2255,Feriados!A:A,1,FALSE)),\"n\",VLOOKUP(A2255,Feriados!A:A,1,FALSE))","v":"n"}]
[46816,1551,{"$f":"IF(E2256<>\"n\",COUNTIF(B2256:$B$4018,B2256),IF(D2256<6,0,COUNTIF(B2256:$B$4018,B2256)))","v":2},6,{"$f":"IF(ISERROR(VLOOKUP(A2256,Feriados!A:A,1,FALSE)),\"n\",VLOOKUP(A2256,Feriados!A:A,1,FALSE))","v":"n"}]
[46817,1551,{"$f":"IF(E2257<>\"n\",COUNTIF(B2257:$B$4018,B2257),IF(D2257<6,0,COUNTIF(B2257:$B$4018,B2257)))","v":1},7,{"$f":"IF(ISERROR(VLOOKUP(A2257,Feriados!A:A,1,FALSE)),\"n\",VLOOKUP(A2257,Feriados!A:A,1,FALSE))","v":"n"}]
[46818,1552,{"$f":"IF(E2258<>\"n\",COUNTIF(B2258:$B$4018,B2258),IF(D2258<6,0,COUNTIF(B2258:$B$4018,B2258)))","v":0},1,{"$f":"IF(ISERROR(VLOOKUP(A2258,Feriados!A:A,1,FALSE)),\"n\",VLOOKUP(A2258,Feriados!A:A,1,FALSE))","v":"n"}]
[46819,1553,{"$f":"IF(E2259<>\"n\",COUNTIF(B2259:$B$4018,B2259),IF(D2259<6,0,COUNTIF(B2259:$B$4018,B2259)))","v":0},2,{"$f":"IF(ISERROR(VLOOKUP(A2259,Feriados!A:A,1,FALSE)),\"n\",VLOOKUP(A2259,Feriados!A:A,1,FALSE))","v":"n"}]
[46820,1554,{"$f":"IF(E2260<>\"n\",COUNTIF(B2260:$B$4018,B2260),IF(D2260<6,0,COUNTIF(B2260:$B$4018,B2260)))","v":0},3,{"$f":"IF(ISERROR(VLOOKUP(A2260,Feriados!A:A,1,FALSE)),\"n\",VLOOKUP(A2260,Feriados!A:A,1,FALSE))","v":"n"}]
[46821,1555,{"$f":"IF(E2261<>\"n\",COUNTIF(B2261:$B$4018,B2261),IF(D2261<6,0,COUNTIF(B2261:$B$4018,B2261)))","v":0},4,{"$f":"IF(ISERROR(VLOOKUP(A2261,Feriados!A:A,1,FALSE)),\"n\",VLOOKUP(A2261,Feriados!A:A,1,FALSE))","v":"n"}]
[46822,1556,{"$f":"IF(E2262<>\"n\",COUNTIF(B2262:$B$4018,B2262),IF(D2262<6,0,COUNTIF(B2262:$B$4018,B2262)))","v":0},5,{"$f":"IF(ISERROR(VLOOKUP(A2262,Feriados!A:A,1,FALSE)),\"n\",VLOOKUP(A2262,Feriados!A:A,1,FALSE))","v":"n"}]
[46823,1556,{"$f":"IF(E2263<>\"n\",COUNTIF(B2263:$B$4018,B2263),IF(D2263<6,0,COUNTIF(B2263:$B$4018,B2263)))","v":2},6,{"$f":"IF(ISERROR(VLOOKUP(A2263,Feriados!A:A,1,FALSE)),\"n\",VLOOKUP(A2263,Feriados!A:A,1,FALSE))","v":"n"}]
[46824,1556,{"$f":"IF(E2264<>\"n\",COUNTIF(B2264:$B$4018,B2264),IF(D2264<6,0,COUNTIF(B2264:$B$4018,B2264)))","v":1},7,{"$f":"IF(ISERROR(VLOOKUP(A2264,Feriados!A:A,1,FALSE)),\"n\",VLOOKUP(A2264,Feriados!A:A,1,FALSE))","v":"n"}]
[46825,1557,{"$f":"IF(E2265<>\"n\",COUNTIF(B2265:$B$4018,B2265),IF(D2265<6,0,COUNTIF(B2265:$B$4018,B2265)))","v":0},1,{"$f":"IF(ISERROR(VLOOKUP(A2265,Feriados!A:A,1,FALSE)),\"n\",VLOOKUP(A2265,Feriados!A:A,1,FALSE))","v":"n"}]
[46826,1558,{"$f":"IF(E2266<>\"n\",COUNTIF(B2266:$B$4018,B2266),IF(D2266<6,0,COUNTIF(B2266:$B$4018,B2266)))","v":0},2,{"$f":"IF(ISERROR(VLOOKUP(A2266,Feriados!A:A,1,FALSE)),\"n\",VLOOKUP(A2266,Feriados!A:A,1,FALSE))","v":"n"}]
[46827,1559,{"$f":"IF(E2267<>\"n\",COUNTIF(B2267:$B$4018,B2267),IF(D2267<6,0,COUNTIF(B2267:$B$4018,B2267)))","v":0},3,{"$f":"IF(ISERROR(VLOOKUP(A2267,Feriados!A:A,1,FALSE)),\"n\",VLOOKUP(A2267,Feriados!A:A,1,FALSE))","v":"n"}]
[46828,1560,{"$f":"IF(E2268<>\"n\",COUNTIF(B2268:$B$4018,B2268),IF(D2268<6,0,COUNTIF(B2268:$B$4018,B2268)))","v":0},4,{"$f":"IF(ISERROR(VLOOKUP(A2268,Feriados!A:A,1,FALSE)),\"n\",VLOOKUP(A2268,Feriados!A:A,1,FALSE))","v":"n"}]
[46829,1561,{"$f":"IF(E2269<>\"n\",COUNTIF(B2269:$B$4018,B2269),IF(D2269<6,0,COUNTIF(B2269:$B$4018,B2269)))","v":0},5,{"$f":"IF(ISERROR(VLOOKUP(A2269,Feriados!A:A,1,FALSE)),\"n\",VLOOKUP(A2269,Feriados!A:A,1,FALSE))","v":"n"}]
[46830,{"$f":"NETWORKDAYS($A$2,A2270,feriados)","v":1561},{"$f":"IF(E2270<>\"n\",COUNTIF(B2270:$B$4018,B2270),IF(D2270<6,0,COUNTIF(B2270:$B$4018,B2270)))","v":2},{"$f":"WEEKDAY(A2270,2)","v":6},{"$f":"IF(ISERROR(VLOOKUP(A2270,Feriados!A:A,1,FALSE)),\"n\",VLOOKUP(A2270,Feriados!A:A,1,FALSE))","v":"n"}]
[46831,1561,{"$f":"IF(E2271<>\"n\",COUNTIF(B2271:$B$4018,B2271),IF(D2271<6,0,COUNTIF(B2271:$B$4018,B2271)))","v":1},7,{"$f":"IF(ISERROR(VLOOKUP(A2271,Feriados!A:A,1,FALSE)),\"n\",VLOOKUP(A2271,Feriados!A:A,1,FALSE))","v":"n"}]
[46832,1562,{"$f":"IF(E2272<>\"n\",COUNTIF(B2272:$B$4018,B2272),IF(D2272<6,0,COUNTIF(B2272:$B$4018,B2272)))","v":0},1,{"$f":"IF(ISERROR(VLOOKUP(A2272,Feriados!A:A,1,FALSE)),\"n\",VLOOKUP(A2272,Feriados!A:A,1,FALSE))","v":"n"}]
[46833,1563,{"$f":"IF(E2273<>\"n\",COUNTIF(B2273:$B$4018,B2273),IF(D2273<6,0,COUNTIF(B2273:$B$4018,B2273)))","v":0},2,{"$f":"IF(ISERROR(VLOOKUP(A2273,Feriados!A:A,1,FALSE)),\"n\",VLOOKUP(A2273,Feriados!A:A,1,FALSE))","v":"n"}]
[46834,1564,{"$f":"IF(E2274<>\"n\",COUNTIF(B2274:$B$4018,B2274),IF(D2274<6,0,COUNTIF(B2274:$B$4018,B2274)))","v":0},3,{"$f":"IF(ISERROR(VLOOKUP(A2274,Feriados!A:A,1,FALSE)),\"n\",VLOOKUP(A2274,Feriados!A:A,1,FALSE))","v":"n"}]
[46835,1565,{"$f":"IF(E2275<>\"n\",COUNTIF(B2275:$B$4018,B2275),IF(D2275<6,0,COUNTIF(B2275:$B$4018,B2275)))","v":0},4,{"$f":"IF(ISERROR(VLOOKUP(A2275,Feriados!A:A,1,FALSE)),\"n\",VLOOKUP(A2275,Feriados!A:A,1,FALSE))","v":"n"}]
[46836,1566,{"$f":"IF(E2276<>\"n\",COUNTIF(B2276:$B$4018,B2276),IF(D2276<6,0,COUNTIF(B2276:$B$4018,B2276)))","v":0},5,{"$f":"IF(ISERROR(VLOOKUP(A2276,Feriados!A:A,1,FALSE)),\"n\",VLOOKUP(A2276,Feriados!A:A,1,FALSE))","v":"n"}]
[46837,1566,{"$f":"IF(E2277<>\"n\",COUNTIF(B2277:$B$4018,B2277),IF(D2277<6,0,COUNTIF(B2277:$B$4018,B2277)))","v":2},6,{"$f":"IF(ISERROR(VLOOKUP(A2277,Feriados!A:A,1,FALSE)),\"n\",VLOOKUP(A2277,Feriados!A:A,1,FALSE))","v":"n"}]
[46838,1566,{"$f":"IF(E2278<>\"n\",COUNTIF(B2278:$B$4018,B2278),IF(D2278<6,0,COUNTIF(B2278:$B$4018,B2278)))","v":1},7,{"$f":"IF(ISERROR(VLOOKUP(A2278,Feriados!A:A,1,FALSE)),\"n\",VLOOKUP(A2278,Feriados!A:A,1,FALSE))","v":"n"}]
[46839,1567,{"$f":"IF(E2279<>\"n\",COUNTIF(B2279:$B$4018,B2279),IF(D2279<6,0,COUNTIF(B2279:$B$4018,B2279)))","v":0},1,{"$f":"IF(ISERROR(VLOOKUP(A2279,Feriados!A:A,1,FALSE)),\"n\",VLOOKUP(A2279,Feriados!A:A,1,FALSE))","v":"n"}]
[46840,1568,{"$f":"IF(E2280<>\"n\",COUNTIF(B2280:$B$4018,B2280),IF(D2280<6,0,COUNTIF(B2280:$B$4018,B2280)))","v":0},2,{"$f":"IF(ISERROR(VLOOKUP(A2280,Feriados!A:A,1,FALSE)),\"n\",VLOOKUP(A2280,Feriados!A:A,1,FALSE))","v":"n"}]
[46841,1569,{"$f":"IF(E2281<>\"n\",COUNTIF(B2281:$B$4018,B2281),IF(D2281<6,0,COUNTIF(B2281:$B$4018,B2281)))","v":0},3,{"$f":"IF(ISERROR(VLOOKUP(A2281,Feriados!A:A,1,FALSE)),\"n\",VLOOKUP(A2281,Feriados!A:A,1,FALSE))","v":"n"}]
[46842,1570,{"$f":"IF(E2282<>\"n\",COUNTIF(B2282:$B$4018,B2282),IF(D2282<6,0,COUNTIF(B2282:$B$4018,B2282)))","v":0},4,{"$f":"IF(ISERROR(VLOOKUP(A2282,Feriados!A:A,1,FALSE)),\"n\",VLOOKUP(A2282,Feriados!A:A,1,FALSE))","v":"n"}]
[46843,1571,{"$f":"IF(E2283<>\"n\",COUNTIF(B2283:$B$4018,B2283),IF(D2283<6,0,COUNTIF(B2283:$B$4018,B2283)))","v":0},5,{"$f":"IF(ISERROR(VLOOKUP(A2283,Feriados!A:A,1,FALSE)),\"n\",VLOOKUP(A2283,Feriados!A:A,1,FALSE))","v":"n"}]
[46844,1571,{"$f":"IF(E2284<>\"n\",COUNTIF(B2284:$B$4018,B2284),IF(D2284<6,0,COUNTIF(B2284:$B$4018,B2284)))","v":2},6,{"$f":"IF(ISERROR(VLOOKUP(A2284,Feriados!A:A,1,FALSE)),\"n\",VLOOKUP(A2284,Feriados!A:A,1,FALSE))","v":"n"}]
[46845,1571,{"$f":"IF(E2285<>\"n\",COUNTIF(B2285:$B$4018,B2285),IF(D2285<6,0,COUNTIF(B2285:$B$4018,B2285)))","v":1},7,{"$f":"IF(ISERROR(VLOOKUP(A2285,Feriados!A:A,1,FALSE)),\"n\",VLOOKUP(A2285,Feriados!A:A,1,FALSE))","v":"n"}]
[46846,1572,{"$f":"IF(E2286<>\"n\",COUNTIF(B2286:$B$4018,B2286),IF(D2286<6,0,COUNTIF(B2286:$B$4018,B2286)))","v":0},1,{"$f":"IF(ISERROR(VLOOKUP(A2286,Feriados!A:A,1,FALSE)),\"n\",VLOOKUP(A2286,Feriados!A:A,1,FALSE))","v":"n"}]
[46847,1573,{"$f":"IF(E2287<>\"n\",COUNTIF(B2287:$B$4018,B2287),IF(D2287<6,0,COUNTIF(B2287:$B$4018,B2287)))","v":0},2,{"$f":"IF(ISERROR(VLOOKUP(A2287,Feriados!A:A,1,FALSE)),\"n\",VLOOKUP(A2287,Feriados!A:A,1,FALSE))","v":"n"}]
[46848,1574,{"$f":"IF(E2288<>\"n\",COUNTIF(B2288:$B$4018,B2288),IF(D2288<6,0,COUNTIF(B2288:$B$4018,B2288)))","v":0},3,{"$f":"IF(ISERROR(VLOOKUP(A2288,Feriados!A:A,1,FALSE)),\"n\",VLOOKUP(A2288,Feriados!A:A,1,FALSE))","v":"n"}]
[46849,1575,{"$f":"IF(E2289<>\"n\",COUNTIF(B2289:$B$4018,B2289),IF(D2289<6,0,COUNTIF(B2289:$B$4018,B2289)))","v":0},4,{"$f":"IF(ISERROR(VLOOKUP(A2289,Feriados!A:A,1,FALSE)),\"n\",VLOOKUP(A2289,Feriados!A:A,1,FALSE))","v":"n"}]
[46850,1576,{"$f":"IF(E2290<>\"n\",COUNTIF(B2290:$B$4018,B2290),IF(D2290<6,0,COUNTIF(B2290:$B$4018,B2290)))","v":0},5,{"$f":"IF(ISERROR(VLOOKUP(A2290,Feriados!A:A,1,FALSE)),\"n\",VLOOKUP(A2290,Feriados!A:A,1,FALSE))","v":"n"}]
[46851,1576,{"$f":"IF(E2291<>\"n\",COUNTIF(B2291:$B$4018,B2291),IF(D2291<6,0,COUNTIF(B2291:$B$4018,B2291)))","v":2},6,{"$f":"IF(ISERROR(VLOOKUP(A2291,Feriados!A:A,1,FALSE)),\"n\",VLOOKUP(A2291,Feriados!A:A,1,FALSE))","v":"n"}]
[46852,1576,{"$f":"IF(E2292<>\"n\",COUNTIF(B2292:$B$4018,B2292),IF(D2292<6,0,COUNTIF(B2292:$B$4018,B2292)))","v":1},7,{"$f":"IF(ISERROR(VLOOKUP(A2292,Feriados!A:A,1,FALSE)),\"n\",VLOOKUP(A2292,Feriados!A:A,1,FALSE))","v":"n"}]
[46853,1577,{"$f":"IF(E2293<>\"n\",COUNTIF(B2293:$B$4018,B2293),IF(D2293<6,0,COUNTIF(B2293:$B$4018,B2293)))","v":0},1,{"$f":"IF(ISERROR(VLOOKUP(A2293,Feriados!A:A,1,FALSE)),\"n\",VLOOKUP(A2293,Feriados!A:A,1,FALSE))","v":"n"}]
[46854,1578,{"$f":"IF(E2294<>\"n\",COUNTIF(B2294:$B$4018,B2294),IF(D2294<6,0,COUNTIF(B2294:$B$4018,B2294)))","v":0},2,{"$f":"IF(ISERROR(VLOOKUP(A2294,Feriados!A:A,1,FALSE)),\"n\",VLOOKUP(A2294,Feriados!A:A,1,FALSE))","v":"n"}]
[46855,1579,{"$f":"IF(E2295<>\"n\",COUNTIF(B2295:$B$4018,B2295),IF(D2295<6,0,COUNTIF(B2295:$B$4018,B2295)))","v":0},3,{"$f":"IF(ISERROR(VLOOKUP(A2295,Feriados!A:A,1,FALSE)),\"n\",VLOOKUP(A2295,Feriados!A:A,1,FALSE))","v":"n"}]
[46856,1580,{"$f":"IF(E2296<>\"n\",COUNTIF(B2296:$B$4018,B2296),IF(D2296<6,0,COUNTIF(B2296:$B$4018,B2296)))","v":0},4,{"$f":"IF(ISERROR(VLOOKUP(A2296,Feriados!A:A,1,FALSE)),\"n\",VLOOKUP(A2296,Feriados!A:A,1,FALSE))","v":"n"}]
[46857,1580,{"$f":"IF(E2297<>\"n\",COUNTIF(B2297:$B$4018,B2297),IF(D2297<6,0,COUNTIF(B2297:$B$4018,B2297)))","v":3},5,{"$f":"IF(ISERROR(VLOOKUP(A2297,Feriados!A:A,1,FALSE)),\"n\",VLOOKUP(A2297,Feriados!A:A,1,FALSE))","v":"2028-04-14"}]
[46858,1580,{"$f":"IF(E2298<>\"n\",COUNTIF(B2298:$B$4018,B2298),IF(D2298<6,0,COUNTIF(B2298:$B$4018,B2298)))","v":2},6,{"$f":"IF(ISERROR(VLOOKUP(A2298,Feriados!A:A,1,FALSE)),\"n\",VLOOKUP(A2298,Feriados!A:A,1,FALSE))","v":"n"}]
[46859,1580,{"$f":"IF(E2299<>\"n\",COUNTIF(B2299:$B$4018,B2299),IF(D2299<6,0,COUNTIF(B2299:$B$4018,B2299)))","v":1},7,{"$f":"IF(ISERROR(VLOOKUP(A2299,Feriados!A:A,1,FALSE)),\"n\",VLOOKUP(A2299,Feriados!A:A,1,FALSE))","v":"n"}]
[46860,1581,{"$f":"IF(E2300<>\"n\",COUNTIF(B2300:$B$4018,B2300),IF(D2300<6,0,COUNTIF(B2300:$B$4018,B2300)))","v":0},1,{"$f":"IF(ISERROR(VLOOKUP(A2300,Feriados!A:A,1,FALSE)),\"n\",VLOOKUP(A2300,Feriados!A:A,1,FALSE))","v":"n"}]
[46861,1582,{"$f":"IF(E2301<>\"n\",COUNTIF(B2301:$B$4018,B2301),IF(D2301<6,0,COUNTIF(B2301:$B$4018,B2301)))","v":0},2,{"$f":"IF(ISERROR(VLOOKUP(A2301,Feriados!A:A,1,FALSE)),\"n\",VLOOKUP(A2301,Feriados!A:A,1,FALSE))","v":"n"}]
[46862,1583,{"$f":"IF(E2302<>\"n\",COUNTIF(B2302:$B$4018,B2302),IF(D2302<6,0,COUNTIF(B2302:$B$4018,B2302)))","v":0},3,{"$f":"IF(ISERROR(VLOOKUP(A2302,Feriados!A:A,1,FALSE)),\"n\",VLOOKUP(A2302,Feriados!A:A,1,FALSE))","v":"n"}]
[46863,1584,{"$f":"IF(E2303<>\"n\",COUNTIF(B2303:$B$4018,B2303),IF(D2303<6,0,COUNTIF(B2303:$B$4018,B2303)))","v":0},4,{"$f":"IF(ISERROR(VLOOKUP(A2303,Feriados!A:A,1,FALSE)),\"n\",VLOOKUP(A2303,Feriados!A:A,1,FALSE))","v":"n"}]
[46864,1584,{"$f":"IF(E2304<>\"n\",COUNTIF(B2304:$B$4018,B2304),IF(D2304<6,0,COUNTIF(B2304:$B$4018,B2304)))","v":3},5,{"$f":"IF(ISERROR(VLOOKUP(A2304,Feriados!A:A,1,FALSE)),\"n\",VLOOKUP(A2304,Feriados!A:A,1,FALSE))","v":"2028-04-21"}]
[46865,1584,{"$f":"IF(E2305<>\"n\",COUNTIF(B2305:$B$4018,B2305),IF(D2305<6,0,COUNTIF(B2305:$B$4018,B2305)))","v":2},6,{"$f":"IF(ISERROR(VLOOKUP(A2305,Feriados!A:A,1,FALSE)),\"n\",VLOOKUP(A2305,Feriados!A:A,1,FALSE))","v":"n"}]
[46866,1584,{"$f":"IF(E2306<>\"n\",COUNTIF(B2306:$B$4018,B2306),IF(D2306<6,0,COUNTIF(B2306:$B$4018,B2306)))","v":1},7,{"$f":"IF(ISERROR(VLOOKUP(A2306,Feriados!A:A,1,FALSE)),\"n\",VLOOKUP(A2306,Feriados!A:A,1,FALSE))","v":"n"}]
[46867,1585,{"$f":"IF(E2307<>\"n\",COUNTIF(B2307:$B$4018,B2307),IF(D2307<6,0,COUNTIF(B2307:$B$4018,B2307)))","v":0},1,{"$f":"IF(ISERROR(VLOOKUP(A2307,Feriados!A:A,1,FALSE)),\"n\",VLOOKUP(A2307,Feriados!A:A,1,FALSE))","v":"n"}]
[{"$f":"A2307+1","v":46868},1586,{"$f":"IF(E2308<>\"n\",COUNTIF(B2308:$B$4018,B2308),IF(D2308<6,0,COUNTIF(B2308:$B$4018,B2308)))","v":0},2,{"$f":"IF(ISERROR(VLOOKUP(A2308,Feriados!A:A,1,FALSE)),\"n\",VLOOKUP(A2308,Feriados!A:A,1,FALSE))","v":"n"}]
[46869,1587,{"$f":"IF(E2309<>\"n\",COUNTIF(B2309:$B$4018,B2309),IF(D2309<6,0,COUNTIF(B2309:$B$4018,B2309)))","v":0},3,{"$f":"IF(ISERROR(VLOOKUP(A2309,Feriados!A:A,1,FALSE)),\"n\",VLOOKUP(A2309,Feriados!A:A,1,FALSE))","v":"n"}]
[46870,1588,{"$f":"IF(E2310<>\"n\",COUNTIF(B2310:$B$4018,B2310),IF(D2310<6,0,COUNTIF(B2310:$B$4018,B2310)))","v":0},4,{"$f":"IF(ISERROR(VLOOKUP(A2310,Feriados!A:A,1,FALSE)),\"n\",VLOOKUP(A2310,Feriados!A:A,1,FALSE))","v":"n"}]
[46871,1589,{"$f":"IF(E2311<>\"n\",COUNTIF(B2311:$B$4018,B2311),IF(D2311<6,0,COUNTIF(B2311:$B$4018,B2311)))","v":0},5,{"$f":"IF(ISERROR(VLOOKUP(A2311,Feriados!A:A,1,FALSE)),\"n\",VLOOKUP(A2311,Feriados!A:A,1,FALSE))","v":"n"}]
[46872,1589,{"$f":"IF(E2312<>\"n\",COUNTIF(B2312:$B$4018,B2312),IF(D2312<6,0,COUNTIF(B2312:$B$4018,B2312)))","v":3},6,{"$f":"IF(ISERROR(VLOOKUP(A2312,Feriados!A:A,1,FALSE)),\"n\",VLOOKUP(A2312,Feriados!A:A,1,FALSE))","v":"n"}]
[46873,1589,{"$f":"IF(E2313<>\"n\",COUNTIF(B2313:$B$4018,B2313),IF(D2313<6,0,COUNTIF(B2313:$B$4018,B2313)))","v":2},7,{"$f":"IF(ISERROR(VLOOKUP(A2313,Feriados!A:A,1,FALSE)),\"n\",VLOOKUP(A2313,Feriados!A:A,1,FALSE))","v":"n"}]
[46874,1589,{"$f":"IF(E2314<>\"n\",COUNTIF(B2314:$B$4018,B2314),IF(D2314<6,0,COUNTIF(B2314:$B$4018,B2314)))","v":1},1,{"$f":"IF(ISERROR(VLOOKUP(A2314,Feriados!A:A,1,FALSE)),\"n\",VLOOKUP(A2314,Feriados!A:A,1,FALSE))","v":"2028-05-01"}]
[46875,1590,{"$f":"IF(E2315<>\"n\",COUNTIF(B2315:$B$4018,B2315),IF(D2315<6,0,COUNTIF(B2315:$B$4018,B2315)))","v":0},2,{"$f":"IF(ISERROR(VLOOKUP(A2315,Feriados!A:A,1,FALSE)),\"n\",VLOOKUP(A2315,Feriados!A:A,1,FALSE))","v":"n"}]
[46876,1591,{"$f":"IF(E2316<>\"n\",COUNTIF(B2316:$B$4018,B2316),IF(D2316<6,0,COUNTIF(B2316:$B$4018,B2316)))","v":0},3,{"$f":"IF(ISERROR(VLOOKUP(A2316,Feriados!A:A,1,FALSE)),\"n\",VLOOKUP(A2316,Feriados!A:A,1,FALSE))","v":"n"}]
[46877,1592,{"$f":"IF(E2317<>\"n\",COUNTIF(B2317:$B$4018,B2317),IF(D2317<6,0,COUNTIF(B2317:$B$4018,B2317)))","v":0},4,{"$f":"IF(ISERROR(VLOOKUP(A2317,Feriados!A:A,1,FALSE)),\"n\",VLOOKUP(A2317,Feriados!A:A,1,FALSE))","v":"n"}]
[46878,1593,{"$f":"IF(E2318<>\"n\",COUNTIF(B2318:$B$4018,B2318),IF(D2318<6,0,COUNTIF(B2318:$B$4018,B2318)))","v":0},5,{"$f":"IF(ISERROR(VLOOKUP(A2318,Feriados!A:A,1,FALSE)),\"n\",VLOOKUP(A2318,Feriados!A:A,1,FALSE))","v":"n"}]
[46879,1593,{"$f":"IF(E2319<>\"n\",COUNTIF(B2319:$B$4018,B2319),IF(D2319<6,0,COUNTIF(B2319:$B$4018,B2319)))","v":2},6,{"$f":"IF(ISERROR(VLOOKUP(A2319,Feriados!A:A,1,FALSE)),\"n\",VLOOKUP(A2319,Feriados!A:A,1,FALSE))","v":"n"}]
[46880,1593,{"$f":"IF(E2320<>\"n\",COUNTIF(B2320:$B$4018,B2320),IF(D2320<6,0,COUNTIF(B2320:$B$4018,B2320)))","v":1},7,{"$f":"IF(ISERROR(VLOOKUP(A2320,Feriados!A:A,1,FALSE)),\"n\",VLOOKUP(A2320,Feriados!A:A,1,FALSE))","v":"n"}]
[46881,1594,{"$f":"IF(E2321<>\"n\",COUNTIF(B2321:$B$4018,B2321),IF(D2321<6,0,COUNTIF(B2321:$B$4018,B2321)))","v":0},1,{"$f":"IF(ISERROR(VLOOKUP(A2321,Feriados!A:A,1,FALSE)),\"n\",VLOOKUP(A2321,Feriados!A:A,1,FALSE))","v":"n"}]
[46882,1595,{"$f":"IF(E2322<>\"n\",COUNTIF(B2322:$B$4018,B2322),IF(D2322<6,0,COUNTIF(B2322:$B$4018,B2322)))","v":0},2,{"$f":"IF(ISERROR(VLOOKUP(A2322,Feriados!A:A,1,FALSE)),\"n\",VLOOKUP(A2322,Feriados!A:A,1,FALSE))","v":"n"}]
[46883,1596,{"$f":"IF(E2323<>\"n\",COUNTIF(B2323:$B$4018,B2323),IF(D2323<6,0,COUNTIF(B2323:$B$4018,B2323)))","v":0},3,{"$f":"IF(ISERROR(VLOOKUP(A2323,Feriados!A:A,1,FALSE)),\"n\",VLOOKUP(A2323,Feriados!A:A,1,FALSE))","v":"n"}]
[46884,1597,{"$f":"IF(E2324<>\"n\",COUNTIF(B2324:$B$4018,B2324),IF(D2324<6,0,COUNTIF(B2324:$B$4018,B2324)))","v":0},4,{"$f":"IF(ISERROR(VLOOKUP(A2324,Feriados!A:A,1,FALSE)),\"n\",VLOOKUP(A2324,Feriados!A:A,1,FALSE))","v":"n"}]
[46885,1598,{"$f":"IF(E2325<>\"n\",COUNTIF(B2325:$B$4018,B2325),IF(D2325<6,0,COUNTIF(B2325:$B$4018,B2325)))","v":0},5,{"$f":"IF(ISERROR(VLOOKUP(A2325,Feriados!A:A,1,FALSE)),\"n\",VLOOKUP(A2325,Feriados!A:A,1,FALSE))","v":"n"}]
[46886,1598,{"$f":"IF(E2326<>\"n\",COUNTIF(B2326:$B$4018,B2326),IF(D2326<6,0,COUNTIF(B2326:$B$4018,B2326)))","v":2},6,{"$f":"IF(ISERROR(VLOOKUP(A2326,Feriados!A:A,1,FALSE)),\"n\",VLOOKUP(A2326,Feriados!A:A,1,FALSE))","v":"n"}]
[46887,1598,{"$f":"IF(E2327<>\"n\",COUNTIF(B2327:$B$4018,B2327),IF(D2327<6,0,COUNTIF(B2327:$B$4018,B2327)))","v":1},7,{"$f":"IF(ISERROR(VLOOKUP(A2327,Feriados!A:A,1,FALSE)),\"n\",VLOOKUP(A2327,Feriados!A:A,1,FALSE))","v":"n"}]
[46888,1599,{"$f":"IF(E2328<>\"n\",COUNTIF(B2328:$B$4018,B2328),IF(D2328<6,0,COUNTIF(B2328:$B$4018,B2328)))","v":0},1,{"$f":"IF(ISERROR(VLOOKUP(A2328,Feriados!A:A,1,FALSE)),\"n\",VLOOKUP(A2328,Feriados!A:A,1,FALSE))","v":"n"}]
[46889,1600,{"$f":"IF(E2329<>\"n\",COUNTIF(B2329:$B$4018,B2329),IF(D2329<6,0,COUNTIF(B2329:$B$4018,B2329)))","v":0},2,{"$f":"IF(ISERROR(VLOOKUP(A2329,Feriados!A:A,1,FALSE)),\"n\",VLOOKUP(A2329,Feriados!A:A,1,FALSE))","v":"n"}]
[46890,1601,{"$f":"IF(E2330<>\"n\",COUNTIF(B2330:$B$4018,B2330),IF(D2330<6,0,COUNTIF(B2330:$B$4018,B2330)))","v":0},3,{"$f":"IF(ISERROR(VLOOKUP(A2330,Feriados!A:A,1,FALSE)),\"n\",VLOOKUP(A2330,Feriados!A:A,1,FALSE))","v":"n"}]
[46891,1602,{"$f":"IF(E2331<>\"n\",COUNTIF(B2331:$B$4018,B2331),IF(D2331<6,0,COUNTIF(B2331:$B$4018,B2331)))","v":0},4,{"$f":"IF(ISERROR(VLOOKUP(A2331,Feriados!A:A,1,FALSE)),\"n\",VLOOKUP(A2331,Feriados!A:A,1,FALSE))","v":"n"}]
[46892,1603,{"$f":"IF(E2332<>\"n\",COUNTIF(B2332:$B$4018,B2332),IF(D2332<6,0,COUNTIF(B2332:$B$4018,B2332)))","v":0},5,{"$f":"IF(ISERROR(VLOOKUP(A2332,Feriados!A:A,1,FALSE)),\"n\",VLOOKUP(A2332,Feriados!A:A,1,FALSE))","v":"n"}]
[46893,1603,{"$f":"IF(E2333<>\"n\",COUNTIF(B2333:$B$4018,B2333),IF(D2333<6,0,COUNTIF(B2333:$B$4018,B2333)))","v":2},6,{"$f":"IF(ISERROR(VLOOKUP(A2333,Feriados!A:A,1,FALSE)),\"n\",VLOOKUP(A2333,Feriados!A:A,1,FALSE))","v":"n"}]
[46894,{"$f":"NETWORKDAYS($A$2,A2334,feriados)","v":1603},{"$f":"IF(E2334<>\"n\",COUNTIF(B2334:$B$4018,B2334),IF(D2334<6,0,COUNTIF(B2334:$B$4018,B2334)))","v":1},{"$f":"WEEKDAY(A2334,2)","v":7},{"$f":"IF(ISERROR(VLOOKUP(A2334,Feriados!A:A,1,FALSE)),\"n\",VLOOKUP(A2334,Feriados!A:A,1,FALSE))","v":"n"}]
[46895,1604,{"$f":"IF(E2335<>\"n\",COUNTIF(B2335:$B$4018,B2335),IF(D2335<6,0,COUNTIF(B2335:$B$4018,B2335)))","v":0},1,{"$f":"IF(ISERROR(VLOOKUP(A2335,Feriados!A:A,1,FALSE)),\"n\",VLOOKUP(A2335,Feriados!A:A,1,FALSE))","v":"n"}]
[46896,1605,{"$f":"IF(E2336<>\"n\",COUNTIF(B2336:$B$4018,B2336),IF(D2336<6,0,COUNTIF(B2336:$B$4018,B2336)))","v":0},2,{"$f":"IF(ISERROR(VLOOKUP(A2336,Feriados!A:A,1,FALSE)),\"n\",VLOOKUP(A2336,Feriados!A:A,1,FALSE))","v":"n"}]
[46897,1606,{"$f":"IF(E2337<>\"n\",COUNTIF(B2337:$B$4018,B2337),IF(D2337<6,0,COUNTIF(B2337:$B$4018,B2337)))","v":0},3,{"$f":"IF(ISERROR(VLOOKUP(A2337,Feriados!A:A,1,FALSE)),\"n\",VLOOKUP(A2337,Feriados!A:A,1,FALSE))","v":"n"}]
[46898,1607,{"$f":"IF(E2338<>\"n\",COUNTIF(B2338:$B$4018,B2338),IF(D2338<6,0,COUNTIF(B2338:$B$4018,B2338)))","v":0},4,{"$f":"IF(ISERROR(VLOOKUP(A2338,Feriados!A:A,1,FALSE)),\"n\",VLOOKUP(A2338,Feriados!A:A,1,FALSE))","v":"n"}]
[46899,1608,{"$f":"IF(E2339<>\"n\",COUNTIF(B2339:$B$4018,B2339),IF(D2339<6,0,COUNTIF(B2339:$B$4018,B2339)))","v":0},5,{"$f":"IF(ISERROR(VLOOKUP(A2339,Feriados!A:A,1,FALSE)),\"n\",VLOOKUP(A2339,Feriados!A:A,1,FALSE))","v":"n"}]
[46900,1608,{"$f":"IF(E2340<>\"n\",COUNTIF(B2340:$B$4018,B2340),IF(D2340<6,0,COUNTIF(B2340:$B$4018,B2340)))","v":2},6,{"$f":"IF(ISERROR(VLOOKUP(A2340,Feriados!A:A,1,FALSE)),\"n\",VLOOKUP(A2340,Feriados!A:A,1,FALSE))","v":"n"}]
[46901,1608,{"$f":"IF(E2341<>\"n\",COUNTIF(B2341:$B$4018,B2341),IF(D2341<6,0,COUNTIF(B2341:$B$4018,B2341)))","v":1},7,{"$f":"IF(ISERROR(VLOOKUP(A2341,Feriados!A:A,1,FALSE)),\"n\",VLOOKUP(A2341,Feriados!A:A,1,FALSE))","v":"n"}]
[46902,1609,{"$f":"IF(E2342<>\"n\",COUNTIF(B2342:$B$4018,B2342),IF(D2342<6,0,COUNTIF(B2342:$B$4018,B2342)))","v":0},1,{"$f":"IF(ISERROR(VLOOKUP(A2342,Feriados!A:A,1,FALSE)),\"n\",VLOOKUP(A2342,Feriados!A:A,1,FALSE))","v":"n"}]
[46903,1610,{"$f":"IF(E2343<>\"n\",COUNTIF(B2343:$B$4018,B2343),IF(D2343<6,0,COUNTIF(B2343:$B$4018,B2343)))","v":0},2,{"$f":"IF(ISERROR(VLOOKUP(A2343,Feriados!A:A,1,FALSE)),\"n\",VLOOKUP(A2343,Feriados!A:A,1,FALSE))","v":"n"}]
[46904,1611,{"$f":"IF(E2344<>\"n\",COUNTIF(B2344:$B$4018,B2344),IF(D2344<6,0,COUNTIF(B2344:$B$4018,B2344)))","v":0},3,{"$f":"IF(ISERROR(VLOOKUP(A2344,Feriados!A:A,1,FALSE)),\"n\",VLOOKUP(A2344,Feriados!A:A,1,FALSE))","v":"n"}]
[46905,1612,{"$f":"IF(E2345<>\"n\",COUNTIF(B2345:$B$4018,B2345),IF(D2345<6,0,COUNTIF(B2345:$B$4018,B2345)))","v":0},4,{"$f":"IF(ISERROR(VLOOKUP(A2345,Feriados!A:A,1,FALSE)),\"n\",VLOOKUP(A2345,Feriados!A:A,1,FALSE))","v":"n"}]
[46906,1613,{"$f":"IF(E2346<>\"n\",COUNTIF(B2346:$B$4018,B2346),IF(D2346<6,0,COUNTIF(B2346:$B$4018,B2346)))","v":0},5,{"$f":"IF(ISERROR(VLOOKUP(A2346,Feriados!A:A,1,FALSE)),\"n\",VLOOKUP(A2346,Feriados!A:A,1,FALSE))","v":"n"}]
[46907,1613,{"$f":"IF(E2347<>\"n\",COUNTIF(B2347:$B$4018,B2347),IF(D2347<6,0,COUNTIF(B2347:$B$4018,B2347)))","v":2},6,{"$f":"IF(ISERROR(VLOOKUP(A2347,Feriados!A:A,1,FALSE)),\"n\",VLOOKUP(A2347,Feriados!A:A,1,FALSE))","v":"n"}]
[46908,1613,{"$f":"IF(E2348<>\"n\",COUNTIF(B2348:$B$4018,B2348),IF(D2348<6,0,COUNTIF(B2348:$B$4018,B2348)))","v":1},7,{"$f":"IF(ISERROR(VLOOKUP(A2348,Feriados!A:A,1,FALSE)),\"n\",VLOOKUP(A2348,Feriados!A:A,1,FALSE))","v":"n"}]
[46909,1614,{"$f":"IF(E2349<>\"n\",COUNTIF(B2349:$B$4018,B2349),IF(D2349<6,0,COUNTIF(B2349:$B$4018,B2349)))","v":0},1,{"$f":"IF(ISERROR(VLOOKUP(A2349,Feriados!A:A,1,FALSE)),\"n\",VLOOKUP(A2349,Feriados!A:A,1,FALSE))","v":"n"}]
[46910,1615,{"$f":"IF(E2350<>\"n\",COUNTIF(B2350:$B$4018,B2350),IF(D2350<6,0,COUNTIF(B2350:$B$4018,B2350)))","v":0},2,{"$f":"IF(ISERROR(VLOOKUP(A2350,Feriados!A:A,1,FALSE)),\"n\",VLOOKUP(A2350,Feriados!A:A,1,FALSE))","v":"n"}]
[46911,1616,{"$f":"IF(E2351<>\"n\",COUNTIF(B2351:$B$4018,B2351),IF(D2351<6,0,COUNTIF(B2351:$B$4018,B2351)))","v":0},3,{"$f":"IF(ISERROR(VLOOKUP(A2351,Feriados!A:A,1,FALSE)),\"n\",VLOOKUP(A2351,Feriados!A:A,1,FALSE))","v":"n"}]
[46912,1617,{"$f":"IF(E2352<>\"n\",COUNTIF(B2352:$B$4018,B2352),IF(D2352<6,0,COUNTIF(B2352:$B$4018,B2352)))","v":0},4,{"$f":"IF(ISERROR(VLOOKUP(A2352,Feriados!A:A,1,FALSE)),\"n\",VLOOKUP(A2352,Feriados!A:A,1,FALSE))","v":"n"}]
[46913,1618,{"$f":"IF(E2353<>\"n\",COUNTIF(B2353:$B$4018,B2353),IF(D2353<6,0,COUNTIF(B2353:$B$4018,B2353)))","v":0},5,{"$f":"IF(ISERROR(VLOOKUP(A2353,Feriados!A:A,1,FALSE)),\"n\",VLOOKUP(A2353,Feriados!A:A,1,FALSE))","v":"n"}]
[46914,1618,{"$f":"IF(E2354<>\"n\",COUNTIF(B2354:$B$4018,B2354),IF(D2354<6,0,COUNTIF(B2354:$B$4018,B2354)))","v":2},6,{"$f":"IF(ISERROR(VLOOKUP(A2354,Feriados!A:A,1,FALSE)),\"n\",VLOOKUP(A2354,Feriados!A:A,1,FALSE))","v":"n"}]
[46915,1618,{"$f":"IF(E2355<>\"n\",COUNTIF(B2355:$B$4018,B2355),IF(D2355<6,0,COUNTIF(B2355:$B$4018,B2355)))","v":1},7,{"$f":"IF(ISERROR(VLOOKUP(A2355,Feriados!A:A,1,FALSE)),\"n\",VLOOKUP(A2355,Feriados!A:A,1,FALSE))","v":"n"}]
[46916,1619,{"$f":"IF(E2356<>\"n\",COUNTIF(B2356:$B$4018,B2356),IF(D2356<6,0,COUNTIF(B2356:$B$4018,B2356)))","v":0},1,{"$f":"IF(ISERROR(VLOOKUP(A2356,Feriados!A:A,1,FALSE)),\"n\",VLOOKUP(A2356,Feriados!A:A,1,FALSE))","v":"n"}]
[46917,1620,{"$f":"IF(E2357<>\"n\",COUNTIF(B2357:$B$4018,B2357),IF(D2357<6,0,COUNTIF(B2357:$B$4018,B2357)))","v":0},2,{"$f":"IF(ISERROR(VLOOKUP(A2357,Feriados!A:A,1,FALSE)),\"n\",VLOOKUP(A2357,Feriados!A:A,1,FALSE))","v":"n"}]
[46918,1621,{"$f":"IF(E2358<>\"n\",COUNTIF(B2358:$B$4018,B2358),IF(D2358<6,0,COUNTIF(B2358:$B$4018,B2358)))","v":0},3,{"$f":"IF(ISERROR(VLOOKUP(A2358,Feriados!A:A,1,FALSE)),\"n\",VLOOKUP(A2358,Feriados!A:A,1,FALSE))","v":"n"}]
[46919,1621,{"$f":"IF(E2359<>\"n\",COUNTIF(B2359:$B$4018,B2359),IF(D2359<6,0,COUNTIF(B2359:$B$4018,B2359)))","v":1},4,{"$f":"IF(ISERROR(VLOOKUP(A2359,Feriados!A:A,1,FALSE)),\"n\",VLOOKUP(A2359,Feriados!A:A,1,FALSE))","v":"2028-06-15"}]
[46920,1622,{"$f":"IF(E2360<>\"n\",COUNTIF(B2360:$B$4018,B2360),IF(D2360<6,0,COUNTIF(B2360:$B$4018,B2360)))","v":0},5,{"$f":"IF(ISERROR(VLOOKUP(A2360,Feriados!A:A,1,FALSE)),\"n\",VLOOKUP(A2360,Feriados!A:A,1,FALSE))","v":"n"}]
[46921,1622,{"$f":"IF(E2361<>\"n\",COUNTIF(B2361:$B$4018,B2361),IF(D2361<6,0,COUNTIF(B2361:$B$4018,B2361)))","v":2},6,{"$f":"IF(ISERROR(VLOOKUP(A2361,Feriados!A:A,1,FALSE)),\"n\",VLOOKUP(A2361,Feriados!A:A,1,FALSE))","v":"n"}]
[46922,1622,{"$f":"IF(E2362<>\"n\",COUNTIF(B2362:$B$4018,B2362),IF(D2362<6,0,COUNTIF(B2362:$B$4018,B2362)))","v":1},7,{"$f":"IF(ISERROR(VLOOKUP(A2362,Feriados!A:A,1,FALSE)),\"n\",VLOOKUP(A2362,Feriados!A:A,1,FALSE))","v":"n"}]
[46923,1623,{"$f":"IF(E2363<>\"n\",COUNTIF(B2363:$B$4018,B2363),IF(D2363<6,0,COUNTIF(B2363:$B$4018,B2363)))","v":0},1,{"$f":"IF(ISERROR(VLOOKUP(A2363,Feriados!A:A,1,FALSE)),\"n\",VLOOKUP(A2363,Feriados!A:A,1,FALSE))","v":"n"}]
[46924,1624,{"$f":"IF(E2364<>\"n\",COUNTIF(B2364:$B$4018,B2364),IF(D2364<6,0,COUNTIF(B2364:$B$4018,B2364)))","v":0},2,{"$f":"IF(ISERROR(VLOOKUP(A2364,Feriados!A:A,1,FALSE)),\"n\",VLOOKUP(A2364,Feriados!A:A,1,FALSE))","v":"n"}]
[46925,1625,{"$f":"IF(E2365<>\"n\",COUNTIF(B2365:$B$4018,B2365),IF(D2365<6,0,COUNTIF(B2365:$B$4018,B2365)))","v":0},3,{"$f":"IF(ISERROR(VLOOKUP(A2365,Feriados!A:A,1,FALSE)),\"n\",VLOOKUP(A2365,Feriados!A:A,1,FALSE))","v":"n"}]
[46926,1626,{"$f":"IF(E2366<>\"n\",COUNTIF(B2366:$B$4018,B2366),IF(D2366<6,0,COUNTIF(B2366:$B$4018,B2366)))","v":0},4,{"$f":"IF(ISERROR(VLOOKUP(A2366,Feriados!A:A,1,FALSE)),\"n\",VLOOKUP(A2366,Feriados!A:A,1,FALSE))","v":"n"}]
[46927,1627,{"$f":"IF(E2367<>\"n\",COUNTIF(B2367:$B$4018,B2367),IF(D2367<6,0,COUNTIF(B2367:$B$4018,B2367)))","v":0},5,{"$f":"IF(ISERROR(VLOOKUP(A2367,Feriados!A:A,1,FALSE)),\"n\",VLOOKUP(A2367,Feriados!A:A,1,FALSE))","v":"n"}]
[46928,1627,{"$f":"IF(E2368<>\"n\",COUNTIF(B2368:$B$4018,B2368),IF(D2368<6,0,COUNTIF(B2368:$B$4018,B2368)))","v":2},6,{"$f":"IF(ISERROR(VLOOKUP(A2368,Feriados!A:A,1,FALSE)),\"n\",VLOOKUP(A2368,Feriados!A:A,1,FALSE))","v":"n"}]
[46929,1627,{"$f":"IF(E2369<>\"n\",COUNTIF(B2369:$B$4018,B2369),IF(D2369<6,0,COUNTIF(B2369:$B$4018,B2369)))","v":1},7,{"$f":"IF(ISERROR(VLOOKUP(A2369,Feriados!A:A,1,FALSE)),\"n\",VLOOKUP(A2369,Feriados!A:A,1,FALSE))","v":"n"}]
[46930,1628,{"$f":"IF(E2370<>\"n\",COUNTIF(B2370:$B$4018,B2370),IF(D2370<6,0,COUNTIF(B2370:$B$4018,B2370)))","v":0},1,{"$f":"IF(ISERROR(VLOOKUP(A2370,Feriados!A:A,1,FALSE)),\"n\",VLOOKUP(A2370,Feriados!A:A,1,FALSE))","v":"n"}]
[46931,1629,{"$f":"IF(E2371<>\"n\",COUNTIF(B2371:$B$4018,B2371),IF(D2371<6,0,COUNTIF(B2371:$B$4018,B2371)))","v":0},2,{"$f":"IF(ISERROR(VLOOKUP(A2371,Feriados!A:A,1,FALSE)),\"n\",VLOOKUP(A2371,Feriados!A:A,1,FALSE))","v":"n"}]
[{"$f":"A2371+1","v":46932},1630,{"$f":"IF(E2372<>\"n\",COUNTIF(B2372:$B$4018,B2372),IF(D2372<6,0,COUNTIF(B2372:$B$4018,B2372)))","v":0},3,{"$f":"IF(ISERROR(VLOOKUP(A2372,Feriados!A:A,1,FALSE)),\"n\",VLOOKUP(A2372,Feriados!A:A,1,FALSE))","v":"n"}]
[46933,1631,{"$f":"IF(E2373<>\"n\",COUNTIF(B2373:$B$4018,B2373),IF(D2373<6,0,COUNTIF(B2373:$B$4018,B2373)))","v":0},4,{"$f":"IF(ISERROR(VLOOKUP(A2373,Feriados!A:A,1,FALSE)),\"n\",VLOOKUP(A2373,Feriados!A:A,1,FALSE))","v":"n"}]
[46934,1632,{"$f":"IF(E2374<>\"n\",COUNTIF(B2374:$B$4018,B2374),IF(D2374<6,0,COUNTIF(B2374:$B$4018,B2374)))","v":0},5,{"$f":"IF(ISERROR(VLOOKUP(A2374,Feriados!A:A,1,FALSE)),\"n\",VLOOKUP(A2374,Feriados!A:A,1,FALSE))","v":"n"}]
[46935,1632,{"$f":"IF(E2375<>\"n\",COUNTIF(B2375:$B$4018,B2375),IF(D2375<6,0,COUNTIF(B2375:$B$4018,B2375)))","v":2},6,{"$f":"IF(ISERROR(VLOOKUP(A2375,Feriados!A:A,1,FALSE)),\"n\",VLOOKUP(A2375,Feriados!A:A,1,FALSE))","v":"n"}]
[46936,1632,{"$f":"IF(E2376<>\"n\",COUNTIF(B2376:$B$4018,B2376),IF(D2376<6,0,COUNTIF(B2376:$B$4018,B2376)))","v":1},7,{"$f":"IF(ISERROR(VLOOKUP(A2376,Feriados!A:A,1,FALSE)),\"n\",VLOOKUP(A2376,Feriados!A:A,1,FALSE))","v":"n"}]
[46937,1633,{"$f":"IF(E2377<>\"n\",COUNTIF(B2377:$B$4018,B2377),IF(D2377<6,0,COUNTIF(B2377:$B$4018,B2377)))","v":0},1,{"$f":"IF(ISERROR(VLOOKUP(A2377,Feriados!A:A,1,FALSE)),\"n\",VLOOKUP(A2377,Feriados!A:A,1,FALSE))","v":"n"}]
[46938,1634,{"$f":"IF(E2378<>\"n\",COUNTIF(B2378:$B$4018,B2378),IF(D2378<6,0,COUNTIF(B2378:$B$4018,B2378)))","v":0},2,{"$f":"IF(ISERROR(VLOOKUP(A2378,Feriados!A:A,1,FALSE)),\"n\",VLOOKUP(A2378,Feriados!A:A,1,FALSE))","v":"n"}]
[46939,1635,{"$f":"IF(E2379<>\"n\",COUNTIF(B2379:$B$4018,B2379),IF(D2379<6,0,COUNTIF(B2379:$B$4018,B2379)))","v":0},3,{"$f":"IF(ISERROR(VLOOKUP(A2379,Feriados!A:A,1,FALSE)),\"n\",VLOOKUP(A2379,Feriados!A:A,1,FALSE))","v":"n"}]
[46940,1636,{"$f":"IF(E2380<>\"n\",COUNTIF(B2380:$B$4018,B2380),IF(D2380<6,0,COUNTIF(B2380:$B$4018,B2380)))","v":0},4,{"$f":"IF(ISERROR(VLOOKUP(A2380,Feriados!A:A,1,FALSE)),\"n\",VLOOKUP(A2380,Feriados!A:A,1,FALSE))","v":"n"}]
[46941,1637,{"$f":"IF(E2381<>\"n\",COUNTIF(B2381:$B$4018,B2381),IF(D2381<6,0,COUNTIF(B2381:$B$4018,B2381)))","v":0},5,{"$f":"IF(ISERROR(VLOOKUP(A2381,Feriados!A:A,1,FALSE)),\"n\",VLOOKUP(A2381,Feriados!A:A,1,FALSE))","v":"n"}]
[46942,1637,{"$f":"IF(E2382<>\"n\",COUNTIF(B2382:$B$4018,B2382),IF(D2382<6,0,COUNTIF(B2382:$B$4018,B2382)))","v":2},6,{"$f":"IF(ISERROR(VLOOKUP(A2382,Feriados!A:A,1,FALSE)),\"n\",VLOOKUP(A2382,Feriados!A:A,1,FALSE))","v":"n"}]
[46943,1637,{"$f":"IF(E2383<>\"n\",COUNTIF(B2383:$B$4018,B2383),IF(D2383<6,0,COUNTIF(B2383:$B$4018,B2383)))","v":1},7,{"$f":"IF(ISERROR(VLOOKUP(A2383,Feriados!A:A,1,FALSE)),\"n\",VLOOKUP(A2383,Feriados!A:A,1,FALSE))","v":"n"}]
[46944,1638,{"$f":"IF(E2384<>\"n\",COUNTIF(B2384:$B$4018,B2384),IF(D2384<6,0,COUNTIF(B2384:$B$4018,B2384)))","v":0},1,{"$f":"IF(ISERROR(VLOOKUP(A2384,Feriados!A:A,1,FALSE)),\"n\",VLOOKUP(A2384,Feriados!A:A,1,FALSE))","v":"n"}]
[46945,1639,{"$f":"IF(E2385<>\"n\",COUNTIF(B2385:$B$4018,B2385),IF(D2385<6,0,COUNTIF(B2385:$B$4018,B2385)))","v":0},2,{"$f":"IF(ISERROR(VLOOKUP(A2385,Feriados!A:A,1,FALSE)),\"n\",VLOOKUP(A2385,Feriados!A:A,1,FALSE))","v":"n"}]
[46946,1640,{"$f":"IF(E2386<>\"n\",COUNTIF(B2386:$B$4018,B2386),IF(D2386<6,0,COUNTIF(B2386:$B$4018,B2386)))","v":0},3,{"$f":"IF(ISERROR(VLOOKUP(A2386,Feriados!A:A,1,FALSE)),\"n\",VLOOKUP(A2386,Feriados!A:A,1,FALSE))","v":"n"}]
[46947,1641,{"$f":"IF(E2387<>\"n\",COUNTIF(B2387:$B$4018,B2387),IF(D2387<6,0,COUNTIF(B2387:$B$4018,B2387)))","v":0},4,{"$f":"IF(ISERROR(VLOOKUP(A2387,Feriados!A:A,1,FALSE)),\"n\",VLOOKUP(A2387,Feriados!A:A,1,FALSE))","v":"n"}]
[46948,1642,{"$f":"IF(E2388<>\"n\",COUNTIF(B2388:$B$4018,B2388),IF(D2388<6,0,COUNTIF(B2388:$B$4018,B2388)))","v":0},5,{"$f":"IF(ISERROR(VLOOKUP(A2388,Feriados!A:A,1,FALSE)),\"n\",VLOOKUP(A2388,Feriados!A:A,1,FALSE))","v":"n"}]
[46949,1642,{"$f":"IF(E2389<>\"n\",COUNTIF(B2389:$B$4018,B2389),IF(D2389<6,0,COUNTIF(B2389:$B$4018,B2389)))","v":2},6,{"$f":"IF(ISERROR(VLOOKUP(A2389,Feriados!A:A,1,FALSE)),\"n\",VLOOKUP(A2389,Feriados!A:A,1,FALSE))","v":"n"}]
[46950,1642,{"$f":"IF(E2390<>\"n\",COUNTIF(B2390:$B$4018,B2390),IF(D2390<6,0,COUNTIF(B2390:$B$4018,B2390)))","v":1},7,{"$f":"IF(ISERROR(VLOOKUP(A2390,Feriados!A:A,1,FALSE)),\"n\",VLOOKUP(A2390,Feriados!A:A,1,FALSE))","v":"n"}]
[46951,1643,{"$f":"IF(E2391<>\"n\",COUNTIF(B2391:$B$4018,B2391),IF(D2391<6,0,COUNTIF(B2391:$B$4018,B2391)))","v":0},1,{"$f":"IF(ISERROR(VLOOKUP(A2391,Feriados!A:A,1,FALSE)),\"n\",VLOOKUP(A2391,Feriados!A:A,1,FALSE))","v":"n"}]
[46952,1644,{"$f":"IF(E2392<>\"n\",COUNTIF(B2392:$B$4018,B2392),IF(D2392<6,0,COUNTIF(B2392:$B$4018,B2392)))","v":0},2,{"$f":"IF(ISERROR(VLOOKUP(A2392,Feriados!A:A,1,FALSE)),\"n\",VLOOKUP(A2392,Feriados!A:A,1,FALSE))","v":"n"}]
[46953,1645,{"$f":"IF(E2393<>\"n\",COUNTIF(B2393:$B$4018,B2393),IF(D2393<6,0,COUNTIF(B2393:$B$4018,B2393)))","v":0},3,{"$f":"IF(ISERROR(VLOOKUP(A2393,Feriados!A:A,1,FALSE)),\"n\",VLOOKUP(A2393,Feriados!A:A,1,FALSE))","v":"n"}]
[46954,1646,{"$f":"IF(E2394<>\"n\",COUNTIF(B2394:$B$4018,B2394),IF(D2394<6,0,COUNTIF(B2394:$B$4018,B2394)))","v":0},4,{"$f":"IF(ISERROR(VLOOKUP(A2394,Feriados!A:A,1,FALSE)),\"n\",VLOOKUP(A2394,Feriados!A:A,1,FALSE))","v":"n"}]
[46955,1647,{"$f":"IF(E2395<>\"n\",COUNTIF(B2395:$B$4018,B2395),IF(D2395<6,0,COUNTIF(B2395:$B$4018,B2395)))","v":0},5,{"$f":"IF(ISERROR(VLOOKUP(A2395,Feriados!A:A,1,FALSE)),\"n\",VLOOKUP(A2395,Feriados!A:A,1,FALSE))","v":"n"}]
[46956,1647,{"$f":"IF(E2396<>\"n\",COUNTIF(B2396:$B$4018,B2396),IF(D2396<6,0,COUNTIF(B2396:$B$4018,B2396)))","v":2},6,{"$f":"IF(ISERROR(VLOOKUP(A2396,Feriados!A:A,1,FALSE)),\"n\",VLOOKUP(A2396,Feriados!A:A,1,FALSE))","v":"n"}]
[46957,1647,{"$f":"IF(E2397<>\"n\",COUNTIF(B2397:$B$4018,B2397),IF(D2397<6,0,COUNTIF(B2397:$B$4018,B2397)))","v":1},7,{"$f":"IF(ISERROR(VLOOKUP(A2397,Feriados!A:A,1,FALSE)),\"n\",VLOOKUP(A2397,Feriados!A:A,1,FALSE))","v":"n"}]
[46958,{"$f":"NETWORKDAYS($A$2,A2398,feriados)","v":1648},{"$f":"IF(E2398<>\"n\",COUNTIF(B2398:$B$4018,B2398),IF(D2398<6,0,COUNTIF(B2398:$B$4018,B2398)))","v":0},{"$f":"WEEKDAY(A2398,2)","v":1},{"$f":"IF(ISERROR(VLOOKUP(A2398,Feriados!A:A,1,FALSE)),\"n\",VLOOKUP(A2398,Feriados!A:A,1,FALSE))","v":"n"}]
[46959,1649,{"$f":"IF(E2399<>\"n\",COUNTIF(B2399:$B$4018,B2399),IF(D2399<6,0,COUNTIF(B2399:$B$4018,B2399)))","v":0},2,{"$f":"IF(ISERROR(VLOOKUP(A2399,Feriados!A:A,1,FALSE)),\"n\",VLOOKUP(A2399,Feriados!A:A,1,FALSE))","v":"n"}]
[46960,1650,{"$f":"IF(E2400<>\"n\",COUNTIF(B2400:$B$4018,B2400),IF(D2400<6,0,COUNTIF(B2400:$B$4018,B2400)))","v":0},3,{"$f":"IF(ISERROR(VLOOKUP(A2400,Feriados!A:A,1,FALSE)),\"n\",VLOOKUP(A2400,Feriados!A:A,1,FALSE))","v":"n"}]
[46961,1651,{"$f":"IF(E2401<>\"n\",COUNTIF(B2401:$B$4018,B2401),IF(D2401<6,0,COUNTIF(B2401:$B$4018,B2401)))","v":0},4,{"$f":"IF(ISERROR(VLOOKUP(A2401,Feriados!A:A,1,FALSE)),\"n\",VLOOKUP(A2401,Feriados!A:A,1,FALSE))","v":"n"}]
[46962,1652,{"$f":"IF(E2402<>\"n\",COUNTIF(B2402:$B$4018,B2402),IF(D2402<6,0,COUNTIF(B2402:$B$4018,B2402)))","v":0},5,{"$f":"IF(ISERROR(VLOOKUP(A2402,Feriados!A:A,1,FALSE)),\"n\",VLOOKUP(A2402,Feriados!A:A,1,FALSE))","v":"n"}]
[46963,1652,{"$f":"IF(E2403<>\"n\",COUNTIF(B2403:$B$4018,B2403),IF(D2403<6,0,COUNTIF(B2403:$B$4018,B2403)))","v":2},6,{"$f":"IF(ISERROR(VLOOKUP(A2403,Feriados!A:A,1,FALSE)),\"n\",VLOOKUP(A2403,Feriados!A:A,1,FALSE))","v":"n"}]
[46964,1652,{"$f":"IF(E2404<>\"n\",COUNTIF(B2404:$B$4018,B2404),IF(D2404<6,0,COUNTIF(B2404:$B$4018,B2404)))","v":1},7,{"$f":"IF(ISERROR(VLOOKUP(A2404,Feriados!A:A,1,FALSE)),\"n\",VLOOKUP(A2404,Feriados!A:A,1,FALSE))","v":"n"}]
[46965,1653,{"$f":"IF(E2405<>\"n\",COUNTIF(B2405:$B$4018,B2405),IF(D2405<6,0,COUNTIF(B2405:$B$4018,B2405)))","v":0},1,{"$f":"IF(ISERROR(VLOOKUP(A2405,Feriados!A:A,1,FALSE)),\"n\",VLOOKUP(A2405,Feriados!A:A,1,FALSE))","v":"n"}]
[46966,1654,{"$f":"IF(E2406<>\"n\",COUNTIF(B2406:$B$4018,B2406),IF(D2406<6,0,COUNTIF(B2406:$B$4018,B2406)))","v":0},2,{"$f":"IF(ISERROR(VLOOKUP(A2406,Feriados!A:A,1,FALSE)),\"n\",VLOOKUP(A2406,Feriados!A:A,1,FALSE))","v":"n"}]
[46967,1655,{"$f":"IF(E2407<>\"n\",COUNTIF(B2407:$B$4018,B2407),IF(D2407<6,0,COUNTIF(B2407:$B$4018,B2407)))","v":0},3,{"$f":"IF(ISERROR(VLOOKUP(A2407,Feriados!A:A,1,FALSE)),\"n\",VLOOKUP(A2407,Feriados!A:A,1,FALSE))","v":"n"}]
[46968,1656,{"$f":"IF(E2408<>\"n\",COUNTIF(B2408:$B$4018,B2408),IF(D2408<6,0,COUNTIF(B2408:$B$4018,B2408)))","v":0},4,{"$f":"IF(ISERROR(VLOOKUP(A2408,Feriados!A:A,1,FALSE)),\"n\",VLOOKUP(A2408,Feriados!A:A,1,FALSE))","v":"n"}]
[46969,1657,{"$f":"IF(E2409<>\"n\",COUNTIF(B2409:$B$4018,B2409),IF(D2409<6,0,COUNTIF(B2409:$B$4018,B2409)))","v":0},5,{"$f":"IF(ISERROR(VLOOKUP(A2409,Feriados!A:A,1,FALSE)),\"n\",VLOOKUP(A2409,Feriados!A:A,1,FALSE))","v":"n"}]
[46970,1657,{"$f":"IF(E2410<>\"n\",COUNTIF(B2410:$B$4018,B2410),IF(D2410<6,0,COUNTIF(B2410:$B$4018,B2410)))","v":2},6,{"$f":"IF(ISERROR(VLOOKUP(A2410,Feriados!A:A,1,FALSE)),\"n\",VLOOKUP(A2410,Feriados!A:A,1,FALSE))","v":"n"}]
[46971,1657,{"$f":"IF(E2411<>\"n\",COUNTIF(B2411:$B$4018,B2411),IF(D2411<6,0,COUNTIF(B2411:$B$4018,B2411)))","v":1},7,{"$f":"IF(ISERROR(VLOOKUP(A2411,Feriados!A:A,1,FALSE)),\"n\",VLOOKUP(A2411,Feriados!A:A,1,FALSE))","v":"n"}]
[46972,1658,{"$f":"IF(E2412<>\"n\",COUNTIF(B2412:$B$4018,B2412),IF(D2412<6,0,COUNTIF(B2412:$B$4018,B2412)))","v":0},1,{"$f":"IF(ISERROR(VLOOKUP(A2412,Feriados!A:A,1,FALSE)),\"n\",VLOOKUP(A2412,Feriados!A:A,1,FALSE))","v":"n"}]
[46973,1659,{"$f":"IF(E2413<>\"n\",COUNTIF(B2413:$B$4018,B2413),IF(D2413<6,0,COUNTIF(B2413:$B$4018,B2413)))","v":0},2,{"$f":"IF(ISERROR(VLOOKUP(A2413,Feriados!A:A,1,FALSE)),\"n\",VLOOKUP(A2413,Feriados!A:A,1,FALSE))","v":"n"}]
[46974,1660,{"$f":"IF(E2414<>\"n\",COUNTIF(B2414:$B$4018,B2414),IF(D2414<6,0,COUNTIF(B2414:$B$4018,B2414)))","v":0},3,{"$f":"IF(ISERROR(VLOOKUP(A2414,Feriados!A:A,1,FALSE)),\"n\",VLOOKUP(A2414,Feriados!A:A,1,FALSE))","v":"n"}]
[46975,1661,{"$f":"IF(E2415<>\"n\",COUNTIF(B2415:$B$4018,B2415),IF(D2415<6,0,COUNTIF(B2415:$B$4018,B2415)))","v":0},4,{"$f":"IF(ISERROR(VLOOKUP(A2415,Feriados!A:A,1,FALSE)),\"n\",VLOOKUP(A2415,Feriados!A:A,1,FALSE))","v":"n"}]
[46976,1662,{"$f":"IF(E2416<>\"n\",COUNTIF(B2416:$B$4018,B2416),IF(D2416<6,0,COUNTIF(B2416:$B$4018,B2416)))","v":0},5,{"$f":"IF(ISERROR(VLOOKUP(A2416,Feriados!A:A,1,FALSE)),\"n\",VLOOKUP(A2416,Feriados!A:A,1,FALSE))","v":"n"}]
[46977,1662,{"$f":"IF(E2417<>\"n\",COUNTIF(B2417:$B$4018,B2417),IF(D2417<6,0,COUNTIF(B2417:$B$4018,B2417)))","v":2},6,{"$f":"IF(ISERROR(VLOOKUP(A2417,Feriados!A:A,1,FALSE)),\"n\",VLOOKUP(A2417,Feriados!A:A,1,FALSE))","v":"n"}]
[46978,1662,{"$f":"IF(E2418<>\"n\",COUNTIF(B2418:$B$4018,B2418),IF(D2418<6,0,COUNTIF(B2418:$B$4018,B2418)))","v":1},7,{"$f":"IF(ISERROR(VLOOKUP(A2418,Feriados!A:A,1,FALSE)),\"n\",VLOOKUP(A2418,Feriados!A:A,1,FALSE))","v":"n"}]
[46979,1663,{"$f":"IF(E2419<>\"n\",COUNTIF(B2419:$B$4018,B2419),IF(D2419<6,0,COUNTIF(B2419:$B$4018,B2419)))","v":0},1,{"$f":"IF(ISERROR(VLOOKUP(A2419,Feriados!A:A,1,FALSE)),\"n\",VLOOKUP(A2419,Feriados!A:A,1,FALSE))","v":"n"}]
[46980,1664,{"$f":"IF(E2420<>\"n\",COUNTIF(B2420:$B$4018,B2420),IF(D2420<6,0,COUNTIF(B2420:$B$4018,B2420)))","v":0},2,{"$f":"IF(ISERROR(VLOOKUP(A2420,Feriados!A:A,1,FALSE)),\"n\",VLOOKUP(A2420,Feriados!A:A,1,FALSE))","v":"n"}]
[46981,1665,{"$f":"IF(E2421<>\"n\",COUNTIF(B2421:$B$4018,B2421),IF(D2421<6,0,COUNTIF(B2421:$B$4018,B2421)))","v":0},3,{"$f":"IF(ISERROR(VLOOKUP(A2421,Feriados!A:A,1,FALSE)),\"n\",VLOOKUP(A2421,Feriados!A:A,1,FALSE))","v":"n"}]
[46982,1666,{"$f":"IF(E2422<>\"n\",COUNTIF(B2422:$B$4018,B2422),IF(D2422<6,0,COUNTIF(B2422:$B$4018,B2422)))","v":0},4,{"$f":"IF(ISERROR(VLOOKUP(A2422,Feriados!A:A,1,FALSE)),\"n\",VLOOKUP(A2422,Feriados!A:A,1,FALSE))","v":"n"}]
[46983,1667,{"$f":"IF(E2423<>\"n\",COUNTIF(B2423:$B$4018,B2423),IF(D2423<6,0,COUNTIF(B2423:$B$4018,B2423)))","v":0},5,{"$f":"IF(ISERROR(VLOOKUP(A2423,Feriados!A:A,1,FALSE)),\"n\",VLOOKUP(A2423,Feriados!A:A,1,FALSE))","v":"n"}]
[46984,1667,{"$f":"IF(E2424<>\"n\",COUNTIF(B2424:$B$4018,B2424),IF(D2424<6,0,COUNTIF(B2424:$B$4018,B2424)))","v":2},6,{"$f":"IF(ISERROR(VLOOKUP(A2424,Feriados!A:A,1,FALSE)),\"n\",VLOOKUP(A2424,Feriados!A:A,1,FALSE))","v":"n"}]
[46985,1667,{"$f":"IF(E2425<>\"n\",COUNTIF(B2425:$B$4018,B2425),IF(D2425<6,0,COUNTIF(B2425:$B$4018,B2425)))","v":1},7,{"$f":"IF(ISERROR(VLOOKUP(A2425,Feriados!A:A,1,FALSE)),\"n\",VLOOKUP(A2425,Feriados!A:A,1,FALSE))","v":"n"}]
[46986,1668,{"$f":"IF(E2426<>\"n\",COUNTIF(B2426:$B$4018,B2426),IF(D2426<6,0,COUNTIF(B2426:$B$4018,B2426)))","v":0},1,{"$f":"IF(ISERROR(VLOOKUP(A2426,Feriados!A:A,1,FALSE)),\"n\",VLOOKUP(A2426,Feriados!A:A,1,FALSE))","v":"n"}]
[46987,1669,{"$f":"IF(E2427<>\"n\",COUNTIF(B2427:$B$4018,B2427),IF(D2427<6,0,COUNTIF(B2427:$B$4018,B2427)))","v":0},2,{"$f":"IF(ISERROR(VLOOKUP(A2427,Feriados!A:A,1,FALSE)),\"n\",VLOOKUP(A2427,Feriados!A:A,1,FALSE))","v":"n"}]
[46988,1670,{"$f":"IF(E2428<>\"n\",COUNTIF(B2428:$B$4018,B2428),IF(D2428<6,0,COUNTIF(B2428:$B$4018,B2428)))","v":0},3,{"$f":"IF(ISERROR(VLOOKUP(A2428,Feriados!A:A,1,FALSE)),\"n\",VLOOKUP(A2428,Feriados!A:A,1,FALSE))","v":"n"}]
[46989,1671,{"$f":"IF(E2429<>\"n\",COUNTIF(B2429:$B$4018,B2429),IF(D2429<6,0,COUNTIF(B2429:$B$4018,B2429)))","v":0},4,{"$f":"IF(ISERROR(VLOOKUP(A2429,Feriados!A:A,1,FALSE)),\"n\",VLOOKUP(A2429,Feriados!A:A,1,FALSE))","v":"n"}]
[46990,1672,{"$f":"IF(E2430<>\"n\",COUNTIF(B2430:$B$4018,B2430),IF(D2430<6,0,COUNTIF(B2430:$B$4018,B2430)))","v":0},5,{"$f":"IF(ISERROR(VLOOKUP(A2430,Feriados!A:A,1,FALSE)),\"n\",VLOOKUP(A2430,Feriados!A:A,1,FALSE))","v":"n"}]
[46991,1672,{"$f":"IF(E2431<>\"n\",COUNTIF(B2431:$B$4018,B2431),IF(D2431<6,0,COUNTIF(B2431:$B$4018,B2431)))","v":2},6,{"$f":"IF(ISERROR(VLOOKUP(A2431,Feriados!A:A,1,FALSE)),\"n\",VLOOKUP(A2431,Feriados!A:A,1,FALSE))","v":"n"}]
[46992,1672,{"$f":"IF(E2432<>\"n\",COUNTIF(B2432:$B$4018,B2432),IF(D2432<6,0,COUNTIF(B2432:$B$4018,B2432)))","v":1},7,{"$f":"IF(ISERROR(VLOOKUP(A2432,Feriados!A:A,1,FALSE)),\"n\",VLOOKUP(A2432,Feriados!A:A,1,FALSE))","v":"n"}]
[46993,1673,{"$f":"IF(E2433<>\"n\",COUNTIF(B2433:$B$4018,B2433),IF(D2433<6,0,COUNTIF(B2433:$B$4018,B2433)))","v":0},1,{"$f":"IF(ISERROR(VLOOKUP(A2433,Feriados!A:A,1,FALSE)),\"n\",VLOOKUP(A2433,Feriados!A:A,1,FALSE))","v":"n"}]
[46994,1674,{"$f":"IF(E2434<>\"n\",COUNTIF(B2434:$B$4018,B2434),IF(D2434<6,0,COUNTIF(B2434:$B$4018,B2434)))","v":0},2,{"$f":"IF(ISERROR(VLOOKUP(A2434,Feriados!A:A,1,FALSE)),\"n\",VLOOKUP(A2434,Feriados!A:A,1,FALSE))","v":"n"}]
[46995,1675,{"$f":"IF(E2435<>\"n\",COUNTIF(B2435:$B$4018,B2435),IF(D2435<6,0,COUNTIF(B2435:$B$4018,B2435)))","v":0},3,{"$f":"IF(ISERROR(VLOOKUP(A2435,Feriados!A:A,1,FALSE)),\"n\",VLOOKUP(A2435,Feriados!A:A,1,FALSE))","v":"n"}]
[{"$f":"A2435+1","v":46996},1676,{"$f":"IF(E2436<>\"n\",COUNTIF(B2436:$B$4018,B2436),IF(D2436<6,0,COUNTIF(B2436:$B$4018,B2436)))","v":0},4,{"$f":"IF(ISERROR(VLOOKUP(A2436,Feriados!A:A,1,FALSE)),\"n\",VLOOKUP(A2436,Feriados!A:A,1,FALSE))","v":"n"}]
[46997,1677,{"$f":"IF(E2437<>\"n\",COUNTIF(B2437:$B$4018,B2437),IF(D2437<6,0,COUNTIF(B2437:$B$4018,B2437)))","v":0},5,{"$f":"IF(ISERROR(VLOOKUP(A2437,Feriados!A:A,1,FALSE)),\"n\",VLOOKUP(A2437,Feriados!A:A,1,FALSE))","v":"n"}]
[46998,1677,{"$f":"IF(E2438<>\"n\",COUNTIF(B2438:$B$4018,B2438),IF(D2438<6,0,COUNTIF(B2438:$B$4018,B2438)))","v":2},6,{"$f":"IF(ISERROR(VLOOKUP(A2438,Feriados!A:A,1,FALSE)),\"n\",VLOOKUP(A2438,Feriados!A:A,1,FALSE))","v":"n"}]
[46999,1677,{"$f":"IF(E2439<>\"n\",COUNTIF(B2439:$B$4018,B2439),IF(D2439<6,0,COUNTIF(B2439:$B$4018,B2439)))","v":1},7,{"$f":"IF(ISERROR(VLOOKUP(A2439,Feriados!A:A,1,FALSE)),\"n\",VLOOKUP(A2439,Feriados!A:A,1,FALSE))","v":"n"}]
[47000,1678,{"$f":"IF(E2440<>\"n\",COUNTIF(B2440:$B$4018,B2440),IF(D2440<6,0,COUNTIF(B2440:$B$4018,B2440)))","v":0},1,{"$f":"IF(ISERROR(VLOOKUP(A2440,Feriados!A:A,1,FALSE)),\"n\",VLOOKUP(A2440,Feriados!A:A,1,FALSE))","v":"n"}]
[47001,1679,{"$f":"IF(E2441<>\"n\",COUNTIF(B2441:$B$4018,B2441),IF(D2441<6,0,COUNTIF(B2441:$B$4018,B2441)))","v":0},2,{"$f":"IF(ISERROR(VLOOKUP(A2441,Feriados!A:A,1,FALSE)),\"n\",VLOOKUP(A2441,Feriados!A:A,1,FALSE))","v":"n"}]
[47002,1680,{"$f":"IF(E2442<>\"n\",COUNTIF(B2442:$B$4018,B2442),IF(D2442<6,0,COUNTIF(B2442:$B$4018,B2442)))","v":0},3,{"$f":"IF(ISERROR(VLOOKUP(A2442,Feriados!A:A,1,FALSE)),\"n\",VLOOKUP(A2442,Feriados!A:A,1,FALSE))","v":"n"}]
[47003,1680,{"$f":"IF(E2443<>\"n\",COUNTIF(B2443:$B$4018,B2443),IF(D2443<6,0,COUNTIF(B2443:$B$4018,B2443)))","v":1},4,{"$f":"IF(ISERROR(VLOOKUP(A2443,Feriados!A:A,1,FALSE)),\"n\",VLOOKUP(A2443,Feriados!A:A,1,FALSE))","v":"2028-09-07"}]
[47004,1681,{"$f":"IF(E2444<>\"n\",COUNTIF(B2444:$B$4018,B2444),IF(D2444<6,0,COUNTIF(B2444:$B$4018,B2444)))","v":0},5,{"$f":"IF(ISERROR(VLOOKUP(A2444,Feriados!A:A,1,FALSE)),\"n\",VLOOKUP(A2444,Feriados!A:A,1,FALSE))","v":"n"}]
[47005,1681,{"$f":"IF(E2445<>\"n\",COUNTIF(B2445:$B$4018,B2445),IF(D2445<6,0,COUNTIF(B2445:$B$4018,B2445)))","v":2},6,{"$f":"IF(ISERROR(VLOOKUP(A2445,Feriados!A:A,1,FALSE)),\"n\",VLOOKUP(A2445,Feriados!A:A,1,FALSE))","v":"n"}]
[47006,1681,{"$f":"IF(E2446<>\"n\",COUNTIF(B2446:$B$4018,B2446),IF(D2446<6,0,COUNTIF(B2446:$B$4018,B2446)))","v":1},7,{"$f":"IF(ISERROR(VLOOKUP(A2446,Feriados!A:A,1,FALSE)),\"n\",VLOOKUP(A2446,Feriados!A:A,1,FALSE))","v":"n"}]
[47007,1682,{"$f":"IF(E2447<>\"n\",COUNTIF(B2447:$B$4018,B2447),IF(D2447<6,0,COUNTIF(B2447:$B$4018,B2447)))","v":0},1,{"$f":"IF(ISERROR(VLOOKUP(A2447,Feriados!A:A,1,FALSE)),\"n\",VLOOKUP(A2447,Feriados!A:A,1,FALSE))","v":"n"}]
[47008,1683,{"$f":"IF(E2448<>\"n\",COUNTIF(B2448:$B$4018,B2448),IF(D2448<6,0,COUNTIF(B2448:$B$4018,B2448)))","v":0},2,{"$f":"IF(ISERROR(VLOOKUP(A2448,Feriados!A:A,1,FALSE)),\"n\",VLOOKUP(A2448,Feriados!A:A,1,FALSE))","v":"n"}]
[47009,1684,{"$f":"IF(E2449<>\"n\",COUNTIF(B2449:$B$4018,B2449),IF(D2449<6,0,COUNTIF(B2449:$B$4018,B2449)))","v":0},3,{"$f":"IF(ISERROR(VLOOKUP(A2449,Feriados!A:A,1,FALSE)),\"n\",VLOOKUP(A2449,Feriados!A:A,1,FALSE))","v":"n"}]
[47010,1685,{"$f":"IF(E2450<>\"n\",COUNTIF(B2450:$B$4018,B2450),IF(D2450<6,0,COUNTIF(B2450:$B$4018,B2450)))","v":0},4,{"$f":"IF(ISERROR(VLOOKUP(A2450,Feriados!A:A,1,FALSE)),\"n\",VLOOKUP(A2450,Feriados!A:A,1,FALSE))","v":"n"}]
[47011,1686,{"$f":"IF(E2451<>\"n\",COUNTIF(B2451:$B$4018,B2451),IF(D2451<6,0,COUNTIF(B2451:$B$4018,B2451)))","v":0},5,{"$f":"IF(ISERROR(VLOOKUP(A2451,Feriados!A:A,1,FALSE)),\"n\",VLOOKUP(A2451,Feriados!A:A,1,FALSE))","v":"n"}]
[47012,1686,{"$f":"IF(E2452<>\"n\",COUNTIF(B2452:$B$4018,B2452),IF(D2452<6,0,COUNTIF(B2452:$B$4018,B2452)))","v":2},6,{"$f":"IF(ISERROR(VLOOKUP(A2452,Feriados!A:A,1,FALSE)),\"n\",VLOOKUP(A2452,Feriados!A:A,1,FALSE))","v":"n"}]
[47013,1686,{"$f":"IF(E2453<>\"n\",COUNTIF(B2453:$B$4018,B2453),IF(D2453<6,0,COUNTIF(B2453:$B$4018,B2453)))","v":1},7,{"$f":"IF(ISERROR(VLOOKUP(A2453,Feriados!A:A,1,FALSE)),\"n\",VLOOKUP(A2453,Feriados!A:A,1,FALSE))","v":"n"}]
[47014,1687,{"$f":"IF(E2454<>\"n\",COUNTIF(B2454:$B$4018,B2454),IF(D2454<6,0,COUNTIF(B2454:$B$4018,B2454)))","v":0},1,{"$f":"IF(ISERROR(VLOOKUP(A2454,Feriados!A:A,1,FALSE)),\"n\",VLOOKUP(A2454,Feriados!A:A,1,FALSE))","v":"n"}]
[47015,1688,{"$f":"IF(E2455<>\"n\",COUNTIF(B2455:$B$4018,B2455),IF(D2455<6,0,COUNTIF(B2455:$B$4018,B2455)))","v":0},2,{"$f":"IF(ISERROR(VLOOKUP(A2455,Feriados!A:A,1,FALSE)),\"n\",VLOOKUP(A2455,Feriados!A:A,1,FALSE))","v":"n"}]
[47016,1689,{"$f":"IF(E2456<>\"n\",COUNTIF(B2456:$B$4018,B2456),IF(D2456<6,0,COUNTIF(B2456:$B$4018,B2456)))","v":0},3,{"$f":"IF(ISERROR(VLOOKUP(A2456,Feriados!A:A,1,FALSE)),\"n\",VLOOKUP(A2456,Feriados!A:A,1,FALSE))","v":"n"}]
[47017,1690,{"$f":"IF(E2457<>\"n\",COUNTIF(B2457:$B$4018,B2457),IF(D2457<6,0,COUNTIF(B2457:$B$4018,B2457)))","v":0},4,{"$f":"IF(ISERROR(VLOOKUP(A2457,Feriados!A:A,1,FALSE)),\"n\",VLOOKUP(A2457,Feriados!A:A,1,FALSE))","v":"n"}]
[47018,1691,{"$f":"IF(E2458<>\"n\",COUNTIF(B2458:$B$4018,B2458),IF(D2458<6,0,COUNTIF(B2458:$B$4018,B2458)))","v":0},5,{"$f":"IF(ISERROR(VLOOKUP(A2458,Feriados!A:A,1,FALSE)),\"n\",VLOOKUP(A2458,Feriados!A:A,1,FALSE))","v":"n"}]
[47019,1691,{"$f":"IF(E2459<>\"n\",COUNTIF(B2459:$B$4018,B2459),IF(D2459<6,0,COUNTIF(B2459:$B$4018,B2459)))","v":2},6,{"$f":"IF(ISERROR(VLOOKUP(A2459,Feriados!A:A,1,FALSE)),\"n\",VLOOKUP(A2459,Feriados!A:A,1,FALSE))","v":"n"}]
[47020,1691,{"$f":"IF(E2460<>\"n\",COUNTIF(B2460:$B$4018,B2460),IF(D2460<6,0,COUNTIF(B2460:$B$4018,B2460)))","v":1},7,{"$f":"IF(ISERROR(VLOOKUP(A2460,Feriados!A:A,1,FALSE)),\"n\",VLOOKUP(A2460,Feriados!A:A,1,FALSE))","v":"n"}]
[47021,1692,{"$f":"IF(E2461<>\"n\",COUNTIF(B2461:$B$4018,B2461),IF(D2461<6,0,COUNTIF(B2461:$B$4018,B2461)))","v":0},1,{"$f":"IF(ISERROR(VLOOKUP(A2461,Feriados!A:A,1,FALSE)),\"n\",VLOOKUP(A2461,Feriados!A:A,1,FALSE))","v":"n"}]
[47022,{"$f":"NETWORKDAYS($A$2,A2462,feriados)","v":1693},{"$f":"IF(E2462<>\"n\",COUNTIF(B2462:$B$4018,B2462),IF(D2462<6,0,COUNTIF(B2462:$B$4018,B2462)))","v":0},{"$f":"WEEKDAY(A2462,2)","v":2},{"$f":"IF(ISERROR(VLOOKUP(A2462,Feriados!A:A,1,FALSE)),\"n\",VLOOKUP(A2462,Feriados!A:A,1,FALSE))","v":"n"}]
[47023,1694,{"$f":"IF(E2463<>\"n\",COUNTIF(B2463:$B$4018,B2463),IF(D2463<6,0,COUNTIF(B2463:$B$4018,B2463)))","v":0},3,{"$f":"IF(ISERROR(VLOOKUP(A2463,Feriados!A:A,1,FALSE)),\"n\",VLOOKUP(A2463,Feriados!A:A,1,FALSE))","v":"n"}]
[47024,1695,{"$f":"IF(E2464<>\"n\",COUNTIF(B2464:$B$4018,B2464),IF(D2464<6,0,COUNTIF(B2464:$B$4018,B2464)))","v":0},4,{"$f":"IF(ISERROR(VLOOKUP(A2464,Feriados!A:A,1,FALSE)),\"n\",VLOOKUP(A2464,Feriados!A:A,1,FALSE))","v":"n"}]
[47025,1696,{"$f":"IF(E2465<>\"n\",COUNTIF(B2465:$B$4018,B2465),IF(D2465<6,0,COUNTIF(B2465:$B$4018,B2465)))","v":0},5,{"$f":"IF(ISERROR(VLOOKUP(A2465,Feriados!A:A,1,FALSE)),\"n\",VLOOKUP(A2465,Feriados!A:A,1,FALSE))","v":"n"}]
[47026,1696,{"$f":"IF(E2466<>\"n\",COUNTIF(B2466:$B$4018,B2466),IF(D2466<6,0,COUNTIF(B2466:$B$4018,B2466)))","v":2},6,{"$f":"IF(ISERROR(VLOOKUP(A2466,Feriados!A:A,1,FALSE)),\"n\",VLOOKUP(A2466,Feriados!A:A,1,FALSE))","v":"n"}]
[47027,1696,{"$f":"IF(E2467<>\"n\",COUNTIF(B2467:$B$4018,B2467),IF(D2467<6,0,COUNTIF(B2467:$B$4018,B2467)))","v":1},7,{"$f":"IF(ISERROR(VLOOKUP(A2467,Feriados!A:A,1,FALSE)),\"n\",VLOOKUP(A2467,Feriados!A:A,1,FALSE))","v":"n"}]
[47028,1697,{"$f":"IF(E2468<>\"n\",COUNTIF(B2468:$B$4018,B2468),IF(D2468<6,0,COUNTIF(B2468:$B$4018,B2468)))","v":0},1,{"$f":"IF(ISERROR(VLOOKUP(A2468,Feriados!A:A,1,FALSE)),\"n\",VLOOKUP(A2468,Feriados!A:A,1,FALSE))","v":"n"}]
[47029,1698,{"$f":"IF(E2469<>\"n\",COUNTIF(B2469:$B$4018,B2469),IF(D2469<6,0,COUNTIF(B2469:$B$4018,B2469)))","v":0},2,{"$f":"IF(ISERROR(VLOOKUP(A2469,Feriados!A:A,1,FALSE)),\"n\",VLOOKUP(A2469,Feriados!A:A,1,FALSE))","v":"n"}]
[47030,1699,{"$f":"IF(E2470<>\"n\",COUNTIF(B2470:$B$4018,B2470),IF(D2470<6,0,COUNTIF(B2470:$B$4018,B2470)))","v":0},3,{"$f":"IF(ISERROR(VLOOKUP(A2470,Feriados!A:A,1,FALSE)),\"n\",VLOOKUP(A2470,Feriados!A:A,1,FALSE))","v":"n"}]
[47031,1700,{"$f":"IF(E2471<>\"n\",COUNTIF(B2471:$B$4018,B2471),IF(D2471<6,0,COUNTIF(B2471:$B$4018,B2471)))","v":0},4,{"$f":"IF(ISERROR(VLOOKUP(A2471,Feriados!A:A,1,FALSE)),\"n\",VLOOKUP(A2471,Feriados!A:A,1,FALSE))","v":"n"}]
[47032,1701,{"$f":"IF(E2472<>\"n\",COUNTIF(B2472:$B$4018,B2472),IF(D2472<6,0,COUNTIF(B2472:$B$4018,B2472)))","v":0},5,{"$f":"IF(ISERROR(VLOOKUP(A2472,Feriados!A:A,1,FALSE)),\"n\",VLOOKUP(A2472,Feriados!A:A,1,FALSE))","v":"n"}]
[47033,1701,{"$f":"IF(E2473<>\"n\",COUNTIF(B2473:$B$4018,B2473),IF(D2473<6,0,COUNTIF(B2473:$B$4018,B2473)))","v":2},6,{"$f":"IF(ISERROR(VLOOKUP(A2473,Feriados!A:A,1,FALSE)),\"n\",VLOOKUP(A2473,Feriados!A:A,1,FALSE))","v":"n"}]
[47034,1701,{"$f":"IF(E2474<>\"n\",COUNTIF(B2474:$B$4018,B2474),IF(D2474<6,0,COUNTIF(B2474:$B$4018,B2474)))","v":1},7,{"$f":"IF(ISERROR(VLOOKUP(A2474,Feriados!A:A,1,FALSE)),\"n\",VLOOKUP(A2474,Feriados!A:A,1,FALSE))","v":"n"}]
[47035,1702,{"$f":"IF(E2475<>\"n\",COUNTIF(B2475:$B$4018,B2475),IF(D2475<6,0,COUNTIF(B2475:$B$4018,B2475)))","v":0},1,{"$f":"IF(ISERROR(VLOOKUP(A2475,Feriados!A:A,1,FALSE)),\"n\",VLOOKUP(A2475,Feriados!A:A,1,FALSE))","v":"n"}]
[47036,1703,{"$f":"IF(E2476<>\"n\",COUNTIF(B2476:$B$4018,B2476),IF(D2476<6,0,COUNTIF(B2476:$B$4018,B2476)))","v":0},2,{"$f":"IF(ISERROR(VLOOKUP(A2476,Feriados!A:A,1,FALSE)),\"n\",VLOOKUP(A2476,Feriados!A:A,1,FALSE))","v":"n"}]
[47037,1704,{"$f":"IF(E2477<>\"n\",COUNTIF(B2477:$B$4018,B2477),IF(D2477<6,0,COUNTIF(B2477:$B$4018,B2477)))","v":0},3,{"$f":"IF(ISERROR(VLOOKUP(A2477,Feriados!A:A,1,FALSE)),\"n\",VLOOKUP(A2477,Feriados!A:A,1,FALSE))","v":"n"}]
[47038,1704,{"$f":"IF(E2478<>\"n\",COUNTIF(B2478:$B$4018,B2478),IF(D2478<6,0,COUNTIF(B2478:$B$4018,B2478)))","v":1},4,{"$f":"IF(ISERROR(VLOOKUP(A2478,Feriados!A:A,1,FALSE)),\"n\",VLOOKUP(A2478,Feriados!A:A,1,FALSE))","v":"2028-10-12"}]
[47039,1705,{"$f":"IF(E2479<>\"n\",COUNTIF(B2479:$B$4018,B2479),IF(D2479<6,0,COUNTIF(B2479:$B$4018,B2479)))","v":0},5,{"$f":"IF(ISERROR(VLOOKUP(A2479,Feriados!A:A,1,FALSE)),\"n\",VLOOKUP(A2479,Feriados!A:A,1,FALSE))","v":"n"}]
[47040,1705,{"$f":"IF(E2480<>\"n\",COUNTIF(B2480:$B$4018,B2480),IF(D2480<6,0,COUNTIF(B2480:$B$4018,B2480)))","v":2},6,{"$f":"IF(ISERROR(VLOOKUP(A2480,Feriados!A:A,1,FALSE)),\"n\",VLOOKUP(A2480,Feriados!A:A,1,FALSE))","v":"n"}]
[47041,1705,{"$f":"IF(E2481<>\"n\",COUNTIF(B2481:$B$4018,B2481),IF(D2481<6,0,COUNTIF(B2481:$B$4018,B2481)))","v":1},7,{"$f":"IF(ISERROR(VLOOKUP(A2481,Feriados!A:A,1,FALSE)),\"n\",VLOOKUP(A2481,Feriados!A:A,1,FALSE))","v":"n"}]
[47042,1706,{"$f":"IF(E2482<>\"n\",COUNTIF(B2482:$B$4018,B2482),IF(D2482<6,0,COUNTIF(B2482:$B$4018,B2482)))","v":0},1,{"$f":"IF(ISERROR(VLOOKUP(A2482,Feriados!A:A,1,FALSE)),\"n\",VLOOKUP(A2482,Feriados!A:A,1,FALSE))","v":"n"}]
[47043,1707,{"$f":"IF(E2483<>\"n\",COUNTIF(B2483:$B$4018,B2483),IF(D2483<6,0,COUNTIF(B2483:$B$4018,B2483)))","v":0},2,{"$f":"IF(ISERROR(VLOOKUP(A2483,Feriados!A:A,1,FALSE)),\"n\",VLOOKUP(A2483,Feriados!A:A,1,FALSE))","v":"n"}]
[47044,1708,{"$f":"IF(E2484<>\"n\",COUNTIF(B2484:$B$4018,B2484),IF(D2484<6,0,COUNTIF(B2484:$B$4018,B2484)))","v":0},3,{"$f":"IF(ISERROR(VLOOKUP(A2484,Feriados!A:A,1,FALSE)),\"n\",VLOOKUP(A2484,Feriados!A:A,1,FALSE))","v":"n"}]
[47045,1709,{"$f":"IF(E2485<>\"n\",COUNTIF(B2485:$B$4018,B2485),IF(D2485<6,0,COUNTIF(B2485:$B$4018,B2485)))","v":0},4,{"$f":"IF(ISERROR(VLOOKUP(A2485,Feriados!A:A,1,FALSE)),\"n\",VLOOKUP(A2485,Feriados!A:A,1,FALSE))","v":"n"}]
[47046,1710,{"$f":"IF(E2486<>\"n\",COUNTIF(B2486:$B$4018,B2486),IF(D2486<6,0,COUNTIF(B2486:$B$4018,B2486)))","v":0},5,{"$f":"IF(ISERROR(VLOOKUP(A2486,Feriados!A:A,1,FALSE)),\"n\",VLOOKUP(A2486,Feriados!A:A,1,FALSE))","v":"n"}]
[47047,1710,{"$f":"IF(E2487<>\"n\",COUNTIF(B2487:$B$4018,B2487),IF(D2487<6,0,COUNTIF(B2487:$B$4018,B2487)))","v":2},6,{"$f":"IF(ISERROR(VLOOKUP(A2487,Feriados!A:A,1,FALSE)),\"n\",VLOOKUP(A2487,Feriados!A:A,1,FALSE))","v":"n"}]
[47048,1710,{"$f":"IF(E2488<>\"n\",COUNTIF(B2488:$B$4018,B2488),IF(D2488<6,0,COUNTIF(B2488:$B$4018,B2488)))","v":1},7,{"$f":"IF(ISERROR(VLOOKUP(A2488,Feriados!A:A,1,FALSE)),\"n\",VLOOKUP(A2488,Feriados!A:A,1,FALSE))","v":"n"}]
[47049,1711,{"$f":"IF(E2489<>\"n\",COUNTIF(B2489:$B$4018,B2489),IF(D2489<6,0,COUNTIF(B2489:$B$4018,B2489)))","v":0},1,{"$f":"IF(ISERROR(VLOOKUP(A2489,Feriados!A:A,1,FALSE)),\"n\",VLOOKUP(A2489,Feriados!A:A,1,FALSE))","v":"n"}]
[47050,1712,{"$f":"IF(E2490<>\"n\",COUNTIF(B2490:$B$4018,B2490),IF(D2490<6,0,COUNTIF(B2490:$B$4018,B2490)))","v":0},2,{"$f":"IF(ISERROR(VLOOKUP(A2490,Feriados!A:A,1,FALSE)),\"n\",VLOOKUP(A2490,Feriados!A:A,1,FALSE))","v":"n"}]
[47051,1713,{"$f":"IF(E2491<>\"n\",COUNTIF(B2491:$B$4018,B2491),IF(D2491<6,0,COUNTIF(B2491:$B$4018,B2491)))","v":0},3,{"$f":"IF(ISERROR(VLOOKUP(A2491,Feriados!A:A,1,FALSE)),\"n\",VLOOKUP(A2491,Feriados!A:A,1,FALSE))","v":"n"}]
[47052,1714,{"$f":"IF(E2492<>\"n\",COUNTIF(B2492:$B$4018,B2492),IF(D2492<6,0,COUNTIF(B2492:$B$4018,B2492)))","v":0},4,{"$f":"IF(ISERROR(VLOOKUP(A2492,Feriados!A:A,1,FALSE)),\"n\",VLOOKUP(A2492,Feriados!A:A,1,FALSE))","v":"n"}]
[47053,1715,{"$f":"IF(E2493<>\"n\",COUNTIF(B2493:$B$4018,B2493),IF(D2493<6,0,COUNTIF(B2493:$B$4018,B2493)))","v":0},5,{"$f":"IF(ISERROR(VLOOKUP(A2493,Feriados!A:A,1,FALSE)),\"n\",VLOOKUP(A2493,Feriados!A:A,1,FALSE))","v":"n"}]
[47054,1715,{"$f":"IF(E2494<>\"n\",COUNTIF(B2494:$B$4018,B2494),IF(D2494<6,0,COUNTIF(B2494:$B$4018,B2494)))","v":2},6,{"$f":"IF(ISERROR(VLOOKUP(A2494,Feriados!A:A,1,FALSE)),\"n\",VLOOKUP(A2494,Feriados!A:A,1,FALSE))","v":"n"}]
[47055,1715,{"$f":"IF(E2495<>\"n\",COUNTIF(B2495:$B$4018,B2495),IF(D2495<6,0,COUNTIF(B2495:$B$4018,B2495)))","v":1},7,{"$f":"IF(ISERROR(VLOOKUP(A2495,Feriados!A:A,1,FALSE)),\"n\",VLOOKUP(A2495,Feriados!A:A,1,FALSE))","v":"n"}]
[47056,1716,{"$f":"IF(E2496<>\"n\",COUNTIF(B2496:$B$4018,B2496),IF(D2496<6,0,COUNTIF(B2496:$B$4018,B2496)))","v":0},1,{"$f":"IF(ISERROR(VLOOKUP(A2496,Feriados!A:A,1,FALSE)),\"n\",VLOOKUP(A2496,Feriados!A:A,1,FALSE))","v":"n"}]
[47057,1717,{"$f":"IF(E2497<>\"n\",COUNTIF(B2497:$B$4018,B2497),IF(D2497<6,0,COUNTIF(B2497:$B$4018,B2497)))","v":0},2,{"$f":"IF(ISERROR(VLOOKUP(A2497,Feriados!A:A,1,FALSE)),\"n\",VLOOKUP(A2497,Feriados!A:A,1,FALSE))","v":"n"}]
[47058,1718,{"$f":"IF(E2498<>\"n\",COUNTIF(B2498:$B$4018,B2498),IF(D2498<6,0,COUNTIF(B2498:$B$4018,B2498)))","v":0},3,{"$f":"IF(ISERROR(VLOOKUP(A2498,Feriados!A:A,1,FALSE)),\"n\",VLOOKUP(A2498,Feriados!A:A,1,FALSE))","v":"n"}]
[47059,1718,{"$f":"IF(E2499<>\"n\",COUNTIF(B2499:$B$4018,B2499),IF(D2499<6,0,COUNTIF(B2499:$B$4018,B2499)))","v":1},4,{"$f":"IF(ISERROR(VLOOKUP(A2499,Feriados!A:A,1,FALSE)),\"n\",VLOOKUP(A2499,Feriados!A:A,1,FALSE))","v":"2028-11-02"}]
[{"$f":"A2499+1","v":47060},1719,{"$f":"IF(E2500<>\"n\",COUNTIF(B2500:$B$4018,B2500),IF(D2500<6,0,COUNTIF(B2500:$B$4018,B2500)))","v":0},5,{"$f":"IF(ISERROR(VLOOKUP(A2500,Feriados!A:A,1,FALSE)),\"n\",VLOOKUP(A2500,Feriados!A:A,1,FALSE))","v":"n"}]
[47061,1719,{"$f":"IF(E2501<>\"n\",COUNTIF(B2501:$B$4018,B2501),IF(D2501<6,0,COUNTIF(B2501:$B$4018,B2501)))","v":2},6,{"$f":"IF(ISERROR(VLOOKUP(A2501,Feriados!A:A,1,FALSE)),\"n\",VLOOKUP(A2501,Feriados!A:A,1,FALSE))","v":"n"}]
[47062,1719,{"$f":"IF(E2502<>\"n\",COUNTIF(B2502:$B$4018,B2502),IF(D2502<6,0,COUNTIF(B2502:$B$4018,B2502)))","v":1},7,{"$f":"IF(ISERROR(VLOOKUP(A2502,Feriados!A:A,1,FALSE)),\"n\",VLOOKUP(A2502,Feriados!A:A,1,FALSE))","v":"n"}]
[47063,1720,{"$f":"IF(E2503<>\"n\",COUNTIF(B2503:$B$4018,B2503),IF(D2503<6,0,COUNTIF(B2503:$B$4018,B2503)))","v":0},1,{"$f":"IF(ISERROR(VLOOKUP(A2503,Feriados!A:A,1,FALSE)),\"n\",VLOOKUP(A2503,Feriados!A:A,1,FALSE))","v":"n"}]
[47064,1721,{"$f":"IF(E2504<>\"n\",COUNTIF(B2504:$B$4018,B2504),IF(D2504<6,0,COUNTIF(B2504:$B$4018,B2504)))","v":0},2,{"$f":"IF(ISERROR(VLOOKUP(A2504,Feriados!A:A,1,FALSE)),\"n\",VLOOKUP(A2504,Feriados!A:A,1,FALSE))","v":"n"}]
[47065,1722,{"$f":"IF(E2505<>\"n\",COUNTIF(B2505:$B$4018,B2505),IF(D2505<6,0,COUNTIF(B2505:$B$4018,B2505)))","v":0},3,{"$f":"IF(ISERROR(VLOOKUP(A2505,Feriados!A:A,1,FALSE)),\"n\",VLOOKUP(A2505,Feriados!A:A,1,FALSE))","v":"n"}]
[47066,1723,{"$f":"IF(E2506<>\"n\",COUNTIF(B2506:$B$4018,B2506),IF(D2506<6,0,COUNTIF(B2506:$B$4018,B2506)))","v":0},4,{"$f":"IF(ISERROR(VLOOKUP(A2506,Feriados!A:A,1,FALSE)),\"n\",VLOOKUP(A2506,Feriados!A:A,1,FALSE))","v":"n"}]
[47067,1724,{"$f":"IF(E2507<>\"n\",COUNTIF(B2507:$B$4018,B2507),IF(D2507<6,0,COUNTIF(B2507:$B$4018,B2507)))","v":0},5,{"$f":"IF(ISERROR(VLOOKUP(A2507,Feriados!A:A,1,FALSE)),\"n\",VLOOKUP(A2507,Feriados!A:A,1,FALSE))","v":"n"}]
[47068,1724,{"$f":"IF(E2508<>\"n\",COUNTIF(B2508:$B$4018,B2508),IF(D2508<6,0,COUNTIF(B2508:$B$4018,B2508)))","v":2},6,{"$f":"IF(ISERROR(VLOOKUP(A2508,Feriados!A:A,1,FALSE)),\"n\",VLOOKUP(A2508,Feriados!A:A,1,FALSE))","v":"n"}]
[47069,1724,{"$f":"IF(E2509<>\"n\",COUNTIF(B2509:$B$4018,B2509),IF(D2509<6,0,COUNTIF(B2509:$B$4018,B2509)))","v":1},7,{"$f":"IF(ISERROR(VLOOKUP(A2509,Feriados!A:A,1,FALSE)),\"n\",VLOOKUP(A2509,Feriados!A:A,1,FALSE))","v":"n"}]
[47070,1725,{"$f":"IF(E2510<>\"n\",COUNTIF(B2510:$B$4018,B2510),IF(D2510<6,0,COUNTIF(B2510:$B$4018,B2510)))","v":0},1,{"$f":"IF(ISERROR(VLOOKUP(A2510,Feriados!A:A,1,FALSE)),\"n\",VLOOKUP(A2510,Feriados!A:A,1,FALSE))","v":"n"}]
[47071,1726,{"$f":"IF(E2511<>\"n\",COUNTIF(B2511:$B$4018,B2511),IF(D2511<6,0,COUNTIF(B2511:$B$4018,B2511)))","v":0},2,{"$f":"IF(ISERROR(VLOOKUP(A2511,Feriados!A:A,1,FALSE)),\"n\",VLOOKUP(A2511,Feriados!A:A,1,FALSE))","v":"n"}]
[47072,1726,{"$f":"IF(E2512<>\"n\",COUNTIF(B2512:$B$4018,B2512),IF(D2512<6,0,COUNTIF(B2512:$B$4018,B2512)))","v":1},3,{"$f":"IF(ISERROR(VLOOKUP(A2512,Feriados!A:A,1,FALSE)),\"n\",VLOOKUP(A2512,Feriados!A:A,1,FALSE))","v":"2028-11-15"}]
[47073,1727,{"$f":"IF(E2513<>\"n\",COUNTIF(B2513:$B$4018,B2513),IF(D2513<6,0,COUNTIF(B2513:$B$4018,B2513)))","v":0},4,{"$f":"IF(ISERROR(VLOOKUP(A2513,Feriados!A:A,1,FALSE)),\"n\",VLOOKUP(A2513,Feriados!A:A,1,FALSE))","v":"n"}]
[47074,1728,{"$f":"IF(E2514<>\"n\",COUNTIF(B2514:$B$4018,B2514),IF(D2514<6,0,COUNTIF(B2514:$B$4018,B2514)))","v":0},5,{"$f":"IF(ISERROR(VLOOKUP(A2514,Feriados!A:A,1,FALSE)),\"n\",VLOOKUP(A2514,Feriados!A:A,1,FALSE))","v":"n"}]
[47075,1728,{"$f":"IF(E2515<>\"n\",COUNTIF(B2515:$B$4018,B2515),IF(D2515<6,0,COUNTIF(B2515:$B$4018,B2515)))","v":2},6,{"$f":"IF(ISERROR(VLOOKUP(A2515,Feriados!A:A,1,FALSE)),\"n\",VLOOKUP(A2515,Feriados!A:A,1,FALSE))","v":"n"}]
[47076,1728,{"$f":"IF(E2516<>\"n\",COUNTIF(B2516:$B$4018,B2516),IF(D2516<6,0,COUNTIF(B2516:$B$4018,B2516)))","v":1},7,{"$f":"IF(ISERROR(VLOOKUP(A2516,Feriados!A:A,1,FALSE)),\"n\",VLOOKUP(A2516,Feriados!A:A,1,FALSE))","v":"n"}]
[47077,1729,{"$f":"IF(E2517<>\"n\",COUNTIF(B2517:$B$4018,B2517),IF(D2517<6,0,COUNTIF(B2517:$B$4018,B2517)))","v":0},1,{"$f":"IF(ISERROR(VLOOKUP(A2517,Feriados!A:A,1,FALSE)),\"n\",VLOOKUP(A2517,Feriados!A:A,1,FALSE))","v":"n"}]
[47078,1730,{"$f":"IF(E2518<>\"n\",COUNTIF(B2518:$B$4018,B2518),IF(D2518<6,0,COUNTIF(B2518:$B$4018,B2518)))","v":0},2,{"$f":"IF(ISERROR(VLOOKUP(A2518,Feriados!A:A,1,FALSE)),\"n\",VLOOKUP(A2518,Feriados!A:A,1,FALSE))","v":"n"}]
[47079,1731,{"$f":"IF(E2519<>\"n\",COUNTIF(B2519:$B$4018,B2519),IF(D2519<6,0,COUNTIF(B2519:$B$4018,B2519)))","v":0},3,{"$f":"IF(ISERROR(VLOOKUP(A2519,Feriados!A:A,1,FALSE)),\"n\",VLOOKUP(A2519,Feriados!A:A,1,FALSE))","v":"n"}]
[47080,1732,{"$f":"IF(E2520<>\"n\",COUNTIF(B2520:$B$4018,B2520),IF(D2520<6,0,COUNTIF(B2520:$B$4018,B2520)))","v":0},4,{"$f":"IF(ISERROR(VLOOKUP(A2520,Feriados!A:A,1,FALSE)),\"n\",VLOOKUP(A2520,Feriados!A:A,1,FALSE))","v":"n"}]
[47081,1733,{"$f":"IF(E2521<>\"n\",COUNTIF(B2521:$B$4018,B2521),IF(D2521<6,0,COUNTIF(B2521:$B$4018,B2521)))","v":0},5,{"$f":"IF(ISERROR(VLOOKUP(A2521,Feriados!A:A,1,FALSE)),\"n\",VLOOKUP(A2521,Feriados!A:A,1,FALSE))","v":"n"}]
[47082,1733,{"$f":"IF(E2522<>\"n\",COUNTIF(B2522:$B$4018,B2522),IF(D2522<6,0,COUNTIF(B2522:$B$4018,B2522)))","v":2},6,{"$f":"IF(ISERROR(VLOOKUP(A2522,Feriados!A:A,1,FALSE)),\"n\",VLOOKUP(A2522,Feriados!A:A,1,FALSE))","v":"n"}]
[47083,1733,{"$f":"IF(E2523<>\"n\",COUNTIF(B2523:$B$4018,B2523),IF(D2523<6,0,COUNTIF(B2523:$B$4018,B2523)))","v":1},7,{"$f":"IF(ISERROR(VLOOKUP(A2523,Feriados!A:A,1,FALSE)),\"n\",VLOOKUP(A2523,Feriados!A:A,1,FALSE))","v":"n"}]
[47084,1734,{"$f":"IF(E2524<>\"n\",COUNTIF(B2524:$B$4018,B2524),IF(D2524<6,0,COUNTIF(B2524:$B$4018,B2524)))","v":0},1,{"$f":"IF(ISERROR(VLOOKUP(A2524,Feriados!A:A,1,FALSE)),\"n\",VLOOKUP(A2524,Feriados!A:A,1,FALSE))","v":"n"}]
[47085,1735,{"$f":"IF(E2525<>\"n\",COUNTIF(B2525:$B$4018,B2525),IF(D2525<6,0,COUNTIF(B2525:$B$4018,B2525)))","v":0},2,{"$f":"IF(ISERROR(VLOOKUP(A2525,Feriados!A:A,1,FALSE)),\"n\",VLOOKUP(A2525,Feriados!A:A,1,FALSE))","v":"n"}]
[47086,{"$f":"NETWORKDAYS($A$2,A2526,feriados)","v":1736},{"$f":"IF(E2526<>\"n\",COUNTIF(B2526:$B$4018,B2526),IF(D2526<6,0,COUNTIF(B2526:$B$4018,B2526)))","v":0},{"$f":"WEEKDAY(A2526,2)","v":3},{"$f":"IF(ISERROR(VLOOKUP(A2526,Feriados!A:A,1,FALSE)),\"n\",VLOOKUP(A2526,Feriados!A:A,1,FALSE))","v":"n"}]
[47087,1737,{"$f":"IF(E2527<>\"n\",COUNTIF(B2527:$B$4018,B2527),IF(D2527<6,0,COUNTIF(B2527:$B$4018,B2527)))","v":0},4,{"$f":"IF(ISERROR(VLOOKUP(A2527,Feriados!A:A,1,FALSE)),\"n\",VLOOKUP(A2527,Feriados!A:A,1,FALSE))","v":"n"}]
[47088,1738,{"$f":"IF(E2528<>\"n\",COUNTIF(B2528:$B$4018,B2528),IF(D2528<6,0,COUNTIF(B2528:$B$4018,B2528)))","v":0},5,{"$f":"IF(ISERROR(VLOOKUP(A2528,Feriados!A:A,1,FALSE)),\"n\",VLOOKUP(A2528,Feriados!A:A,1,FALSE))","v":"n"}]
[47089,1738,{"$f":"IF(E2529<>\"n\",COUNTIF(B2529:$B$4018,B2529),IF(D2529<6,0,COUNTIF(B2529:$B$4018,B2529)))","v":2},6,{"$f":"IF(ISERROR(VLOOKUP(A2529,Feriados!A:A,1,FALSE)),\"n\",VLOOKUP(A2529,Feriados!A:A,1,FALSE))","v":"n"}]
[47090,1738,{"$f":"IF(E2530<>\"n\",COUNTIF(B2530:$B$4018,B2530),IF(D2530<6,0,COUNTIF(B2530:$B$4018,B2530)))","v":1},7,{"$f":"IF(ISERROR(VLOOKUP(A2530,Feriados!A:A,1,FALSE)),\"n\",VLOOKUP(A2530,Feriados!A:A,1,FALSE))","v":"n"}]
[47091,1739,{"$f":"IF(E2531<>\"n\",COUNTIF(B2531:$B$4018,B2531),IF(D2531<6,0,COUNTIF(B2531:$B$4018,B2531)))","v":0},1,{"$f":"IF(ISERROR(VLOOKUP(A2531,Feriados!A:A,1,FALSE)),\"n\",VLOOKUP(A2531,Feriados!A:A,1,FALSE))","v":"n"}]
[47092,1740,{"$f":"IF(E2532<>\"n\",COUNTIF(B2532:$B$4018,B2532),IF(D2532<6,0,COUNTIF(B2532:$B$4018,B2532)))","v":0},2,{"$f":"IF(ISERROR(VLOOKUP(A2532,Feriados!A:A,1,FALSE)),\"n\",VLOOKUP(A2532,Feriados!A:A,1,FALSE))","v":"n"}]
[47093,1741,{"$f":"IF(E2533<>\"n\",COUNTIF(B2533:$B$4018,B2533),IF(D2533<6,0,COUNTIF(B2533:$B$4018,B2533)))","v":0},3,{"$f":"IF(ISERROR(VLOOKUP(A2533,Feriados!A:A,1,FALSE)),\"n\",VLOOKUP(A2533,Feriados!A:A,1,FALSE))","v":"n"}]
[47094,1742,{"$f":"IF(E2534<>\"n\",COUNTIF(B2534:$B$4018,B2534),IF(D2534<6,0,COUNTIF(B2534:$B$4018,B2534)))","v":0},4,{"$f":"IF(ISERROR(VLOOKUP(A2534,Feriados!A:A,1,FALSE)),\"n\",VLOOKUP(A2534,Feriados!A:A,1,FALSE))","v":"n"}]
[47095,1743,{"$f":"IF(E2535<>\"n\",COUNTIF(B2535:$B$4018,B2535),IF(D2535<6,0,COUNTIF(B2535:$B$4018,B2535)))","v":0},5,{"$f":"IF(ISERROR(VLOOKUP(A2535,Feriados!A:A,1,FALSE)),\"n\",VLOOKUP(A2535,Feriados!A:A,1,FALSE))","v":"n"}]
[47096,1743,{"$f":"IF(E2536<>\"n\",COUNTIF(B2536:$B$4018,B2536),IF(D2536<6,0,COUNTIF(B2536:$B$4018,B2536)))","v":2},6,{"$f":"IF(ISERROR(VLOOKUP(A2536,Feriados!A:A,1,FALSE)),\"n\",VLOOKUP(A2536,Feriados!A:A,1,FALSE))","v":"n"}]
[47097,1743,{"$f":"IF(E2537<>\"n\",COUNTIF(B2537:$B$4018,B2537),IF(D2537<6,0,COUNTIF(B2537:$B$4018,B2537)))","v":1},7,{"$f":"IF(ISERROR(VLOOKUP(A2537,Feriados!A:A,1,FALSE)),\"n\",VLOOKUP(A2537,Feriados!A:A,1,FALSE))","v":"n"}]
[47098,1744,{"$f":"IF(E2538<>\"n\",COUNTIF(B2538:$B$4018,B2538),IF(D2538<6,0,COUNTIF(B2538:$B$4018,B2538)))","v":0},1,{"$f":"IF(ISERROR(VLOOKUP(A2538,Feriados!A:A,1,FALSE)),\"n\",VLOOKUP(A2538,Feriados!A:A,1,FALSE))","v":"n"}]
[47099,1745,{"$f":"IF(E2539<>\"n\",COUNTIF(B2539:$B$4018,B2539),IF(D2539<6,0,COUNTIF(B2539:$B$4018,B2539)))","v":0},2,{"$f":"IF(ISERROR(VLOOKUP(A2539,Feriados!A:A,1,FALSE)),\"n\",VLOOKUP(A2539,Feriados!A:A,1,FALSE))","v":"n"}]
[47100,1746,{"$f":"IF(E2540<>\"n\",COUNTIF(B2540:$B$4018,B2540),IF(D2540<6,0,COUNTIF(B2540:$B$4018,B2540)))","v":0},3,{"$f":"IF(ISERROR(VLOOKUP(A2540,Feriados!A:A,1,FALSE)),\"n\",VLOOKUP(A2540,Feriados!A:A,1,FALSE))","v":"n"}]
[47101,1747,{"$f":"IF(E2541<>\"n\",COUNTIF(B2541:$B$4018,B2541),IF(D2541<6,0,COUNTIF(B2541:$B$4018,B2541)))","v":0},4,{"$f":"IF(ISERROR(VLOOKUP(A2541,Feriados!A:A,1,FALSE)),\"n\",VLOOKUP(A2541,Feriados!A:A,1,FALSE))","v":"n"}]
[47102,1748,{"$f":"IF(E2542<>\"n\",COUNTIF(B2542:$B$4018,B2542),IF(D2542<6,0,COUNTIF(B2542:$B$4018,B2542)))","v":0},5,{"$f":"IF(ISERROR(VLOOKUP(A2542,Feriados!A:A,1,FALSE)),\"n\",VLOOKUP(A2542,Feriados!A:A,1,FALSE))","v":"n"}]
[47103,1748,{"$f":"IF(E2543<>\"n\",COUNTIF(B2543:$B$4018,B2543),IF(D2543<6,0,COUNTIF(B2543:$B$4018,B2543)))","v":2},6,{"$f":"IF(ISERROR(VLOOKUP(A2543,Feriados!A:A,1,FALSE)),\"n\",VLOOKUP(A2543,Feriados!A:A,1,FALSE))","v":"n"}]
[47104,1748,{"$f":"IF(E2544<>\"n\",COUNTIF(B2544:$B$4018,B2544),IF(D2544<6,0,COUNTIF(B2544:$B$4018,B2544)))","v":1},7,{"$f":"IF(ISERROR(VLOOKUP(A2544,Feriados!A:A,1,FALSE)),\"n\",VLOOKUP(A2544,Feriados!A:A,1,FALSE))","v":"n"}]
[47105,1749,{"$f":"IF(E2545<>\"n\",COUNTIF(B2545:$B$4018,B2545),IF(D2545<6,0,COUNTIF(B2545:$B$4018,B2545)))","v":0},1,{"$f":"IF(ISERROR(VLOOKUP(A2545,Feriados!A:A,1,FALSE)),\"n\",VLOOKUP(A2545,Feriados!A:A,1,FALSE))","v":"n"}]
[47106,1750,{"$f":"IF(E2546<>\"n\",COUNTIF(B2546:$B$4018,B2546),IF(D2546<6,0,COUNTIF(B2546:$B$4018,B2546)))","v":0},2,{"$f":"IF(ISERROR(VLOOKUP(A2546,Feriados!A:A,1,FALSE)),\"n\",VLOOKUP(A2546,Feriados!A:A,1,FALSE))","v":"n"}]
[47107,1751,{"$f":"IF(E2547<>\"n\",COUNTIF(B2547:$B$4018,B2547),IF(D2547<6,0,COUNTIF(B2547:$B$4018,B2547)))","v":0},3,{"$f":"IF(ISERROR(VLOOKUP(A2547,Feriados!A:A,1,FALSE)),\"n\",VLOOKUP(A2547,Feriados!A:A,1,FALSE))","v":"n"}]
[47108,1752,{"$f":"IF(E2548<>\"n\",COUNTIF(B2548:$B$4018,B2548),IF(D2548<6,0,COUNTIF(B2548:$B$4018,B2548)))","v":0},4,{"$f":"IF(ISERROR(VLOOKUP(A2548,Feriados!A:A,1,FALSE)),\"n\",VLOOKUP(A2548,Feriados!A:A,1,FALSE))","v":"n"}]
[47109,1753,{"$f":"IF(E2549<>\"n\",COUNTIF(B2549:$B$4018,B2549),IF(D2549<6,0,COUNTIF(B2549:$B$4018,B2549)))","v":0},5,{"$f":"IF(ISERROR(VLOOKUP(A2549,Feriados!A:A,1,FALSE)),\"n\",VLOOKUP(A2549,Feriados!A:A,1,FALSE))","v":"n"}]
[47110,1753,{"$f":"IF(E2550<>\"n\",COUNTIF(B2550:$B$4018,B2550),IF(D2550<6,0,COUNTIF(B2550:$B$4018,B2550)))","v":3},6,{"$f":"IF(ISERROR(VLOOKUP(A2550,Feriados!A:A,1,FALSE)),\"n\",VLOOKUP(A2550,Feriados!A:A,1,FALSE))","v":"n"}]
[47111,1753,{"$f":"IF(E2551<>\"n\",COUNTIF(B2551:$B$4018,B2551),IF(D2551<6,0,COUNTIF(B2551:$B$4018,B2551)))","v":2},7,{"$f":"IF(ISERROR(VLOOKUP(A2551,Feriados!A:A,1,FALSE)),\"n\",VLOOKUP(A2551,Feriados!A:A,1,FALSE))","v":"n"}]
[47112,1753,{"$f":"IF(E2552<>\"n\",COUNTIF(B2552:$B$4018,B2552),IF(D2552<6,0,COUNTIF(B2552:$B$4018,B2552)))","v":1},1,{"$f":"IF(ISERROR(VLOOKUP(A2552,Feriados!A:A,1,FALSE)),\"n\",VLOOKUP(A2552,Feriados!A:A,1,FALSE))","v":"2028-12-25"}]
[47113,1754,{"$f":"IF(E2553<>\"n\",COUNTIF(B2553:$B$4018,B2553),IF(D2553<6,0,COUNTIF(B2553:$B$4018,B2553)))","v":0},2,{"$f":"IF(ISERROR(VLOOKUP(A2553,Feriados!A:A,1,FALSE)),\"n\",VLOOKUP(A2553,Feriados!A:A,1,FALSE))","v":"n"}]
[47114,1755,{"$f":"IF(E2554<>\"n\",COUNTIF(B2554:$B$4018,B2554),IF(D2554<6,0,COUNTIF(B2554:$B$4018,B2554)))","v":0},3,{"$f":"IF(ISERROR(VLOOKUP(A2554,Feriados!A:A,1,FALSE)),\"n\",VLOOKUP(A2554,Feriados!A:A,1,FALSE))","v":"n"}]
[47115,1756,{"$f":"IF(E2555<>\"n\",COUNTIF(B2555:$B$4018,B2555),IF(D2555<6,0,COUNTIF(B2555:$B$4018,B2555)))","v":0},4,{"$f":"IF(ISERROR(VLOOKUP(A2555,Feriados!A:A,1,FALSE)),\"n\",VLOOKUP(A2555,Feriados!A:A,1,FALSE))","v":"n"}]
[47116,1757,{"$f":"IF(E2556<>\"n\",COUNTIF(B2556:$B$4018,B2556),IF(D2556<6,0,COUNTIF(B2556:$B$4018,B2556)))","v":0},5,{"$f":"IF(ISERROR(VLOOKUP(A2556,Feriados!A:A,1,FALSE)),\"n\",VLOOKUP(A2556,Feriados!A:A,1,FALSE))","v":"n"}]
[47117,1757,{"$f":"IF(E2557<>\"n\",COUNTIF(B2557:$B$4018,B2557),IF(D2557<6,0,COUNTIF(B2557:$B$4018,B2557)))","v":3},6,{"$f":"IF(ISERROR(VLOOKUP(A2557,Feriados!A:A,1,FALSE)),\"n\",VLOOKUP(A2557,Feriados!A:A,1,FALSE))","v":"n"}]
[47118,1757,{"$f":"IF(E2558<>\"n\",COUNTIF(B2558:$B$4018,B2558),IF(D2558<6,0,COUNTIF(B2558:$B$4018,B2558)))","v":2},7,{"$f":"IF(ISERROR(VLOOKUP(A2558,Feriados!A:A,1,FALSE)),\"n\",VLOOKUP(A2558,Feriados!A:A,1,FALSE))","v":"n"}]
[47119,1757,{"$f":"IF(E2559<>\"n\",COUNTIF(B2559:$B$4018,B2559),IF(D2559<6,0,COUNTIF(B2559:$B$4018,B2559)))","v":1},1,{"$f":"IF(ISERROR(VLOOKUP(A2559,Feriados!A:A,1,FALSE)),\"n\",VLOOKUP(A2559,Feriados!A:A,1,FALSE))","v":"2029-01-01"}]
[47120,1758,{"$f":"IF(E2560<>\"n\",COUNTIF(B2560:$B$4018,B2560),IF(D2560<6,0,COUNTIF(B2560:$B$4018,B2560)))","v":0},2,{"$f":"IF(ISERROR(VLOOKUP(A2560,Feriados!A:A,1,FALSE)),\"n\",VLOOKUP(A2560,Feriados!A:A,1,FALSE))","v":"n"}]
[47121,1759,{"$f":"IF(E2561<>\"n\",COUNTIF(B2561:$B$4018,B2561),IF(D2561<6,0,COUNTIF(B2561:$B$4018,B2561)))","v":0},3,{"$f":"IF(ISERROR(VLOOKUP(A2561,Feriados!A:A,1,FALSE)),\"n\",VLOOKUP(A2561,Feriados!A:A,1,FALSE))","v":"n"}]
[47122,1760,{"$f":"IF(E2562<>\"n\",COUNTIF(B2562:$B$4018,B2562),IF(D2562<6,0,COUNTIF(B2562:$B$4018,B2562)))","v":0},4,{"$f":"IF(ISERROR(VLOOKUP(A2562,Feriados!A:A,1,FALSE)),\"n\",VLOOKUP(A2562,Feriados!A:A,1,FALSE))","v":"n"}]
[47123,1761,{"$f":"IF(E2563<>\"n\",COUNTIF(B2563:$B$4018,B2563),IF(D2563<6,0,COUNTIF(B2563:$B$4018,B2563)))","v":0},5,{"$f":"IF(ISERROR(VLOOKUP(A2563,Feriados!A:A,1,FALSE)),\"n\",VLOOKUP(A2563,Feriados!A:A,1,FALSE))","v":"n"}]
[{"$f":"A2563+1","v":47124},1761,{"$f":"IF(E2564<>\"n\",COUNTIF(B2564:$B$4018,B2564),IF(D2564<6,0,COUNTIF(B2564:$B$4018,B2564)))","v":2},6,{"$f":"IF(ISERROR(VLOOKUP(A2564,Feriados!A:A,1,FALSE)),\"n\",VLOOKUP(A2564,Feriados!A:A,1,FALSE))","v":"n"}]
[47125,1761,{"$f":"IF(E2565<>\"n\",COUNTIF(B2565:$B$4018,B2565),IF(D2565<6,0,COUNTIF(B2565:$B$4018,B2565)))","v":1},7,{"$f":"IF(ISERROR(VLOOKUP(A2565,Feriados!A:A,1,FALSE)),\"n\",VLOOKUP(A2565,Feriados!A:A,1,FALSE))","v":"n"}]
[47126,1762,{"$f":"IF(E2566<>\"n\",COUNTIF(B2566:$B$4018,B2566),IF(D2566<6,0,COUNTIF(B2566:$B$4018,B2566)))","v":0},1,{"$f":"IF(ISERROR(VLOOKUP(A2566,Feriados!A:A,1,FALSE)),\"n\",VLOOKUP(A2566,Feriados!A:A,1,FALSE))","v":"n"}]
[47127,1763,{"$f":"IF(E2567<>\"n\",COUNTIF(B2567:$B$4018,B2567),IF(D2567<6,0,COUNTIF(B2567:$B$4018,B2567)))","v":0},2,{"$f":"IF(ISERROR(VLOOKUP(A2567,Feriados!A:A,1,FALSE)),\"n\",VLOOKUP(A2567,Feriados!A:A,1,FALSE))","v":"n"}]
[47128,1764,{"$f":"IF(E2568<>\"n\",COUNTIF(B2568:$B$4018,B2568),IF(D2568<6,0,COUNTIF(B2568:$B$4018,B2568)))","v":0},3,{"$f":"IF(ISERROR(VLOOKUP(A2568,Feriados!A:A,1,FALSE)),\"n\",VLOOKUP(A2568,Feriados!A:A,1,FALSE))","v":"n"}]
[47129,1765,{"$f":"IF(E2569<>\"n\",COUNTIF(B2569:$B$4018,B2569),IF(D2569<6,0,COUNTIF(B2569:$B$4018,B2569)))","v":0},4,{"$f":"IF(ISERROR(VLOOKUP(A2569,Feriados!A:A,1,FALSE)),\"n\",VLOOKUP(A2569,Feriados!A:A,1,FALSE))","v":"n"}]
[47130,1766,{"$f":"IF(E2570<>\"n\",COUNTIF(B2570:$B$4018,B2570),IF(D2570<6,0,COUNTIF(B2570:$B$4018,B2570)))","v":0},5,{"$f":"IF(ISERROR(VLOOKUP(A2570,Feriados!A:A,1,FALSE)),\"n\",VLOOKUP(A2570,Feriados!A:A,1,FALSE))","v":"n"}]
[47131,1766,{"$f":"IF(E2571<>\"n\",COUNTIF(B2571:$B$4018,B2571),IF(D2571<6,0,COUNTIF(B2571:$B$4018,B2571)))","v":2},6,{"$f":"IF(ISERROR(VLOOKUP(A2571,Feriados!A:A,1,FALSE)),\"n\",VLOOKUP(A2571,Feriados!A:A,1,FALSE))","v":"n"}]
[47132,1766,{"$f":"IF(E2572<>\"n\",COUNTIF(B2572:$B$4018,B2572),IF(D2572<6,0,COUNTIF(B2572:$B$4018,B2572)))","v":1},7,{"$f":"IF(ISERROR(VLOOKUP(A2572,Feriados!A:A,1,FALSE)),\"n\",VLOOKUP(A2572,Feriados!A:A,1,FALSE))","v":"n"}]
[47133,1767,{"$f":"IF(E2573<>\"n\",COUNTIF(B2573:$B$4018,B2573),IF(D2573<6,0,COUNTIF(B2573:$B$4018,B2573)))","v":0},1,{"$f":"IF(ISERROR(VLOOKUP(A2573,Feriados!A:A,1,FALSE)),\"n\",VLOOKUP(A2573,Feriados!A:A,1,FALSE))","v":"n"}]
[47134,1768,{"$f":"IF(E2574<>\"n\",COUNTIF(B2574:$B$4018,B2574),IF(D2574<6,0,COUNTIF(B2574:$B$4018,B2574)))","v":0},2,{"$f":"IF(ISERROR(VLOOKUP(A2574,Feriados!A:A,1,FALSE)),\"n\",VLOOKUP(A2574,Feriados!A:A,1,FALSE))","v":"n"}]
[47135,1769,{"$f":"IF(E2575<>\"n\",COUNTIF(B2575:$B$4018,B2575),IF(D2575<6,0,COUNTIF(B2575:$B$4018,B2575)))","v":0},3,{"$f":"IF(ISERROR(VLOOKUP(A2575,Feriados!A:A,1,FALSE)),\"n\",VLOOKUP(A2575,Feriados!A:A,1,FALSE))","v":"n"}]
[47136,1770,{"$f":"IF(E2576<>\"n\",COUNTIF(B2576:$B$4018,B2576),IF(D2576<6,0,COUNTIF(B2576:$B$4018,B2576)))","v":0},4,{"$f":"IF(ISERROR(VLOOKUP(A2576,Feriados!A:A,1,FALSE)),\"n\",VLOOKUP(A2576,Feriados!A:A,1,FALSE))","v":"n"}]
[47137,1771,{"$f":"IF(E2577<>\"n\",COUNTIF(B2577:$B$4018,B2577),IF(D2577<6,0,COUNTIF(B2577:$B$4018,B2577)))","v":0},5,{"$f":"IF(ISERROR(VLOOKUP(A2577,Feriados!A:A,1,FALSE)),\"n\",VLOOKUP(A2577,Feriados!A:A,1,FALSE))","v":"n"}]
[47138,1771,{"$f":"IF(E2578<>\"n\",COUNTIF(B2578:$B$4018,B2578),IF(D2578<6,0,COUNTIF(B2578:$B$4018,B2578)))","v":2},6,{"$f":"IF(ISERROR(VLOOKUP(A2578,Feriados!A:A,1,FALSE)),\"n\",VLOOKUP(A2578,Feriados!A:A,1,FALSE))","v":"n"}]
[47139,1771,{"$f":"IF(E2579<>\"n\",COUNTIF(B2579:$B$4018,B2579),IF(D2579<6,0,COUNTIF(B2579:$B$4018,B2579)))","v":1},7,{"$f":"IF(ISERROR(VLOOKUP(A2579,Feriados!A:A,1,FALSE)),\"n\",VLOOKUP(A2579,Feriados!A:A,1,FALSE))","v":"n"}]
[47140,1772,{"$f":"IF(E2580<>\"n\",COUNTIF(B2580:$B$4018,B2580),IF(D2580<6,0,COUNTIF(B2580:$B$4018,B2580)))","v":0},1,{"$f":"IF(ISERROR(VLOOKUP(A2580,Feriados!A:A,1,FALSE)),\"n\",VLOOKUP(A2580,Feriados!A:A,1,FALSE))","v":"n"}]
[47141,1773,{"$f":"IF(E2581<>\"n\",COUNTIF(B2581:$B$4018,B2581),IF(D2581<6,0,COUNTIF(B2581:$B$4018,B2581)))","v":0},2,{"$f":"IF(ISERROR(VLOOKUP(A2581,Feriados!A:A,1,FALSE)),\"n\",VLOOKUP(A2581,Feriados!A:A,1,FALSE))","v":"n"}]
[47142,1774,{"$f":"IF(E2582<>\"n\",COUNTIF(B2582:$B$4018,B2582),IF(D2582<6,0,COUNTIF(B2582:$B$4018,B2582)))","v":0},3,{"$f":"IF(ISERROR(VLOOKUP(A2582,Feriados!A:A,1,FALSE)),\"n\",VLOOKUP(A2582,Feriados!A:A,1,FALSE))","v":"n"}]
[47143,1775,{"$f":"IF(E2583<>\"n\",COUNTIF(B2583:$B$4018,B2583),IF(D2583<6,0,COUNTIF(B2583:$B$4018,B2583)))","v":0},4,{"$f":"IF(ISERROR(VLOOKUP(A2583,Feriados!A:A,1,FALSE)),\"n\",VLOOKUP(A2583,Feriados!A:A,1,FALSE))","v":"n"}]
[47144,1776,{"$f":"IF(E2584<>\"n\",COUNTIF(B2584:$B$4018,B2584),IF(D2584<6,0,COUNTIF(B2584:$B$4018,B2584)))","v":0},5,{"$f":"IF(ISERROR(VLOOKUP(A2584,Feriados!A:A,1,FALSE)),\"n\",VLOOKUP(A2584,Feriados!A:A,1,FALSE))","v":"n"}]
[47145,1776,{"$f":"IF(E2585<>\"n\",COUNTIF(B2585:$B$4018,B2585),IF(D2585<6,0,COUNTIF(B2585:$B$4018,B2585)))","v":2},6,{"$f":"IF(ISERROR(VLOOKUP(A2585,Feriados!A:A,1,FALSE)),\"n\",VLOOKUP(A2585,Feriados!A:A,1,FALSE))","v":"n"}]
[47146,1776,{"$f":"IF(E2586<>\"n\",COUNTIF(B2586:$B$4018,B2586),IF(D2586<6,0,COUNTIF(B2586:$B$4018,B2586)))","v":1},7,{"$f":"IF(ISERROR(VLOOKUP(A2586,Feriados!A:A,1,FALSE)),\"n\",VLOOKUP(A2586,Feriados!A:A,1,FALSE))","v":"n"}]
[47147,1777,{"$f":"IF(E2587<>\"n\",COUNTIF(B2587:$B$4018,B2587),IF(D2587<6,0,COUNTIF(B2587:$B$4018,B2587)))","v":0},1,{"$f":"IF(ISERROR(VLOOKUP(A2587,Feriados!A:A,1,FALSE)),\"n\",VLOOKUP(A2587,Feriados!A:A,1,FALSE))","v":"n"}]
[47148,1778,{"$f":"IF(E2588<>\"n\",COUNTIF(B2588:$B$4018,B2588),IF(D2588<6,0,COUNTIF(B2588:$B$4018,B2588)))","v":0},2,{"$f":"IF(ISERROR(VLOOKUP(A2588,Feriados!A:A,1,FALSE)),\"n\",VLOOKUP(A2588,Feriados!A:A,1,FALSE))","v":"n"}]
[47149,1779,{"$f":"IF(E2589<>\"n\",COUNTIF(B2589:$B$4018,B2589),IF(D2589<6,0,COUNTIF(B2589:$B$4018,B2589)))","v":0},3,{"$f":"IF(ISERROR(VLOOKUP(A2589,Feriados!A:A,1,FALSE)),\"n\",VLOOKUP(A2589,Feriados!A:A,1,FALSE))","v":"n"}]
[47150,{"$f":"NETWORKDAYS($A$2,A2590,feriados)","v":1780},{"$f":"IF(E2590<>\"n\",COUNTIF(B2590:$B$4018,B2590),IF(D2590<6,0,COUNTIF(B2590:$B$4018,B2590)))","v":0},{"$f":"WEEKDAY(A2590,2)","v":4},{"$f":"IF(ISERROR(VLOOKUP(A2590,Feriados!A:A,1,FALSE)),\"n\",VLOOKUP(A2590,Feriados!A:A,1,FALSE))","v":"n"}]
[47151,1781,{"$f":"IF(E2591<>\"n\",COUNTIF(B2591:$B$4018,B2591),IF(D2591<6,0,COUNTIF(B2591:$B$4018,B2591)))","v":0},5,{"$f":"IF(ISERROR(VLOOKUP(A2591,Feriados!A:A,1,FALSE)),\"n\",VLOOKUP(A2591,Feriados!A:A,1,FALSE))","v":"n"}]
[47152,1781,{"$f":"IF(E2592<>\"n\",COUNTIF(B2592:$B$4018,B2592),IF(D2592<6,0,COUNTIF(B2592:$B$4018,B2592)))","v":2},6,{"$f":"IF(ISERROR(VLOOKUP(A2592,Feriados!A:A,1,FALSE)),\"n\",VLOOKUP(A2592,Feriados!A:A,1,FALSE))","v":"n"}]
[47153,1781,{"$f":"IF(E2593<>\"n\",COUNTIF(B2593:$B$4018,B2593),IF(D2593<6,0,COUNTIF(B2593:$B$4018,B2593)))","v":1},7,{"$f":"IF(ISERROR(VLOOKUP(A2593,Feriados!A:A,1,FALSE)),\"n\",VLOOKUP(A2593,Feriados!A:A,1,FALSE))","v":"n"}]
[47154,1782,{"$f":"IF(E2594<>\"n\",COUNTIF(B2594:$B$4018,B2594),IF(D2594<6,0,COUNTIF(B2594:$B$4018,B2594)))","v":0},1,{"$f":"IF(ISERROR(VLOOKUP(A2594,Feriados!A:A,1,FALSE)),\"n\",VLOOKUP(A2594,Feriados!A:A,1,FALSE))","v":"n"}]
[47155,1783,{"$f":"IF(E2595<>\"n\",COUNTIF(B2595:$B$4018,B2595),IF(D2595<6,0,COUNTIF(B2595:$B$4018,B2595)))","v":0},2,{"$f":"IF(ISERROR(VLOOKUP(A2595,Feriados!A:A,1,FALSE)),\"n\",VLOOKUP(A2595,Feriados!A:A,1,FALSE))","v":"n"}]
[47156,1784,{"$f":"IF(E2596<>\"n\",COUNTIF(B2596:$B$4018,B2596),IF(D2596<6,0,COUNTIF(B2596:$B$4018,B2596)))","v":0},3,{"$f":"IF(ISERROR(VLOOKUP(A2596,Feriados!A:A,1,FALSE)),\"n\",VLOOKUP(A2596,Feriados!A:A,1,FALSE))","v":"n"}]
[47157,1785,{"$f":"IF(E2597<>\"n\",COUNTIF(B2597:$B$4018,B2597),IF(D2597<6,0,COUNTIF(B2597:$B$4018,B2597)))","v":0},4,{"$f":"IF(ISERROR(VLOOKUP(A2597,Feriados!A:A,1,FALSE)),\"n\",VLOOKUP(A2597,Feriados!A:A,1,FALSE))","v":"n"}]
[47158,1786,{"$f":"IF(E2598<>\"n\",COUNTIF(B2598:$B$4018,B2598),IF(D2598<6,0,COUNTIF(B2598:$B$4018,B2598)))","v":0},5,{"$f":"IF(ISERROR(VLOOKUP(A2598,Feriados!A:A,1,FALSE)),\"n\",VLOOKUP(A2598,Feriados!A:A,1,FALSE))","v":"n"}]
[47159,1786,{"$f":"IF(E2599<>\"n\",COUNTIF(B2599:$B$4018,B2599),IF(D2599<6,0,COUNTIF(B2599:$B$4018,B2599)))","v":4},6,{"$f":"IF(ISERROR(VLOOKUP(A2599,Feriados!A:A,1,FALSE)),\"n\",VLOOKUP(A2599,Feriados!A:A,1,FALSE))","v":"n"}]
[47160,1786,{"$f":"IF(E2600<>\"n\",COUNTIF(B2600:$B$4018,B2600),IF(D2600<6,0,COUNTIF(B2600:$B$4018,B2600)))","v":3},7,{"$f":"IF(ISERROR(VLOOKUP(A2600,Feriados!A:A,1,FALSE)),\"n\",VLOOKUP(A2600,Feriados!A:A,1,FALSE))","v":"n"}]
[47161,1786,{"$f":"IF(E2601<>\"n\",COUNTIF(B2601:$B$4018,B2601),IF(D2601<6,0,COUNTIF(B2601:$B$4018,B2601)))","v":2},1,{"$f":"IF(ISERROR(VLOOKUP(A2601,Feriados!A:A,1,FALSE)),\"n\",VLOOKUP(A2601,Feriados!A:A,1,FALSE))","v":"2029-02-12"}]
[47162,1786,{"$f":"IF(E2602<>\"n\",COUNTIF(B2602:$B$4018,B2602),IF(D2602<6,0,COUNTIF(B2602:$B$4018,B2602)))","v":1},2,{"$f":"IF(ISERROR(VLOOKUP(A2602,Feriados!A:A,1,FALSE)),\"n\",VLOOKUP(A2602,Feriados!A:A,1,FALSE))","v":"2029-02-13"}]
[47163,1787,{"$f":"IF(E2603<>\"n\",COUNTIF(B2603:$B$4018,B2603),IF(D2603<6,0,COUNTIF(B2603:$B$4018,B2603)))","v":0},3,{"$f":"IF(ISERROR(VLOOKUP(A2603,Feriados!A:A,1,FALSE)),\"n\",VLOOKUP(A2603,Feriados!A:A,1,FALSE))","v":"n"}]
[47164,1788,{"$f":"IF(E2604<>\"n\",COUNTIF(B2604:$B$4018,B2604),IF(D2604<6,0,COUNTIF(B2604:$B$4018,B2604)))","v":0},4,{"$f":"IF(ISERROR(VLOOKUP(A2604,Feriados!A:A,1,FALSE)),\"n\",VLOOKUP(A2604,Feriados!A:A,1,FALSE))","v":"n"}]
[47165,1789,{"$f":"IF(E2605<>\"n\",COUNTIF(B2605:$B$4018,B2605),IF(D2605<6,0,COUNTIF(B2605:$B$4018,B2605)))","v":0},5,{"$f":"IF(ISERROR(VLOOKUP(A2605,Feriados!A:A,1,FALSE)),\"n\",VLOOKUP(A2605,Feriados!A:A,1,FALSE))","v":"n"}]
[47166,1789,{"$f":"IF(E2606<>\"n\",COUNTIF(B2606:$B$4018,B2606),IF(D2606<6,0,COUNTIF(B2606:$B$4018,B2606)))","v":2},6,{"$f":"IF(ISERROR(VLOOKUP(A2606,Feriados!A:A,1,FALSE)),\"n\",VLOOKUP(A2606,Feriados!A:A,1,FALSE))","v":"n"}]
[47167,1789,{"$f":"IF(E2607<>\"n\",COUNTIF(B2607:$B$4018,B2607),IF(D2607<6,0,COUNTIF(B2607:$B$4018,B2607)))","v":1},7,{"$f":"IF(ISERROR(VLOOKUP(A2607,Feriados!A:A,1,FALSE)),\"n\",VLOOKUP(A2607,Feriados!A:A,1,FALSE))","v":"n"}]
[47168,1790,{"$f":"IF(E2608<>\"n\",COUNTIF(B2608:$B$4018,B2608),IF(D2608<6,0,COUNTIF(B2608:$B$4018,B2608)))","v":0},1,{"$f":"IF(ISERROR(VLOOKUP(A2608,Feriados!A:A,1,FALSE)),\"n\",VLOOKUP(A2608,Feriados!A:A,1,FALSE))","v":"n"}]
[47169,1791,{"$f":"IF(E2609<>\"n\",COUNTIF(B2609:$B$4018,B2609),IF(D2609<6,0,COUNTIF(B2609:$B$4018,B2609)))","v":0},2,{"$f":"IF(ISERROR(VLOOKUP(A2609,Feriados!A:A,1,FALSE)),\"n\",VLOOKUP(A2609,Feriados!A:A,1,FALSE))","v":"n"}]
[47170,1792,{"$f":"IF(E2610<>\"n\",COUNTIF(B2610:$B$4018,B2610),IF(D2610<6,0,COUNTIF(B2610:$B$4018,B2610)))","v":0},3,{"$f":"IF(ISERROR(VLOOKUP(A2610,Feriados!A:A,1,FALSE)),\"n\",VLOOKUP(A2610,Feriados!A:A,1,FALSE))","v":"n"}]
[47171,1793,{"$f":"IF(E2611<>\"n\",COUNTIF(B2611:$B$4018,B2611),IF(D2611<6,0,COUNTIF(B2611:$B$4018,B2611)))","v":0},4,{"$f":"IF(ISERROR(VLOOKUP(A2611,Feriados!A:A,1,FALSE)),\"n\",VLOOKUP(A2611,Feriados!A:A,1,FALSE))","v":"n"}]
[47172,1794,{"$f":"IF(E2612<>\"n\",COUNTIF(B2612:$B$4018,B2612),IF(D2612<6,0,COUNTIF(B2612:$B$4018,B2612)))","v":0},5,{"$f":"IF(ISERROR(VLOOKUP(A2612,Feriados!A:A,1,FALSE)),\"n\",VLOOKUP(A2612,Feriados!A:A,1,FALSE))","v":"n"}]
[47173,1794,{"$f":"IF(E2613<>\"n\",COUNTIF(B2613:$B$4018,B2613),IF(D2613<6,0,COUNTIF(B2613:$B$4018,B2613)))","v":2},6,{"$f":"IF(ISERROR(VLOOKUP(A2613,Feriados!A:A,1,FALSE)),\"n\",VLOOKUP(A2613,Feriados!A:A,1,FALSE))","v":"n"}]
[47174,1794,{"$f":"IF(E2614<>\"n\",COUNTIF(B2614:$B$4018,B2614),IF(D2614<6,0,COUNTIF(B2614:$B$4018,B2614)))","v":1},7,{"$f":"IF(ISERROR(VLOOKUP(A2614,Feriados!A:A,1,FALSE)),\"n\",VLOOKUP(A2614,Feriados!A:A,1,FALSE))","v":"n"}]
[47175,1795,{"$f":"IF(E2615<>\"n\",COUNTIF(B2615:$B$4018,B2615),IF(D2615<6,0,COUNTIF(B2615:$B$4018,B2615)))","v":0},1,{"$f":"IF(ISERROR(VLOOKUP(A2615,Feriados!A:A,1,FALSE)),\"n\",VLOOKUP(A2615,Feriados!A:A,1,FALSE))","v":"n"}]
[47176,1796,{"$f":"IF(E2616<>\"n\",COUNTIF(B2616:$B$4018,B2616),IF(D2616<6,0,COUNTIF(B2616:$B$4018,B2616)))","v":0},2,{"$f":"IF(ISERROR(VLOOKUP(A2616,Feriados!A:A,1,FALSE)),\"n\",VLOOKUP(A2616,Feriados!A:A,1,FALSE))","v":"n"}]
[47177,1797,{"$f":"IF(E2617<>\"n\",COUNTIF(B2617:$B$4018,B2617),IF(D2617<6,0,COUNTIF(B2617:$B$4018,B2617)))","v":0},3,{"$f":"IF(ISERROR(VLOOKUP(A2617,Feriados!A:A,1,FALSE)),\"n\",VLOOKUP(A2617,Feriados!A:A,1,FALSE))","v":"n"}]
[47178,1798,{"$f":"IF(E2618<>\"n\",COUNTIF(B2618:$B$4018,B2618),IF(D2618<6,0,COUNTIF(B2618:$B$4018,B2618)))","v":0},4,{"$f":"IF(ISERROR(VLOOKUP(A2618,Feriados!A:A,1,FALSE)),\"n\",VLOOKUP(A2618,Feriados!A:A,1,FALSE))","v":"n"}]
[47179,1799,{"$f":"IF(E2619<>\"n\",COUNTIF(B2619:$B$4018,B2619),IF(D2619<6,0,COUNTIF(B2619:$B$4018,B2619)))","v":0},5,{"$f":"IF(ISERROR(VLOOKUP(A2619,Feriados!A:A,1,FALSE)),\"n\",VLOOKUP(A2619,Feriados!A:A,1,FALSE))","v":"n"}]
[47180,1799,{"$f":"IF(E2620<>\"n\",COUNTIF(B2620:$B$4018,B2620),IF(D2620<6,0,COUNTIF(B2620:$B$4018,B2620)))","v":2},6,{"$f":"IF(ISERROR(VLOOKUP(A2620,Feriados!A:A,1,FALSE)),\"n\",VLOOKUP(A2620,Feriados!A:A,1,FALSE))","v":"n"}]
[47181,1799,{"$f":"IF(E2621<>\"n\",COUNTIF(B2621:$B$4018,B2621),IF(D2621<6,0,COUNTIF(B2621:$B$4018,B2621)))","v":1},7,{"$f":"IF(ISERROR(VLOOKUP(A2621,Feriados!A:A,1,FALSE)),\"n\",VLOOKUP(A2621,Feriados!A:A,1,FALSE))","v":"n"}]
[47182,1800,{"$f":"IF(E2622<>\"n\",COUNTIF(B2622:$B$4018,B2622),IF(D2622<6,0,COUNTIF(B2622:$B$4018,B2622)))","v":0},1,{"$f":"IF(ISERROR(VLOOKUP(A2622,Feriados!A:A,1,FALSE)),\"n\",VLOOKUP(A2622,Feriados!A:A,1,FALSE))","v":"n"}]
[47183,1801,{"$f":"IF(E2623<>\"n\",COUNTIF(B2623:$B$4018,B2623),IF(D2623<6,0,COUNTIF(B2623:$B$4018,B2623)))","v":0},2,{"$f":"IF(ISERROR(VLOOKUP(A2623,Feriados!A:A,1,FALSE)),\"n\",VLOOKUP(A2623,Feriados!A:A,1,FALSE))","v":"n"}]
[47184,1802,{"$f":"IF(E2624<>\"n\",COUNTIF(B2624:$B$4018,B2624),IF(D2624<6,0,COUNTIF(B2624:$B$4018,B2624)))","v":0},3,{"$f":"IF(ISERROR(VLOOKUP(A2624,Feriados!A:A,1,FALSE)),\"n\",VLOOKUP(A2624,Feriados!A:A,1,FALSE))","v":"n"}]
[47185,1803,{"$f":"IF(E2625<>\"n\",COUNTIF(B2625:$B$4018,B2625),IF(D2625<6,0,COUNTIF(B2625:$B$4018,B2625)))","v":0},4,{"$f":"IF(ISERROR(VLOOKUP(A2625,Feriados!A:A,1,FALSE)),\"n\",VLOOKUP(A2625,Feriados!A:A,1,FALSE))","v":"n"}]
[47186,1804,{"$f":"IF(E2626<>\"n\",COUNTIF(B2626:$B$4018,B2626),IF(D2626<6,0,COUNTIF(B2626:$B$4018,B2626)))","v":0},5,{"$f":"IF(ISERROR(VLOOKUP(A2626,Feriados!A:A,1,FALSE)),\"n\",VLOOKUP(A2626,Feriados!A:A,1,FALSE))","v":"n"}]
[47187,1804,{"$f":"IF(E2627<>\"n\",COUNTIF(B2627:$B$4018,B2627),IF(D2627<6,0,COUNTIF(B2627:$B$4018,B2627)))","v":2},6,{"$f":"IF(ISERROR(VLOOKUP(A2627,Feriados!A:A,1,FALSE)),\"n\",VLOOKUP(A2627,Feriados!A:A,1,FALSE))","v":"n"}]
[{"$f":"A2627+1","v":47188},1804,{"$f":"IF(E2628<>\"n\",COUNTIF(B2628:$B$4018,B2628),IF(D2628<6,0,COUNTIF(B2628:$B$4018,B2628)))","v":1},7,{"$f":"IF(ISERROR(VLOOKUP(A2628,Feriados!A:A,1,FALSE)),\"n\",VLOOKUP(A2628,Feriados!A:A,1,FALSE))","v":"n"}]
[47189,1805,{"$f":"IF(E2629<>\"n\",COUNTIF(B2629:$B$4018,B2629),IF(D2629<6,0,COUNTIF(B2629:$B$4018,B2629)))","v":0},1,{"$f":"IF(ISERROR(VLOOKUP(A2629,Feriados!A:A,1,FALSE)),\"n\",VLOOKUP(A2629,Feriados!A:A,1,FALSE))","v":"n"}]
[47190,1806,{"$f":"IF(E2630<>\"n\",COUNTIF(B2630:$B$4018,B2630),IF(D2630<6,0,COUNTIF(B2630:$B$4018,B2630)))","v":0},2,{"$f":"IF(ISERROR(VLOOKUP(A2630,Feriados!A:A,1,FALSE)),\"n\",VLOOKUP(A2630,Feriados!A:A,1,FALSE))","v":"n"}]
[47191,1807,{"$f":"IF(E2631<>\"n\",COUNTIF(B2631:$B$4018,B2631),IF(D2631<6,0,COUNTIF(B2631:$B$4018,B2631)))","v":0},3,{"$f":"IF(ISERROR(VLOOKUP(A2631,Feriados!A:A,1,FALSE)),\"n\",VLOOKUP(A2631,Feriados!A:A,1,FALSE))","v":"n"}]
[47192,1808,{"$f":"IF(E2632<>\"n\",COUNTIF(B2632:$B$4018,B2632),IF(D2632<6,0,COUNTIF(B2632:$B$4018,B2632)))","v":0},4,{"$f":"IF(ISERROR(VLOOKUP(A2632,Feriados!A:A,1,FALSE)),\"n\",VLOOKUP(A2632,Feriados!A:A,1,FALSE))","v":"n"}]
[47193,1809,{"$f":"IF(E2633<>\"n\",COUNTIF(B2633:$B$4018,B2633),IF(D2633<6,0,COUNTIF(B2633:$B$4018,B2633)))","v":0},5,{"$f":"IF(ISERROR(VLOOKUP(A2633,Feriados!A:A,1,FALSE)),\"n\",VLOOKUP(A2633,Feriados!A:A,1,FALSE))","v":"n"}]
[47194,1809,{"$f":"IF(E2634<>\"n\",COUNTIF(B2634:$B$4018,B2634),IF(D2634<6,0,COUNTIF(B2634:$B$4018,B2634)))","v":2},6,{"$f":"IF(ISERROR(VLOOKUP(A2634,Feriados!A:A,1,FALSE)),\"n\",VLOOKUP(A2634,Feriados!A:A,1,FALSE))","v":"n"}]
[47195,1809,{"$f":"IF(E2635<>\"n\",COUNTIF(B2635:$B$4018,B2635),IF(D2635<6,0,COUNTIF(B2635:$B$4018,B2635)))","v":1},7,{"$f":"IF(ISERROR(VLOOKUP(A2635,Feriados!A:A,1,FALSE)),\"n\",VLOOKUP(A2635,Feriados!A:A,1,FALSE))","v":"n"}]
[47196,1810,{"$f":"IF(E2636<>\"n\",COUNTIF(B2636:$B$4018,B2636),IF(D2636<6,0,COUNTIF(B2636:$B$4018,B2636)))","v":0},1,{"$f":"IF(ISERROR(VLOOKUP(A2636,Feriados!A:A,1,FALSE)),\"n\",VLOOKUP(A2636,Feriados!A:A,1,FALSE))","v":"n"}]
[47197,1811,{"$f":"IF(E2637<>\"n\",COUNTIF(B2637:$B$4018,B2637),IF(D2637<6,0,COUNTIF(B2637:$B$4018,B2637)))","v":0},2,{"$f":"IF(ISERROR(VLOOKUP(A2637,Feriados!A:A,1,FALSE)),\"n\",VLOOKUP(A2637,Feriados!A:A,1,FALSE))","v":"n"}]
[47198,1812,{"$f":"IF(E2638<>\"n\",COUNTIF(B2638:$B$4018,B2638),IF(D2638<6,0,COUNTIF(B2638:$B$4018,B2638)))","v":0},3,{"$f":"IF(ISERROR(VLOOKUP(A2638,Feriados!A:A,1,FALSE)),\"n\",VLOOKUP(A2638,Feriados!A:A,1,FALSE))","v":"n"}]
[47199,1813,{"$f":"IF(E2639<>\"n\",COUNTIF(B2639:$B$4018,B2639),IF(D2639<6,0,COUNTIF(B2639:$B$4018,B2639)))","v":0},4,{"$f":"IF(ISERROR(VLOOKUP(A2639,Feriados!A:A,1,FALSE)),\"n\",VLOOKUP(A2639,Feriados!A:A,1,FALSE))","v":"n"}]
[47200,1814,{"$f":"IF(E2640<>\"n\",COUNTIF(B2640:$B$4018,B2640),IF(D2640<6,0,COUNTIF(B2640:$B$4018,B2640)))","v":0},5,{"$f":"IF(ISERROR(VLOOKUP(A2640,Feriados!A:A,1,FALSE)),\"n\",VLOOKUP(A2640,Feriados!A:A,1,FALSE))","v":"n"}]
[47201,1814,{"$f":"IF(E2641<>\"n\",COUNTIF(B2641:$B$4018,B2641),IF(D2641<6,0,COUNTIF(B2641:$B$4018,B2641)))","v":2},6,{"$f":"IF(ISERROR(VLOOKUP(A2641,Feriados!A:A,1,FALSE)),\"n\",VLOOKUP(A2641,Feriados!A:A,1,FALSE))","v":"n"}]
[47202,1814,{"$f":"IF(E2642<>\"n\",COUNTIF(B2642:$B$4018,B2642),IF(D2642<6,0,COUNTIF(B2642:$B$4018,B2642)))","v":1},7,{"$f":"IF(ISERROR(VLOOKUP(A2642,Feriados!A:A,1,FALSE)),\"n\",VLOOKUP(A2642,Feriados!A:A,1,FALSE))","v":"n"}]
[47203,1815,{"$f":"IF(E2643<>\"n\",COUNTIF(B2643:$B$4018,B2643),IF(D2643<6,0,COUNTIF(B2643:$B$4018,B2643)))","v":0},1,{"$f":"IF(ISERROR(VLOOKUP(A2643,Feriados!A:A,1,FALSE)),\"n\",VLOOKUP(A2643,Feriados!A:A,1,FALSE))","v":"n"}]
[47204,1816,{"$f":"IF(E2644<>\"n\",COUNTIF(B2644:$B$4018,B2644),IF(D2644<6,0,COUNTIF(B2644:$B$4018,B2644)))","v":0},2,{"$f":"IF(ISERROR(VLOOKUP(A2644,Feriados!A:A,1,FALSE)),\"n\",VLOOKUP(A2644,Feriados!A:A,1,FALSE))","v":"n"}]
[47205,1817,{"$f":"IF(E2645<>\"n\",COUNTIF(B2645:$B$4018,B2645),IF(D2645<6,0,COUNTIF(B2645:$B$4018,B2645)))","v":0},3,{"$f":"IF(ISERROR(VLOOKUP(A2645,Feriados!A:A,1,FALSE)),\"n\",VLOOKUP(A2645,Feriados!A:A,1,FALSE))","v":"n"}]
[47206,1818,{"$f":"IF(E2646<>\"n\",COUNTIF(B2646:$B$4018,B2646),IF(D2646<6,0,COUNTIF(B2646:$B$4018,B2646)))","v":0},4,{"$f":"IF(ISERROR(VLOOKUP(A2646,Feriados!A:A,1,FALSE)),\"n\",VLOOKUP(A2646,Feriados!A:A,1,FALSE))","v":"n"}]
[47207,1818,{"$f":"IF(E2647<>\"n\",COUNTIF(B2647:$B$4018,B2647),IF(D2647<6,0,COUNTIF(B2647:$B$4018,B2647)))","v":3},5,{"$f":"IF(ISERROR(VLOOKUP(A2647,Feriados!A:A,1,FALSE)),\"n\",VLOOKUP(A2647,Feriados!A:A,1,FALSE))","v":"2029-03-30"}]
[47208,1818,{"$f":"IF(E2648<>\"n\",COUNTIF(B2648:$B$4018,B2648),IF(D2648<6,0,COUNTIF(B2648:$B$4018,B2648)))","v":2},6,{"$f":"IF(ISERROR(VLOOKUP(A2648,Feriados!A:A,1,FALSE)),\"n\",VLOOKUP(A2648,Feriados!A:A,1,FALSE))","v":"n"}]
[47209,1818,{"$f":"IF(E2649<>\"n\",COUNTIF(B2649:$B$4018,B2649),IF(D2649<6,0,COUNTIF(B2649:$B$4018,B2649)))","v":1},7,{"$f":"IF(ISERROR(VLOOKUP(A2649,Feriados!A:A,1,FALSE)),\"n\",VLOOKUP(A2649,Feriados!A:A,1,FALSE))","v":"n"}]
[47210,1819,{"$f":"IF(E2650<>\"n\",COUNTIF(B2650:$B$4018,B2650),IF(D2650<6,0,COUNTIF(B2650:$B$4018,B2650)))","v":0},1,{"$f":"IF(ISERROR(VLOOKUP(A2650,Feriados!A:A,1,FALSE)),\"n\",VLOOKUP(A2650,Feriados!A:A,1,FALSE))","v":"n"}]
[47211,1820,{"$f":"IF(E2651<>\"n\",COUNTIF(B2651:$B$4018,B2651),IF(D2651<6,0,COUNTIF(B2651:$B$4018,B2651)))","v":0},2,{"$f":"IF(ISERROR(VLOOKUP(A2651,Feriados!A:A,1,FALSE)),\"n\",VLOOKUP(A2651,Feriados!A:A,1,FALSE))","v":"n"}]
[47212,1821,{"$f":"IF(E2652<>\"n\",COUNTIF(B2652:$B$4018,B2652),IF(D2652<6,0,COUNTIF(B2652:$B$4018,B2652)))","v":0},3,{"$f":"IF(ISERROR(VLOOKUP(A2652,Feriados!A:A,1,FALSE)),\"n\",VLOOKUP(A2652,Feriados!A:A,1,FALSE))","v":"n"}]
[47213,1822,{"$f":"IF(E2653<>\"n\",COUNTIF(B2653:$B$4018,B2653),IF(D2653<6,0,COUNTIF(B2653:$B$4018,B2653)))","v":0},4,{"$f":"IF(ISERROR(VLOOKUP(A2653,Feriados!A:A,1,FALSE)),\"n\",VLOOKUP(A2653,Feriados!A:A,1,FALSE))","v":"n"}]
[47214,{"$f":"NETWORKDAYS($A$2,A2654,feriados)","v":1823},{"$f":"IF(E2654<>\"n\",COUNTIF(B2654:$B$4018,B2654),IF(D2654<6,0,COUNTIF(B2654:$B$4018,B2654)))","v":0},{"$f":"WEEKDAY(A2654,2)","v":5},{"$f":"IF(ISERROR(VLOOKUP(A2654,Feriados!A:A,1,FALSE)),\"n\",VLOOKUP(A2654,Feriados!A:A,1,FALSE))","v":"n"}]
[47215,1823,{"$f":"IF(E2655<>\"n\",COUNTIF(B2655:$B$4018,B2655),IF(D2655<6,0,COUNTIF(B2655:$B$4018,B2655)))","v":2},6,{"$f":"IF(ISERROR(VLOOKUP(A2655,Feriados!A:A,1,FALSE)),\"n\",VLOOKUP(A2655,Feriados!A:A,1,FALSE))","v":"n"}]
[47216,1823,{"$f":"IF(E2656<>\"n\",COUNTIF(B2656:$B$4018,B2656),IF(D2656<6,0,COUNTIF(B2656:$B$4018,B2656)))","v":1},7,{"$f":"IF(ISERROR(VLOOKUP(A2656,Feriados!A:A,1,FALSE)),\"n\",VLOOKUP(A2656,Feriados!A:A,1,FALSE))","v":"n"}]
[47217,1824,{"$f":"IF(E2657<>\"n\",COUNTIF(B2657:$B$4018,B2657),IF(D2657<6,0,COUNTIF(B2657:$B$4018,B2657)))","v":0},1,{"$f":"IF(ISERROR(VLOOKUP(A2657,Feriados!A:A,1,FALSE)),\"n\",VLOOKUP(A2657,Feriados!A:A,1,FALSE))","v":"n"}]
[47218,1825,{"$f":"IF(E2658<>\"n\",COUNTIF(B2658:$B$4018,B2658),IF(D2658<6,0,COUNTIF(B2658:$B$4018,B2658)))","v":0},2,{"$f":"IF(ISERROR(VLOOKUP(A2658,Feriados!A:A,1,FALSE)),\"n\",VLOOKUP(A2658,Feriados!A:A,1,FALSE))","v":"n"}]
[47219,1826,{"$f":"IF(E2659<>\"n\",COUNTIF(B2659:$B$4018,B2659),IF(D2659<6,0,COUNTIF(B2659:$B$4018,B2659)))","v":0},3,{"$f":"IF(ISERROR(VLOOKUP(A2659,Feriados!A:A,1,FALSE)),\"n\",VLOOKUP(A2659,Feriados!A:A,1,FALSE))","v":"n"}]
[47220,1827,{"$f":"IF(E2660<>\"n\",COUNTIF(B2660:$B$4018,B2660),IF(D2660<6,0,COUNTIF(B2660:$B$4018,B2660)))","v":0},4,{"$f":"IF(ISERROR(VLOOKUP(A2660,Feriados!A:A,1,FALSE)),\"n\",VLOOKUP(A2660,Feriados!A:A,1,FALSE))","v":"n"}]
[47221,1828,{"$f":"IF(E2661<>\"n\",COUNTIF(B2661:$B$4018,B2661),IF(D2661<6,0,COUNTIF(B2661:$B$4018,B2661)))","v":0},5,{"$f":"IF(ISERROR(VLOOKUP(A2661,Feriados!A:A,1,FALSE)),\"n\",VLOOKUP(A2661,Feriados!A:A,1,FALSE))","v":"n"}]
[47222,1828,{"$f":"IF(E2662<>\"n\",COUNTIF(B2662:$B$4018,B2662),IF(D2662<6,0,COUNTIF(B2662:$B$4018,B2662)))","v":2},6,{"$f":"IF(ISERROR(VLOOKUP(A2662,Feriados!A:A,1,FALSE)),\"n\",VLOOKUP(A2662,Feriados!A:A,1,FALSE))","v":"n"}]
[47223,1828,{"$f":"IF(E2663<>\"n\",COUNTIF(B2663:$B$4018,B2663),IF(D2663<6,0,COUNTIF(B2663:$B$4018,B2663)))","v":1},7,{"$f":"IF(ISERROR(VLOOKUP(A2663,Feriados!A:A,1,FALSE)),\"n\",VLOOKUP(A2663,Feriados!A:A,1,FALSE))","v":"n"}]
[47224,1829,{"$f":"IF(E2664<>\"n\",COUNTIF(B2664:$B$4018,B2664),IF(D2664<6,0,COUNTIF(B2664:$B$4018,B2664)))","v":0},1,{"$f":"IF(ISERROR(VLOOKUP(A2664,Feriados!A:A,1,FALSE)),\"n\",VLOOKUP(A2664,Feriados!A:A,1,FALSE))","v":"n"}]
[47225,1830,{"$f":"IF(E2665<>\"n\",COUNTIF(B2665:$B$4018,B2665),IF(D2665<6,0,COUNTIF(B2665:$B$4018,B2665)))","v":0},2,{"$f":"IF(ISERROR(VLOOKUP(A2665,Feriados!A:A,1,FALSE)),\"n\",VLOOKUP(A2665,Feriados!A:A,1,FALSE))","v":"n"}]
[47226,1831,{"$f":"IF(E2666<>\"n\",COUNTIF(B2666:$B$4018,B2666),IF(D2666<6,0,COUNTIF(B2666:$B$4018,B2666)))","v":0},3,{"$f":"IF(ISERROR(VLOOKUP(A2666,Feriados!A:A,1,FALSE)),\"n\",VLOOKUP(A2666,Feriados!A:A,1,FALSE))","v":"n"}]
[47227,1832,{"$f":"IF(E2667<>\"n\",COUNTIF(B2667:$B$4018,B2667),IF(D2667<6,0,COUNTIF(B2667:$B$4018,B2667)))","v":0},4,{"$f":"IF(ISERROR(VLOOKUP(A2667,Feriados!A:A,1,FALSE)),\"n\",VLOOKUP(A2667,Feriados!A:A,1,FALSE))","v":"n"}]
[47228,1833,{"$f":"IF(E2668<>\"n\",COUNTIF(B2668:$B$4018,B2668),IF(D2668<6,0,COUNTIF(B2668:$B$4018,B2668)))","v":0},5,{"$f":"IF(ISERROR(VLOOKUP(A2668,Feriados!A:A,1,FALSE)),\"n\",VLOOKUP(A2668,Feriados!A:A,1,FALSE))","v":"n"}]
[47229,1833,{"$f":"IF(E2669<>\"n\",COUNTIF(B2669:$B$4018,B2669),IF(D2669<6,0,COUNTIF(B2669:$B$4018,B2669)))","v":2},6,{"$f":"IF(ISERROR(VLOOKUP(A2669,Feriados!A:A,1,FALSE)),\"n\",VLOOKUP(A2669,Feriados!A:A,1,FALSE))","v":"2029-04-21"}]
[47230,1833,{"$f":"IF(E2670<>\"n\",COUNTIF(B2670:$B$4018,B2670),IF(D2670<6,0,COUNTIF(B2670:$B$4018,B2670)))","v":1},7,{"$f":"IF(ISERROR(VLOOKUP(A2670,Feriados!A:A,1,FALSE)),\"n\",VLOOKUP(A2670,Feriados!A:A,1,FALSE))","v":"n"}]
[47231,1834,{"$f":"IF(E2671<>\"n\",COUNTIF(B2671:$B$4018,B2671),IF(D2671<6,0,COUNTIF(B2671:$B$4018,B2671)))","v":0},1,{"$f":"IF(ISERROR(VLOOKUP(A2671,Feriados!A:A,1,FALSE)),\"n\",VLOOKUP(A2671,Feriados!A:A,1,FALSE))","v":"n"}]
[47232,1835,{"$f":"IF(E2672<>\"n\",COUNTIF(B2672:$B$4018,B2672),IF(D2672<6,0,COUNTIF(B2672:$B$4018,B2672)))","v":0},2,{"$f":"IF(ISERROR(VLOOKUP(A2672,Feriados!A:A,1,FALSE)),\"n\",VLOOKUP(A2672,Feriados!A:A,1,FALSE))","v":"n"}]
[47233,1836,{"$f":"IF(E2673<>\"n\",COUNTIF(B2673:$B$4018,B2673),IF(D2673<6,0,COUNTIF(B2673:$B$4018,B2673)))","v":0},3,{"$f":"IF(ISERROR(VLOOKUP(A2673,Feriados!A:A,1,FALSE)),\"n\",VLOOKUP(A2673,Feriados!A:A,1,FALSE))","v":"n"}]
[47234,1837,{"$f":"IF(E2674<>\"n\",COUNTIF(B2674:$B$4018,B2674),IF(D2674<6,0,COUNTIF(B2674:$B$4018,B2674)))","v":0},4,{"$f":"IF(ISERROR(VLOOKUP(A2674,Feriados!A:A,1,FALSE)),\"n\",VLOOKUP(A2674,Feriados!A:A,1,FALSE))","v":"n"}]
[47235,1838,{"$f":"IF(E2675<>\"n\",COUNTIF(B2675:$B$4018,B2675),IF(D2675<6,0,COUNTIF(B2675:$B$4018,B2675)))","v":0},5,{"$f":"IF(ISERROR(VLOOKUP(A2675,Feriados!A:A,1,FALSE)),\"n\",VLOOKUP(A2675,Feriados!A:A,1,FALSE))","v":"n"}]
[47236,1838,{"$f":"IF(E2676<>\"n\",COUNTIF(B2676:$B$4018,B2676),IF(D2676<6,0,COUNTIF(B2676:$B$4018,B2676)))","v":2},6,{"$f":"IF(ISERROR(VLOOKUP(A2676,Feriados!A:A,1,FALSE)),\"n\",VLOOKUP(A2676,Feriados!A:A,1,FALSE))","v":"n"}]
[47237,1838,{"$f":"IF(E2677<>\"n\",COUNTIF(B2677:$B$4018,B2677),IF(D2677<6,0,COUNTIF(B2677:$B$4018,B2677)))","v":1},7,{"$f":"IF(ISERROR(VLOOKUP(A2677,Feriados!A:A,1,FALSE)),\"n\",VLOOKUP(A2677,Feriados!A:A,1,FALSE))","v":"n"}]
[47238,1839,{"$f":"IF(E2678<>\"n\",COUNTIF(B2678:$B$4018,B2678),IF(D2678<6,0,COUNTIF(B2678:$B$4018,B2678)))","v":0},1,{"$f":"IF(ISERROR(VLOOKUP(A2678,Feriados!A:A,1,FALSE)),\"n\",VLOOKUP(A2678,Feriados!A:A,1,FALSE))","v":"n"}]
[47239,1839,{"$f":"IF(E2679<>\"n\",COUNTIF(B2679:$B$4018,B2679),IF(D2679<6,0,COUNTIF(B2679:$B$4018,B2679)))","v":1},2,{"$f":"IF(ISERROR(VLOOKUP(A2679,Feriados!A:A,1,FALSE)),\"n\",VLOOKUP(A2679,Feriados!A:A,1,FALSE))","v":"2029-05-01"}]
[47240,1840,{"$f":"IF(E2680<>\"n\",COUNTIF(B2680:$B$4018,B2680),IF(D2680<6,0,COUNTIF(B2680:$B$4018,B2680)))","v":0},3,{"$f":"IF(ISERROR(VLOOKUP(A2680,Feriados!A:A,1,FALSE)),\"n\",VLOOKUP(A2680,Feriados!A:A,1,FALSE))","v":"n"}]
[47241,1841,{"$f":"IF(E2681<>\"n\",COUNTIF(B2681:$B$4018,B2681),IF(D2681<6,0,COUNTIF(B2681:$B$4018,B2681)))","v":0},4,{"$f":"IF(ISERROR(VLOOKUP(A2681,Feriados!A:A,1,FALSE)),\"n\",VLOOKUP(A2681,Feriados!A:A,1,FALSE))","v":"n"}]
[47242,1842,{"$f":"IF(E2682<>\"n\",COUNTIF(B2682:$B$4018,B2682),IF(D2682<6,0,COUNTIF(B2682:$B$4018,B2682)))","v":0},5,{"$f":"IF(ISERROR(VLOOKUP(A2682,Feriados!A:A,1,FALSE)),\"n\",VLOOKUP(A2682,Feriados!A:A,1,FALSE))","v":"n"}]
[47243,1842,{"$f":"IF(E2683<>\"n\",COUNTIF(B2683:$B$4018,B2683),IF(D2683<6,0,COUNTIF(B2683:$B$4018,B2683)))","v":2},6,{"$f":"IF(ISERROR(VLOOKUP(A2683,Feriados!A:A,1,FALSE)),\"n\",VLOOKUP(A2683,Feriados!A:A,1,FALSE))","v":"n"}]
[47244,1842,{"$f":"IF(E2684<>\"n\",COUNTIF(B2684:$B$4018,B2684),IF(D2684<6,0,COUNTIF(B2684:$B$4018,B2684)))","v":1},7,{"$f":"IF(ISERROR(VLOOKUP(A2684,Feriados!A:A,1,FALSE)),\"n\",VLOOKUP(A2684,Feriados!A:A,1,FALSE))","v":"n"}]
[47245,1843,{"$f":"IF(E2685<>\"n\",COUNTIF(B2685:$B$4018,B2685),IF(D2685<6,0,COUNTIF(B2685:$B$4018,B2685)))","v":0},1,{"$f":"IF(ISERROR(VLOOKUP(A2685,Feriados!A:A,1,FALSE)),\"n\",VLOOKUP(A2685,Feriados!A:A,1,FALSE))","v":"n"}]
[47246,1844,{"$f":"IF(E2686<>\"n\",COUNTIF(B2686:$B$4018,B2686),IF(D2686<6,0,COUNTIF(B2686:$B$4018,B2686)))","v":0},2,{"$f":"IF(ISERROR(VLOOKUP(A2686,Feriados!A:A,1,FALSE)),\"n\",VLOOKUP(A2686,Feriados!A:A,1,FALSE))","v":"n"}]
[47247,1845,{"$f":"IF(E2687<>\"n\",COUNTIF(B2687:$B$4018,B2687),IF(D2687<6,0,COUNTIF(B2687:$B$4018,B2687)))","v":0},3,{"$f":"IF(ISERROR(VLOOKUP(A2687,Feriados!A:A,1,FALSE)),\"n\",VLOOKUP(A2687,Feriados!A:A,1,FALSE))","v":"n"}]
[47248,1846,{"$f":"IF(E2688<>\"n\",COUNTIF(B2688:$B$4018,B2688),IF(D2688<6,0,COUNTIF(B2688:$B$4018,B2688)))","v":0},4,{"$f":"IF(ISERROR(VLOOKUP(A2688,Feriados!A:A,1,FALSE)),\"n\",VLOOKUP(A2688,Feriados!A:A,1,FALSE))","v":"n"}]
[47249,1847,{"$f":"IF(E2689<>\"n\",COUNTIF(B2689:$B$4018,B2689),IF(D2689<6,0,COUNTIF(B2689:$B$4018,B2689)))","v":0},5,{"$f":"IF(ISERROR(VLOOKUP(A2689,Feriados!A:A,1,FALSE)),\"n\",VLOOKUP(A2689,Feriados!A:A,1,FALSE))","v":"n"}]
[47250,1847,{"$f":"IF(E2690<>\"n\",COUNTIF(B2690:$B$4018,B2690),IF(D2690<6,0,COUNTIF(B2690:$B$4018,B2690)))","v":2},6,{"$f":"IF(ISERROR(VLOOKUP(A2690,Feriados!A:A,1,FALSE)),\"n\",VLOOKUP(A2690,Feriados!A:A,1,FALSE))","v":"n"}]
[47251,1847,{"$f":"IF(E2691<>\"n\",COUNTIF(B2691:$B$4018,B2691),IF(D2691<6,0,COUNTIF(B2691:$B$4018,B2691)))","v":1},7,{"$f":"IF(ISERROR(VLOOKUP(A2691,Feriados!A:A,1,FALSE)),\"n\",VLOOKUP(A2691,Feriados!A:A,1,FALSE))","v":"n"}]
[{"$f":"A2691+1","v":47252},1848,{"$f":"IF(E2692<>\"n\",COUNTIF(B2692:$B$4018,B2692),IF(D2692<6,0,COUNTIF(B2692:$B$4018,B2692)))","v":0},1,{"$f":"IF(ISERROR(VLOOKUP(A2692,Feriados!A:A,1,FALSE)),\"n\",VLOOKUP(A2692,Feriados!A:A,1,FALSE))","v":"n"}]
[47253,1849,{"$f":"IF(E2693<>\"n\",COUNTIF(B2693:$B$4018,B2693),IF(D2693<6,0,COUNTIF(B2693:$B$4018,B2693)))","v":0},2,{"$f":"IF(ISERROR(VLOOKUP(A2693,Feriados!A:A,1,FALSE)),\"n\",VLOOKUP(A2693,Feriados!A:A,1,FALSE))","v":"n"}]
[47254,1850,{"$f":"IF(E2694<>\"n\",COUNTIF(B2694:$B$4018,B2694),IF(D2694<6,0,COUNTIF(B2694:$B$4018,B2694)))","v":0},3,{"$f":"IF(ISERROR(VLOOKUP(A2694,Feriados!A:A,1,FALSE)),\"n\",VLOOKUP(A2694,Feriados!A:A,1,FALSE))","v":"n"}]
[47255,1851,{"$f":"IF(E2695<>\"n\",COUNTIF(B2695:$B$4018,B2695),IF(D2695<6,0,COUNTIF(B2695:$B$4018,B2695)))","v":0},4,{"$f":"IF(ISERROR(VLOOKUP(A2695,Feriados!A:A,1,FALSE)),\"n\",VLOOKUP(A2695,Feriados!A:A,1,FALSE))","v":"n"}]
[47256,1852,{"$f":"IF(E2696<>\"n\",COUNTIF(B2696:$B$4018,B2696),IF(D2696<6,0,COUNTIF(B2696:$B$4018,B2696)))","v":0},5,{"$f":"IF(ISERROR(VLOOKUP(A2696,Feriados!A:A,1,FALSE)),\"n\",VLOOKUP(A2696,Feriados!A:A,1,FALSE))","v":"n"}]
[47257,1852,{"$f":"IF(E2697<>\"n\",COUNTIF(B2697:$B$4018,B2697),IF(D2697<6,0,COUNTIF(B2697:$B$4018,B2697)))","v":2},6,{"$f":"IF(ISERROR(VLOOKUP(A2697,Feriados!A:A,1,FALSE)),\"n\",VLOOKUP(A2697,Feriados!A:A,1,FALSE))","v":"n"}]
[47258,1852,{"$f":"IF(E2698<>\"n\",COUNTIF(B2698:$B$4018,B2698),IF(D2698<6,0,COUNTIF(B2698:$B$4018,B2698)))","v":1},7,{"$f":"IF(ISERROR(VLOOKUP(A2698,Feriados!A:A,1,FALSE)),\"n\",VLOOKUP(A2698,Feriados!A:A,1,FALSE))","v":"n"}]
[47259,1853,{"$f":"IF(E2699<>\"n\",COUNTIF(B2699:$B$4018,B2699),IF(D2699<6,0,COUNTIF(B2699:$B$4018,B2699)))","v":0},1,{"$f":"IF(ISERROR(VLOOKUP(A2699,Feriados!A:A,1,FALSE)),\"n\",VLOOKUP(A2699,Feriados!A:A,1,FALSE))","v":"n"}]
[47260,1854,{"$f":"IF(E2700<>\"n\",COUNTIF(B2700:$B$4018,B2700),IF(D2700<6,0,COUNTIF(B2700:$B$4018,B2700)))","v":0},2,{"$f":"IF(ISERROR(VLOOKUP(A2700,Feriados!A:A,1,FALSE)),\"n\",VLOOKUP(A2700,Feriados!A:A,1,FALSE))","v":"n"}]
[47261,1855,{"$f":"IF(E2701<>\"n\",COUNTIF(B2701:$B$4018,B2701),IF(D2701<6,0,COUNTIF(B2701:$B$4018,B2701)))","v":0},3,{"$f":"IF(ISERROR(VLOOKUP(A2701,Feriados!A:A,1,FALSE)),\"n\",VLOOKUP(A2701,Feriados!A:A,1,FALSE))","v":"n"}]
[47262,1856,{"$f":"IF(E2702<>\"n\",COUNTIF(B2702:$B$4018,B2702),IF(D2702<6,0,COUNTIF(B2702:$B$4018,B2702)))","v":0},4,{"$f":"IF(ISERROR(VLOOKUP(A2702,Feriados!A:A,1,FALSE)),\"n\",VLOOKUP(A2702,Feriados!A:A,1,FALSE))","v":"n"}]
[47263,1857,{"$f":"IF(E2703<>\"n\",COUNTIF(B2703:$B$4018,B2703),IF(D2703<6,0,COUNTIF(B2703:$B$4018,B2703)))","v":0},5,{"$f":"IF(ISERROR(VLOOKUP(A2703,Feriados!A:A,1,FALSE)),\"n\",VLOOKUP(A2703,Feriados!A:A,1,FALSE))","v":"n"}]
[47264,1857,{"$f":"IF(E2704<>\"n\",COUNTIF(B2704:$B$4018,B2704),IF(D2704<6,0,COUNTIF(B2704:$B$4018,B2704)))","v":2},6,{"$f":"IF(ISERROR(VLOOKUP(A2704,Feriados!A:A,1,FALSE)),\"n\",VLOOKUP(A2704,Feriados!A:A,1,FALSE))","v":"n"}]
[47265,1857,{"$f":"IF(E2705<>\"n\",COUNTIF(B2705:$B$4018,B2705),IF(D2705<6,0,COUNTIF(B2705:$B$4018,B2705)))","v":1},7,{"$f":"IF(ISERROR(VLOOKUP(A2705,Feriados!A:A,1,FALSE)),\"n\",VLOOKUP(A2705,Feriados!A:A,1,FALSE))","v":"n"}]
[47266,1858,{"$f":"IF(E2706<>\"n\",COUNTIF(B2706:$B$4018,B2706),IF(D2706<6,0,COUNTIF(B2706:$B$4018,B2706)))","v":0},1,{"$f":"IF(ISERROR(VLOOKUP(A2706,Feriados!A:A,1,FALSE)),\"n\",VLOOKUP(A2706,Feriados!A:A,1,FALSE))","v":"n"}]
[47267,1859,{"$f":"IF(E2707<>\"n\",COUNTIF(B2707:$B$4018,B2707),IF(D2707<6,0,COUNTIF(B2707:$B$4018,B2707)))","v":0},2,{"$f":"IF(ISERROR(VLOOKUP(A2707,Feriados!A:A,1,FALSE)),\"n\",VLOOKUP(A2707,Feriados!A:A,1,FALSE))","v":"n"}]
[47268,1860,{"$f":"IF(E2708<>\"n\",COUNTIF(B2708:$B$4018,B2708),IF(D2708<6,0,COUNTIF(B2708:$B$4018,B2708)))","v":0},3,{"$f":"IF(ISERROR(VLOOKUP(A2708,Feriados!A:A,1,FALSE)),\"n\",VLOOKUP(A2708,Feriados!A:A,1,FALSE))","v":"n"}]
[47269,1860,{"$f":"IF(E2709<>\"n\",COUNTIF(B2709:$B$4018,B2709),IF(D2709<6,0,COUNTIF(B2709:$B$4018,B2709)))","v":1},4,{"$f":"IF(ISERROR(VLOOKUP(A2709,Feriados!A:A,1,FALSE)),\"n\",VLOOKUP(A2709,Feriados!A:A,1,FALSE))","v":"2029-05-31"}]
[47270,1861,{"$f":"IF(E2710<>\"n\",COUNTIF(B2710:$B$4018,B2710),IF(D2710<6,0,COUNTIF(B2710:$B$4018,B2710)))","v":0},5,{"$f":"IF(ISERROR(VLOOKUP(A2710,Feriados!A:A,1,FALSE)),\"n\",VLOOKUP(A2710,Feriados!A:A,1,FALSE))","v":"n"}]
[47271,1861,{"$f":"IF(E2711<>\"n\",COUNTIF(B2711:$B$4018,B2711),IF(D2711<6,0,COUNTIF(B2711:$B$4018,B2711)))","v":2},6,{"$f":"IF(ISERROR(VLOOKUP(A2711,Feriados!A:A,1,FALSE)),\"n\",VLOOKUP(A2711,Feriados!A:A,1,FALSE))","v":"n"}]
[47272,1861,{"$f":"IF(E2712<>\"n\",COUNTIF(B2712:$B$4018,B2712),IF(D2712<6,0,COUNTIF(B2712:$B$4018,B2712)))","v":1},7,{"$f":"IF(ISERROR(VLOOKUP(A2712,Feriados!A:A,1,FALSE)),\"n\",VLOOKUP(A2712,Feriados!A:A,1,FALSE))","v":"n"}]
[47273,1862,{"$f":"IF(E2713<>\"n\",COUNTIF(B2713:$B$4018,B2713),IF(D2713<6,0,COUNTIF(B2713:$B$4018,B2713)))","v":0},1,{"$f":"IF(ISERROR(VLOOKUP(A2713,Feriados!A:A,1,FALSE)),\"n\",VLOOKUP(A2713,Feriados!A:A,1,FALSE))","v":"n"}]
[47274,1863,{"$f":"IF(E2714<>\"n\",COUNTIF(B2714:$B$4018,B2714),IF(D2714<6,0,COUNTIF(B2714:$B$4018,B2714)))","v":0},2,{"$f":"IF(ISERROR(VLOOKUP(A2714,Feriados!A:A,1,FALSE)),\"n\",VLOOKUP(A2714,Feriados!A:A,1,FALSE))","v":"n"}]
[47275,1864,{"$f":"IF(E2715<>\"n\",COUNTIF(B2715:$B$4018,B2715),IF(D2715<6,0,COUNTIF(B2715:$B$4018,B2715)))","v":0},3,{"$f":"IF(ISERROR(VLOOKUP(A2715,Feriados!A:A,1,FALSE)),\"n\",VLOOKUP(A2715,Feriados!A:A,1,FALSE))","v":"n"}]
[47276,1865,{"$f":"IF(E2716<>\"n\",COUNTIF(B2716:$B$4018,B2716),IF(D2716<6,0,COUNTIF(B2716:$B$4018,B2716)))","v":0},4,{"$f":"IF(ISERROR(VLOOKUP(A2716,Feriados!A:A,1,FALSE)),\"n\",VLOOKUP(A2716,Feriados!A:A,1,FALSE))","v":"n"}]
[47277,1866,{"$f":"IF(E2717<>\"n\",COUNTIF(B2717:$B$4018,B2717),IF(D2717<6,0,COUNTIF(B2717:$B$4018,B2717)))","v":0},5,{"$f":"IF(ISERROR(VLOOKUP(A2717,Feriados!A:A,1,FALSE)),\"n\",VLOOKUP(A2717,Feriados!A:A,1,FALSE))","v":"n"}]
[47278,{"$f":"NETWORKDAYS($A$2,A2718,feriados)","v":1866},{"$f":"IF(E2718<>\"n\",COUNTIF(B2718:$B$4018,B2718),IF(D2718<6,0,COUNTIF(B2718:$B$4018,B2718)))","v":2},{"$f":"WEEKDAY(A2718,2)","v":6},{"$f":"IF(ISERROR(VLOOKUP(A2718,Feriados!A:A,1,FALSE)),\"n\",VLOOKUP(A2718,Feriados!A:A,1,FALSE))","v":"n"}]
[47279,1866,{"$f":"IF(E2719<>\"n\",COUNTIF(B2719:$B$4018,B2719),IF(D2719<6,0,COUNTIF(B2719:$B$4018,B2719)))","v":1},7,{"$f":"IF(ISERROR(VLOOKUP(A2719,Feriados!A:A,1,FALSE)),\"n\",VLOOKUP(A2719,Feriados!A:A,1,FALSE))","v":"n"}]
[47280,1867,{"$f":"IF(E2720<>\"n\",COUNTIF(B2720:$B$4018,B2720),IF(D2720<6,0,COUNTIF(B2720:$B$4018,B2720)))","v":0},1,{"$f":"IF(ISERROR(VLOOKUP(A2720,Feriados!A:A,1,FALSE)),\"n\",VLOOKUP(A2720,Feriados!A:A,1,FALSE))","v":"n"}]
[47281,1868,{"$f":"IF(E2721<>\"n\",COUNTIF(B2721:$B$4018,B2721),IF(D2721<6,0,COUNTIF(B2721:$B$4018,B2721)))","v":0},2,{"$f":"IF(ISERROR(VLOOKUP(A2721,Feriados!A:A,1,FALSE)),\"n\",VLOOKUP(A2721,Feriados!A:A,1,FALSE))","v":"n"}]
[47282,1869,{"$f":"IF(E2722<>\"n\",COUNTIF(B2722:$B$4018,B2722),IF(D2722<6,0,COUNTIF(B2722:$B$4018,B2722)))","v":0},3,{"$f":"IF(ISERROR(VLOOKUP(A2722,Feriados!A:A,1,FALSE)),\"n\",VLOOKUP(A2722,Feriados!A:A,1,FALSE))","v":"n"}]
[47283,1870,{"$f":"IF(E2723<>\"n\",COUNTIF(B2723:$B$4018,B2723),IF(D2723<6,0,COUNTIF(B2723:$B$4018,B2723)))","v":0},4,{"$f":"IF(ISERROR(VLOOKUP(A2723,Feriados!A:A,1,FALSE)),\"n\",VLOOKUP(A2723,Feriados!A:A,1,FALSE))","v":"n"}]
[47284,1871,{"$f":"IF(E2724<>\"n\",COUNTIF(B2724:$B$4018,B2724),IF(D2724<6,0,COUNTIF(B2724:$B$4018,B2724)))","v":0},5,{"$f":"IF(ISERROR(VLOOKUP(A2724,Feriados!A:A,1,FALSE)),\"n\",VLOOKUP(A2724,Feriados!A:A,1,FALSE))","v":"n"}]
[47285,1871,{"$f":"IF(E2725<>\"n\",COUNTIF(B2725:$B$4018,B2725),IF(D2725<6,0,COUNTIF(B2725:$B$4018,B2725)))","v":2},6,{"$f":"IF(ISERROR(VLOOKUP(A2725,Feriados!A:A,1,FALSE)),\"n\",VLOOKUP(A2725,Feriados!A:A,1,FALSE))","v":"n"}]
[47286,1871,{"$f":"IF(E2726<>\"n\",COUNTIF(B2726:$B$4018,B2726),IF(D2726<6,0,COUNTIF(B2726:$B$4018,B2726)))","v":1},7,{"$f":"IF(ISERROR(VLOOKUP(A2726,Feriados!A:A,1,FALSE)),\"n\",VLOOKUP(A2726,Feriados!A:A,1,FALSE))","v":"n"}]
[47287,1872,{"$f":"IF(E2727<>\"n\",COUNTIF(B2727:$B$4018,B2727),IF(D2727<6,0,COUNTIF(B2727:$B$4018,B2727)))","v":0},1,{"$f":"IF(ISERROR(VLOOKUP(A2727,Feriados!A:A,1,FALSE)),\"n\",VLOOKUP(A2727,Feriados!A:A,1,FALSE))","v":"n"}]
[47288,1873,{"$f":"IF(E2728<>\"n\",COUNTIF(B2728:$B$4018,B2728),IF(D2728<6,0,COUNTIF(B2728:$B$4018,B2728)))","v":0},2,{"$f":"IF(ISERROR(VLOOKUP(A2728,Feriados!A:A,1,FALSE)),\"n\",VLOOKUP(A2728,Feriados!A:A,1,FALSE))","v":"n"}]
[47289,1874,{"$f":"IF(E2729<>\"n\",COUNTIF(B2729:$B$4018,B2729),IF(D2729<6,0,COUNTIF(B2729:$B$4018,B2729)))","v":0},3,{"$f":"IF(ISERROR(VLOOKUP(A2729,Feriados!A:A,1,FALSE)),\"n\",VLOOKUP(A2729,Feriados!A:A,1,FALSE))","v":"n"}]
[47290,1875,{"$f":"IF(E2730<>\"n\",COUNTIF(B2730:$B$4018,B2730),IF(D2730<6,0,COUNTIF(B2730:$B$4018,B2730)))","v":0},4,{"$f":"IF(ISERROR(VLOOKUP(A2730,Feriados!A:A,1,FALSE)),\"n\",VLOOKUP(A2730,Feriados!A:A,1,FALSE))","v":"n"}]
[47291,1876,{"$f":"IF(E2731<>\"n\",COUNTIF(B2731:$B$4018,B2731),IF(D2731<6,0,COUNTIF(B2731:$B$4018,B2731)))","v":0},5,{"$f":"IF(ISERROR(VLOOKUP(A2731,Feriados!A:A,1,FALSE)),\"n\",VLOOKUP(A2731,Feriados!A:A,1,FALSE))","v":"n"}]
[47292,1876,{"$f":"IF(E2732<>\"n\",COUNTIF(B2732:$B$4018,B2732),IF(D2732<6,0,COUNTIF(B2732:$B$4018,B2732)))","v":2},6,{"$f":"IF(ISERROR(VLOOKUP(A2732,Feriados!A:A,1,FALSE)),\"n\",VLOOKUP(A2732,Feriados!A:A,1,FALSE))","v":"n"}]
[47293,1876,{"$f":"IF(E2733<>\"n\",COUNTIF(B2733:$B$4018,B2733),IF(D2733<6,0,COUNTIF(B2733:$B$4018,B2733)))","v":1},7,{"$f":"IF(ISERROR(VLOOKUP(A2733,Feriados!A:A,1,FALSE)),\"n\",VLOOKUP(A2733,Feriados!A:A,1,FALSE))","v":"n"}]
[47294,1877,{"$f":"IF(E2734<>\"n\",COUNTIF(B2734:$B$4018,B2734),IF(D2734<6,0,COUNTIF(B2734:$B$4018,B2734)))","v":0},1,{"$f":"IF(ISERROR(VLOOKUP(A2734,Feriados!A:A,1,FALSE)),\"n\",VLOOKUP(A2734,Feriados!A:A,1,FALSE))","v":"n"}]
[47295,1878,{"$f":"IF(E2735<>\"n\",COUNTIF(B2735:$B$4018,B2735),IF(D2735<6,0,COUNTIF(B2735:$B$4018,B2735)))","v":0},2,{"$f":"IF(ISERROR(VLOOKUP(A2735,Feriados!A:A,1,FALSE)),\"n\",VLOOKUP(A2735,Feriados!A:A,1,FALSE))","v":"n"}]
[47296,1879,{"$f":"IF(E2736<>\"n\",COUNTIF(B2736:$B$4018,B2736),IF(D2736<6,0,COUNTIF(B2736:$B$4018,B2736)))","v":0},3,{"$f":"IF(ISERROR(VLOOKUP(A2736,Feriados!A:A,1,FALSE)),\"n\",VLOOKUP(A2736,Feriados!A:A,1,FALSE))","v":"n"}]
[47297,1880,{"$f":"IF(E2737<>\"n\",COUNTIF(B2737:$B$4018,B2737),IF(D2737<6,0,COUNTIF(B2737:$B$4018,B2737)))","v":0},4,{"$f":"IF(ISERROR(VLOOKUP(A2737,Feriados!A:A,1,FALSE)),\"n\",VLOOKUP(A2737,Feriados!A:A,1,FALSE))","v":"n"}]
[47298,1881,{"$f":"IF(E2738<>\"n\",COUNTIF(B2738:$B$4018,B2738),IF(D2738<6,0,COUNTIF(B2738:$B$4018,B2738)))","v":0},5,{"$f":"IF(ISERROR(VLOOKUP(A2738,Feriados!A:A,1,FALSE)),\"n\",VLOOKUP(A2738,Feriados!A:A,1,FALSE))","v":"n"}]
[47299,1881,{"$f":"IF(E2739<>\"n\",COUNTIF(B2739:$B$4018,B2739),IF(D2739<6,0,COUNTIF(B2739:$B$4018,B2739)))","v":2},6,{"$f":"IF(ISERROR(VLOOKUP(A2739,Feriados!A:A,1,FALSE)),\"n\",VLOOKUP(A2739,Feriados!A:A,1,FALSE))","v":"n"}]
[47300,1881,{"$f":"IF(E2740<>\"n\",COUNTIF(B2740:$B$4018,B2740),IF(D2740<6,0,COUNTIF(B2740:$B$4018,B2740)))","v":1},7,{"$f":"IF(ISERROR(VLOOKUP(A2740,Feriados!A:A,1,FALSE)),\"n\",VLOOKUP(A2740,Feriados!A:A,1,FALSE))","v":"n"}]
[47301,1882,{"$f":"IF(E2741<>\"n\",COUNTIF(B2741:$B$4018,B2741),IF(D2741<6,0,COUNTIF(B2741:$B$4018,B2741)))","v":0},1,{"$f":"IF(ISERROR(VLOOKUP(A2741,Feriados!A:A,1,FALSE)),\"n\",VLOOKUP(A2741,Feriados!A:A,1,FALSE))","v":"n"}]
[47302,1883,{"$f":"IF(E2742<>\"n\",COUNTIF(B2742:$B$4018,B2742),IF(D2742<6,0,COUNTIF(B2742:$B$4018,B2742)))","v":0},2,{"$f":"IF(ISERROR(VLOOKUP(A2742,Feriados!A:A,1,FALSE)),\"n\",VLOOKUP(A2742,Feriados!A:A,1,FALSE))","v":"n"}]
[47303,1884,{"$f":"IF(E2743<>\"n\",COUNTIF(B2743:$B$4018,B2743),IF(D2743<6,0,COUNTIF(B2743:$B$4018,B2743)))","v":0},3,{"$f":"IF(ISERROR(VLOOKUP(A2743,Feriados!A:A,1,FALSE)),\"n\",VLOOKUP(A2743,Feriados!A:A,1,FALSE))","v":"n"}]
[47304,1885,{"$f":"IF(E2744<>\"n\",COUNTIF(B2744:$B$4018,B2744),IF(D2744<6,0,COUNTIF(B2744:$B$4018,B2744)))","v":0},4,{"$f":"IF(ISERROR(VLOOKUP(A2744,Feriados!A:A,1,FALSE)),\"n\",VLOOKUP(A2744,Feriados!A:A,1,FALSE))","v":"n"}]
[47305,1886,{"$f":"IF(E2745<>\"n\",COUNTIF(B2745:$B$4018,B2745),IF(D2745<6,0,COUNTIF(B2745:$B$4018,B2745)))","v":0},5,{"$f":"IF(ISERROR(VLOOKUP(A2745,Feriados!A:A,1,FALSE)),\"n\",VLOOKUP(A2745,Feriados!A:A,1,FALSE))","v":"n"}]
[47306,1886,{"$f":"IF(E2746<>\"n\",COUNTIF(B2746:$B$4018,B2746),IF(D2746<6,0,COUNTIF(B2746:$B$4018,B2746)))","v":2},6,{"$f":"IF(ISERROR(VLOOKUP(A2746,Feriados!A:A,1,FALSE)),\"n\",VLOOKUP(A2746,Feriados!A:A,1,FALSE))","v":"n"}]
[47307,1886,{"$f":"IF(E2747<>\"n\",COUNTIF(B2747:$B$4018,B2747),IF(D2747<6,0,COUNTIF(B2747:$B$4018,B2747)))","v":1},7,{"$f":"IF(ISERROR(VLOOKUP(A2747,Feriados!A:A,1,FALSE)),\"n\",VLOOKUP(A2747,Feriados!A:A,1,FALSE))","v":"n"}]
[47308,1887,{"$f":"IF(E2748<>\"n\",COUNTIF(B2748:$B$4018,B2748),IF(D2748<6,0,COUNTIF(B2748:$B$4018,B2748)))","v":0},1,{"$f":"IF(ISERROR(VLOOKUP(A2748,Feriados!A:A,1,FALSE)),\"n\",VLOOKUP(A2748,Feriados!A:A,1,FALSE))","v":"n"}]
[47309,1888,{"$f":"IF(E2749<>\"n\",COUNTIF(B2749:$B$4018,B2749),IF(D2749<6,0,COUNTIF(B2749:$B$4018,B2749)))","v":0},2,{"$f":"IF(ISERROR(VLOOKUP(A2749,Feriados!A:A,1,FALSE)),\"n\",VLOOKUP(A2749,Feriados!A:A,1,FALSE))","v":"n"}]
[47310,1889,{"$f":"IF(E2750<>\"n\",COUNTIF(B2750:$B$4018,B2750),IF(D2750<6,0,COUNTIF(B2750:$B$4018,B2750)))","v":0},3,{"$f":"IF(ISERROR(VLOOKUP(A2750,Feriados!A:A,1,FALSE)),\"n\",VLOOKUP(A2750,Feriados!A:A,1,FALSE))","v":"n"}]
[47311,1890,{"$f":"IF(E2751<>\"n\",COUNTIF(B2751:$B$4018,B2751),IF(D2751<6,0,COUNTIF(B2751:$B$4018,B2751)))","v":0},4,{"$f":"IF(ISERROR(VLOOKUP(A2751,Feriados!A:A,1,FALSE)),\"n\",VLOOKUP(A2751,Feriados!A:A,1,FALSE))","v":"n"}]
[47312,1891,{"$f":"IF(E2752<>\"n\",COUNTIF(B2752:$B$4018,B2752),IF(D2752<6,0,COUNTIF(B2752:$B$4018,B2752)))","v":0},5,{"$f":"IF(ISERROR(VLOOKUP(A2752,Feriados!A:A,1,FALSE)),\"n\",VLOOKUP(A2752,Feriados!A:A,1,FALSE))","v":"n"}]
[47313,1891,{"$f":"IF(E2753<>\"n\",COUNTIF(B2753:$B$4018,B2753),IF(D2753<6,0,COUNTIF(B2753:$B$4018,B2753)))","v":2},6,{"$f":"IF(ISERROR(VLOOKUP(A2753,Feriados!A:A,1,FALSE)),\"n\",VLOOKUP(A2753,Feriados!A:A,1,FALSE))","v":"n"}]
[47314,1891,{"$f":"IF(E2754<>\"n\",COUNTIF(B2754:$B$4018,B2754),IF(D2754<6,0,COUNTIF(B2754:$B$4018,B2754)))","v":1},7,{"$f":"IF(ISERROR(VLOOKUP(A2754,Feriados!A:A,1,FALSE)),\"n\",VLOOKUP(A2754,Feriados!A:A,1,FALSE))","v":"n"}]
[47315,1892,{"$f":"IF(E2755<>\"n\",COUNTIF(B2755:$B$4018,B2755),IF(D2755<6,0,COUNTIF(B2755:$B$4018,B2755)))","v":0},1,{"$f":"IF(ISERROR(VLOOKUP(A2755,Feriados!A:A,1,FALSE)),\"n\",VLOOKUP(A2755,Feriados!A:A,1,FALSE))","v":"n"}]
[{"$f":"A2755+1","v":47316},1893,{"$f":"IF(E2756<>\"n\",COUNTIF(B2756:$B$4018,B2756),IF(D2756<6,0,COUNTIF(B2756:$B$4018,B2756)))","v":0},2,{"$f":"IF(ISERROR(VLOOKUP(A2756,Feriados!A:A,1,FALSE)),\"n\",VLOOKUP(A2756,Feriados!A:A,1,FALSE))","v":"n"}]
[47317,1894,{"$f":"IF(E2757<>\"n\",COUNTIF(B2757:$B$4018,B2757),IF(D2757<6,0,COUNTIF(B2757:$B$4018,B2757)))","v":0},3,{"$f":"IF(ISERROR(VLOOKUP(A2757,Feriados!A:A,1,FALSE)),\"n\",VLOOKUP(A2757,Feriados!A:A,1,FALSE))","v":"n"}]
[47318,1895,{"$f":"IF(E2758<>\"n\",COUNTIF(B2758:$B$4018,B2758),IF(D2758<6,0,COUNTIF(B2758:$B$4018,B2758)))","v":0},4,{"$f":"IF(ISERROR(VLOOKUP(A2758,Feriados!A:A,1,FALSE)),\"n\",VLOOKUP(A2758,Feriados!A:A,1,FALSE))","v":"n"}]
[47319,1896,{"$f":"IF(E2759<>\"n\",COUNTIF(B2759:$B$4018,B2759),IF(D2759<6,0,COUNTIF(B2759:$B$4018,B2759)))","v":0},5,{"$f":"IF(ISERROR(VLOOKUP(A2759,Feriados!A:A,1,FALSE)),\"n\",VLOOKUP(A2759,Feriados!A:A,1,FALSE))","v":"n"}]
[47320,1896,{"$f":"IF(E2760<>\"n\",COUNTIF(B2760:$B$4018,B2760),IF(D2760<6,0,COUNTIF(B2760:$B$4018,B2760)))","v":2},6,{"$f":"IF(ISERROR(VLOOKUP(A2760,Feriados!A:A,1,FALSE)),\"n\",VLOOKUP(A2760,Feriados!A:A,1,FALSE))","v":"n"}]
[47321,1896,{"$f":"IF(E2761<>\"n\",COUNTIF(B2761:$B$4018,B2761),IF(D2761<6,0,COUNTIF(B2761:$B$4018,B2761)))","v":1},7,{"$f":"IF(ISERROR(VLOOKUP(A2761,Feriados!A:A,1,FALSE)),\"n\",VLOOKUP(A2761,Feriados!A:A,1,FALSE))","v":"n"}]
[47322,1897,{"$f":"IF(E2762<>\"n\",COUNTIF(B2762:$B$4018,B2762),IF(D2762<6,0,COUNTIF(B2762:$B$4018,B2762)))","v":0},1,{"$f":"IF(ISERROR(VLOOKUP(A2762,Feriados!A:A,1,FALSE)),\"n\",VLOOKUP(A2762,Feriados!A:A,1,FALSE))","v":"n"}]
[47323,1898,{"$f":"IF(E2763<>\"n\",COUNTIF(B2763:$B$4018,B2763),IF(D2763<6,0,COUNTIF(B2763:$B$4018,B2763)))","v":0},2,{"$f":"IF(ISERROR(VLOOKUP(A2763,Feriados!A:A,1,FALSE)),\"n\",VLOOKUP(A2763,Feriados!A:A,1,FALSE))","v":"n"}]
[47324,1899,{"$f":"IF(E2764<>\"n\",COUNTIF(B2764:$B$4018,B2764),IF(D2764<6,0,COUNTIF(B2764:$B$4018,B2764)))","v":0},3,{"$f":"IF(ISERROR(VLOOKUP(A2764,Feriados!A:A,1,FALSE)),\"n\",VLOOKUP(A2764,Feriados!A:A,1,FALSE))","v":"n"}]
[47325,1900,{"$f":"IF(E2765<>\"n\",COUNTIF(B2765:$B$4018,B2765),IF(D2765<6,0,COUNTIF(B2765:$B$4018,B2765)))","v":0},4,{"$f":"IF(ISERROR(VLOOKUP(A2765,Feriados!A:A,1,FALSE)),\"n\",VLOOKUP(A2765,Feriados!A:A,1,FALSE))","v":"n"}]
[47326,1901,{"$f":"IF(E2766<>\"n\",COUNTIF(B2766:$B$4018,B2766),IF(D2766<6,0,COUNTIF(B2766:$B$4018,B2766)))","v":0},5,{"$f":"IF(ISERROR(VLOOKUP(A2766,Feriados!A:A,1,FALSE)),\"n\",VLOOKUP(A2766,Feriados!A:A,1,FALSE))","v":"n"}]
[47327,1901,{"$f":"IF(E2767<>\"n\",COUNTIF(B2767:$B$4018,B2767),IF(D2767<6,0,COUNTIF(B2767:$B$4018,B2767)))","v":2},6,{"$f":"IF(ISERROR(VLOOKUP(A2767,Feriados!A:A,1,FALSE)),\"n\",VLOOKUP(A2767,Feriados!A:A,1,FALSE))","v":"n"}]
[47328,1901,{"$f":"IF(E2768<>\"n\",COUNTIF(B2768:$B$4018,B2768),IF(D2768<6,0,COUNTIF(B2768:$B$4018,B2768)))","v":1},7,{"$f":"IF(ISERROR(VLOOKUP(A2768,Feriados!A:A,1,FALSE)),\"n\",VLOOKUP(A2768,Feriados!A:A,1,FALSE))","v":"n"}]
[47329,1902,{"$f":"IF(E2769<>\"n\",COUNTIF(B2769:$B$4018,B2769),IF(D2769<6,0,COUNTIF(B2769:$B$4018,B2769)))","v":0},1,{"$f":"IF(ISERROR(VLOOKUP(A2769,Feriados!A:A,1,FALSE)),\"n\",VLOOKUP(A2769,Feriados!A:A,1,FALSE))","v":"n"}]
[47330,1903,{"$f":"IF(E2770<>\"n\",COUNTIF(B2770:$B$4018,B2770),IF(D2770<6,0,COUNTIF(B2770:$B$4018,B2770)))","v":0},2,{"$f":"IF(ISERROR(VLOOKUP(A2770,Feriados!A:A,1,FALSE)),\"n\",VLOOKUP(A2770,Feriados!A:A,1,FALSE))","v":"n"}]
[47331,1904,{"$f":"IF(E2771<>\"n\",COUNTIF(B2771:$B$4018,B2771),IF(D2771<6,0,COUNTIF(B2771:$B$4018,B2771)))","v":0},3,{"$f":"IF(ISERROR(VLOOKUP(A2771,Feriados!A:A,1,FALSE)),\"n\",VLOOKUP(A2771,Feriados!A:A,1,FALSE))","v":"n"}]
[47332,1905,{"$f":"IF(E2772<>\"n\",COUNTIF(B2772:$B$4018,B2772),IF(D2772<6,0,COUNTIF(B2772:$B$4018,B2772)))","v":0},4,{"$f":"IF(ISERROR(VLOOKUP(A2772,Feriados!A:A,1,FALSE)),\"n\",VLOOKUP(A2772,Feriados!A:A,1,FALSE))","v":"n"}]
[47333,1906,{"$f":"IF(E2773<>\"n\",COUNTIF(B2773:$B$4018,B2773),IF(D2773<6,0,COUNTIF(B2773:$B$4018,B2773)))","v":0},5,{"$f":"IF(ISERROR(VLOOKUP(A2773,Feriados!A:A,1,FALSE)),\"n\",VLOOKUP(A2773,Feriados!A:A,1,FALSE))","v":"n"}]
[47334,1906,{"$f":"IF(E2774<>\"n\",COUNTIF(B2774:$B$4018,B2774),IF(D2774<6,0,COUNTIF(B2774:$B$4018,B2774)))","v":2},6,{"$f":"IF(ISERROR(VLOOKUP(A2774,Feriados!A:A,1,FALSE)),\"n\",VLOOKUP(A2774,Feriados!A:A,1,FALSE))","v":"n"}]
[47335,1906,{"$f":"IF(E2775<>\"n\",COUNTIF(B2775:$B$4018,B2775),IF(D2775<6,0,COUNTIF(B2775:$B$4018,B2775)))","v":1},7,{"$f":"IF(ISERROR(VLOOKUP(A2775,Feriados!A:A,1,FALSE)),\"n\",VLOOKUP(A2775,Feriados!A:A,1,FALSE))","v":"n"}]
[47336,1907,{"$f":"IF(E2776<>\"n\",COUNTIF(B2776:$B$4018,B2776),IF(D2776<6,0,COUNTIF(B2776:$B$4018,B2776)))","v":0},1,{"$f":"IF(ISERROR(VLOOKUP(A2776,Feriados!A:A,1,FALSE)),\"n\",VLOOKUP(A2776,Feriados!A:A,1,FALSE))","v":"n"}]
[47337,1908,{"$f":"IF(E2777<>\"n\",COUNTIF(B2777:$B$4018,B2777),IF(D2777<6,0,COUNTIF(B2777:$B$4018,B2777)))","v":0},2,{"$f":"IF(ISERROR(VLOOKUP(A2777,Feriados!A:A,1,FALSE)),\"n\",VLOOKUP(A2777,Feriados!A:A,1,FALSE))","v":"n"}]
[47338,1909,{"$f":"IF(E2778<>\"n\",COUNTIF(B2778:$B$4018,B2778),IF(D2778<6,0,COUNTIF(B2778:$B$4018,B2778)))","v":0},3,{"$f":"IF(ISERROR(VLOOKUP(A2778,Feriados!A:A,1,FALSE)),\"n\",VLOOKUP(A2778,Feriados!A:A,1,FALSE))","v":"n"}]
[47339,1910,{"$f":"IF(E2779<>\"n\",COUNTIF(B2779:$B$4018,B2779),IF(D2779<6,0,COUNTIF(B2779:$B$4018,B2779)))","v":0},4,{"$f":"IF(ISERROR(VLOOKUP(A2779,Feriados!A:A,1,FALSE)),\"n\",VLOOKUP(A2779,Feriados!A:A,1,FALSE))","v":"n"}]
[47340,1911,{"$f":"IF(E2780<>\"n\",COUNTIF(B2780:$B$4018,B2780),IF(D2780<6,0,COUNTIF(B2780:$B$4018,B2780)))","v":0},5,{"$f":"IF(ISERROR(VLOOKUP(A2780,Feriados!A:A,1,FALSE)),\"n\",VLOOKUP(A2780,Feriados!A:A,1,FALSE))","v":"n"}]
[47341,1911,{"$f":"IF(E2781<>\"n\",COUNTIF(B2781:$B$4018,B2781),IF(D2781<6,0,COUNTIF(B2781:$B$4018,B2781)))","v":2},6,{"$f":"IF(ISERROR(VLOOKUP(A2781,Feriados!A:A,1,FALSE)),\"n\",VLOOKUP(A2781,Feriados!A:A,1,FALSE))","v":"n"}]
[47342,{"$f":"NETWORKDAYS($A$2,A2782,feriados)","v":1911},{"$f":"IF(E2782<>\"n\",COUNTIF(B2782:$B$4018,B2782),IF(D2782<6,0,COUNTIF(B2782:$B$4018,B2782)))","v":1},{"$f":"WEEKDAY(A2782,2)","v":7},{"$f":"IF(ISERROR(VLOOKUP(A2782,Feriados!A:A,1,FALSE)),\"n\",VLOOKUP(A2782,Feriados!A:A,1,FALSE))","v":"n"}]
[47343,1912,{"$f":"IF(E2783<>\"n\",COUNTIF(B2783:$B$4018,B2783),IF(D2783<6,0,COUNTIF(B2783:$B$4018,B2783)))","v":0},1,{"$f":"IF(ISERROR(VLOOKUP(A2783,Feriados!A:A,1,FALSE)),\"n\",VLOOKUP(A2783,Feriados!A:A,1,FALSE))","v":"n"}]
[47344,1913,{"$f":"IF(E2784<>\"n\",COUNTIF(B2784:$B$4018,B2784),IF(D2784<6,0,COUNTIF(B2784:$B$4018,B2784)))","v":0},2,{"$f":"IF(ISERROR(VLOOKUP(A2784,Feriados!A:A,1,FALSE)),\"n\",VLOOKUP(A2784,Feriados!A:A,1,FALSE))","v":"n"}]
[47345,1914,{"$f":"IF(E2785<>\"n\",COUNTIF(B2785:$B$4018,B2785),IF(D2785<6,0,COUNTIF(B2785:$B$4018,B2785)))","v":0},3,{"$f":"IF(ISERROR(VLOOKUP(A2785,Feriados!A:A,1,FALSE)),\"n\",VLOOKUP(A2785,Feriados!A:A,1,FALSE))","v":"n"}]
[47346,1915,{"$f":"IF(E2786<>\"n\",COUNTIF(B2786:$B$4018,B2786),IF(D2786<6,0,COUNTIF(B2786:$B$4018,B2786)))","v":0},4,{"$f":"IF(ISERROR(VLOOKUP(A2786,Feriados!A:A,1,FALSE)),\"n\",VLOOKUP(A2786,Feriados!A:A,1,FALSE))","v":"n"}]
[47347,1916,{"$f":"IF(E2787<>\"n\",COUNTIF(B2787:$B$4018,B2787),IF(D2787<6,0,COUNTIF(B2787:$B$4018,B2787)))","v":0},5,{"$f":"IF(ISERROR(VLOOKUP(A2787,Feriados!A:A,1,FALSE)),\"n\",VLOOKUP(A2787,Feriados!A:A,1,FALSE))","v":"n"}]
[47348,1916,{"$f":"IF(E2788<>\"n\",COUNTIF(B2788:$B$4018,B2788),IF(D2788<6,0,COUNTIF(B2788:$B$4018,B2788)))","v":2},6,{"$f":"IF(ISERROR(VLOOKUP(A2788,Feriados!A:A,1,FALSE)),\"n\",VLOOKUP(A2788,Feriados!A:A,1,FALSE))","v":"n"}]
[47349,1916,{"$f":"IF(E2789<>\"n\",COUNTIF(B2789:$B$4018,B2789),IF(D2789<6,0,COUNTIF(B2789:$B$4018,B2789)))","v":1},7,{"$f":"IF(ISERROR(VLOOKUP(A2789,Feriados!A:A,1,FALSE)),\"n\",VLOOKUP(A2789,Feriados!A:A,1,FALSE))","v":"n"}]
[47350,1917,{"$f":"IF(E2790<>\"n\",COUNTIF(B2790:$B$4018,B2790),IF(D2790<6,0,COUNTIF(B2790:$B$4018,B2790)))","v":0},1,{"$f":"IF(ISERROR(VLOOKUP(A2790,Feriados!A:A,1,FALSE)),\"n\",VLOOKUP(A2790,Feriados!A:A,1,FALSE))","v":"n"}]
[47351,1918,{"$f":"IF(E2791<>\"n\",COUNTIF(B2791:$B$4018,B2791),IF(D2791<6,0,COUNTIF(B2791:$B$4018,B2791)))","v":0},2,{"$f":"IF(ISERROR(VLOOKUP(A2791,Feriados!A:A,1,FALSE)),\"n\",VLOOKUP(A2791,Feriados!A:A,1,FALSE))","v":"n"}]
[47352,1919,{"$f":"IF(E2792<>\"n\",COUNTIF(B2792:$B$4018,B2792),IF(D2792<6,0,COUNTIF(B2792:$B$4018,B2792)))","v":0},3,{"$f":"IF(ISERROR(VLOOKUP(A2792,Feriados!A:A,1,FALSE)),\"n\",VLOOKUP(A2792,Feriados!A:A,1,FALSE))","v":"n"}]
[47353,1920,{"$f":"IF(E2793<>\"n\",COUNTIF(B2793:$B$4018,B2793),IF(D2793<6,0,COUNTIF(B2793:$B$4018,B2793)))","v":0},4,{"$f":"IF(ISERROR(VLOOKUP(A2793,Feriados!A:A,1,FALSE)),\"n\",VLOOKUP(A2793,Feriados!A:A,1,FALSE))","v":"n"}]
[47354,1921,{"$f":"IF(E2794<>\"n\",COUNTIF(B2794:$B$4018,B2794),IF(D2794<6,0,COUNTIF(B2794:$B$4018,B2794)))","v":0},5,{"$f":"IF(ISERROR(VLOOKUP(A2794,Feriados!A:A,1,FALSE)),\"n\",VLOOKUP(A2794,Feriados!A:A,1,FALSE))","v":"n"}]
[47355,1921,{"$f":"IF(E2795<>\"n\",COUNTIF(B2795:$B$4018,B2795),IF(D2795<6,0,COUNTIF(B2795:$B$4018,B2795)))","v":2},6,{"$f":"IF(ISERROR(VLOOKUP(A2795,Feriados!A:A,1,FALSE)),\"n\",VLOOKUP(A2795,Feriados!A:A,1,FALSE))","v":"n"}]
[47356,1921,{"$f":"IF(E2796<>\"n\",COUNTIF(B2796:$B$4018,B2796),IF(D2796<6,0,COUNTIF(B2796:$B$4018,B2796)))","v":1},7,{"$f":"IF(ISERROR(VLOOKUP(A2796,Feriados!A:A,1,FALSE)),\"n\",VLOOKUP(A2796,Feriados!A:A,1,FALSE))","v":"n"}]
[47357,1922,{"$f":"IF(E2797<>\"n\",COUNTIF(B2797:$B$4018,B2797),IF(D2797<6,0,COUNTIF(B2797:$B$4018,B2797)))","v":0},1,{"$f":"IF(ISERROR(VLOOKUP(A2797,Feriados!A:A,1,FALSE)),\"n\",VLOOKUP(A2797,Feriados!A:A,1,FALSE))","v":"n"}]
[47358,1923,{"$f":"IF(E2798<>\"n\",COUNTIF(B2798:$B$4018,B2798),IF(D2798<6,0,COUNTIF(B2798:$B$4018,B2798)))","v":0},2,{"$f":"IF(ISERROR(VLOOKUP(A2798,Feriados!A:A,1,FALSE)),\"n\",VLOOKUP(A2798,Feriados!A:A,1,FALSE))","v":"n"}]
[47359,1924,{"$f":"IF(E2799<>\"n\",COUNTIF(B2799:$B$4018,B2799),IF(D2799<6,0,COUNTIF(B2799:$B$4018,B2799)))","v":0},3,{"$f":"IF(ISERROR(VLOOKUP(A2799,Feriados!A:A,1,FALSE)),\"n\",VLOOKUP(A2799,Feriados!A:A,1,FALSE))","v":"n"}]
[47360,1925,{"$f":"IF(E2800<>\"n\",COUNTIF(B2800:$B$4018,B2800),IF(D2800<6,0,COUNTIF(B2800:$B$4018,B2800)))","v":0},4,{"$f":"IF(ISERROR(VLOOKUP(A2800,Feriados!A:A,1,FALSE)),\"n\",VLOOKUP(A2800,Feriados!A:A,1,FALSE))","v":"n"}]
[47361,1926,{"$f":"IF(E2801<>\"n\",COUNTIF(B2801:$B$4018,B2801),IF(D2801<6,0,COUNTIF(B2801:$B$4018,B2801)))","v":0},5,{"$f":"IF(ISERROR(VLOOKUP(A2801,Feriados!A:A,1,FALSE)),\"n\",VLOOKUP(A2801,Feriados!A:A,1,FALSE))","v":"n"}]
[47362,1926,{"$f":"IF(E2802<>\"n\",COUNTIF(B2802:$B$4018,B2802),IF(D2802<6,0,COUNTIF(B2802:$B$4018,B2802)))","v":2},6,{"$f":"IF(ISERROR(VLOOKUP(A2802,Feriados!A:A,1,FALSE)),\"n\",VLOOKUP(A2802,Feriados!A:A,1,FALSE))","v":"n"}]
[47363,1926,{"$f":"IF(E2803<>\"n\",COUNTIF(B2803:$B$4018,B2803),IF(D2803<6,0,COUNTIF(B2803:$B$4018,B2803)))","v":1},7,{"$f":"IF(ISERROR(VLOOKUP(A2803,Feriados!A:A,1,FALSE)),\"n\",VLOOKUP(A2803,Feriados!A:A,1,FALSE))","v":"n"}]
[47364,1927,{"$f":"IF(E2804<>\"n\",COUNTIF(B2804:$B$4018,B2804),IF(D2804<6,0,COUNTIF(B2804:$B$4018,B2804)))","v":0},1,{"$f":"IF(ISERROR(VLOOKUP(A2804,Feriados!A:A,1,FALSE)),\"n\",VLOOKUP(A2804,Feriados!A:A,1,FALSE))","v":"n"}]
[47365,1928,{"$f":"IF(E2805<>\"n\",COUNTIF(B2805:$B$4018,B2805),IF(D2805<6,0,COUNTIF(B2805:$B$4018,B2805)))","v":0},2,{"$f":"IF(ISERROR(VLOOKUP(A2805,Feriados!A:A,1,FALSE)),\"n\",VLOOKUP(A2805,Feriados!A:A,1,FALSE))","v":"n"}]
[47366,1929,{"$f":"IF(E2806<>\"n\",COUNTIF(B2806:$B$4018,B2806),IF(D2806<6,0,COUNTIF(B2806:$B$4018,B2806)))","v":0},3,{"$f":"IF(ISERROR(VLOOKUP(A2806,Feriados!A:A,1,FALSE)),\"n\",VLOOKUP(A2806,Feriados!A:A,1,FALSE))","v":"n"}]
[47367,1930,{"$f":"IF(E2807<>\"n\",COUNTIF(B2807:$B$4018,B2807),IF(D2807<6,0,COUNTIF(B2807:$B$4018,B2807)))","v":0},4,{"$f":"IF(ISERROR(VLOOKUP(A2807,Feriados!A:A,1,FALSE)),\"n\",VLOOKUP(A2807,Feriados!A:A,1,FALSE))","v":"n"}]
[47368,1930,{"$f":"IF(E2808<>\"n\",COUNTIF(B2808:$B$4018,B2808),IF(D2808<6,0,COUNTIF(B2808:$B$4018,B2808)))","v":3},5,{"$f":"IF(ISERROR(VLOOKUP(A2808,Feriados!A:A,1,FALSE)),\"n\",VLOOKUP(A2808,Feriados!A:A,1,FALSE))","v":"2029-09-07"}]
[47369,1930,{"$f":"IF(E2809<>\"n\",COUNTIF(B2809:$B$4018,B2809),IF(D2809<6,0,COUNTIF(B2809:$B$4018,B2809)))","v":2},6,{"$f":"IF(ISERROR(VLOOKUP(A2809,Feriados!A:A,1,FALSE)),\"n\",VLOOKUP(A2809,Feriados!A:A,1,FALSE))","v":"n"}]
[47370,1930,{"$f":"IF(E2810<>\"n\",COUNTIF(B2810:$B$4018,B2810),IF(D2810<6,0,COUNTIF(B2810:$B$4018,B2810)))","v":1},7,{"$f":"IF(ISERROR(VLOOKUP(A2810,Feriados!A:A,1,FALSE)),\"n\",VLOOKUP(A2810,Feriados!A:A,1,FALSE))","v":"n"}]
[47371,1931,{"$f":"IF(E2811<>\"n\",COUNTIF(B2811:$B$4018,B2811),IF(D2811<6,0,COUNTIF(B2811:$B$4018,B2811)))","v":0},1,{"$f":"IF(ISERROR(VLOOKUP(A2811,Feriados!A:A,1,FALSE)),\"n\",VLOOKUP(A2811,Feriados!A:A,1,FALSE))","v":"n"}]
[47372,1932,{"$f":"IF(E2812<>\"n\",COUNTIF(B2812:$B$4018,B2812),IF(D2812<6,0,COUNTIF(B2812:$B$4018,B2812)))","v":0},2,{"$f":"IF(ISERROR(VLOOKUP(A2812,Feriados!A:A,1,FALSE)),\"n\",VLOOKUP(A2812,Feriados!A:A,1,FALSE))","v":"n"}]
[47373,1933,{"$f":"IF(E2813<>\"n\",COUNTIF(B2813:$B$4018,B2813),IF(D2813<6,0,COUNTIF(B2813:$B$4018,B2813)))","v":0},3,{"$f":"IF(ISERROR(VLOOKUP(A2813,Feriados!A:A,1,FALSE)),\"n\",VLOOKUP(A2813,Feriados!A:A,1,FALSE))","v":"n"}]
[47374,1934,{"$f":"IF(E2814<>\"n\",COUNTIF(B2814:$B$4018,B2814),IF(D2814<6,0,COUNTIF(B2814:$B$4018,B2814)))","v":0},4,{"$f":"IF(ISERROR(VLOOKUP(A2814,Feriados!A:A,1,FALSE)),\"n\",VLOOKUP(A2814,Feriados!A:A,1,FALSE))","v":"n"}]
[47375,1935,{"$f":"IF(E2815<>\"n\",COUNTIF(B2815:$B$4018,B2815),IF(D2815<6,0,COUNTIF(B2815:$B$4018,B2815)))","v":0},5,{"$f":"IF(ISERROR(VLOOKUP(A2815,Feriados!A:A,1,FALSE)),\"n\",VLOOKUP(A2815,Feriados!A:A,1,FALSE))","v":"n"}]
[47376,1935,{"$f":"IF(E2816<>\"n\",COUNTIF(B2816:$B$4018,B2816),IF(D2816<6,0,COUNTIF(B2816:$B$4018,B2816)))","v":2},6,{"$f":"IF(ISERROR(VLOOKUP(A2816,Feriados!A:A,1,FALSE)),\"n\",VLOOKUP(A2816,Feriados!A:A,1,FALSE))","v":"n"}]
[47377,1935,{"$f":"IF(E2817<>\"n\",COUNTIF(B2817:$B$4018,B2817),IF(D2817<6,0,COUNTIF(B2817:$B$4018,B2817)))","v":1},7,{"$f":"IF(ISERROR(VLOOKUP(A2817,Feriados!A:A,1,FALSE)),\"n\",VLOOKUP(A2817,Feriados!A:A,1,FALSE))","v":"n"}]
[47378,1936,{"$f":"IF(E2818<>\"n\",COUNTIF(B2818:$B$4018,B2818),IF(D2818<6,0,COUNTIF(B2818:$B$4018,B2818)))","v":0},1,{"$f":"IF(ISERROR(VLOOKUP(A2818,Feriados!A:A,1,FALSE)),\"n\",VLOOKUP(A2818,Feriados!A:A,1,FALSE))","v":"n"}]
[47379,1937,{"$f":"IF(E2819<>\"n\",COUNTIF(B2819:$B$4018,B2819),IF(D2819<6,0,COUNTIF(B2819:$B$4018,B2819)))","v":0},2,{"$f":"IF(ISERROR(VLOOKUP(A2819,Feriados!A:A,1,FALSE)),\"n\",VLOOKUP(A2819,Feriados!A:A,1,FALSE))","v":"n"}]
[{"$f":"A2819+1","v":47380},1938,{"$f":"IF(E2820<>\"n\",COUNTIF(B2820:$B$4018,B2820),IF(D2820<6,0,COUNTIF(B2820:$B$4018,B2820)))","v":0},3,{"$f":"IF(ISERROR(VLOOKUP(A2820,Feriados!A:A,1,FALSE)),\"n\",VLOOKUP(A2820,Feriados!A:A,1,FALSE))","v":"n"}]
[47381,1939,{"$f":"IF(E2821<>\"n\",COUNTIF(B2821:$B$4018,B2821),IF(D2821<6,0,COUNTIF(B2821:$B$4018,B2821)))","v":0},4,{"$f":"IF(ISERROR(VLOOKUP(A2821,Feriados!A:A,1,FALSE)),\"n\",VLOOKUP(A2821,Feriados!A:A,1,FALSE))","v":"n"}]
[47382,1940,{"$f":"IF(E2822<>\"n\",COUNTIF(B2822:$B$4018,B2822),IF(D2822<6,0,COUNTIF(B2822:$B$4018,B2822)))","v":0},5,{"$f":"IF(ISERROR(VLOOKUP(A2822,Feriados!A:A,1,FALSE)),\"n\",VLOOKUP(A2822,Feriados!A:A,1,FALSE))","v":"n"}]
[47383,1940,{"$f":"IF(E2823<>\"n\",COUNTIF(B2823:$B$4018,B2823),IF(D2823<6,0,COUNTIF(B2823:$B$4018,B2823)))","v":2},6,{"$f":"IF(ISERROR(VLOOKUP(A2823,Feriados!A:A,1,FALSE)),\"n\",VLOOKUP(A2823,Feriados!A:A,1,FALSE))","v":"n"}]
[47384,1940,{"$f":"IF(E2824<>\"n\",COUNTIF(B2824:$B$4018,B2824),IF(D2824<6,0,COUNTIF(B2824:$B$4018,B2824)))","v":1},7,{"$f":"IF(ISERROR(VLOOKUP(A2824,Feriados!A:A,1,FALSE)),\"n\",VLOOKUP(A2824,Feriados!A:A,1,FALSE))","v":"n"}]
[47385,1941,{"$f":"IF(E2825<>\"n\",COUNTIF(B2825:$B$4018,B2825),IF(D2825<6,0,COUNTIF(B2825:$B$4018,B2825)))","v":0},1,{"$f":"IF(ISERROR(VLOOKUP(A2825,Feriados!A:A,1,FALSE)),\"n\",VLOOKUP(A2825,Feriados!A:A,1,FALSE))","v":"n"}]
[47386,1942,{"$f":"IF(E2826<>\"n\",COUNTIF(B2826:$B$4018,B2826),IF(D2826<6,0,COUNTIF(B2826:$B$4018,B2826)))","v":0},2,{"$f":"IF(ISERROR(VLOOKUP(A2826,Feriados!A:A,1,FALSE)),\"n\",VLOOKUP(A2826,Feriados!A:A,1,FALSE))","v":"n"}]
[47387,1943,{"$f":"IF(E2827<>\"n\",COUNTIF(B2827:$B$4018,B2827),IF(D2827<6,0,COUNTIF(B2827:$B$4018,B2827)))","v":0},3,{"$f":"IF(ISERROR(VLOOKUP(A2827,Feriados!A:A,1,FALSE)),\"n\",VLOOKUP(A2827,Feriados!A:A,1,FALSE))","v":"n"}]
[47388,1944,{"$f":"IF(E2828<>\"n\",COUNTIF(B2828:$B$4018,B2828),IF(D2828<6,0,COUNTIF(B2828:$B$4018,B2828)))","v":0},4,{"$f":"IF(ISERROR(VLOOKUP(A2828,Feriados!A:A,1,FALSE)),\"n\",VLOOKUP(A2828,Feriados!A:A,1,FALSE))","v":"n"}]
[47389,1945,{"$f":"IF(E2829<>\"n\",COUNTIF(B2829:$B$4018,B2829),IF(D2829<6,0,COUNTIF(B2829:$B$4018,B2829)))","v":0},5,{"$f":"IF(ISERROR(VLOOKUP(A2829,Feriados!A:A,1,FALSE)),\"n\",VLOOKUP(A2829,Feriados!A:A,1,FALSE))","v":"n"}]
[47390,1945,{"$f":"IF(E2830<>\"n\",COUNTIF(B2830:$B$4018,B2830),IF(D2830<6,0,COUNTIF(B2830:$B$4018,B2830)))","v":2},6,{"$f":"IF(ISERROR(VLOOKUP(A2830,Feriados!A:A,1,FALSE)),\"n\",VLOOKUP(A2830,Feriados!A:A,1,FALSE))","v":"n"}]
[47391,1945,{"$f":"IF(E2831<>\"n\",COUNTIF(B2831:$B$4018,B2831),IF(D2831<6,0,COUNTIF(B2831:$B$4018,B2831)))","v":1},7,{"$f":"IF(ISERROR(VLOOKUP(A2831,Feriados!A:A,1,FALSE)),\"n\",VLOOKUP(A2831,Feriados!A:A,1,FALSE))","v":"n"}]
[47392,1946,{"$f":"IF(E2832<>\"n\",COUNTIF(B2832:$B$4018,B2832),IF(D2832<6,0,COUNTIF(B2832:$B$4018,B2832)))","v":0},1,{"$f":"IF(ISERROR(VLOOKUP(A2832,Feriados!A:A,1,FALSE)),\"n\",VLOOKUP(A2832,Feriados!A:A,1,FALSE))","v":"n"}]
[47393,1947,{"$f":"IF(E2833<>\"n\",COUNTIF(B2833:$B$4018,B2833),IF(D2833<6,0,COUNTIF(B2833:$B$4018,B2833)))","v":0},2,{"$f":"IF(ISERROR(VLOOKUP(A2833,Feriados!A:A,1,FALSE)),\"n\",VLOOKUP(A2833,Feriados!A:A,1,FALSE))","v":"n"}]
[47394,1948,{"$f":"IF(E2834<>\"n\",COUNTIF(B2834:$B$4018,B2834),IF(D2834<6,0,COUNTIF(B2834:$B$4018,B2834)))","v":0},3,{"$f":"IF(ISERROR(VLOOKUP(A2834,Feriados!A:A,1,FALSE)),\"n\",VLOOKUP(A2834,Feriados!A:A,1,FALSE))","v":"n"}]
[47395,1949,{"$f":"IF(E2835<>\"n\",COUNTIF(B2835:$B$4018,B2835),IF(D2835<6,0,COUNTIF(B2835:$B$4018,B2835)))","v":0},4,{"$f":"IF(ISERROR(VLOOKUP(A2835,Feriados!A:A,1,FALSE)),\"n\",VLOOKUP(A2835,Feriados!A:A,1,FALSE))","v":"n"}]
[47396,1950,{"$f":"IF(E2836<>\"n\",COUNTIF(B2836:$B$4018,B2836),IF(D2836<6,0,COUNTIF(B2836:$B$4018,B2836)))","v":0},5,{"$f":"IF(ISERROR(VLOOKUP(A2836,Feriados!A:A,1,FALSE)),\"n\",VLOOKUP(A2836,Feriados!A:A,1,FALSE))","v":"n"}]
[47397,1950,{"$f":"IF(E2837<>\"n\",COUNTIF(B2837:$B$4018,B2837),IF(D2837<6,0,COUNTIF(B2837:$B$4018,B2837)))","v":2},6,{"$f":"IF(ISERROR(VLOOKUP(A2837,Feriados!A:A,1,FALSE)),\"n\",VLOOKUP(A2837,Feriados!A:A,1,FALSE))","v":"n"}]
[47398,1950,{"$f":"IF(E2838<>\"n\",COUNTIF(B2838:$B$4018,B2838),IF(D2838<6,0,COUNTIF(B2838:$B$4018,B2838)))","v":1},7,{"$f":"IF(ISERROR(VLOOKUP(A2838,Feriados!A:A,1,FALSE)),\"n\",VLOOKUP(A2838,Feriados!A:A,1,FALSE))","v":"n"}]
[47399,1951,{"$f":"IF(E2839<>\"n\",COUNTIF(B2839:$B$4018,B2839),IF(D2839<6,0,COUNTIF(B2839:$B$4018,B2839)))","v":0},1,{"$f":"IF(ISERROR(VLOOKUP(A2839,Feriados!A:A,1,FALSE)),\"n\",VLOOKUP(A2839,Feriados!A:A,1,FALSE))","v":"n"}]
[47400,1952,{"$f":"IF(E2840<>\"n\",COUNTIF(B2840:$B$4018,B2840),IF(D2840<6,0,COUNTIF(B2840:$B$4018,B2840)))","v":0},2,{"$f":"IF(ISERROR(VLOOKUP(A2840,Feriados!A:A,1,FALSE)),\"n\",VLOOKUP(A2840,Feriados!A:A,1,FALSE))","v":"n"}]
[47401,1953,{"$f":"IF(E2841<>\"n\",COUNTIF(B2841:$B$4018,B2841),IF(D2841<6,0,COUNTIF(B2841:$B$4018,B2841)))","v":0},3,{"$f":"IF(ISERROR(VLOOKUP(A2841,Feriados!A:A,1,FALSE)),\"n\",VLOOKUP(A2841,Feriados!A:A,1,FALSE))","v":"n"}]
[47402,1954,{"$f":"IF(E2842<>\"n\",COUNTIF(B2842:$B$4018,B2842),IF(D2842<6,0,COUNTIF(B2842:$B$4018,B2842)))","v":0},4,{"$f":"IF(ISERROR(VLOOKUP(A2842,Feriados!A:A,1,FALSE)),\"n\",VLOOKUP(A2842,Feriados!A:A,1,FALSE))","v":"n"}]
[47403,1954,{"$f":"IF(E2843<>\"n\",COUNTIF(B2843:$B$4018,B2843),IF(D2843<6,0,COUNTIF(B2843:$B$4018,B2843)))","v":3},5,{"$f":"IF(ISERROR(VLOOKUP(A2843,Feriados!A:A,1,FALSE)),\"n\",VLOOKUP(A2843,Feriados!A:A,1,FALSE))","v":"2029-10-12"}]
[47404,1954,{"$f":"IF(E2844<>\"n\",COUNTIF(B2844:$B$4018,B2844),IF(D2844<6,0,COUNTIF(B2844:$B$4018,B2844)))","v":2},6,{"$f":"IF(ISERROR(VLOOKUP(A2844,Feriados!A:A,1,FALSE)),\"n\",VLOOKUP(A2844,Feriados!A:A,1,FALSE))","v":"n"}]
[47405,1954,{"$f":"IF(E2845<>\"n\",COUNTIF(B2845:$B$4018,B2845),IF(D2845<6,0,COUNTIF(B2845:$B$4018,B2845)))","v":1},7,{"$f":"IF(ISERROR(VLOOKUP(A2845,Feriados!A:A,1,FALSE)),\"n\",VLOOKUP(A2845,Feriados!A:A,1,FALSE))","v":"n"}]
[47406,{"$f":"NETWORKDAYS($A$2,A2846,feriados)","v":1955},{"$f":"IF(E2846<>\"n\",COUNTIF(B2846:$B$4018,B2846),IF(D2846<6,0,COUNTIF(B2846:$B$4018,B2846)))","v":0},{"$f":"WEEKDAY(A2846,2)","v":1},{"$f":"IF(ISERROR(VLOOKUP(A2846,Feriados!A:A,1,FALSE)),\"n\",VLOOKUP(A2846,Feriados!A:A,1,FALSE))","v":"n"}]
[47407,1956,{"$f":"IF(E2847<>\"n\",COUNTIF(B2847:$B$4018,B2847),IF(D2847<6,0,COUNTIF(B2847:$B$4018,B2847)))","v":0},2,{"$f":"IF(ISERROR(VLOOKUP(A2847,Feriados!A:A,1,FALSE)),\"n\",VLOOKUP(A2847,Feriados!A:A,1,FALSE))","v":"n"}]
[47408,1957,{"$f":"IF(E2848<>\"n\",COUNTIF(B2848:$B$4018,B2848),IF(D2848<6,0,COUNTIF(B2848:$B$4018,B2848)))","v":0},3,{"$f":"IF(ISERROR(VLOOKUP(A2848,Feriados!A:A,1,FALSE)),\"n\",VLOOKUP(A2848,Feriados!A:A,1,FALSE))","v":"n"}]
[47409,1958,{"$f":"IF(E2849<>\"n\",COUNTIF(B2849:$B$4018,B2849),IF(D2849<6,0,COUNTIF(B2849:$B$4018,B2849)))","v":0},4,{"$f":"IF(ISERROR(VLOOKUP(A2849,Feriados!A:A,1,FALSE)),\"n\",VLOOKUP(A2849,Feriados!A:A,1,FALSE))","v":"n"}]
[47410,1959,{"$f":"IF(E2850<>\"n\",COUNTIF(B2850:$B$4018,B2850),IF(D2850<6,0,COUNTIF(B2850:$B$4018,B2850)))","v":0},5,{"$f":"IF(ISERROR(VLOOKUP(A2850,Feriados!A:A,1,FALSE)),\"n\",VLOOKUP(A2850,Feriados!A:A,1,FALSE))","v":"n"}]
[47411,1959,{"$f":"IF(E2851<>\"n\",COUNTIF(B2851:$B$4018,B2851),IF(D2851<6,0,COUNTIF(B2851:$B$4018,B2851)))","v":2},6,{"$f":"IF(ISERROR(VLOOKUP(A2851,Feriados!A:A,1,FALSE)),\"n\",VLOOKUP(A2851,Feriados!A:A,1,FALSE))","v":"n"}]
[47412,1959,{"$f":"IF(E2852<>\"n\",COUNTIF(B2852:$B$4018,B2852),IF(D2852<6,0,COUNTIF(B2852:$B$4018,B2852)))","v":1},7,{"$f":"IF(ISERROR(VLOOKUP(A2852,Feriados!A:A,1,FALSE)),\"n\",VLOOKUP(A2852,Feriados!A:A,1,FALSE))","v":"n"}]
[47413,1960,{"$f":"IF(E2853<>\"n\",COUNTIF(B2853:$B$4018,B2853),IF(D2853<6,0,COUNTIF(B2853:$B$4018,B2853)))","v":0},1,{"$f":"IF(ISERROR(VLOOKUP(A2853,Feriados!A:A,1,FALSE)),\"n\",VLOOKUP(A2853,Feriados!A:A,1,FALSE))","v":"n"}]
[47414,1961,{"$f":"IF(E2854<>\"n\",COUNTIF(B2854:$B$4018,B2854),IF(D2854<6,0,COUNTIF(B2854:$B$4018,B2854)))","v":0},2,{"$f":"IF(ISERROR(VLOOKUP(A2854,Feriados!A:A,1,FALSE)),\"n\",VLOOKUP(A2854,Feriados!A:A,1,FALSE))","v":"n"}]
[47415,1962,{"$f":"IF(E2855<>\"n\",COUNTIF(B2855:$B$4018,B2855),IF(D2855<6,0,COUNTIF(B2855:$B$4018,B2855)))","v":0},3,{"$f":"IF(ISERROR(VLOOKUP(A2855,Feriados!A:A,1,FALSE)),\"n\",VLOOKUP(A2855,Feriados!A:A,1,FALSE))","v":"n"}]
[47416,1963,{"$f":"IF(E2856<>\"n\",COUNTIF(B2856:$B$4018,B2856),IF(D2856<6,0,COUNTIF(B2856:$B$4018,B2856)))","v":0},4,{"$f":"IF(ISERROR(VLOOKUP(A2856,Feriados!A:A,1,FALSE)),\"n\",VLOOKUP(A2856,Feriados!A:A,1,FALSE))","v":"n"}]
[47417,1964,{"$f":"IF(E2857<>\"n\",COUNTIF(B2857:$B$4018,B2857),IF(D2857<6,0,COUNTIF(B2857:$B$4018,B2857)))","v":0},5,{"$f":"IF(ISERROR(VLOOKUP(A2857,Feriados!A:A,1,FALSE)),\"n\",VLOOKUP(A2857,Feriados!A:A,1,FALSE))","v":"n"}]
[47418,1964,{"$f":"IF(E2858<>\"n\",COUNTIF(B2858:$B$4018,B2858),IF(D2858<6,0,COUNTIF(B2858:$B$4018,B2858)))","v":2},6,{"$f":"IF(ISERROR(VLOOKUP(A2858,Feriados!A:A,1,FALSE)),\"n\",VLOOKUP(A2858,Feriados!A:A,1,FALSE))","v":"n"}]
[47419,1964,{"$f":"IF(E2859<>\"n\",COUNTIF(B2859:$B$4018,B2859),IF(D2859<6,0,COUNTIF(B2859:$B$4018,B2859)))","v":1},7,{"$f":"IF(ISERROR(VLOOKUP(A2859,Feriados!A:A,1,FALSE)),\"n\",VLOOKUP(A2859,Feriados!A:A,1,FALSE))","v":"n"}]
[47420,1965,{"$f":"IF(E2860<>\"n\",COUNTIF(B2860:$B$4018,B2860),IF(D2860<6,0,COUNTIF(B2860:$B$4018,B2860)))","v":0},1,{"$f":"IF(ISERROR(VLOOKUP(A2860,Feriados!A:A,1,FALSE)),\"n\",VLOOKUP(A2860,Feriados!A:A,1,FALSE))","v":"n"}]
[47421,1966,{"$f":"IF(E2861<>\"n\",COUNTIF(B2861:$B$4018,B2861),IF(D2861<6,0,COUNTIF(B2861:$B$4018,B2861)))","v":0},2,{"$f":"IF(ISERROR(VLOOKUP(A2861,Feriados!A:A,1,FALSE)),\"n\",VLOOKUP(A2861,Feriados!A:A,1,FALSE))","v":"n"}]
[47422,1967,{"$f":"IF(E2862<>\"n\",COUNTIF(B2862:$B$4018,B2862),IF(D2862<6,0,COUNTIF(B2862:$B$4018,B2862)))","v":0},3,{"$f":"IF(ISERROR(VLOOKUP(A2862,Feriados!A:A,1,FALSE)),\"n\",VLOOKUP(A2862,Feriados!A:A,1,FALSE))","v":"n"}]
[47423,1968,{"$f":"IF(E2863<>\"n\",COUNTIF(B2863:$B$4018,B2863),IF(D2863<6,0,COUNTIF(B2863:$B$4018,B2863)))","v":0},4,{"$f":"IF(ISERROR(VLOOKUP(A2863,Feriados!A:A,1,FALSE)),\"n\",VLOOKUP(A2863,Feriados!A:A,1,FALSE))","v":"n"}]
[47424,1968,{"$f":"IF(E2864<>\"n\",COUNTIF(B2864:$B$4018,B2864),IF(D2864<6,0,COUNTIF(B2864:$B$4018,B2864)))","v":3},5,{"$f":"IF(ISERROR(VLOOKUP(A2864,Feriados!A:A,1,FALSE)),\"n\",VLOOKUP(A2864,Feriados!A:A,1,FALSE))","v":"2029-11-02"}]
[47425,1968,{"$f":"IF(E2865<>\"n\",COUNTIF(B2865:$B$4018,B2865),IF(D2865<6,0,COUNTIF(B2865:$B$4018,B2865)))","v":2},6,{"$f":"IF(ISERROR(VLOOKUP(A2865,Feriados!A:A,1,FALSE)),\"n\",VLOOKUP(A2865,Feriados!A:A,1,FALSE))","v":"n"}]
[47426,1968,{"$f":"IF(E2866<>\"n\",COUNTIF(B2866:$B$4018,B2866),IF(D2866<6,0,COUNTIF(B2866:$B$4018,B2866)))","v":1},7,{"$f":"IF(ISERROR(VLOOKUP(A2866,Feriados!A:A,1,FALSE)),\"n\",VLOOKUP(A2866,Feriados!A:A,1,FALSE))","v":"n"}]
[47427,1969,{"$f":"IF(E2867<>\"n\",COUNTIF(B2867:$B$4018,B2867),IF(D2867<6,0,COUNTIF(B2867:$B$4018,B2867)))","v":0},1,{"$f":"IF(ISERROR(VLOOKUP(A2867,Feriados!A:A,1,FALSE)),\"n\",VLOOKUP(A2867,Feriados!A:A,1,FALSE))","v":"n"}]
[47428,1970,{"$f":"IF(E2868<>\"n\",COUNTIF(B2868:$B$4018,B2868),IF(D2868<6,0,COUNTIF(B2868:$B$4018,B2868)))","v":0},2,{"$f":"IF(ISERROR(VLOOKUP(A2868,Feriados!A:A,1,FALSE)),\"n\",VLOOKUP(A2868,Feriados!A:A,1,FALSE))","v":"n"}]
[47429,1971,{"$f":"IF(E2869<>\"n\",COUNTIF(B2869:$B$4018,B2869),IF(D2869<6,0,COUNTIF(B2869:$B$4018,B2869)))","v":0},3,{"$f":"IF(ISERROR(VLOOKUP(A2869,Feriados!A:A,1,FALSE)),\"n\",VLOOKUP(A2869,Feriados!A:A,1,FALSE))","v":"n"}]
[47430,1972,{"$f":"IF(E2870<>\"n\",COUNTIF(B2870:$B$4018,B2870),IF(D2870<6,0,COUNTIF(B2870:$B$4018,B2870)))","v":0},4,{"$f":"IF(ISERROR(VLOOKUP(A2870,Feriados!A:A,1,FALSE)),\"n\",VLOOKUP(A2870,Feriados!A:A,1,FALSE))","v":"n"}]
[47431,1973,{"$f":"IF(E2871<>\"n\",COUNTIF(B2871:$B$4018,B2871),IF(D2871<6,0,COUNTIF(B2871:$B$4018,B2871)))","v":0},5,{"$f":"IF(ISERROR(VLOOKUP(A2871,Feriados!A:A,1,FALSE)),\"n\",VLOOKUP(A2871,Feriados!A:A,1,FALSE))","v":"n"}]
[47432,1973,{"$f":"IF(E2872<>\"n\",COUNTIF(B2872:$B$4018,B2872),IF(D2872<6,0,COUNTIF(B2872:$B$4018,B2872)))","v":2},6,{"$f":"IF(ISERROR(VLOOKUP(A2872,Feriados!A:A,1,FALSE)),\"n\",VLOOKUP(A2872,Feriados!A:A,1,FALSE))","v":"n"}]
[47433,1973,{"$f":"IF(E2873<>\"n\",COUNTIF(B2873:$B$4018,B2873),IF(D2873<6,0,COUNTIF(B2873:$B$4018,B2873)))","v":1},7,{"$f":"IF(ISERROR(VLOOKUP(A2873,Feriados!A:A,1,FALSE)),\"n\",VLOOKUP(A2873,Feriados!A:A,1,FALSE))","v":"n"}]
[47434,1974,{"$f":"IF(E2874<>\"n\",COUNTIF(B2874:$B$4018,B2874),IF(D2874<6,0,COUNTIF(B2874:$B$4018,B2874)))","v":0},1,{"$f":"IF(ISERROR(VLOOKUP(A2874,Feriados!A:A,1,FALSE)),\"n\",VLOOKUP(A2874,Feriados!A:A,1,FALSE))","v":"n"}]
[47435,1975,{"$f":"IF(E2875<>\"n\",COUNTIF(B2875:$B$4018,B2875),IF(D2875<6,0,COUNTIF(B2875:$B$4018,B2875)))","v":0},2,{"$f":"IF(ISERROR(VLOOKUP(A2875,Feriados!A:A,1,FALSE)),\"n\",VLOOKUP(A2875,Feriados!A:A,1,FALSE))","v":"n"}]
[47436,1976,{"$f":"IF(E2876<>\"n\",COUNTIF(B2876:$B$4018,B2876),IF(D2876<6,0,COUNTIF(B2876:$B$4018,B2876)))","v":0},3,{"$f":"IF(ISERROR(VLOOKUP(A2876,Feriados!A:A,1,FALSE)),\"n\",VLOOKUP(A2876,Feriados!A:A,1,FALSE))","v":"n"}]
[47437,1976,{"$f":"IF(E2877<>\"n\",COUNTIF(B2877:$B$4018,B2877),IF(D2877<6,0,COUNTIF(B2877:$B$4018,B2877)))","v":1},4,{"$f":"IF(ISERROR(VLOOKUP(A2877,Feriados!A:A,1,FALSE)),\"n\",VLOOKUP(A2877,Feriados!A:A,1,FALSE))","v":"2029-11-15"}]
[47438,1977,{"$f":"IF(E2878<>\"n\",COUNTIF(B2878:$B$4018,B2878),IF(D2878<6,0,COUNTIF(B2878:$B$4018,B2878)))","v":0},5,{"$f":"IF(ISERROR(VLOOKUP(A2878,Feriados!A:A,1,FALSE)),\"n\",VLOOKUP(A2878,Feriados!A:A,1,FALSE))","v":"n"}]
[47439,1977,{"$f":"IF(E2879<>\"n\",COUNTIF(B2879:$B$4018,B2879),IF(D2879<6,0,COUNTIF(B2879:$B$4018,B2879)))","v":2},6,{"$f":"IF(ISERROR(VLOOKUP(A2879,Feriados!A:A,1,FALSE)),\"n\",VLOOKUP(A2879,Feriados!A:A,1,FALSE))","v":"n"}]
[47440,1977,{"$f":"IF(E2880<>\"n\",COUNTIF(B2880:$B$4018,B2880),IF(D2880<6,0,COUNTIF(B2880:$B$4018,B2880)))","v":1},7,{"$f":"IF(ISERROR(VLOOKUP(A2880,Feriados!A:A,1,FALSE)),\"n\",VLOOKUP(A2880,Feriados!A:A,1,FALSE))","v":"n"}]
[47441,1978,{"$f":"IF(E2881<>\"n\",COUNTIF(B2881:$B$4018,B2881),IF(D2881<6,0,COUNTIF(B2881:$B$4018,B2881)))","v":0},1,{"$f":"IF(ISERROR(VLOOKUP(A2881,Feriados!A:A,1,FALSE)),\"n\",VLOOKUP(A2881,Feriados!A:A,1,FALSE))","v":"n"}]
[47442,1979,{"$f":"IF(E2882<>\"n\",COUNTIF(B2882:$B$4018,B2882),IF(D2882<6,0,COUNTIF(B2882:$B$4018,B2882)))","v":0},2,{"$f":"IF(ISERROR(VLOOKUP(A2882,Feriados!A:A,1,FALSE)),\"n\",VLOOKUP(A2882,Feriados!A:A,1,FALSE))","v":"n"}]
[47443,1980,{"$f":"IF(E2883<>\"n\",COUNTIF(B2883:$B$4018,B2883),IF(D2883<6,0,COUNTIF(B2883:$B$4018,B2883)))","v":0},3,{"$f":"IF(ISERROR(VLOOKUP(A2883,Feriados!A:A,1,FALSE)),\"n\",VLOOKUP(A2883,Feriados!A:A,1,FALSE))","v":"n"}]
[{"$f":"A2883+1","v":47444},1981,{"$f":"IF(E2884<>\"n\",COUNTIF(B2884:$B$4018,B2884),IF(D2884<6,0,COUNTIF(B2884:$B$4018,B2884)))","v":0},4,{"$f":"IF(ISERROR(VLOOKUP(A2884,Feriados!A:A,1,FALSE)),\"n\",VLOOKUP(A2884,Feriados!A:A,1,FALSE))","v":"n"}]
[47445,1982,{"$f":"IF(E2885<>\"n\",COUNTIF(B2885:$B$4018,B2885),IF(D2885<6,0,COUNTIF(B2885:$B$4018,B2885)))","v":0},5,{"$f":"IF(ISERROR(VLOOKUP(A2885,Feriados!A:A,1,FALSE)),\"n\",VLOOKUP(A2885,Feriados!A:A,1,FALSE))","v":"n"}]
[47446,1982,{"$f":"IF(E2886<>\"n\",COUNTIF(B2886:$B$4018,B2886),IF(D2886<6,0,COUNTIF(B2886:$B$4018,B2886)))","v":2},6,{"$f":"IF(ISERROR(VLOOKUP(A2886,Feriados!A:A,1,FALSE)),\"n\",VLOOKUP(A2886,Feriados!A:A,1,FALSE))","v":"n"}]
[47447,1982,{"$f":"IF(E2887<>\"n\",COUNTIF(B2887:$B$4018,B2887),IF(D2887<6,0,COUNTIF(B2887:$B$4018,B2887)))","v":1},7,{"$f":"IF(ISERROR(VLOOKUP(A2887,Feriados!A:A,1,FALSE)),\"n\",VLOOKUP(A2887,Feriados!A:A,1,FALSE))","v":"n"}]
[47448,1983,{"$f":"IF(E2888<>\"n\",COUNTIF(B2888:$B$4018,B2888),IF(D2888<6,0,COUNTIF(B2888:$B$4018,B2888)))","v":0},1,{"$f":"IF(ISERROR(VLOOKUP(A2888,Feriados!A:A,1,FALSE)),\"n\",VLOOKUP(A2888,Feriados!A:A,1,FALSE))","v":"n"}]
[47449,1984,{"$f":"IF(E2889<>\"n\",COUNTIF(B2889:$B$4018,B2889),IF(D2889<6,0,COUNTIF(B2889:$B$4018,B2889)))","v":0},2,{"$f":"IF(ISERROR(VLOOKUP(A2889,Feriados!A:A,1,FALSE)),\"n\",VLOOKUP(A2889,Feriados!A:A,1,FALSE))","v":"n"}]
[47450,1985,{"$f":"IF(E2890<>\"n\",COUNTIF(B2890:$B$4018,B2890),IF(D2890<6,0,COUNTIF(B2890:$B$4018,B2890)))","v":0},3,{"$f":"IF(ISERROR(VLOOKUP(A2890,Feriados!A:A,1,FALSE)),\"n\",VLOOKUP(A2890,Feriados!A:A,1,FALSE))","v":"n"}]
[47451,1986,{"$f":"IF(E2891<>\"n\",COUNTIF(B2891:$B$4018,B2891),IF(D2891<6,0,COUNTIF(B2891:$B$4018,B2891)))","v":0},4,{"$f":"IF(ISERROR(VLOOKUP(A2891,Feriados!A:A,1,FALSE)),\"n\",VLOOKUP(A2891,Feriados!A:A,1,FALSE))","v":"n"}]
[47452,1987,{"$f":"IF(E2892<>\"n\",COUNTIF(B2892:$B$4018,B2892),IF(D2892<6,0,COUNTIF(B2892:$B$4018,B2892)))","v":0},5,{"$f":"IF(ISERROR(VLOOKUP(A2892,Feriados!A:A,1,FALSE)),\"n\",VLOOKUP(A2892,Feriados!A:A,1,FALSE))","v":"n"}]
[47453,1987,{"$f":"IF(E2893<>\"n\",COUNTIF(B2893:$B$4018,B2893),IF(D2893<6,0,COUNTIF(B2893:$B$4018,B2893)))","v":2},6,{"$f":"IF(ISERROR(VLOOKUP(A2893,Feriados!A:A,1,FALSE)),\"n\",VLOOKUP(A2893,Feriados!A:A,1,FALSE))","v":"n"}]
[47454,1987,{"$f":"IF(E2894<>\"n\",COUNTIF(B2894:$B$4018,B2894),IF(D2894<6,0,COUNTIF(B2894:$B$4018,B2894)))","v":1},7,{"$f":"IF(ISERROR(VLOOKUP(A2894,Feriados!A:A,1,FALSE)),\"n\",VLOOKUP(A2894,Feriados!A:A,1,FALSE))","v":"n"}]
[47455,1988,{"$f":"IF(E2895<>\"n\",COUNTIF(B2895:$B$4018,B2895),IF(D2895<6,0,COUNTIF(B2895:$B$4018,B2895)))","v":0},1,{"$f":"IF(ISERROR(VLOOKUP(A2895,Feriados!A:A,1,FALSE)),\"n\",VLOOKUP(A2895,Feriados!A:A,1,FALSE))","v":"n"}]
[47456,1989,{"$f":"IF(E2896<>\"n\",COUNTIF(B2896:$B$4018,B2896),IF(D2896<6,0,COUNTIF(B2896:$B$4018,B2896)))","v":0},2,{"$f":"IF(ISERROR(VLOOKUP(A2896,Feriados!A:A,1,FALSE)),\"n\",VLOOKUP(A2896,Feriados!A:A,1,FALSE))","v":"n"}]
[47457,1990,{"$f":"IF(E2897<>\"n\",COUNTIF(B2897:$B$4018,B2897),IF(D2897<6,0,COUNTIF(B2897:$B$4018,B2897)))","v":0},3,{"$f":"IF(ISERROR(VLOOKUP(A2897,Feriados!A:A,1,FALSE)),\"n\",VLOOKUP(A2897,Feriados!A:A,1,FALSE))","v":"n"}]
[47458,1991,{"$f":"IF(E2898<>\"n\",COUNTIF(B2898:$B$4018,B2898),IF(D2898<6,0,COUNTIF(B2898:$B$4018,B2898)))","v":0},4,{"$f":"IF(ISERROR(VLOOKUP(A2898,Feriados!A:A,1,FALSE)),\"n\",VLOOKUP(A2898,Feriados!A:A,1,FALSE))","v":"n"}]
[47459,1992,{"$f":"IF(E2899<>\"n\",COUNTIF(B2899:$B$4018,B2899),IF(D2899<6,0,COUNTIF(B2899:$B$4018,B2899)))","v":0},5,{"$f":"IF(ISERROR(VLOOKUP(A2899,Feriados!A:A,1,FALSE)),\"n\",VLOOKUP(A2899,Feriados!A:A,1,FALSE))","v":"n"}]
[47460,1992,{"$f":"IF(E2900<>\"n\",COUNTIF(B2900:$B$4018,B2900),IF(D2900<6,0,COUNTIF(B2900:$B$4018,B2900)))","v":2},6,{"$f":"IF(ISERROR(VLOOKUP(A2900,Feriados!A:A,1,FALSE)),\"n\",VLOOKUP(A2900,Feriados!A:A,1,FALSE))","v":"n"}]
[47461,1992,{"$f":"IF(E2901<>\"n\",COUNTIF(B2901:$B$4018,B2901),IF(D2901<6,0,COUNTIF(B2901:$B$4018,B2901)))","v":1},7,{"$f":"IF(ISERROR(VLOOKUP(A2901,Feriados!A:A,1,FALSE)),\"n\",VLOOKUP(A2901,Feriados!A:A,1,FALSE))","v":"n"}]
[47462,1993,{"$f":"IF(E2902<>\"n\",COUNTIF(B2902:$B$4018,B2902),IF(D2902<6,0,COUNTIF(B2902:$B$4018,B2902)))","v":0},1,{"$f":"IF(ISERROR(VLOOKUP(A2902,Feriados!A:A,1,FALSE)),\"n\",VLOOKUP(A2902,Feriados!A:A,1,FALSE))","v":"n"}]
[47463,1994,{"$f":"IF(E2903<>\"n\",COUNTIF(B2903:$B$4018,B2903),IF(D2903<6,0,COUNTIF(B2903:$B$4018,B2903)))","v":0},2,{"$f":"IF(ISERROR(VLOOKUP(A2903,Feriados!A:A,1,FALSE)),\"n\",VLOOKUP(A2903,Feriados!A:A,1,FALSE))","v":"n"}]
[47464,1995,{"$f":"IF(E2904<>\"n\",COUNTIF(B2904:$B$4018,B2904),IF(D2904<6,0,COUNTIF(B2904:$B$4018,B2904)))","v":0},3,{"$f":"IF(ISERROR(VLOOKUP(A2904,Feriados!A:A,1,FALSE)),\"n\",VLOOKUP(A2904,Feriados!A:A,1,FALSE))","v":"n"}]
[47465,1996,{"$f":"IF(E2905<>\"n\",COUNTIF(B2905:$B$4018,B2905),IF(D2905<6,0,COUNTIF(B2905:$B$4018,B2905)))","v":0},4,{"$f":"IF(ISERROR(VLOOKUP(A2905,Feriados!A:A,1,FALSE)),\"n\",VLOOKUP(A2905,Feriados!A:A,1,FALSE))","v":"n"}]
[47466,1997,{"$f":"IF(E2906<>\"n\",COUNTIF(B2906:$B$4018,B2906),IF(D2906<6,0,COUNTIF(B2906:$B$4018,B2906)))","v":0},5,{"$f":"IF(ISERROR(VLOOKUP(A2906,Feriados!A:A,1,FALSE)),\"n\",VLOOKUP(A2906,Feriados!A:A,1,FALSE))","v":"n"}]
[47467,1997,{"$f":"IF(E2907<>\"n\",COUNTIF(B2907:$B$4018,B2907),IF(D2907<6,0,COUNTIF(B2907:$B$4018,B2907)))","v":2},6,{"$f":"IF(ISERROR(VLOOKUP(A2907,Feriados!A:A,1,FALSE)),\"n\",VLOOKUP(A2907,Feriados!A:A,1,FALSE))","v":"n"}]
[47468,1997,{"$f":"IF(E2908<>\"n\",COUNTIF(B2908:$B$4018,B2908),IF(D2908<6,0,COUNTIF(B2908:$B$4018,B2908)))","v":1},7,{"$f":"IF(ISERROR(VLOOKUP(A2908,Feriados!A:A,1,FALSE)),\"n\",VLOOKUP(A2908,Feriados!A:A,1,FALSE))","v":"n"}]
[47469,1998,{"$f":"IF(E2909<>\"n\",COUNTIF(B2909:$B$4018,B2909),IF(D2909<6,0,COUNTIF(B2909:$B$4018,B2909)))","v":0},1,{"$f":"IF(ISERROR(VLOOKUP(A2909,Feriados!A:A,1,FALSE)),\"n\",VLOOKUP(A2909,Feriados!A:A,1,FALSE))","v":"n"}]
[47470,{"$f":"NETWORKDAYS($A$2,A2910,feriados)","v":1999},{"$f":"IF(E2910<>\"n\",COUNTIF(B2910:$B$4018,B2910),IF(D2910<6,0,COUNTIF(B2910:$B$4018,B2910)))","v":0},{"$f":"WEEKDAY(A2910,2)","v":2},{"$f":"IF(ISERROR(VLOOKUP(A2910,Feriados!A:A,1,FALSE)),\"n\",VLOOKUP(A2910,Feriados!A:A,1,FALSE))","v":"n"}]
[47471,2000,{"$f":"IF(E2911<>\"n\",COUNTIF(B2911:$B$4018,B2911),IF(D2911<6,0,COUNTIF(B2911:$B$4018,B2911)))","v":0},3,{"$f":"IF(ISERROR(VLOOKUP(A2911,Feriados!A:A,1,FALSE)),\"n\",VLOOKUP(A2911,Feriados!A:A,1,FALSE))","v":"n"}]
[47472,2001,{"$f":"IF(E2912<>\"n\",COUNTIF(B2912:$B$4018,B2912),IF(D2912<6,0,COUNTIF(B2912:$B$4018,B2912)))","v":0},4,{"$f":"IF(ISERROR(VLOOKUP(A2912,Feriados!A:A,1,FALSE)),\"n\",VLOOKUP(A2912,Feriados!A:A,1,FALSE))","v":"n"}]
[47473,2002,{"$f":"IF(E2913<>\"n\",COUNTIF(B2913:$B$4018,B2913),IF(D2913<6,0,COUNTIF(B2913:$B$4018,B2913)))","v":0},5,{"$f":"IF(ISERROR(VLOOKUP(A2913,Feriados!A:A,1,FALSE)),\"n\",VLOOKUP(A2913,Feriados!A:A,1,FALSE))","v":"n"}]
[47474,2002,{"$f":"IF(E2914<>\"n\",COUNTIF(B2914:$B$4018,B2914),IF(D2914<6,0,COUNTIF(B2914:$B$4018,B2914)))","v":2},6,{"$f":"IF(ISERROR(VLOOKUP(A2914,Feriados!A:A,1,FALSE)),\"n\",VLOOKUP(A2914,Feriados!A:A,1,FALSE))","v":"n"}]
[47475,2002,{"$f":"IF(E2915<>\"n\",COUNTIF(B2915:$B$4018,B2915),IF(D2915<6,0,COUNTIF(B2915:$B$4018,B2915)))","v":1},7,{"$f":"IF(ISERROR(VLOOKUP(A2915,Feriados!A:A,1,FALSE)),\"n\",VLOOKUP(A2915,Feriados!A:A,1,FALSE))","v":"n"}]
[47476,2003,{"$f":"IF(E2916<>\"n\",COUNTIF(B2916:$B$4018,B2916),IF(D2916<6,0,COUNTIF(B2916:$B$4018,B2916)))","v":0},1,{"$f":"IF(ISERROR(VLOOKUP(A2916,Feriados!A:A,1,FALSE)),\"n\",VLOOKUP(A2916,Feriados!A:A,1,FALSE))","v":"n"}]
[47477,2003,{"$f":"IF(E2917<>\"n\",COUNTIF(B2917:$B$4018,B2917),IF(D2917<6,0,COUNTIF(B2917:$B$4018,B2917)))","v":1},2,{"$f":"IF(ISERROR(VLOOKUP(A2917,Feriados!A:A,1,FALSE)),\"n\",VLOOKUP(A2917,Feriados!A:A,1,FALSE))","v":"2029-12-25"}]
[47478,2004,{"$f":"IF(E2918<>\"n\",COUNTIF(B2918:$B$4018,B2918),IF(D2918<6,0,COUNTIF(B2918:$B$4018,B2918)))","v":0},3,{"$f":"IF(ISERROR(VLOOKUP(A2918,Feriados!A:A,1,FALSE)),\"n\",VLOOKUP(A2918,Feriados!A:A,1,FALSE))","v":"n"}]
[47479,2005,{"$f":"IF(E2919<>\"n\",COUNTIF(B2919:$B$4018,B2919),IF(D2919<6,0,COUNTIF(B2919:$B$4018,B2919)))","v":0},4,{"$f":"IF(ISERROR(VLOOKUP(A2919,Feriados!A:A,1,FALSE)),\"n\",VLOOKUP(A2919,Feriados!A:A,1,FALSE))","v":"n"}]
[47480,2006,{"$f":"IF(E2920<>\"n\",COUNTIF(B2920:$B$4018,B2920),IF(D2920<6,0,COUNTIF(B2920:$B$4018,B2920)))","v":0},5,{"$f":"IF(ISERROR(VLOOKUP(A2920,Feriados!A:A,1,FALSE)),\"n\",VLOOKUP(A2920,Feriados!A:A,1,FALSE))","v":"n"}]
[47481,2006,{"$f":"IF(E2921<>\"n\",COUNTIF(B2921:$B$4018,B2921),IF(D2921<6,0,COUNTIF(B2921:$B$4018,B2921)))","v":2},6,{"$f":"IF(ISERROR(VLOOKUP(A2921,Feriados!A:A,1,FALSE)),\"n\",VLOOKUP(A2921,Feriados!A:A,1,FALSE))","v":"n"}]
[47482,2006,{"$f":"IF(E2922<>\"n\",COUNTIF(B2922:$B$4018,B2922),IF(D2922<6,0,COUNTIF(B2922:$B$4018,B2922)))","v":1},7,{"$f":"IF(ISERROR(VLOOKUP(A2922,Feriados!A:A,1,FALSE)),\"n\",VLOOKUP(A2922,Feriados!A:A,1,FALSE))","v":"n"}]
[47483,2007,{"$f":"IF(E2923<>\"n\",COUNTIF(B2923:$B$4018,B2923),IF(D2923<6,0,COUNTIF(B2923:$B$4018,B2923)))","v":0},1,{"$f":"IF(ISERROR(VLOOKUP(A2923,Feriados!A:A,1,FALSE)),\"n\",VLOOKUP(A2923,Feriados!A:A,1,FALSE))","v":"n"}]
[47484,2007,{"$f":"IF(E2924<>\"n\",COUNTIF(B2924:$B$4018,B2924),IF(D2924<6,0,COUNTIF(B2924:$B$4018,B2924)))","v":1},2,{"$f":"IF(ISERROR(VLOOKUP(A2924,Feriados!A:A,1,FALSE)),\"n\",VLOOKUP(A2924,Feriados!A:A,1,FALSE))","v":"2030-01-01"}]
[47485,2008,{"$f":"IF(E2925<>\"n\",COUNTIF(B2925:$B$4018,B2925),IF(D2925<6,0,COUNTIF(B2925:$B$4018,B2925)))","v":0},3,{"$f":"IF(ISERROR(VLOOKUP(A2925,Feriados!A:A,1,FALSE)),\"n\",VLOOKUP(A2925,Feriados!A:A,1,FALSE))","v":"n"}]
[47486,2009,{"$f":"IF(E2926<>\"n\",COUNTIF(B2926:$B$4018,B2926),IF(D2926<6,0,COUNTIF(B2926:$B$4018,B2926)))","v":0},4,{"$f":"IF(ISERROR(VLOOKUP(A2926,Feriados!A:A,1,FALSE)),\"n\",VLOOKUP(A2926,Feriados!A:A,1,FALSE))","v":"n"}]
[47487,2010,{"$f":"IF(E2927<>\"n\",COUNTIF(B2927:$B$4018,B2927),IF(D2927<6,0,COUNTIF(B2927:$B$4018,B2927)))","v":0},5,{"$f":"IF(ISERROR(VLOOKUP(A2927,Feriados!A:A,1,FALSE)),\"n\",VLOOKUP(A2927,Feriados!A:A,1,FALSE))","v":"n"}]
[47488,2010,{"$f":"IF(E2928<>\"n\",COUNTIF(B2928:$B$4018,B2928),IF(D2928<6,0,COUNTIF(B2928:$B$4018,B2928)))","v":2},6,{"$f":"IF(ISERROR(VLOOKUP(A2928,Feriados!A:A,1,FALSE)),\"n\",VLOOKUP(A2928,Feriados!A:A,1,FALSE))","v":"n"}]
[47489,2010,{"$f":"IF(E2929<>\"n\",COUNTIF(B2929:$B$4018,B2929),IF(D2929<6,0,COUNTIF(B2929:$B$4018,B2929)))","v":1},7,{"$f":"IF(ISERROR(VLOOKUP(A2929,Feriados!A:A,1,FALSE)),\"n\",VLOOKUP(A2929,Feriados!A:A,1,FALSE))","v":"n"}]
[47490,2011,{"$f":"IF(E2930<>\"n\",COUNTIF(B2930:$B$4018,B2930),IF(D2930<6,0,COUNTIF(B2930:$B$4018,B2930)))","v":0},1,{"$f":"IF(ISERROR(VLOOKUP(A2930,Feriados!A:A,1,FALSE)),\"n\",VLOOKUP(A2930,Feriados!A:A,1,FALSE))","v":"n"}]
[47491,2012,{"$f":"IF(E2931<>\"n\",COUNTIF(B2931:$B$4018,B2931),IF(D2931<6,0,COUNTIF(B2931:$B$4018,B2931)))","v":0},2,{"$f":"IF(ISERROR(VLOOKUP(A2931,Feriados!A:A,1,FALSE)),\"n\",VLOOKUP(A2931,Feriados!A:A,1,FALSE))","v":"n"}]
[47492,2013,{"$f":"IF(E2932<>\"n\",COUNTIF(B2932:$B$4018,B2932),IF(D2932<6,0,COUNTIF(B2932:$B$4018,B2932)))","v":0},3,{"$f":"IF(ISERROR(VLOOKUP(A2932,Feriados!A:A,1,FALSE)),\"n\",VLOOKUP(A2932,Feriados!A:A,1,FALSE))","v":"n"}]
[47493,2014,{"$f":"IF(E2933<>\"n\",COUNTIF(B2933:$B$4018,B2933),IF(D2933<6,0,COUNTIF(B2933:$B$4018,B2933)))","v":0},4,{"$f":"IF(ISERROR(VLOOKUP(A2933,Feriados!A:A,1,FALSE)),\"n\",VLOOKUP(A2933,Feriados!A:A,1,FALSE))","v":"n"}]
[47494,2015,{"$f":"IF(E2934<>\"n\",COUNTIF(B2934:$B$4018,B2934),IF(D2934<6,0,COUNTIF(B2934:$B$4018,B2934)))","v":0},5,{"$f":"IF(ISERROR(VLOOKUP(A2934,Feriados!A:A,1,FALSE)),\"n\",VLOOKUP(A2934,Feriados!A:A,1,FALSE))","v":"n"}]
[47495,2015,{"$f":"IF(E2935<>\"n\",COUNTIF(B2935:$B$4018,B2935),IF(D2935<6,0,COUNTIF(B2935:$B$4018,B2935)))","v":2},6,{"$f":"IF(ISERROR(VLOOKUP(A2935,Feriados!A:A,1,FALSE)),\"n\",VLOOKUP(A2935,Feriados!A:A,1,FALSE))","v":"n"}]
[47496,2015,{"$f":"IF(E2936<>\"n\",COUNTIF(B2936:$B$4018,B2936),IF(D2936<6,0,COUNTIF(B2936:$B$4018,B2936)))","v":1},7,{"$f":"IF(ISERROR(VLOOKUP(A2936,Feriados!A:A,1,FALSE)),\"n\",VLOOKUP(A2936,Feriados!A:A,1,FALSE))","v":"n"}]
[47497,2016,{"$f":"IF(E2937<>\"n\",COUNTIF(B2937:$B$4018,B2937),IF(D2937<6,0,COUNTIF(B2937:$B$4018,B2937)))","v":0},1,{"$f":"IF(ISERROR(VLOOKUP(A2937,Feriados!A:A,1,FALSE)),\"n\",VLOOKUP(A2937,Feriados!A:A,1,FALSE))","v":"n"}]
[47498,2017,{"$f":"IF(E2938<>\"n\",COUNTIF(B2938:$B$4018,B2938),IF(D2938<6,0,COUNTIF(B2938:$B$4018,B2938)))","v":0},2,{"$f":"IF(ISERROR(VLOOKUP(A2938,Feriados!A:A,1,FALSE)),\"n\",VLOOKUP(A2938,Feriados!A:A,1,FALSE))","v":"n"}]
[47499,2018,{"$f":"IF(E2939<>\"n\",COUNTIF(B2939:$B$4018,B2939),IF(D2939<6,0,COUNTIF(B2939:$B$4018,B2939)))","v":0},3,{"$f":"IF(ISERROR(VLOOKUP(A2939,Feriados!A:A,1,FALSE)),\"n\",VLOOKUP(A2939,Feriados!A:A,1,FALSE))","v":"n"}]
[47500,2019,{"$f":"IF(E2940<>\"n\",COUNTIF(B2940:$B$4018,B2940),IF(D2940<6,0,COUNTIF(B2940:$B$4018,B2940)))","v":0},4,{"$f":"IF(ISERROR(VLOOKUP(A2940,Feriados!A:A,1,FALSE)),\"n\",VLOOKUP(A2940,Feriados!A:A,1,FALSE))","v":"n"}]
[47501,2020,{"$f":"IF(E2941<>\"n\",COUNTIF(B2941:$B$4018,B2941),IF(D2941<6,0,COUNTIF(B2941:$B$4018,B2941)))","v":0},5,{"$f":"IF(ISERROR(VLOOKUP(A2941,Feriados!A:A,1,FALSE)),\"n\",VLOOKUP(A2941,Feriados!A:A,1,FALSE))","v":"n"}]
[47502,2020,{"$f":"IF(E2942<>\"n\",COUNTIF(B2942:$B$4018,B2942),IF(D2942<6,0,COUNTIF(B2942:$B$4018,B2942)))","v":2},6,{"$f":"IF(ISERROR(VLOOKUP(A2942,Feriados!A:A,1,FALSE)),\"n\",VLOOKUP(A2942,Feriados!A:A,1,FALSE))","v":"n"}]
[47503,2020,{"$f":"IF(E2943<>\"n\",COUNTIF(B2943:$B$4018,B2943),IF(D2943<6,0,COUNTIF(B2943:$B$4018,B2943)))","v":1},7,{"$f":"IF(ISERROR(VLOOKUP(A2943,Feriados!A:A,1,FALSE)),\"n\",VLOOKUP(A2943,Feriados!A:A,1,FALSE))","v":"n"}]
[47504,2021,{"$f":"IF(E2944<>\"n\",COUNTIF(B2944:$B$4018,B2944),IF(D2944<6,0,COUNTIF(B2944:$B$4018,B2944)))","v":0},1,{"$f":"IF(ISERROR(VLOOKUP(A2944,Feriados!A:A,1,FALSE)),\"n\",VLOOKUP(A2944,Feriados!A:A,1,FALSE))","v":"n"}]
[47505,2022,{"$f":"IF(E2945<>\"n\",COUNTIF(B2945:$B$4018,B2945),IF(D2945<6,0,COUNTIF(B2945:$B$4018,B2945)))","v":0},2,{"$f":"IF(ISERROR(VLOOKUP(A2945,Feriados!A:A,1,FALSE)),\"n\",VLOOKUP(A2945,Feriados!A:A,1,FALSE))","v":"n"}]
[47506,2023,{"$f":"IF(E2946<>\"n\",COUNTIF(B2946:$B$4018,B2946),IF(D2946<6,0,COUNTIF(B2946:$B$4018,B2946)))","v":0},3,{"$f":"IF(ISERROR(VLOOKUP(A2946,Feriados!A:A,1,FALSE)),\"n\",VLOOKUP(A2946,Feriados!A:A,1,FALSE))","v":"n"}]
[47507,2024,{"$f":"IF(E2947<>\"n\",COUNTIF(B2947:$B$4018,B2947),IF(D2947<6,0,COUNTIF(B2947:$B$4018,B2947)))","v":0},4,{"$f":"IF(ISERROR(VLOOKUP(A2947,Feriados!A:A,1,FALSE)),\"n\",VLOOKUP(A2947,Feriados!A:A,1,FALSE))","v":"n"}]
[{"$f":"A2947+1","v":47508},2025,{"$f":"IF(E2948<>\"n\",COUNTIF(B2948:$B$4018,B2948),IF(D2948<6,0,COUNTIF(B2948:$B$4018,B2948)))","v":0},5,{"$f":"IF(ISERROR(VLOOKUP(A2948,Feriados!A:A,1,FALSE)),\"n\",VLOOKUP(A2948,Feriados!A:A,1,FALSE))","v":"n"}]
[47509,2025,{"$f":"IF(E2949<>\"n\",COUNTIF(B2949:$B$4018,B2949),IF(D2949<6,0,COUNTIF(B2949:$B$4018,B2949)))","v":2},6,{"$f":"IF(ISERROR(VLOOKUP(A2949,Feriados!A:A,1,FALSE)),\"n\",VLOOKUP(A2949,Feriados!A:A,1,FALSE))","v":"n"}]
[47510,2025,{"$f":"IF(E2950<>\"n\",COUNTIF(B2950:$B$4018,B2950),IF(D2950<6,0,COUNTIF(B2950:$B$4018,B2950)))","v":1},7,{"$f":"IF(ISERROR(VLOOKUP(A2950,Feriados!A:A,1,FALSE)),\"n\",VLOOKUP(A2950,Feriados!A:A,1,FALSE))","v":"n"}]
[47511,2026,{"$f":"IF(E2951<>\"n\",COUNTIF(B2951:$B$4018,B2951),IF(D2951<6,0,COUNTIF(B2951:$B$4018,B2951)))","v":0},1,{"$f":"IF(ISERROR(VLOOKUP(A2951,Feriados!A:A,1,FALSE)),\"n\",VLOOKUP(A2951,Feriados!A:A,1,FALSE))","v":"n"}]
[47512,2027,{"$f":"IF(E2952<>\"n\",COUNTIF(B2952:$B$4018,B2952),IF(D2952<6,0,COUNTIF(B2952:$B$4018,B2952)))","v":0},2,{"$f":"IF(ISERROR(VLOOKUP(A2952,Feriados!A:A,1,FALSE)),\"n\",VLOOKUP(A2952,Feriados!A:A,1,FALSE))","v":"n"}]
[47513,2028,{"$f":"IF(E2953<>\"n\",COUNTIF(B2953:$B$4018,B2953),IF(D2953<6,0,COUNTIF(B2953:$B$4018,B2953)))","v":0},3,{"$f":"IF(ISERROR(VLOOKUP(A2953,Feriados!A:A,1,FALSE)),\"n\",VLOOKUP(A2953,Feriados!A:A,1,FALSE))","v":"n"}]
[47514,2029,{"$f":"IF(E2954<>\"n\",COUNTIF(B2954:$B$4018,B2954),IF(D2954<6,0,COUNTIF(B2954:$B$4018,B2954)))","v":0},4,{"$f":"IF(ISERROR(VLOOKUP(A2954,Feriados!A:A,1,FALSE)),\"n\",VLOOKUP(A2954,Feriados!A:A,1,FALSE))","v":"n"}]
[47515,2030,{"$f":"IF(E2955<>\"n\",COUNTIF(B2955:$B$4018,B2955),IF(D2955<6,0,COUNTIF(B2955:$B$4018,B2955)))","v":0},5,{"$f":"IF(ISERROR(VLOOKUP(A2955,Feriados!A:A,1,FALSE)),\"n\",VLOOKUP(A2955,Feriados!A:A,1,FALSE))","v":"n"}]
[47516,2030,{"$f":"IF(E2956<>\"n\",COUNTIF(B2956:$B$4018,B2956),IF(D2956<6,0,COUNTIF(B2956:$B$4018,B2956)))","v":2},6,{"$f":"IF(ISERROR(VLOOKUP(A2956,Feriados!A:A,1,FALSE)),\"n\",VLOOKUP(A2956,Feriados!A:A,1,FALSE))","v":"n"}]
[47517,2030,{"$f":"IF(E2957<>\"n\",COUNTIF(B2957:$B$4018,B2957),IF(D2957<6,0,COUNTIF(B2957:$B$4018,B2957)))","v":1},7,{"$f":"IF(ISERROR(VLOOKUP(A2957,Feriados!A:A,1,FALSE)),\"n\",VLOOKUP(A2957,Feriados!A:A,1,FALSE))","v":"n"}]
[47518,2031,{"$f":"IF(E2958<>\"n\",COUNTIF(B2958:$B$4018,B2958),IF(D2958<6,0,COUNTIF(B2958:$B$4018,B2958)))","v":0},1,{"$f":"IF(ISERROR(VLOOKUP(A2958,Feriados!A:A,1,FALSE)),\"n\",VLOOKUP(A2958,Feriados!A:A,1,FALSE))","v":"n"}]
[47519,2032,{"$f":"IF(E2959<>\"n\",COUNTIF(B2959:$B$4018,B2959),IF(D2959<6,0,COUNTIF(B2959:$B$4018,B2959)))","v":0},2,{"$f":"IF(ISERROR(VLOOKUP(A2959,Feriados!A:A,1,FALSE)),\"n\",VLOOKUP(A2959,Feriados!A:A,1,FALSE))","v":"n"}]
[47520,2033,{"$f":"IF(E2960<>\"n\",COUNTIF(B2960:$B$4018,B2960),IF(D2960<6,0,COUNTIF(B2960:$B$4018,B2960)))","v":0},3,{"$f":"IF(ISERROR(VLOOKUP(A2960,Feriados!A:A,1,FALSE)),\"n\",VLOOKUP(A2960,Feriados!A:A,1,FALSE))","v":"n"}]
[47521,2034,{"$f":"IF(E2961<>\"n\",COUNTIF(B2961:$B$4018,B2961),IF(D2961<6,0,COUNTIF(B2961:$B$4018,B2961)))","v":0},4,{"$f":"IF(ISERROR(VLOOKUP(A2961,Feriados!A:A,1,FALSE)),\"n\",VLOOKUP(A2961,Feriados!A:A,1,FALSE))","v":"n"}]
[47522,2035,{"$f":"IF(E2962<>\"n\",COUNTIF(B2962:$B$4018,B2962),IF(D2962<6,0,COUNTIF(B2962:$B$4018,B2962)))","v":0},5,{"$f":"IF(ISERROR(VLOOKUP(A2962,Feriados!A:A,1,FALSE)),\"n\",VLOOKUP(A2962,Feriados!A:A,1,FALSE))","v":"n"}]
[47523,2035,{"$f":"IF(E2963<>\"n\",COUNTIF(B2963:$B$4018,B2963),IF(D2963<6,0,COUNTIF(B2963:$B$4018,B2963)))","v":2},6,{"$f":"IF(ISERROR(VLOOKUP(A2963,Feriados!A:A,1,FALSE)),\"n\",VLOOKUP(A2963,Feriados!A:A,1,FALSE))","v":"n"}]
[47524,2035,{"$f":"IF(E2964<>\"n\",COUNTIF(B2964:$B$4018,B2964),IF(D2964<6,0,COUNTIF(B2964:$B$4018,B2964)))","v":1},7,{"$f":"IF(ISERROR(VLOOKUP(A2964,Feriados!A:A,1,FALSE)),\"n\",VLOOKUP(A2964,Feriados!A:A,1,FALSE))","v":"n"}]
[47525,2036,{"$f":"IF(E2965<>\"n\",COUNTIF(B2965:$B$4018,B2965),IF(D2965<6,0,COUNTIF(B2965:$B$4018,B2965)))","v":0},1,{"$f":"IF(ISERROR(VLOOKUP(A2965,Feriados!A:A,1,FALSE)),\"n\",VLOOKUP(A2965,Feriados!A:A,1,FALSE))","v":"n"}]
[47526,2037,{"$f":"IF(E2966<>\"n\",COUNTIF(B2966:$B$4018,B2966),IF(D2966<6,0,COUNTIF(B2966:$B$4018,B2966)))","v":0},2,{"$f":"IF(ISERROR(VLOOKUP(A2966,Feriados!A:A,1,FALSE)),\"n\",VLOOKUP(A2966,Feriados!A:A,1,FALSE))","v":"n"}]
[47527,2038,{"$f":"IF(E2967<>\"n\",COUNTIF(B2967:$B$4018,B2967),IF(D2967<6,0,COUNTIF(B2967:$B$4018,B2967)))","v":0},3,{"$f":"IF(ISERROR(VLOOKUP(A2967,Feriados!A:A,1,FALSE)),\"n\",VLOOKUP(A2967,Feriados!A:A,1,FALSE))","v":"n"}]
[47528,2039,{"$f":"IF(E2968<>\"n\",COUNTIF(B2968:$B$4018,B2968),IF(D2968<6,0,COUNTIF(B2968:$B$4018,B2968)))","v":0},4,{"$f":"IF(ISERROR(VLOOKUP(A2968,Feriados!A:A,1,FALSE)),\"n\",VLOOKUP(A2968,Feriados!A:A,1,FALSE))","v":"n"}]
[47529,2040,{"$f":"IF(E2969<>\"n\",COUNTIF(B2969:$B$4018,B2969),IF(D2969<6,0,COUNTIF(B2969:$B$4018,B2969)))","v":0},5,{"$f":"IF(ISERROR(VLOOKUP(A2969,Feriados!A:A,1,FALSE)),\"n\",VLOOKUP(A2969,Feriados!A:A,1,FALSE))","v":"n"}]
[47530,2040,{"$f":"IF(E2970<>\"n\",COUNTIF(B2970:$B$4018,B2970),IF(D2970<6,0,COUNTIF(B2970:$B$4018,B2970)))","v":2},6,{"$f":"IF(ISERROR(VLOOKUP(A2970,Feriados!A:A,1,FALSE)),\"n\",VLOOKUP(A2970,Feriados!A:A,1,FALSE))","v":"n"}]
[47531,2040,{"$f":"IF(E2971<>\"n\",COUNTIF(B2971:$B$4018,B2971),IF(D2971<6,0,COUNTIF(B2971:$B$4018,B2971)))","v":1},7,{"$f":"IF(ISERROR(VLOOKUP(A2971,Feriados!A:A,1,FALSE)),\"n\",VLOOKUP(A2971,Feriados!A:A,1,FALSE))","v":"n"}]
[47532,2041,{"$f":"IF(E2972<>\"n\",COUNTIF(B2972:$B$4018,B2972),IF(D2972<6,0,COUNTIF(B2972:$B$4018,B2972)))","v":0},1,{"$f":"IF(ISERROR(VLOOKUP(A2972,Feriados!A:A,1,FALSE)),\"n\",VLOOKUP(A2972,Feriados!A:A,1,FALSE))","v":"n"}]
[47533,2042,{"$f":"IF(E2973<>\"n\",COUNTIF(B2973:$B$4018,B2973),IF(D2973<6,0,COUNTIF(B2973:$B$4018,B2973)))","v":0},2,{"$f":"IF(ISERROR(VLOOKUP(A2973,Feriados!A:A,1,FALSE)),\"n\",VLOOKUP(A2973,Feriados!A:A,1,FALSE))","v":"n"}]
[47534,{"$f":"NETWORKDAYS($A$2,A2974,feriados)","v":2043},{"$f":"IF(E2974<>\"n\",COUNTIF(B2974:$B$4018,B2974),IF(D2974<6,0,COUNTIF(B2974:$B$4018,B2974)))","v":0},{"$f":"WEEKDAY(A2974,2)","v":3},{"$f":"IF(ISERROR(VLOOKUP(A2974,Feriados!A:A,1,FALSE)),\"n\",VLOOKUP(A2974,Feriados!A:A,1,FALSE))","v":"n"}]
[47535,2044,{"$f":"IF(E2975<>\"n\",COUNTIF(B2975:$B$4018,B2975),IF(D2975<6,0,COUNTIF(B2975:$B$4018,B2975)))","v":0},4,{"$f":"IF(ISERROR(VLOOKUP(A2975,Feriados!A:A,1,FALSE)),\"n\",VLOOKUP(A2975,Feriados!A:A,1,FALSE))","v":"n"}]
[47536,2045,{"$f":"IF(E2976<>\"n\",COUNTIF(B2976:$B$4018,B2976),IF(D2976<6,0,COUNTIF(B2976:$B$4018,B2976)))","v":0},5,{"$f":"IF(ISERROR(VLOOKUP(A2976,Feriados!A:A,1,FALSE)),\"n\",VLOOKUP(A2976,Feriados!A:A,1,FALSE))","v":"n"}]
[47537,2045,{"$f":"IF(E2977<>\"n\",COUNTIF(B2977:$B$4018,B2977),IF(D2977<6,0,COUNTIF(B2977:$B$4018,B2977)))","v":2},6,{"$f":"IF(ISERROR(VLOOKUP(A2977,Feriados!A:A,1,FALSE)),\"n\",VLOOKUP(A2977,Feriados!A:A,1,FALSE))","v":"n"}]
[47538,2045,{"$f":"IF(E2978<>\"n\",COUNTIF(B2978:$B$4018,B2978),IF(D2978<6,0,COUNTIF(B2978:$B$4018,B2978)))","v":1},7,{"$f":"IF(ISERROR(VLOOKUP(A2978,Feriados!A:A,1,FALSE)),\"n\",VLOOKUP(A2978,Feriados!A:A,1,FALSE))","v":"n"}]
[47539,2046,{"$f":"IF(E2979<>\"n\",COUNTIF(B2979:$B$4018,B2979),IF(D2979<6,0,COUNTIF(B2979:$B$4018,B2979)))","v":0},1,{"$f":"IF(ISERROR(VLOOKUP(A2979,Feriados!A:A,1,FALSE)),\"n\",VLOOKUP(A2979,Feriados!A:A,1,FALSE))","v":"n"}]
[47540,2047,{"$f":"IF(E2980<>\"n\",COUNTIF(B2980:$B$4018,B2980),IF(D2980<6,0,COUNTIF(B2980:$B$4018,B2980)))","v":0},2,{"$f":"IF(ISERROR(VLOOKUP(A2980,Feriados!A:A,1,FALSE)),\"n\",VLOOKUP(A2980,Feriados!A:A,1,FALSE))","v":"n"}]
[47541,2048,{"$f":"IF(E2981<>\"n\",COUNTIF(B2981:$B$4018,B2981),IF(D2981<6,0,COUNTIF(B2981:$B$4018,B2981)))","v":0},3,{"$f":"IF(ISERROR(VLOOKUP(A2981,Feriados!A:A,1,FALSE)),\"n\",VLOOKUP(A2981,Feriados!A:A,1,FALSE))","v":"n"}]
[47542,2049,{"$f":"IF(E2982<>\"n\",COUNTIF(B2982:$B$4018,B2982),IF(D2982<6,0,COUNTIF(B2982:$B$4018,B2982)))","v":0},4,{"$f":"IF(ISERROR(VLOOKUP(A2982,Feriados!A:A,1,FALSE)),\"n\",VLOOKUP(A2982,Feriados!A:A,1,FALSE))","v":"n"}]
[47543,2050,{"$f":"IF(E2983<>\"n\",COUNTIF(B2983:$B$4018,B2983),IF(D2983<6,0,COUNTIF(B2983:$B$4018,B2983)))","v":0},5,{"$f":"IF(ISERROR(VLOOKUP(A2983,Feriados!A:A,1,FALSE)),\"n\",VLOOKUP(A2983,Feriados!A:A,1,FALSE))","v":"n"}]
[47544,2050,{"$f":"IF(E2984<>\"n\",COUNTIF(B2984:$B$4018,B2984),IF(D2984<6,0,COUNTIF(B2984:$B$4018,B2984)))","v":4},6,{"$f":"IF(ISERROR(VLOOKUP(A2984,Feriados!A:A,1,FALSE)),\"n\",VLOOKUP(A2984,Feriados!A:A,1,FALSE))","v":"n"}]
[47545,2050,{"$f":"IF(E2985<>\"n\",COUNTIF(B2985:$B$4018,B2985),IF(D2985<6,0,COUNTIF(B2985:$B$4018,B2985)))","v":3},7,{"$f":"IF(ISERROR(VLOOKUP(A2985,Feriados!A:A,1,FALSE)),\"n\",VLOOKUP(A2985,Feriados!A:A,1,FALSE))","v":"n"}]
[47546,2050,{"$f":"IF(E2986<>\"n\",COUNTIF(B2986:$B$4018,B2986),IF(D2986<6,0,COUNTIF(B2986:$B$4018,B2986)))","v":2},1,{"$f":"IF(ISERROR(VLOOKUP(A2986,Feriados!A:A,1,FALSE)),\"n\",VLOOKUP(A2986,Feriados!A:A,1,FALSE))","v":"2030-03-04"}]
[47547,2050,{"$f":"IF(E2987<>\"n\",COUNTIF(B2987:$B$4018,B2987),IF(D2987<6,0,COUNTIF(B2987:$B$4018,B2987)))","v":1},2,{"$f":"IF(ISERROR(VLOOKUP(A2987,Feriados!A:A,1,FALSE)),\"n\",VLOOKUP(A2987,Feriados!A:A,1,FALSE))","v":"2030-03-05"}]
[47548,2051,{"$f":"IF(E2988<>\"n\",COUNTIF(B2988:$B$4018,B2988),IF(D2988<6,0,COUNTIF(B2988:$B$4018,B2988)))","v":0},3,{"$f":"IF(ISERROR(VLOOKUP(A2988,Feriados!A:A,1,FALSE)),\"n\",VLOOKUP(A2988,Feriados!A:A,1,FALSE))","v":"n"}]
[47549,2052,{"$f":"IF(E2989<>\"n\",COUNTIF(B2989:$B$4018,B2989),IF(D2989<6,0,COUNTIF(B2989:$B$4018,B2989)))","v":0},4,{"$f":"IF(ISERROR(VLOOKUP(A2989,Feriados!A:A,1,FALSE)),\"n\",VLOOKUP(A2989,Feriados!A:A,1,FALSE))","v":"n"}]
[47550,2053,{"$f":"IF(E2990<>\"n\",COUNTIF(B2990:$B$4018,B2990),IF(D2990<6,0,COUNTIF(B2990:$B$4018,B2990)))","v":0},5,{"$f":"IF(ISERROR(VLOOKUP(A2990,Feriados!A:A,1,FALSE)),\"n\",VLOOKUP(A2990,Feriados!A:A,1,FALSE))","v":"n"}]
[47551,2053,{"$f":"IF(E2991<>\"n\",COUNTIF(B2991:$B$4018,B2991),IF(D2991<6,0,COUNTIF(B2991:$B$4018,B2991)))","v":2},6,{"$f":"IF(ISERROR(VLOOKUP(A2991,Feriados!A:A,1,FALSE)),\"n\",VLOOKUP(A2991,Feriados!A:A,1,FALSE))","v":"n"}]
[47552,2053,{"$f":"IF(E2992<>\"n\",COUNTIF(B2992:$B$4018,B2992),IF(D2992<6,0,COUNTIF(B2992:$B$4018,B2992)))","v":1},7,{"$f":"IF(ISERROR(VLOOKUP(A2992,Feriados!A:A,1,FALSE)),\"n\",VLOOKUP(A2992,Feriados!A:A,1,FALSE))","v":"n"}]
[47553,2054,{"$f":"IF(E2993<>\"n\",COUNTIF(B2993:$B$4018,B2993),IF(D2993<6,0,COUNTIF(B2993:$B$4018,B2993)))","v":0},1,{"$f":"IF(ISERROR(VLOOKUP(A2993,Feriados!A:A,1,FALSE)),\"n\",VLOOKUP(A2993,Feriados!A:A,1,FALSE))","v":"n"}]
[47554,2055,{"$f":"IF(E2994<>\"n\",COUNTIF(B2994:$B$4018,B2994),IF(D2994<6,0,COUNTIF(B2994:$B$4018,B2994)))","v":0},2,{"$f":"IF(ISERROR(VLOOKUP(A2994,Feriados!A:A,1,FALSE)),\"n\",VLOOKUP(A2994,Feriados!A:A,1,FALSE))","v":"n"}]
[47555,2056,{"$f":"IF(E2995<>\"n\",COUNTIF(B2995:$B$4018,B2995),IF(D2995<6,0,COUNTIF(B2995:$B$4018,B2995)))","v":0},3,{"$f":"IF(ISERROR(VLOOKUP(A2995,Feriados!A:A,1,FALSE)),\"n\",VLOOKUP(A2995,Feriados!A:A,1,FALSE))","v":"n"}]
[47556,2057,{"$f":"IF(E2996<>\"n\",COUNTIF(B2996:$B$4018,B2996),IF(D2996<6,0,COUNTIF(B2996:$B$4018,B2996)))","v":0},4,{"$f":"IF(ISERROR(VLOOKUP(A2996,Feriados!A:A,1,FALSE)),\"n\",VLOOKUP(A2996,Feriados!A:A,1,FALSE))","v":"n"}]
[47557,2058,{"$f":"IF(E2997<>\"n\",COUNTIF(B2997:$B$4018,B2997),IF(D2997<6,0,COUNTIF(B2997:$B$4018,B2997)))","v":0},5,{"$f":"IF(ISERROR(VLOOKUP(A2997,Feriados!A:A,1,FALSE)),\"n\",VLOOKUP(A2997,Feriados!A:A,1,FALSE))","v":"n"}]
[47558,2058,{"$f":"IF(E2998<>\"n\",COUNTIF(B2998:$B$4018,B2998),IF(D2998<6,0,COUNTIF(B2998:$B$4018,B2998)))","v":2},6,{"$f":"IF(ISERROR(VLOOKUP(A2998,Feriados!A:A,1,FALSE)),\"n\",VLOOKUP(A2998,Feriados!A:A,1,FALSE))","v":"n"}]
[47559,2058,{"$f":"IF(E2999<>\"n\",COUNTIF(B2999:$B$4018,B2999),IF(D2999<6,0,COUNTIF(B2999:$B$4018,B2999)))","v":1},7,{"$f":"IF(ISERROR(VLOOKUP(A2999,Feriados!A:A,1,FALSE)),\"n\",VLOOKUP(A2999,Feriados!A:A,1,FALSE))","v":"n"}]
[47560,2059,{"$f":"IF(E3000<>\"n\",COUNTIF(B3000:$B$4018,B3000),IF(D3000<6,0,COUNTIF(B3000:$B$4018,B3000)))","v":0},1,{"$f":"IF(ISERROR(VLOOKUP(A3000,Feriados!A:A,1,FALSE)),\"n\",VLOOKUP(A3000,Feriados!A:A,1,FALSE))","v":"n"}]
[47561,2060,{"$f":"IF(E3001<>\"n\",COUNTIF(B3001:$B$4018,B3001),IF(D3001<6,0,COUNTIF(B3001:$B$4018,B3001)))","v":0},2,{"$f":"IF(ISERROR(VLOOKUP(A3001,Feriados!A:A,1,FALSE)),\"n\",VLOOKUP(A3001,Feriados!A:A,1,FALSE))","v":"n"}]
[47562,2061,{"$f":"IF(E3002<>\"n\",COUNTIF(B3002:$B$4018,B3002),IF(D3002<6,0,COUNTIF(B3002:$B$4018,B3002)))","v":0},3,{"$f":"IF(ISERROR(VLOOKUP(A3002,Feriados!A:A,1,FALSE)),\"n\",VLOOKUP(A3002,Feriados!A:A,1,FALSE))","v":"n"}]
[47563,2062,{"$f":"IF(E3003<>\"n\",COUNTIF(B3003:$B$4018,B3003),IF(D3003<6,0,COUNTIF(B3003:$B$4018,B3003)))","v":0},4,{"$f":"IF(ISERROR(VLOOKUP(A3003,Feriados!A:A,1,FALSE)),\"n\",VLOOKUP(A3003,Feriados!A:A,1,FALSE))","v":"n"}]
[47564,2063,{"$f":"IF(E3004<>\"n\",COUNTIF(B3004:$B$4018,B3004),IF(D3004<6,0,COUNTIF(B3004:$B$4018,B3004)))","v":0},5,{"$f":"IF(ISERROR(VLOOKUP(A3004,Feriados!A:A,1,FALSE)),\"n\",VLOOKUP(A3004,Feriados!A:A,1,FALSE))","v":"n"}]
[47565,2063,{"$f":"IF(E3005<>\"n\",COUNTIF(B3005:$B$4018,B3005),IF(D3005<6,0,COUNTIF(B3005:$B$4018,B3005)))","v":2},6,{"$f":"IF(ISERROR(VLOOKUP(A3005,Feriados!A:A,1,FALSE)),\"n\",VLOOKUP(A3005,Feriados!A:A,1,FALSE))","v":"n"}]
[47566,2063,{"$f":"IF(E3006<>\"n\",COUNTIF(B3006:$B$4018,B3006),IF(D3006<6,0,COUNTIF(B3006:$B$4018,B3006)))","v":1},7,{"$f":"IF(ISERROR(VLOOKUP(A3006,Feriados!A:A,1,FALSE)),\"n\",VLOOKUP(A3006,Feriados!A:A,1,FALSE))","v":"n"}]
[47567,2064,{"$f":"IF(E3007<>\"n\",COUNTIF(B3007:$B$4018,B3007),IF(D3007<6,0,COUNTIF(B3007:$B$4018,B3007)))","v":0},1,{"$f":"IF(ISERROR(VLOOKUP(A3007,Feriados!A:A,1,FALSE)),\"n\",VLOOKUP(A3007,Feriados!A:A,1,FALSE))","v":"n"}]
[47568,2065,{"$f":"IF(E3008<>\"n\",COUNTIF(B3008:$B$4018,B3008),IF(D3008<6,0,COUNTIF(B3008:$B$4018,B3008)))","v":0},2,{"$f":"IF(ISERROR(VLOOKUP(A3008,Feriados!A:A,1,FALSE)),\"n\",VLOOKUP(A3008,Feriados!A:A,1,FALSE))","v":"n"}]
[47569,2066,{"$f":"IF(E3009<>\"n\",COUNTIF(B3009:$B$4018,B3009),IF(D3009<6,0,COUNTIF(B3009:$B$4018,B3009)))","v":0},3,{"$f":"IF(ISERROR(VLOOKUP(A3009,Feriados!A:A,1,FALSE)),\"n\",VLOOKUP(A3009,Feriados!A:A,1,FALSE))","v":"n"}]
[47570,2067,{"$f":"IF(E3010<>\"n\",COUNTIF(B3010:$B$4018,B3010),IF(D3010<6,0,COUNTIF(B3010:$B$4018,B3010)))","v":0},4,{"$f":"IF(ISERROR(VLOOKUP(A3010,Feriados!A:A,1,FALSE)),\"n\",VLOOKUP(A3010,Feriados!A:A,1,FALSE))","v":"n"}]
[47571,2068,{"$f":"IF(E3011<>\"n\",COUNTIF(B3011:$B$4018,B3011),IF(D3011<6,0,COUNTIF(B3011:$B$4018,B3011)))","v":0},5,{"$f":"IF(ISERROR(VLOOKUP(A3011,Feriados!A:A,1,FALSE)),\"n\",VLOOKUP(A3011,Feriados!A:A,1,FALSE))","v":"n"}]
[{"$f":"A3011+1","v":47572},2068,{"$f":"IF(E3012<>\"n\",COUNTIF(B3012:$B$4018,B3012),IF(D3012<6,0,COUNTIF(B3012:$B$4018,B3012)))","v":2},6,{"$f":"IF(ISERROR(VLOOKUP(A3012,Feriados!A:A,1,FALSE)),\"n\",VLOOKUP(A3012,Feriados!A:A,1,FALSE))","v":"n"}]
[47573,2068,{"$f":"IF(E3013<>\"n\",COUNTIF(B3013:$B$4018,B3013),IF(D3013<6,0,COUNTIF(B3013:$B$4018,B3013)))","v":1},7,{"$f":"IF(ISERROR(VLOOKUP(A3013,Feriados!A:A,1,FALSE)),\"n\",VLOOKUP(A3013,Feriados!A:A,1,FALSE))","v":"n"}]
[47574,2069,{"$f":"IF(E3014<>\"n\",COUNTIF(B3014:$B$4018,B3014),IF(D3014<6,0,COUNTIF(B3014:$B$4018,B3014)))","v":0},1,{"$f":"IF(ISERROR(VLOOKUP(A3014,Feriados!A:A,1,FALSE)),\"n\",VLOOKUP(A3014,Feriados!A:A,1,FALSE))","v":"n"}]
[47575,2070,{"$f":"IF(E3015<>\"n\",COUNTIF(B3015:$B$4018,B3015),IF(D3015<6,0,COUNTIF(B3015:$B$4018,B3015)))","v":0},2,{"$f":"IF(ISERROR(VLOOKUP(A3015,Feriados!A:A,1,FALSE)),\"n\",VLOOKUP(A3015,Feriados!A:A,1,FALSE))","v":"n"}]
[47576,2071,{"$f":"IF(E3016<>\"n\",COUNTIF(B3016:$B$4018,B3016),IF(D3016<6,0,COUNTIF(B3016:$B$4018,B3016)))","v":0},3,{"$f":"IF(ISERROR(VLOOKUP(A3016,Feriados!A:A,1,FALSE)),\"n\",VLOOKUP(A3016,Feriados!A:A,1,FALSE))","v":"n"}]
[47577,2072,{"$f":"IF(E3017<>\"n\",COUNTIF(B3017:$B$4018,B3017),IF(D3017<6,0,COUNTIF(B3017:$B$4018,B3017)))","v":0},4,{"$f":"IF(ISERROR(VLOOKUP(A3017,Feriados!A:A,1,FALSE)),\"n\",VLOOKUP(A3017,Feriados!A:A,1,FALSE))","v":"n"}]
[47578,2073,{"$f":"IF(E3018<>\"n\",COUNTIF(B3018:$B$4018,B3018),IF(D3018<6,0,COUNTIF(B3018:$B$4018,B3018)))","v":0},5,{"$f":"IF(ISERROR(VLOOKUP(A3018,Feriados!A:A,1,FALSE)),\"n\",VLOOKUP(A3018,Feriados!A:A,1,FALSE))","v":"n"}]
[47579,2073,{"$f":"IF(E3019<>\"n\",COUNTIF(B3019:$B$4018,B3019),IF(D3019<6,0,COUNTIF(B3019:$B$4018,B3019)))","v":2},6,{"$f":"IF(ISERROR(VLOOKUP(A3019,Feriados!A:A,1,FALSE)),\"n\",VLOOKUP(A3019,Feriados!A:A,1,FALSE))","v":"n"}]
[47580,2073,{"$f":"IF(E3020<>\"n\",COUNTIF(B3020:$B$4018,B3020),IF(D3020<6,0,COUNTIF(B3020:$B$4018,B3020)))","v":1},7,{"$f":"IF(ISERROR(VLOOKUP(A3020,Feriados!A:A,1,FALSE)),\"n\",VLOOKUP(A3020,Feriados!A:A,1,FALSE))","v":"n"}]
[47581,2074,{"$f":"IF(E3021<>\"n\",COUNTIF(B3021:$B$4018,B3021),IF(D3021<6,0,COUNTIF(B3021:$B$4018,B3021)))","v":0},1,{"$f":"IF(ISERROR(VLOOKUP(A3021,Feriados!A:A,1,FALSE)),\"n\",VLOOKUP(A3021,Feriados!A:A,1,FALSE))","v":"n"}]
[47582,2075,{"$f":"IF(E3022<>\"n\",COUNTIF(B3022:$B$4018,B3022),IF(D3022<6,0,COUNTIF(B3022:$B$4018,B3022)))","v":0},2,{"$f":"IF(ISERROR(VLOOKUP(A3022,Feriados!A:A,1,FALSE)),\"n\",VLOOKUP(A3022,Feriados!A:A,1,FALSE))","v":"n"}]
[47583,2076,{"$f":"IF(E3023<>\"n\",COUNTIF(B3023:$B$4018,B3023),IF(D3023<6,0,COUNTIF(B3023:$B$4018,B3023)))","v":0},3,{"$f":"IF(ISERROR(VLOOKUP(A3023,Feriados!A:A,1,FALSE)),\"n\",VLOOKUP(A3023,Feriados!A:A,1,FALSE))","v":"n"}]
[47584,2077,{"$f":"IF(E3024<>\"n\",COUNTIF(B3024:$B$4018,B3024),IF(D3024<6,0,COUNTIF(B3024:$B$4018,B3024)))","v":0},4,{"$f":"IF(ISERROR(VLOOKUP(A3024,Feriados!A:A,1,FALSE)),\"n\",VLOOKUP(A3024,Feriados!A:A,1,FALSE))","v":"n"}]
[47585,2078,{"$f":"IF(E3025<>\"n\",COUNTIF(B3025:$B$4018,B3025),IF(D3025<6,0,COUNTIF(B3025:$B$4018,B3025)))","v":0},5,{"$f":"IF(ISERROR(VLOOKUP(A3025,Feriados!A:A,1,FALSE)),\"n\",VLOOKUP(A3025,Feriados!A:A,1,FALSE))","v":"n"}]
[47586,2078,{"$f":"IF(E3026<>\"n\",COUNTIF(B3026:$B$4018,B3026),IF(D3026<6,0,COUNTIF(B3026:$B$4018,B3026)))","v":2},6,{"$f":"IF(ISERROR(VLOOKUP(A3026,Feriados!A:A,1,FALSE)),\"n\",VLOOKUP(A3026,Feriados!A:A,1,FALSE))","v":"n"}]
[47587,2078,{"$f":"IF(E3027<>\"n\",COUNTIF(B3027:$B$4018,B3027),IF(D3027<6,0,COUNTIF(B3027:$B$4018,B3027)))","v":1},7,{"$f":"IF(ISERROR(VLOOKUP(A3027,Feriados!A:A,1,FALSE)),\"n\",VLOOKUP(A3027,Feriados!A:A,1,FALSE))","v":"n"}]
[47588,2079,{"$f":"IF(E3028<>\"n\",COUNTIF(B3028:$B$4018,B3028),IF(D3028<6,0,COUNTIF(B3028:$B$4018,B3028)))","v":0},1,{"$f":"IF(ISERROR(VLOOKUP(A3028,Feriados!A:A,1,FALSE)),\"n\",VLOOKUP(A3028,Feriados!A:A,1,FALSE))","v":"n"}]
[47589,2080,{"$f":"IF(E3029<>\"n\",COUNTIF(B3029:$B$4018,B3029),IF(D3029<6,0,COUNTIF(B3029:$B$4018,B3029)))","v":0},2,{"$f":"IF(ISERROR(VLOOKUP(A3029,Feriados!A:A,1,FALSE)),\"n\",VLOOKUP(A3029,Feriados!A:A,1,FALSE))","v":"n"}]
[47590,2081,{"$f":"IF(E3030<>\"n\",COUNTIF(B3030:$B$4018,B3030),IF(D3030<6,0,COUNTIF(B3030:$B$4018,B3030)))","v":0},3,{"$f":"IF(ISERROR(VLOOKUP(A3030,Feriados!A:A,1,FALSE)),\"n\",VLOOKUP(A3030,Feriados!A:A,1,FALSE))","v":"n"}]
[47591,2082,{"$f":"IF(E3031<>\"n\",COUNTIF(B3031:$B$4018,B3031),IF(D3031<6,0,COUNTIF(B3031:$B$4018,B3031)))","v":0},4,{"$f":"IF(ISERROR(VLOOKUP(A3031,Feriados!A:A,1,FALSE)),\"n\",VLOOKUP(A3031,Feriados!A:A,1,FALSE))","v":"n"}]
[47592,2082,{"$f":"IF(E3032<>\"n\",COUNTIF(B3032:$B$4018,B3032),IF(D3032<6,0,COUNTIF(B3032:$B$4018,B3032)))","v":3},5,{"$f":"IF(ISERROR(VLOOKUP(A3032,Feriados!A:A,1,FALSE)),\"n\",VLOOKUP(A3032,Feriados!A:A,1,FALSE))","v":"2030-04-19"}]
[47593,2082,{"$f":"IF(E3033<>\"n\",COUNTIF(B3033:$B$4018,B3033),IF(D3033<6,0,COUNTIF(B3033:$B$4018,B3033)))","v":2},6,{"$f":"IF(ISERROR(VLOOKUP(A3033,Feriados!A:A,1,FALSE)),\"n\",VLOOKUP(A3033,Feriados!A:A,1,FALSE))","v":"n"}]
[47594,2082,{"$f":"IF(E3034<>\"n\",COUNTIF(B3034:$B$4018,B3034),IF(D3034<6,0,COUNTIF(B3034:$B$4018,B3034)))","v":1},7,{"$f":"IF(ISERROR(VLOOKUP(A3034,Feriados!A:A,1,FALSE)),\"n\",VLOOKUP(A3034,Feriados!A:A,1,FALSE))","v":"2030-04-21"}]
[47595,2083,{"$f":"IF(E3035<>\"n\",COUNTIF(B3035:$B$4018,B3035),IF(D3035<6,0,COUNTIF(B3035:$B$4018,B3035)))","v":0},1,{"$f":"IF(ISERROR(VLOOKUP(A3035,Feriados!A:A,1,FALSE)),\"n\",VLOOKUP(A3035,Feriados!A:A,1,FALSE))","v":"n"}]
[47596,2084,{"$f":"IF(E3036<>\"n\",COUNTIF(B3036:$B$4018,B3036),IF(D3036<6,0,COUNTIF(B3036:$B$4018,B3036)))","v":0},2,{"$f":"IF(ISERROR(VLOOKUP(A3036,Feriados!A:A,1,FALSE)),\"n\",VLOOKUP(A3036,Feriados!A:A,1,FALSE))","v":"n"}]
[47597,2085,{"$f":"IF(E3037<>\"n\",COUNTIF(B3037:$B$4018,B3037),IF(D3037<6,0,COUNTIF(B3037:$B$4018,B3037)))","v":0},3,{"$f":"IF(ISERROR(VLOOKUP(A3037,Feriados!A:A,1,FALSE)),\"n\",VLOOKUP(A3037,Feriados!A:A,1,FALSE))","v":"n"}]
[47598,{"$f":"NETWORKDAYS($A$2,A3038,feriados)","v":2086},{"$f":"IF(E3038<>\"n\",COUNTIF(B3038:$B$4018,B3038),IF(D3038<6,0,COUNTIF(B3038:$B$4018,B3038)))","v":0},{"$f":"WEEKDAY(A3038,2)","v":4},{"$f":"IF(ISERROR(VLOOKUP(A3038,Feriados!A:A,1,FALSE)),\"n\",VLOOKUP(A3038,Feriados!A:A,1,FALSE))","v":"n"}]
[47599,2087,{"$f":"IF(E3039<>\"n\",COUNTIF(B3039:$B$4018,B3039),IF(D3039<6,0,COUNTIF(B3039:$B$4018,B3039)))","v":0},5,{"$f":"IF(ISERROR(VLOOKUP(A3039,Feriados!A:A,1,FALSE)),\"n\",VLOOKUP(A3039,Feriados!A:A,1,FALSE))","v":"n"}]
[47600,2087,{"$f":"IF(E3040<>\"n\",COUNTIF(B3040:$B$4018,B3040),IF(D3040<6,0,COUNTIF(B3040:$B$4018,B3040)))","v":2},6,{"$f":"IF(ISERROR(VLOOKUP(A3040,Feriados!A:A,1,FALSE)),\"n\",VLOOKUP(A3040,Feriados!A:A,1,FALSE))","v":"n"}]
[47601,2087,{"$f":"IF(E3041<>\"n\",COUNTIF(B3041:$B$4018,B3041),IF(D3041<6,0,COUNTIF(B3041:$B$4018,B3041)))","v":1},7,{"$f":"IF(ISERROR(VLOOKUP(A3041,Feriados!A:A,1,FALSE)),\"n\",VLOOKUP(A3041,Feriados!A:A,1,FALSE))","v":"n"}]
[47602,2088,{"$f":"IF(E3042<>\"n\",COUNTIF(B3042:$B$4018,B3042),IF(D3042<6,0,COUNTIF(B3042:$B$4018,B3042)))","v":0},1,{"$f":"IF(ISERROR(VLOOKUP(A3042,Feriados!A:A,1,FALSE)),\"n\",VLOOKUP(A3042,Feriados!A:A,1,FALSE))","v":"n"}]
[47603,2089,{"$f":"IF(E3043<>\"n\",COUNTIF(B3043:$B$4018,B3043),IF(D3043<6,0,COUNTIF(B3043:$B$4018,B3043)))","v":0},2,{"$f":"IF(ISERROR(VLOOKUP(A3043,Feriados!A:A,1,FALSE)),\"n\",VLOOKUP(A3043,Feriados!A:A,1,FALSE))","v":"n"}]
[47604,2089,{"$f":"IF(E3044<>\"n\",COUNTIF(B3044:$B$4018,B3044),IF(D3044<6,0,COUNTIF(B3044:$B$4018,B3044)))","v":1},3,{"$f":"IF(ISERROR(VLOOKUP(A3044,Feriados!A:A,1,FALSE)),\"n\",VLOOKUP(A3044,Feriados!A:A,1,FALSE))","v":"2030-05-01"}]
[47605,2090,{"$f":"IF(E3045<>\"n\",COUNTIF(B3045:$B$4018,B3045),IF(D3045<6,0,COUNTIF(B3045:$B$4018,B3045)))","v":0},4,{"$f":"IF(ISERROR(VLOOKUP(A3045,Feriados!A:A,1,FALSE)),\"n\",VLOOKUP(A3045,Feriados!A:A,1,FALSE))","v":"n"}]
[47606,2091,{"$f":"IF(E3046<>\"n\",COUNTIF(B3046:$B$4018,B3046),IF(D3046<6,0,COUNTIF(B3046:$B$4018,B3046)))","v":0},5,{"$f":"IF(ISERROR(VLOOKUP(A3046,Feriados!A:A,1,FALSE)),\"n\",VLOOKUP(A3046,Feriados!A:A,1,FALSE))","v":"n"}]
[47607,2091,{"$f":"IF(E3047<>\"n\",COUNTIF(B3047:$B$4018,B3047),IF(D3047<6,0,COUNTIF(B3047:$B$4018,B3047)))","v":2},6,{"$f":"IF(ISERROR(VLOOKUP(A3047,Feriados!A:A,1,FALSE)),\"n\",VLOOKUP(A3047,Feriados!A:A,1,FALSE))","v":"n"}]
[47608,2091,{"$f":"IF(E3048<>\"n\",COUNTIF(B3048:$B$4018,B3048),IF(D3048<6,0,COUNTIF(B3048:$B$4018,B3048)))","v":1},7,{"$f":"IF(ISERROR(VLOOKUP(A3048,Feriados!A:A,1,FALSE)),\"n\",VLOOKUP(A3048,Feriados!A:A,1,FALSE))","v":"n"}]
[47609,2092,{"$f":"IF(E3049<>\"n\",COUNTIF(B3049:$B$4018,B3049),IF(D3049<6,0,COUNTIF(B3049:$B$4018,B3049)))","v":0},1,{"$f":"IF(ISERROR(VLOOKUP(A3049,Feriados!A:A,1,FALSE)),\"n\",VLOOKUP(A3049,Feriados!A:A,1,FALSE))","v":"n"}]
[47610,2093,{"$f":"IF(E3050<>\"n\",COUNTIF(B3050:$B$4018,B3050),IF(D3050<6,0,COUNTIF(B3050:$B$4018,B3050)))","v":0},2,{"$f":"IF(ISERROR(VLOOKUP(A3050,Feriados!A:A,1,FALSE)),\"n\",VLOOKUP(A3050,Feriados!A:A,1,FALSE))","v":"n"}]
[47611,2094,{"$f":"IF(E3051<>\"n\",COUNTIF(B3051:$B$4018,B3051),IF(D3051<6,0,COUNTIF(B3051:$B$4018,B3051)))","v":0},3,{"$f":"IF(ISERROR(VLOOKUP(A3051,Feriados!A:A,1,FALSE)),\"n\",VLOOKUP(A3051,Feriados!A:A,1,FALSE))","v":"n"}]
[47612,2095,{"$f":"IF(E3052<>\"n\",COUNTIF(B3052:$B$4018,B3052),IF(D3052<6,0,COUNTIF(B3052:$B$4018,B3052)))","v":0},4,{"$f":"IF(ISERROR(VLOOKUP(A3052,Feriados!A:A,1,FALSE)),\"n\",VLOOKUP(A3052,Feriados!A:A,1,FALSE))","v":"n"}]
[47613,2096,{"$f":"IF(E3053<>\"n\",COUNTIF(B3053:$B$4018,B3053),IF(D3053<6,0,COUNTIF(B3053:$B$4018,B3053)))","v":0},5,{"$f":"IF(ISERROR(VLOOKUP(A3053,Feriados!A:A,1,FALSE)),\"n\",VLOOKUP(A3053,Feriados!A:A,1,FALSE))","v":"n"}]
[47614,2096,{"$f":"IF(E3054<>\"n\",COUNTIF(B3054:$B$4018,B3054),IF(D3054<6,0,COUNTIF(B3054:$B$4018,B3054)))","v":2},6,{"$f":"IF(ISERROR(VLOOKUP(A3054,Feriados!A:A,1,FALSE)),\"n\",VLOOKUP(A3054,Feriados!A:A,1,FALSE))","v":"n"}]
[47615,2096,{"$f":"IF(E3055<>\"n\",COUNTIF(B3055:$B$4018,B3055),IF(D3055<6,0,COUNTIF(B3055:$B$4018,B3055)))","v":1},7,{"$f":"IF(ISERROR(VLOOKUP(A3055,Feriados!A:A,1,FALSE)),\"n\",VLOOKUP(A3055,Feriados!A:A,1,FALSE))","v":"n"}]
[47616,2097,{"$f":"IF(E3056<>\"n\",COUNTIF(B3056:$B$4018,B3056),IF(D3056<6,0,COUNTIF(B3056:$B$4018,B3056)))","v":0},1,{"$f":"IF(ISERROR(VLOOKUP(A3056,Feriados!A:A,1,FALSE)),\"n\",VLOOKUP(A3056,Feriados!A:A,1,FALSE))","v":"n"}]
[47617,2098,{"$f":"IF(E3057<>\"n\",COUNTIF(B3057:$B$4018,B3057),IF(D3057<6,0,COUNTIF(B3057:$B$4018,B3057)))","v":0},2,{"$f":"IF(ISERROR(VLOOKUP(A3057,Feriados!A:A,1,FALSE)),\"n\",VLOOKUP(A3057,Feriados!A:A,1,FALSE))","v":"n"}]
[47618,2099,{"$f":"IF(E3058<>\"n\",COUNTIF(B3058:$B$4018,B3058),IF(D3058<6,0,COUNTIF(B3058:$B$4018,B3058)))","v":0},3,{"$f":"IF(ISERROR(VLOOKUP(A3058,Feriados!A:A,1,FALSE)),\"n\",VLOOKUP(A3058,Feriados!A:A,1,FALSE))","v":"n"}]
[47619,2100,{"$f":"IF(E3059<>\"n\",COUNTIF(B3059:$B$4018,B3059),IF(D3059<6,0,COUNTIF(B3059:$B$4018,B3059)))","v":0},4,{"$f":"IF(ISERROR(VLOOKUP(A3059,Feriados!A:A,1,FALSE)),\"n\",VLOOKUP(A3059,Feriados!A:A,1,FALSE))","v":"n"}]
[47620,2101,{"$f":"IF(E3060<>\"n\",COUNTIF(B3060:$B$4018,B3060),IF(D3060<6,0,COUNTIF(B3060:$B$4018,B3060)))","v":0},5,{"$f":"IF(ISERROR(VLOOKUP(A3060,Feriados!A:A,1,FALSE)),\"n\",VLOOKUP(A3060,Feriados!A:A,1,FALSE))","v":"n"}]
[47621,2101,{"$f":"IF(E3061<>\"n\",COUNTIF(B3061:$B$4018,B3061),IF(D3061<6,0,COUNTIF(B3061:$B$4018,B3061)))","v":2},6,{"$f":"IF(ISERROR(VLOOKUP(A3061,Feriados!A:A,1,FALSE)),\"n\",VLOOKUP(A3061,Feriados!A:A,1,FALSE))","v":"n"}]
[47622,2101,{"$f":"IF(E3062<>\"n\",COUNTIF(B3062:$B$4018,B3062),IF(D3062<6,0,COUNTIF(B3062:$B$4018,B3062)))","v":1},7,{"$f":"IF(ISERROR(VLOOKUP(A3062,Feriados!A:A,1,FALSE)),\"n\",VLOOKUP(A3062,Feriados!A:A,1,FALSE))","v":"n"}]
[47623,2102,{"$f":"IF(E3063<>\"n\",COUNTIF(B3063:$B$4018,B3063),IF(D3063<6,0,COUNTIF(B3063:$B$4018,B3063)))","v":0},1,{"$f":"IF(ISERROR(VLOOKUP(A3063,Feriados!A:A,1,FALSE)),\"n\",VLOOKUP(A3063,Feriados!A:A,1,FALSE))","v":"n"}]
[47624,2103,{"$f":"IF(E3064<>\"n\",COUNTIF(B3064:$B$4018,B3064),IF(D3064<6,0,COUNTIF(B3064:$B$4018,B3064)))","v":0},2,{"$f":"IF(ISERROR(VLOOKUP(A3064,Feriados!A:A,1,FALSE)),\"n\",VLOOKUP(A3064,Feriados!A:A,1,FALSE))","v":"n"}]
[47625,2104,{"$f":"IF(E3065<>\"n\",COUNTIF(B3065:$B$4018,B3065),IF(D3065<6,0,COUNTIF(B3065:$B$4018,B3065)))","v":0},3,{"$f":"IF(ISERROR(VLOOKUP(A3065,Feriados!A:A,1,FALSE)),\"n\",VLOOKUP(A3065,Feriados!A:A,1,FALSE))","v":"n"}]
[47626,2105,{"$f":"IF(E3066<>\"n\",COUNTIF(B3066:$B$4018,B3066),IF(D3066<6,0,COUNTIF(B3066:$B$4018,B3066)))","v":0},4,{"$f":"IF(ISERROR(VLOOKUP(A3066,Feriados!A:A,1,FALSE)),\"n\",VLOOKUP(A3066,Feriados!A:A,1,FALSE))","v":"n"}]
[47627,2106,{"$f":"IF(E3067<>\"n\",COUNTIF(B3067:$B$4018,B3067),IF(D3067<6,0,COUNTIF(B3067:$B$4018,B3067)))","v":0},5,{"$f":"IF(ISERROR(VLOOKUP(A3067,Feriados!A:A,1,FALSE)),\"n\",VLOOKUP(A3067,Feriados!A:A,1,FALSE))","v":"n"}]
[47628,2106,{"$f":"IF(E3068<>\"n\",COUNTIF(B3068:$B$4018,B3068),IF(D3068<6,0,COUNTIF(B3068:$B$4018,B3068)))","v":2},6,{"$f":"IF(ISERROR(VLOOKUP(A3068,Feriados!A:A,1,FALSE)),\"n\",VLOOKUP(A3068,Feriados!A:A,1,FALSE))","v":"n"}]
[47629,2106,{"$f":"IF(E3069<>\"n\",COUNTIF(B3069:$B$4018,B3069),IF(D3069<6,0,COUNTIF(B3069:$B$4018,B3069)))","v":1},7,{"$f":"IF(ISERROR(VLOOKUP(A3069,Feriados!A:A,1,FALSE)),\"n\",VLOOKUP(A3069,Feriados!A:A,1,FALSE))","v":"n"}]
[47630,2107,{"$f":"IF(E3070<>\"n\",COUNTIF(B3070:$B$4018,B3070),IF(D3070<6,0,COUNTIF(B3070:$B$4018,B3070)))","v":0},1,{"$f":"IF(ISERROR(VLOOKUP(A3070,Feriados!A:A,1,FALSE)),\"n\",VLOOKUP(A3070,Feriados!A:A,1,FALSE))","v":"n"}]
[47631,2108,{"$f":"IF(E3071<>\"n\",COUNTIF(B3071:$B$4018,B3071),IF(D3071<6,0,COUNTIF(B3071:$B$4018,B3071)))","v":0},2,{"$f":"IF(ISERROR(VLOOKUP(A3071,Feriados!A:A,1,FALSE)),\"n\",VLOOKUP(A3071,Feriados!A:A,1,FALSE))","v":"n"}]
[47632,2109,{"$f":"IF(E3072<>\"n\",COUNTIF(B3072:$B$4018,B3072),IF(D3072<6,0,COUNTIF(B3072:$B$4018,B3072)))","v":0},3,{"$f":"IF(ISERROR(VLOOKUP(A3072,Feriados!A:A,1,FALSE)),\"n\",VLOOKUP(A3072,Feriados!A:A,1,FALSE))","v":"n"}]
[47633,2110,{"$f":"IF(E3073<>\"n\",COUNTIF(B3073:$B$4018,B3073),IF(D3073<6,0,COUNTIF(B3073:$B$4018,B3073)))","v":0},4,{"$f":"IF(ISERROR(VLOOKUP(A3073,Feriados!A:A,1,FALSE)),\"n\",VLOOKUP(A3073,Feriados!A:A,1,FALSE))","v":"n"}]
[47634,2111,{"$f":"IF(E3074<>\"n\",COUNTIF(B3074:$B$4018,B3074),IF(D3074<6,0,COUNTIF(B3074:$B$4018,B3074)))","v":0},5,{"$f":"IF(ISERROR(VLOOKUP(A3074,Feriados!A:A,1,FALSE)),\"n\",VLOOKUP(A3074,Feriados!A:A,1,FALSE))","v":"n"}]
[47635,2111,{"$f":"IF(E3075<>\"n\",COUNTIF(B3075:$B$4018,B3075),IF(D3075<6,0,COUNTIF(B3075:$B$4018,B3075)))","v":2},6,{"$f":"IF(ISERROR(VLOOKUP(A3075,Feriados!A:A,1,FALSE)),\"n\",VLOOKUP(A3075,Feriados!A:A,1,FALSE))","v":"n"}]
[{"$f":"A3075+1","v":47636},2111,{"$f":"IF(E3076<>\"n\",COUNTIF(B3076:$B$4018,B3076),IF(D3076<6,0,COUNTIF(B3076:$B$4018,B3076)))","v":1},7,{"$f":"IF(ISERROR(VLOOKUP(A3076,Feriados!A:A,1,FALSE)),\"n\",VLOOKUP(A3076,Feriados!A:A,1,FALSE))","v":"n"}]
[47637,2112,{"$f":"IF(E3077<>\"n\",COUNTIF(B3077:$B$4018,B3077),IF(D3077<6,0,COUNTIF(B3077:$B$4018,B3077)))","v":0},1,{"$f":"IF(ISERROR(VLOOKUP(A3077,Feriados!A:A,1,FALSE)),\"n\",VLOOKUP(A3077,Feriados!A:A,1,FALSE))","v":"n"}]
[47638,2113,{"$f":"IF(E3078<>\"n\",COUNTIF(B3078:$B$4018,B3078),IF(D3078<6,0,COUNTIF(B3078:$B$4018,B3078)))","v":0},2,{"$f":"IF(ISERROR(VLOOKUP(A3078,Feriados!A:A,1,FALSE)),\"n\",VLOOKUP(A3078,Feriados!A:A,1,FALSE))","v":"n"}]
[47639,2114,{"$f":"IF(E3079<>\"n\",COUNTIF(B3079:$B$4018,B3079),IF(D3079<6,0,COUNTIF(B3079:$B$4018,B3079)))","v":0},3,{"$f":"IF(ISERROR(VLOOKUP(A3079,Feriados!A:A,1,FALSE)),\"n\",VLOOKUP(A3079,Feriados!A:A,1,FALSE))","v":"n"}]
[47640,2115,{"$f":"IF(E3080<>\"n\",COUNTIF(B3080:$B$4018,B3080),IF(D3080<6,0,COUNTIF(B3080:$B$4018,B3080)))","v":0},4,{"$f":"IF(ISERROR(VLOOKUP(A3080,Feriados!A:A,1,FALSE)),\"n\",VLOOKUP(A3080,Feriados!A:A,1,FALSE))","v":"n"}]
[47641,2116,{"$f":"IF(E3081<>\"n\",COUNTIF(B3081:$B$4018,B3081),IF(D3081<6,0,COUNTIF(B3081:$B$4018,B3081)))","v":0},5,{"$f":"IF(ISERROR(VLOOKUP(A3081,Feriados!A:A,1,FALSE)),\"n\",VLOOKUP(A3081,Feriados!A:A,1,FALSE))","v":"n"}]
[47642,2116,{"$f":"IF(E3082<>\"n\",COUNTIF(B3082:$B$4018,B3082),IF(D3082<6,0,COUNTIF(B3082:$B$4018,B3082)))","v":2},6,{"$f":"IF(ISERROR(VLOOKUP(A3082,Feriados!A:A,1,FALSE)),\"n\",VLOOKUP(A3082,Feriados!A:A,1,FALSE))","v":"n"}]
[47643,2116,{"$f":"IF(E3083<>\"n\",COUNTIF(B3083:$B$4018,B3083),IF(D3083<6,0,COUNTIF(B3083:$B$4018,B3083)))","v":1},7,{"$f":"IF(ISERROR(VLOOKUP(A3083,Feriados!A:A,1,FALSE)),\"n\",VLOOKUP(A3083,Feriados!A:A,1,FALSE))","v":"n"}]
[47644,2117,{"$f":"IF(E3084<>\"n\",COUNTIF(B3084:$B$4018,B3084),IF(D3084<6,0,COUNTIF(B3084:$B$4018,B3084)))","v":0},1,{"$f":"IF(ISERROR(VLOOKUP(A3084,Feriados!A:A,1,FALSE)),\"n\",VLOOKUP(A3084,Feriados!A:A,1,FALSE))","v":"n"}]
[47645,2118,{"$f":"IF(E3085<>\"n\",COUNTIF(B3085:$B$4018,B3085),IF(D3085<6,0,COUNTIF(B3085:$B$4018,B3085)))","v":0},2,{"$f":"IF(ISERROR(VLOOKUP(A3085,Feriados!A:A,1,FALSE)),\"n\",VLOOKUP(A3085,Feriados!A:A,1,FALSE))","v":"n"}]
[47646,2119,{"$f":"IF(E3086<>\"n\",COUNTIF(B3086:$B$4018,B3086),IF(D3086<6,0,COUNTIF(B3086:$B$4018,B3086)))","v":0},3,{"$f":"IF(ISERROR(VLOOKUP(A3086,Feriados!A:A,1,FALSE)),\"n\",VLOOKUP(A3086,Feriados!A:A,1,FALSE))","v":"n"}]
[47647,2120,{"$f":"IF(E3087<>\"n\",COUNTIF(B3087:$B$4018,B3087),IF(D3087<6,0,COUNTIF(B3087:$B$4018,B3087)))","v":0},4,{"$f":"IF(ISERROR(VLOOKUP(A3087,Feriados!A:A,1,FALSE)),\"n\",VLOOKUP(A3087,Feriados!A:A,1,FALSE))","v":"n"}]
[47648,2121,{"$f":"IF(E3088<>\"n\",COUNTIF(B3088:$B$4018,B3088),IF(D3088<6,0,COUNTIF(B3088:$B$4018,B3088)))","v":0},5,{"$f":"IF(ISERROR(VLOOKUP(A3088,Feriados!A:A,1,FALSE)),\"n\",VLOOKUP(A3088,Feriados!A:A,1,FALSE))","v":"n"}]
[47649,2121,{"$f":"IF(E3089<>\"n\",COUNTIF(B3089:$B$4018,B3089),IF(D3089<6,0,COUNTIF(B3089:$B$4018,B3089)))","v":2},6,{"$f":"IF(ISERROR(VLOOKUP(A3089,Feriados!A:A,1,FALSE)),\"n\",VLOOKUP(A3089,Feriados!A:A,1,FALSE))","v":"n"}]
[47650,2121,{"$f":"IF(E3090<>\"n\",COUNTIF(B3090:$B$4018,B3090),IF(D3090<6,0,COUNTIF(B3090:$B$4018,B3090)))","v":1},7,{"$f":"IF(ISERROR(VLOOKUP(A3090,Feriados!A:A,1,FALSE)),\"n\",VLOOKUP(A3090,Feriados!A:A,1,FALSE))","v":"n"}]
[47651,2122,{"$f":"IF(E3091<>\"n\",COUNTIF(B3091:$B$4018,B3091),IF(D3091<6,0,COUNTIF(B3091:$B$4018,B3091)))","v":0},1,{"$f":"IF(ISERROR(VLOOKUP(A3091,Feriados!A:A,1,FALSE)),\"n\",VLOOKUP(A3091,Feriados!A:A,1,FALSE))","v":"n"}]
[47652,2123,{"$f":"IF(E3092<>\"n\",COUNTIF(B3092:$B$4018,B3092),IF(D3092<6,0,COUNTIF(B3092:$B$4018,B3092)))","v":0},2,{"$f":"IF(ISERROR(VLOOKUP(A3092,Feriados!A:A,1,FALSE)),\"n\",VLOOKUP(A3092,Feriados!A:A,1,FALSE))","v":"n"}]
[47653,2124,{"$f":"IF(E3093<>\"n\",COUNTIF(B3093:$B$4018,B3093),IF(D3093<6,0,COUNTIF(B3093:$B$4018,B3093)))","v":0},3,{"$f":"IF(ISERROR(VLOOKUP(A3093,Feriados!A:A,1,FALSE)),\"n\",VLOOKUP(A3093,Feriados!A:A,1,FALSE))","v":"n"}]
[47654,2124,{"$f":"IF(E3094<>\"n\",COUNTIF(B3094:$B$4018,B3094),IF(D3094<6,0,COUNTIF(B3094:$B$4018,B3094)))","v":1},4,{"$f":"IF(ISERROR(VLOOKUP(A3094,Feriados!A:A,1,FALSE)),\"n\",VLOOKUP(A3094,Feriados!A:A,1,FALSE))","v":"2030-06-20"}]
[47655,2125,{"$f":"IF(E3095<>\"n\",COUNTIF(B3095:$B$4018,B3095),IF(D3095<6,0,COUNTIF(B3095:$B$4018,B3095)))","v":0},5,{"$f":"IF(ISERROR(VLOOKUP(A3095,Feriados!A:A,1,FALSE)),\"n\",VLOOKUP(A3095,Feriados!A:A,1,FALSE))","v":"n"}]
[47656,2125,{"$f":"IF(E3096<>\"n\",COUNTIF(B3096:$B$4018,B3096),IF(D3096<6,0,COUNTIF(B3096:$B$4018,B3096)))","v":2},6,{"$f":"IF(ISERROR(VLOOKUP(A3096,Feriados!A:A,1,FALSE)),\"n\",VLOOKUP(A3096,Feriados!A:A,1,FALSE))","v":"n"}]
[47657,2125,{"$f":"IF(E3097<>\"n\",COUNTIF(B3097:$B$4018,B3097),IF(D3097<6,0,COUNTIF(B3097:$B$4018,B3097)))","v":1},7,{"$f":"IF(ISERROR(VLOOKUP(A3097,Feriados!A:A,1,FALSE)),\"n\",VLOOKUP(A3097,Feriados!A:A,1,FALSE))","v":"n"}]
[47658,2126,{"$f":"IF(E3098<>\"n\",COUNTIF(B3098:$B$4018,B3098),IF(D3098<6,0,COUNTIF(B3098:$B$4018,B3098)))","v":0},1,{"$f":"IF(ISERROR(VLOOKUP(A3098,Feriados!A:A,1,FALSE)),\"n\",VLOOKUP(A3098,Feriados!A:A,1,FALSE))","v":"n"}]
[47659,2127,{"$f":"IF(E3099<>\"n\",COUNTIF(B3099:$B$4018,B3099),IF(D3099<6,0,COUNTIF(B3099:$B$4018,B3099)))","v":0},2,{"$f":"IF(ISERROR(VLOOKUP(A3099,Feriados!A:A,1,FALSE)),\"n\",VLOOKUP(A3099,Feriados!A:A,1,FALSE))","v":"n"}]
[47660,2128,{"$f":"IF(E3100<>\"n\",COUNTIF(B3100:$B$4018,B3100),IF(D3100<6,0,COUNTIF(B3100:$B$4018,B3100)))","v":0},3,{"$f":"IF(ISERROR(VLOOKUP(A3100,Feriados!A:A,1,FALSE)),\"n\",VLOOKUP(A3100,Feriados!A:A,1,FALSE))","v":"n"}]
[47661,2129,{"$f":"IF(E3101<>\"n\",COUNTIF(B3101:$B$4018,B3101),IF(D3101<6,0,COUNTIF(B3101:$B$4018,B3101)))","v":0},4,{"$f":"IF(ISERROR(VLOOKUP(A3101,Feriados!A:A,1,FALSE)),\"n\",VLOOKUP(A3101,Feriados!A:A,1,FALSE))","v":"n"}]
[47662,{"$f":"NETWORKDAYS($A$2,A3102,feriados)","v":2130},{"$f":"IF(E3102<>\"n\",COUNTIF(B3102:$B$4018,B3102),IF(D3102<6,0,COUNTIF(B3102:$B$4018,B3102)))","v":0},{"$f":"WEEKDAY(A3102,2)","v":5},{"$f":"IF(ISERROR(VLOOKUP(A3102,Feriados!A:A,1,FALSE)),\"n\",VLOOKUP(A3102,Feriados!A:A,1,FALSE))","v":"n"}]
[47663,2130,{"$f":"IF(E3103<>\"n\",COUNTIF(B3103:$B$4018,B3103),IF(D3103<6,0,COUNTIF(B3103:$B$4018,B3103)))","v":2},6,{"$f":"IF(ISERROR(VLOOKUP(A3103,Feriados!A:A,1,FALSE)),\"n\",VLOOKUP(A3103,Feriados!A:A,1,FALSE))","v":"n"}]
[47664,2130,{"$f":"IF(E3104<>\"n\",COUNTIF(B3104:$B$4018,B3104),IF(D3104<6,0,COUNTIF(B3104:$B$4018,B3104)))","v":1},7,{"$f":"IF(ISERROR(VLOOKUP(A3104,Feriados!A:A,1,FALSE)),\"n\",VLOOKUP(A3104,Feriados!A:A,1,FALSE))","v":"n"}]
[47665,2131,{"$f":"IF(E3105<>\"n\",COUNTIF(B3105:$B$4018,B3105),IF(D3105<6,0,COUNTIF(B3105:$B$4018,B3105)))","v":0},1,{"$f":"IF(ISERROR(VLOOKUP(A3105,Feriados!A:A,1,FALSE)),\"n\",VLOOKUP(A3105,Feriados!A:A,1,FALSE))","v":"n"}]
[47666,2132,{"$f":"IF(E3106<>\"n\",COUNTIF(B3106:$B$4018,B3106),IF(D3106<6,0,COUNTIF(B3106:$B$4018,B3106)))","v":0},2,{"$f":"IF(ISERROR(VLOOKUP(A3106,Feriados!A:A,1,FALSE)),\"n\",VLOOKUP(A3106,Feriados!A:A,1,FALSE))","v":"n"}]
[47667,2133,{"$f":"IF(E3107<>\"n\",COUNTIF(B3107:$B$4018,B3107),IF(D3107<6,0,COUNTIF(B3107:$B$4018,B3107)))","v":0},3,{"$f":"IF(ISERROR(VLOOKUP(A3107,Feriados!A:A,1,FALSE)),\"n\",VLOOKUP(A3107,Feriados!A:A,1,FALSE))","v":"n"}]
[47668,2134,{"$f":"IF(E3108<>\"n\",COUNTIF(B3108:$B$4018,B3108),IF(D3108<6,0,COUNTIF(B3108:$B$4018,B3108)))","v":0},4,{"$f":"IF(ISERROR(VLOOKUP(A3108,Feriados!A:A,1,FALSE)),\"n\",VLOOKUP(A3108,Feriados!A:A,1,FALSE))","v":"n"}]
[47669,2135,{"$f":"IF(E3109<>\"n\",COUNTIF(B3109:$B$4018,B3109),IF(D3109<6,0,COUNTIF(B3109:$B$4018,B3109)))","v":0},5,{"$f":"IF(ISERROR(VLOOKUP(A3109,Feriados!A:A,1,FALSE)),\"n\",VLOOKUP(A3109,Feriados!A:A,1,FALSE))","v":"n"}]
[47670,2135,{"$f":"IF(E3110<>\"n\",COUNTIF(B3110:$B$4018,B3110),IF(D3110<6,0,COUNTIF(B3110:$B$4018,B3110)))","v":2},6,{"$f":"IF(ISERROR(VLOOKUP(A3110,Feriados!A:A,1,FALSE)),\"n\",VLOOKUP(A3110,Feriados!A:A,1,FALSE))","v":"n"}]
[47671,2135,{"$f":"IF(E3111<>\"n\",COUNTIF(B3111:$B$4018,B3111),IF(D3111<6,0,COUNTIF(B3111:$B$4018,B3111)))","v":1},7,{"$f":"IF(ISERROR(VLOOKUP(A3111,Feriados!A:A,1,FALSE)),\"n\",VLOOKUP(A3111,Feriados!A:A,1,FALSE))","v":"n"}]
[47672,2136,{"$f":"IF(E3112<>\"n\",COUNTIF(B3112:$B$4018,B3112),IF(D3112<6,0,COUNTIF(B3112:$B$4018,B3112)))","v":0},1,{"$f":"IF(ISERROR(VLOOKUP(A3112,Feriados!A:A,1,FALSE)),\"n\",VLOOKUP(A3112,Feriados!A:A,1,FALSE))","v":"n"}]
[47673,2137,{"$f":"IF(E3113<>\"n\",COUNTIF(B3113:$B$4018,B3113),IF(D3113<6,0,COUNTIF(B3113:$B$4018,B3113)))","v":0},2,{"$f":"IF(ISERROR(VLOOKUP(A3113,Feriados!A:A,1,FALSE)),\"n\",VLOOKUP(A3113,Feriados!A:A,1,FALSE))","v":"n"}]
[47674,2138,{"$f":"IF(E3114<>\"n\",COUNTIF(B3114:$B$4018,B3114),IF(D3114<6,0,COUNTIF(B3114:$B$4018,B3114)))","v":0},3,{"$f":"IF(ISERROR(VLOOKUP(A3114,Feriados!A:A,1,FALSE)),\"n\",VLOOKUP(A3114,Feriados!A:A,1,FALSE))","v":"n"}]
[47675,2139,{"$f":"IF(E3115<>\"n\",COUNTIF(B3115:$B$4018,B3115),IF(D3115<6,0,COUNTIF(B3115:$B$4018,B3115)))","v":0},4,{"$f":"IF(ISERROR(VLOOKUP(A3115,Feriados!A:A,1,FALSE)),\"n\",VLOOKUP(A3115,Feriados!A:A,1,FALSE))","v":"n"}]
[47676,2140,{"$f":"IF(E3116<>\"n\",COUNTIF(B3116:$B$4018,B3116),IF(D3116<6,0,COUNTIF(B3116:$B$4018,B3116)))","v":0},5,{"$f":"IF(ISERROR(VLOOKUP(A3116,Feriados!A:A,1,FALSE)),\"n\",VLOOKUP(A3116,Feriados!A:A,1,FALSE))","v":"n"}]
[47677,2140,{"$f":"IF(E3117<>\"n\",COUNTIF(B3117:$B$4018,B3117),IF(D3117<6,0,COUNTIF(B3117:$B$4018,B3117)))","v":2},6,{"$f":"IF(ISERROR(VLOOKUP(A3117,Feriados!A:A,1,FALSE)),\"n\",VLOOKUP(A3117,Feriados!A:A,1,FALSE))","v":"n"}]
[47678,2140,{"$f":"IF(E3118<>\"n\",COUNTIF(B3118:$B$4018,B3118),IF(D3118<6,0,COUNTIF(B3118:$B$4018,B3118)))","v":1},7,{"$f":"IF(ISERROR(VLOOKUP(A3118,Feriados!A:A,1,FALSE)),\"n\",VLOOKUP(A3118,Feriados!A:A,1,FALSE))","v":"n"}]
[47679,2141,{"$f":"IF(E3119<>\"n\",COUNTIF(B3119:$B$4018,B3119),IF(D3119<6,0,COUNTIF(B3119:$B$4018,B3119)))","v":0},1,{"$f":"IF(ISERROR(VLOOKUP(A3119,Feriados!A:A,1,FALSE)),\"n\",VLOOKUP(A3119,Feriados!A:A,1,FALSE))","v":"n"}]
[47680,2142,{"$f":"IF(E3120<>\"n\",COUNTIF(B3120:$B$4018,B3120),IF(D3120<6,0,COUNTIF(B3120:$B$4018,B3120)))","v":0},2,{"$f":"IF(ISERROR(VLOOKUP(A3120,Feriados!A:A,1,FALSE)),\"n\",VLOOKUP(A3120,Feriados!A:A,1,FALSE))","v":"n"}]
[47681,2143,{"$f":"IF(E3121<>\"n\",COUNTIF(B3121:$B$4018,B3121),IF(D3121<6,0,COUNTIF(B3121:$B$4018,B3121)))","v":0},3,{"$f":"IF(ISERROR(VLOOKUP(A3121,Feriados!A:A,1,FALSE)),\"n\",VLOOKUP(A3121,Feriados!A:A,1,FALSE))","v":"n"}]
[47682,2144,{"$f":"IF(E3122<>\"n\",COUNTIF(B3122:$B$4018,B3122),IF(D3122<6,0,COUNTIF(B3122:$B$4018,B3122)))","v":0},4,{"$f":"IF(ISERROR(VLOOKUP(A3122,Feriados!A:A,1,FALSE)),\"n\",VLOOKUP(A3122,Feriados!A:A,1,FALSE))","v":"n"}]
[47683,2145,{"$f":"IF(E3123<>\"n\",COUNTIF(B3123:$B$4018,B3123),IF(D3123<6,0,COUNTIF(B3123:$B$4018,B3123)))","v":0},5,{"$f":"IF(ISERROR(VLOOKUP(A3123,Feriados!A:A,1,FALSE)),\"n\",VLOOKUP(A3123,Feriados!A:A,1,FALSE))","v":"n"}]
[47684,2145,{"$f":"IF(E3124<>\"n\",COUNTIF(B3124:$B$4018,B3124),IF(D3124<6,0,COUNTIF(B3124:$B$4018,B3124)))","v":2},6,{"$f":"IF(ISERROR(VLOOKUP(A3124,Feriados!A:A,1,FALSE)),\"n\",VLOOKUP(A3124,Feriados!A:A,1,FALSE))","v":"n"}]
[47685,2145,{"$f":"IF(E3125<>\"n\",COUNTIF(B3125:$B$4018,B3125),IF(D3125<6,0,COUNTIF(B3125:$B$4018,B3125)))","v":1},7,{"$f":"IF(ISERROR(VLOOKUP(A3125,Feriados!A:A,1,FALSE)),\"n\",VLOOKUP(A3125,Feriados!A:A,1,FALSE))","v":"n"}]
[47686,2146,{"$f":"IF(E3126<>\"n\",COUNTIF(B3126:$B$4018,B3126),IF(D3126<6,0,COUNTIF(B3126:$B$4018,B3126)))","v":0},1,{"$f":"IF(ISERROR(VLOOKUP(A3126,Feriados!A:A,1,FALSE)),\"n\",VLOOKUP(A3126,Feriados!A:A,1,FALSE))","v":"n"}]
[47687,2147,{"$f":"IF(E3127<>\"n\",COUNTIF(B3127:$B$4018,B3127),IF(D3127<6,0,COUNTIF(B3127:$B$4018,B3127)))","v":0},2,{"$f":"IF(ISERROR(VLOOKUP(A3127,Feriados!A:A,1,FALSE)),\"n\",VLOOKUP(A3127,Feriados!A:A,1,FALSE))","v":"n"}]
[47688,2148,{"$f":"IF(E3128<>\"n\",COUNTIF(B3128:$B$4018,B3128),IF(D3128<6,0,COUNTIF(B3128:$B$4018,B3128)))","v":0},3,{"$f":"IF(ISERROR(VLOOKUP(A3128,Feriados!A:A,1,FALSE)),\"n\",VLOOKUP(A3128,Feriados!A:A,1,FALSE))","v":"n"}]
[47689,2149,{"$f":"IF(E3129<>\"n\",COUNTIF(B3129:$B$4018,B3129),IF(D3129<6,0,COUNTIF(B3129:$B$4018,B3129)))","v":0},4,{"$f":"IF(ISERROR(VLOOKUP(A3129,Feriados!A:A,1,FALSE)),\"n\",VLOOKUP(A3129,Feriados!A:A,1,FALSE))","v":"n"}]
[47690,2150,{"$f":"IF(E3130<>\"n\",COUNTIF(B3130:$B$4018,B3130),IF(D3130<6,0,COUNTIF(B3130:$B$4018,B3130)))","v":0},5,{"$f":"IF(ISERROR(VLOOKUP(A3130,Feriados!A:A,1,FALSE)),\"n\",VLOOKUP(A3130,Feriados!A:A,1,FALSE))","v":"n"}]
[47691,2150,{"$f":"IF(E3131<>\"n\",COUNTIF(B3131:$B$4018,B3131),IF(D3131<6,0,COUNTIF(B3131:$B$4018,B3131)))","v":2},6,{"$f":"IF(ISERROR(VLOOKUP(A3131,Feriados!A:A,1,FALSE)),\"n\",VLOOKUP(A3131,Feriados!A:A,1,FALSE))","v":"n"}]
[47692,2150,{"$f":"IF(E3132<>\"n\",COUNTIF(B3132:$B$4018,B3132),IF(D3132<6,0,COUNTIF(B3132:$B$4018,B3132)))","v":1},7,{"$f":"IF(ISERROR(VLOOKUP(A3132,Feriados!A:A,1,FALSE)),\"n\",VLOOKUP(A3132,Feriados!A:A,1,FALSE))","v":"n"}]
[47693,2151,{"$f":"IF(E3133<>\"n\",COUNTIF(B3133:$B$4018,B3133),IF(D3133<6,0,COUNTIF(B3133:$B$4018,B3133)))","v":0},1,{"$f":"IF(ISERROR(VLOOKUP(A3133,Feriados!A:A,1,FALSE)),\"n\",VLOOKUP(A3133,Feriados!A:A,1,FALSE))","v":"n"}]
[47694,2152,{"$f":"IF(E3134<>\"n\",COUNTIF(B3134:$B$4018,B3134),IF(D3134<6,0,COUNTIF(B3134:$B$4018,B3134)))","v":0},2,{"$f":"IF(ISERROR(VLOOKUP(A3134,Feriados!A:A,1,FALSE)),\"n\",VLOOKUP(A3134,Feriados!A:A,1,FALSE))","v":"n"}]
[47695,2153,{"$f":"IF(E3135<>\"n\",COUNTIF(B3135:$B$4018,B3135),IF(D3135<6,0,COUNTIF(B3135:$B$4018,B3135)))","v":0},3,{"$f":"IF(ISERROR(VLOOKUP(A3135,Feriados!A:A,1,FALSE)),\"n\",VLOOKUP(A3135,Feriados!A:A,1,FALSE))","v":"n"}]
[47696,2154,{"$f":"IF(E3136<>\"n\",COUNTIF(B3136:$B$4018,B3136),IF(D3136<6,0,COUNTIF(B3136:$B$4018,B3136)))","v":0},4,{"$f":"IF(ISERROR(VLOOKUP(A3136,Feriados!A:A,1,FALSE)),\"n\",VLOOKUP(A3136,Feriados!A:A,1,FALSE))","v":"n"}]
[47697,2155,{"$f":"IF(E3137<>\"n\",COUNTIF(B3137:$B$4018,B3137),IF(D3137<6,0,COUNTIF(B3137:$B$4018,B3137)))","v":0},5,{"$f":"IF(ISERROR(VLOOKUP(A3137,Feriados!A:A,1,FALSE)),\"n\",VLOOKUP(A3137,Feriados!A:A,1,FALSE))","v":"n"}]
[47698,2155,{"$f":"IF(E3138<>\"n\",COUNTIF(B3138:$B$4018,B3138),IF(D3138<6,0,COUNTIF(B3138:$B$4018,B3138)))","v":2},6,{"$f":"IF(ISERROR(VLOOKUP(A3138,Feriados!A:A,1,FALSE)),\"n\",VLOOKUP(A3138,Feriados!A:A,1,FALSE))","v":"n"}]
[47699,2155,{"$f":"IF(E3139<>\"n\",COUNTIF(B3139:$B$4018,B3139),IF(D3139<6,0,COUNTIF(B3139:$B$4018,B3139)))","v":1},7,{"$f":"IF(ISERROR(VLOOKUP(A3139,Feriados!A:A,1,FALSE)),\"n\",VLOOKUP(A3139,Feriados!A:A,1,FALSE))","v":"n"}]
[{"$f":"A3139+1","v":47700},2156,{"$f":"IF(E3140<>\"n\",COUNTIF(B3140:$B$4018,B3140),IF(D3140<6,0,COUNTIF(B3140:$B$4018,B3140)))","v":0},1,{"$f":"IF(ISERROR(VLOOKUP(A3140,Feriados!A:A,1,FALSE)),\"n\",VLOOKUP(A3140,Feriados!A:A,1,FALSE))","v":"n"}]
[47701,2157,{"$f":"IF(E3141<>\"n\",COUNTIF(B3141:$B$4018,B3141),IF(D3141<6,0,COUNTIF(B3141:$B$4018,B3141)))","v":0},2,{"$f":"IF(ISERROR(VLOOKUP(A3141,Feriados!A:A,1,FALSE)),\"n\",VLOOKUP(A3141,Feriados!A:A,1,FALSE))","v":"n"}]
[47702,2158,{"$f":"IF(E3142<>\"n\",COUNTIF(B3142:$B$4018,B3142),IF(D3142<6,0,COUNTIF(B3142:$B$4018,B3142)))","v":0},3,{"$f":"IF(ISERROR(VLOOKUP(A3142,Feriados!A:A,1,FALSE)),\"n\",VLOOKUP(A3142,Feriados!A:A,1,FALSE))","v":"n"}]
[47703,2159,{"$f":"IF(E3143<>\"n\",COUNTIF(B3143:$B$4018,B3143),IF(D3143<6,0,COUNTIF(B3143:$B$4018,B3143)))","v":0},4,{"$f":"IF(ISERROR(VLOOKUP(A3143,Feriados!A:A,1,FALSE)),\"n\",VLOOKUP(A3143,Feriados!A:A,1,FALSE))","v":"n"}]
[47704,2160,{"$f":"IF(E3144<>\"n\",COUNTIF(B3144:$B$4018,B3144),IF(D3144<6,0,COUNTIF(B3144:$B$4018,B3144)))","v":0},5,{"$f":"IF(ISERROR(VLOOKUP(A3144,Feriados!A:A,1,FALSE)),\"n\",VLOOKUP(A3144,Feriados!A:A,1,FALSE))","v":"n"}]
[47705,2160,{"$f":"IF(E3145<>\"n\",COUNTIF(B3145:$B$4018,B3145),IF(D3145<6,0,COUNTIF(B3145:$B$4018,B3145)))","v":2},6,{"$f":"IF(ISERROR(VLOOKUP(A3145,Feriados!A:A,1,FALSE)),\"n\",VLOOKUP(A3145,Feriados!A:A,1,FALSE))","v":"n"}]
[47706,2160,{"$f":"IF(E3146<>\"n\",COUNTIF(B3146:$B$4018,B3146),IF(D3146<6,0,COUNTIF(B3146:$B$4018,B3146)))","v":1},7,{"$f":"IF(ISERROR(VLOOKUP(A3146,Feriados!A:A,1,FALSE)),\"n\",VLOOKUP(A3146,Feriados!A:A,1,FALSE))","v":"n"}]
[47707,2161,{"$f":"IF(E3147<>\"n\",COUNTIF(B3147:$B$4018,B3147),IF(D3147<6,0,COUNTIF(B3147:$B$4018,B3147)))","v":0},1,{"$f":"IF(ISERROR(VLOOKUP(A3147,Feriados!A:A,1,FALSE)),\"n\",VLOOKUP(A3147,Feriados!A:A,1,FALSE))","v":"n"}]
[47708,2162,{"$f":"IF(E3148<>\"n\",COUNTIF(B3148:$B$4018,B3148),IF(D3148<6,0,COUNTIF(B3148:$B$4018,B3148)))","v":0},2,{"$f":"IF(ISERROR(VLOOKUP(A3148,Feriados!A:A,1,FALSE)),\"n\",VLOOKUP(A3148,Feriados!A:A,1,FALSE))","v":"n"}]
[47709,2163,{"$f":"IF(E3149<>\"n\",COUNTIF(B3149:$B$4018,B3149),IF(D3149<6,0,COUNTIF(B3149:$B$4018,B3149)))","v":0},3,{"$f":"IF(ISERROR(VLOOKUP(A3149,Feriados!A:A,1,FALSE)),\"n\",VLOOKUP(A3149,Feriados!A:A,1,FALSE))","v":"n"}]
[47710,2164,{"$f":"IF(E3150<>\"n\",COUNTIF(B3150:$B$4018,B3150),IF(D3150<6,0,COUNTIF(B3150:$B$4018,B3150)))","v":0},4,{"$f":"IF(ISERROR(VLOOKUP(A3150,Feriados!A:A,1,FALSE)),\"n\",VLOOKUP(A3150,Feriados!A:A,1,FALSE))","v":"n"}]
[47711,2165,{"$f":"IF(E3151<>\"n\",COUNTIF(B3151:$B$4018,B3151),IF(D3151<6,0,COUNTIF(B3151:$B$4018,B3151)))","v":0},5,{"$f":"IF(ISERROR(VLOOKUP(A3151,Feriados!A:A,1,FALSE)),\"n\",VLOOKUP(A3151,Feriados!A:A,1,FALSE))","v":"n"}]
[47712,2165,{"$f":"IF(E3152<>\"n\",COUNTIF(B3152:$B$4018,B3152),IF(D3152<6,0,COUNTIF(B3152:$B$4018,B3152)))","v":2},6,{"$f":"IF(ISERROR(VLOOKUP(A3152,Feriados!A:A,1,FALSE)),\"n\",VLOOKUP(A3152,Feriados!A:A,1,FALSE))","v":"n"}]
[47713,2165,{"$f":"IF(E3153<>\"n\",COUNTIF(B3153:$B$4018,B3153),IF(D3153<6,0,COUNTIF(B3153:$B$4018,B3153)))","v":1},7,{"$f":"IF(ISERROR(VLOOKUP(A3153,Feriados!A:A,1,FALSE)),\"n\",VLOOKUP(A3153,Feriados!A:A,1,FALSE))","v":"n"}]
[47714,2166,{"$f":"IF(E3154<>\"n\",COUNTIF(B3154:$B$4018,B3154),IF(D3154<6,0,COUNTIF(B3154:$B$4018,B3154)))","v":0},1,{"$f":"IF(ISERROR(VLOOKUP(A3154,Feriados!A:A,1,FALSE)),\"n\",VLOOKUP(A3154,Feriados!A:A,1,FALSE))","v":"n"}]
[47715,2167,{"$f":"IF(E3155<>\"n\",COUNTIF(B3155:$B$4018,B3155),IF(D3155<6,0,COUNTIF(B3155:$B$4018,B3155)))","v":0},2,{"$f":"IF(ISERROR(VLOOKUP(A3155,Feriados!A:A,1,FALSE)),\"n\",VLOOKUP(A3155,Feriados!A:A,1,FALSE))","v":"n"}]
[47716,2168,{"$f":"IF(E3156<>\"n\",COUNTIF(B3156:$B$4018,B3156),IF(D3156<6,0,COUNTIF(B3156:$B$4018,B3156)))","v":0},3,{"$f":"IF(ISERROR(VLOOKUP(A3156,Feriados!A:A,1,FALSE)),\"n\",VLOOKUP(A3156,Feriados!A:A,1,FALSE))","v":"n"}]
[47717,2169,{"$f":"IF(E3157<>\"n\",COUNTIF(B3157:$B$4018,B3157),IF(D3157<6,0,COUNTIF(B3157:$B$4018,B3157)))","v":0},4,{"$f":"IF(ISERROR(VLOOKUP(A3157,Feriados!A:A,1,FALSE)),\"n\",VLOOKUP(A3157,Feriados!A:A,1,FALSE))","v":"n"}]
[47718,2170,{"$f":"IF(E3158<>\"n\",COUNTIF(B3158:$B$4018,B3158),IF(D3158<6,0,COUNTIF(B3158:$B$4018,B3158)))","v":0},5,{"$f":"IF(ISERROR(VLOOKUP(A3158,Feriados!A:A,1,FALSE)),\"n\",VLOOKUP(A3158,Feriados!A:A,1,FALSE))","v":"n"}]
[47719,2170,{"$f":"IF(E3159<>\"n\",COUNTIF(B3159:$B$4018,B3159),IF(D3159<6,0,COUNTIF(B3159:$B$4018,B3159)))","v":2},6,{"$f":"IF(ISERROR(VLOOKUP(A3159,Feriados!A:A,1,FALSE)),\"n\",VLOOKUP(A3159,Feriados!A:A,1,FALSE))","v":"n"}]
[47720,2170,{"$f":"IF(E3160<>\"n\",COUNTIF(B3160:$B$4018,B3160),IF(D3160<6,0,COUNTIF(B3160:$B$4018,B3160)))","v":1},7,{"$f":"IF(ISERROR(VLOOKUP(A3160,Feriados!A:A,1,FALSE)),\"n\",VLOOKUP(A3160,Feriados!A:A,1,FALSE))","v":"n"}]
[47721,2171,{"$f":"IF(E3161<>\"n\",COUNTIF(B3161:$B$4018,B3161),IF(D3161<6,0,COUNTIF(B3161:$B$4018,B3161)))","v":0},1,{"$f":"IF(ISERROR(VLOOKUP(A3161,Feriados!A:A,1,FALSE)),\"n\",VLOOKUP(A3161,Feriados!A:A,1,FALSE))","v":"n"}]
[47722,2172,{"$f":"IF(E3162<>\"n\",COUNTIF(B3162:$B$4018,B3162),IF(D3162<6,0,COUNTIF(B3162:$B$4018,B3162)))","v":0},2,{"$f":"IF(ISERROR(VLOOKUP(A3162,Feriados!A:A,1,FALSE)),\"n\",VLOOKUP(A3162,Feriados!A:A,1,FALSE))","v":"n"}]
[47723,2173,{"$f":"IF(E3163<>\"n\",COUNTIF(B3163:$B$4018,B3163),IF(D3163<6,0,COUNTIF(B3163:$B$4018,B3163)))","v":0},3,{"$f":"IF(ISERROR(VLOOKUP(A3163,Feriados!A:A,1,FALSE)),\"n\",VLOOKUP(A3163,Feriados!A:A,1,FALSE))","v":"n"}]
[47724,2174,{"$f":"IF(E3164<>\"n\",COUNTIF(B3164:$B$4018,B3164),IF(D3164<6,0,COUNTIF(B3164:$B$4018,B3164)))","v":0},4,{"$f":"IF(ISERROR(VLOOKUP(A3164,Feriados!A:A,1,FALSE)),\"n\",VLOOKUP(A3164,Feriados!A:A,1,FALSE))","v":"n"}]
[47725,2175,{"$f":"IF(E3165<>\"n\",COUNTIF(B3165:$B$4018,B3165),IF(D3165<6,0,COUNTIF(B3165:$B$4018,B3165)))","v":0},5,{"$f":"IF(ISERROR(VLOOKUP(A3165,Feriados!A:A,1,FALSE)),\"n\",VLOOKUP(A3165,Feriados!A:A,1,FALSE))","v":"n"}]
[47726,{"$f":"NETWORKDAYS($A$2,A3166,feriados)","v":2175},{"$f":"IF(E3166<>\"n\",COUNTIF(B3166:$B$4018,B3166),IF(D3166<6,0,COUNTIF(B3166:$B$4018,B3166)))","v":2},{"$f":"WEEKDAY(A3166,2)","v":6},{"$f":"IF(ISERROR(VLOOKUP(A3166,Feriados!A:A,1,FALSE)),\"n\",VLOOKUP(A3166,Feriados!A:A,1,FALSE))","v":"n"}]
[47727,2175,{"$f":"IF(E3167<>\"n\",COUNTIF(B3167:$B$4018,B3167),IF(D3167<6,0,COUNTIF(B3167:$B$4018,B3167)))","v":1},7,{"$f":"IF(ISERROR(VLOOKUP(A3167,Feriados!A:A,1,FALSE)),\"n\",VLOOKUP(A3167,Feriados!A:A,1,FALSE))","v":"n"}]
[47728,2176,{"$f":"IF(E3168<>\"n\",COUNTIF(B3168:$B$4018,B3168),IF(D3168<6,0,COUNTIF(B3168:$B$4018,B3168)))","v":0},1,{"$f":"IF(ISERROR(VLOOKUP(A3168,Feriados!A:A,1,FALSE)),\"n\",VLOOKUP(A3168,Feriados!A:A,1,FALSE))","v":"n"}]
[47729,2177,{"$f":"IF(E3169<>\"n\",COUNTIF(B3169:$B$4018,B3169),IF(D3169<6,0,COUNTIF(B3169:$B$4018,B3169)))","v":0},2,{"$f":"IF(ISERROR(VLOOKUP(A3169,Feriados!A:A,1,FALSE)),\"n\",VLOOKUP(A3169,Feriados!A:A,1,FALSE))","v":"n"}]
[47730,2178,{"$f":"IF(E3170<>\"n\",COUNTIF(B3170:$B$4018,B3170),IF(D3170<6,0,COUNTIF(B3170:$B$4018,B3170)))","v":0},3,{"$f":"IF(ISERROR(VLOOKUP(A3170,Feriados!A:A,1,FALSE)),\"n\",VLOOKUP(A3170,Feriados!A:A,1,FALSE))","v":"n"}]
[47731,2179,{"$f":"IF(E3171<>\"n\",COUNTIF(B3171:$B$4018,B3171),IF(D3171<6,0,COUNTIF(B3171:$B$4018,B3171)))","v":0},4,{"$f":"IF(ISERROR(VLOOKUP(A3171,Feriados!A:A,1,FALSE)),\"n\",VLOOKUP(A3171,Feriados!A:A,1,FALSE))","v":"n"}]
[47732,2180,{"$f":"IF(E3172<>\"n\",COUNTIF(B3172:$B$4018,B3172),IF(D3172<6,0,COUNTIF(B3172:$B$4018,B3172)))","v":0},5,{"$f":"IF(ISERROR(VLOOKUP(A3172,Feriados!A:A,1,FALSE)),\"n\",VLOOKUP(A3172,Feriados!A:A,1,FALSE))","v":"n"}]
[47733,2180,{"$f":"IF(E3173<>\"n\",COUNTIF(B3173:$B$4018,B3173),IF(D3173<6,0,COUNTIF(B3173:$B$4018,B3173)))","v":2},6,{"$f":"IF(ISERROR(VLOOKUP(A3173,Feriados!A:A,1,FALSE)),\"n\",VLOOKUP(A3173,Feriados!A:A,1,FALSE))","v":"2030-09-07"}]
[47734,2180,{"$f":"IF(E3174<>\"n\",COUNTIF(B3174:$B$4018,B3174),IF(D3174<6,0,COUNTIF(B3174:$B$4018,B3174)))","v":1},7,{"$f":"IF(ISERROR(VLOOKUP(A3174,Feriados!A:A,1,FALSE)),\"n\",VLOOKUP(A3174,Feriados!A:A,1,FALSE))","v":"n"}]
[47735,2181,{"$f":"IF(E3175<>\"n\",COUNTIF(B3175:$B$4018,B3175),IF(D3175<6,0,COUNTIF(B3175:$B$4018,B3175)))","v":0},1,{"$f":"IF(ISERROR(VLOOKUP(A3175,Feriados!A:A,1,FALSE)),\"n\",VLOOKUP(A3175,Feriados!A:A,1,FALSE))","v":"n"}]
[47736,2182,{"$f":"IF(E3176<>\"n\",COUNTIF(B3176:$B$4018,B3176),IF(D3176<6,0,COUNTIF(B3176:$B$4018,B3176)))","v":0},2,{"$f":"IF(ISERROR(VLOOKUP(A3176,Feriados!A:A,1,FALSE)),\"n\",VLOOKUP(A3176,Feriados!A:A,1,FALSE))","v":"n"}]
[47737,2183,{"$f":"IF(E3177<>\"n\",COUNTIF(B3177:$B$4018,B3177),IF(D3177<6,0,COUNTIF(B3177:$B$4018,B3177)))","v":0},3,{"$f":"IF(ISERROR(VLOOKUP(A3177,Feriados!A:A,1,FALSE)),\"n\",VLOOKUP(A3177,Feriados!A:A,1,FALSE))","v":"n"}]
[47738,2184,{"$f":"IF(E3178<>\"n\",COUNTIF(B3178:$B$4018,B3178),IF(D3178<6,0,COUNTIF(B3178:$B$4018,B3178)))","v":0},4,{"$f":"IF(ISERROR(VLOOKUP(A3178,Feriados!A:A,1,FALSE)),\"n\",VLOOKUP(A3178,Feriados!A:A,1,FALSE))","v":"n"}]
[47739,2185,{"$f":"IF(E3179<>\"n\",COUNTIF(B3179:$B$4018,B3179),IF(D3179<6,0,COUNTIF(B3179:$B$4018,B3179)))","v":0},5,{"$f":"IF(ISERROR(VLOOKUP(A3179,Feriados!A:A,1,FALSE)),\"n\",VLOOKUP(A3179,Feriados!A:A,1,FALSE))","v":"n"}]
[47740,2185,{"$f":"IF(E3180<>\"n\",COUNTIF(B3180:$B$4018,B3180),IF(D3180<6,0,COUNTIF(B3180:$B$4018,B3180)))","v":2},6,{"$f":"IF(ISERROR(VLOOKUP(A3180,Feriados!A:A,1,FALSE)),\"n\",VLOOKUP(A3180,Feriados!A:A,1,FALSE))","v":"n"}]
[47741,2185,{"$f":"IF(E3181<>\"n\",COUNTIF(B3181:$B$4018,B3181),IF(D3181<6,0,COUNTIF(B3181:$B$4018,B3181)))","v":1},7,{"$f":"IF(ISERROR(VLOOKUP(A3181,Feriados!A:A,1,FALSE)),\"n\",VLOOKUP(A3181,Feriados!A:A,1,FALSE))","v":"n"}]
[47742,2186,{"$f":"IF(E3182<>\"n\",COUNTIF(B3182:$B$4018,B3182),IF(D3182<6,0,COUNTIF(B3182:$B$4018,B3182)))","v":0},1,{"$f":"IF(ISERROR(VLOOKUP(A3182,Feriados!A:A,1,FALSE)),\"n\",VLOOKUP(A3182,Feriados!A:A,1,FALSE))","v":"n"}]
[47743,2187,{"$f":"IF(E3183<>\"n\",COUNTIF(B3183:$B$4018,B3183),IF(D3183<6,0,COUNTIF(B3183:$B$4018,B3183)))","v":0},2,{"$f":"IF(ISERROR(VLOOKUP(A3183,Feriados!A:A,1,FALSE)),\"n\",VLOOKUP(A3183,Feriados!A:A,1,FALSE))","v":"n"}]
[47744,2188,{"$f":"IF(E3184<>\"n\",COUNTIF(B3184:$B$4018,B3184),IF(D3184<6,0,COUNTIF(B3184:$B$4018,B3184)))","v":0},3,{"$f":"IF(ISERROR(VLOOKUP(A3184,Feriados!A:A,1,FALSE)),\"n\",VLOOKUP(A3184,Feriados!A:A,1,FALSE))","v":"n"}]
[47745,2189,{"$f":"IF(E3185<>\"n\",COUNTIF(B3185:$B$4018,B3185),IF(D3185<6,0,COUNTIF(B3185:$B$4018,B3185)))","v":0},4,{"$f":"IF(ISERROR(VLOOKUP(A3185,Feriados!A:A,1,FALSE)),\"n\",VLOOKUP(A3185,Feriados!A:A,1,FALSE))","v":"n"}]
[47746,2190,{"$f":"IF(E3186<>\"n\",COUNTIF(B3186:$B$4018,B3186),IF(D3186<6,0,COUNTIF(B3186:$B$4018,B3186)))","v":0},5,{"$f":"IF(ISERROR(VLOOKUP(A3186,Feriados!A:A,1,FALSE)),\"n\",VLOOKUP(A3186,Feriados!A:A,1,FALSE))","v":"n"}]
[47747,2190,{"$f":"IF(E3187<>\"n\",COUNTIF(B3187:$B$4018,B3187),IF(D3187<6,0,COUNTIF(B3187:$B$4018,B3187)))","v":2},6,{"$f":"IF(ISERROR(VLOOKUP(A3187,Feriados!A:A,1,FALSE)),\"n\",VLOOKUP(A3187,Feriados!A:A,1,FALSE))","v":"n"}]
[47748,2190,{"$f":"IF(E3188<>\"n\",COUNTIF(B3188:$B$4018,B3188),IF(D3188<6,0,COUNTIF(B3188:$B$4018,B3188)))","v":1},7,{"$f":"IF(ISERROR(VLOOKUP(A3188,Feriados!A:A,1,FALSE)),\"n\",VLOOKUP(A3188,Feriados!A:A,1,FALSE))","v":"n"}]
[47749,2191,{"$f":"IF(E3189<>\"n\",COUNTIF(B3189:$B$4018,B3189),IF(D3189<6,0,COUNTIF(B3189:$B$4018,B3189)))","v":0},1,{"$f":"IF(ISERROR(VLOOKUP(A3189,Feriados!A:A,1,FALSE)),\"n\",VLOOKUP(A3189,Feriados!A:A,1,FALSE))","v":"n"}]
[47750,2192,{"$f":"IF(E3190<>\"n\",COUNTIF(B3190:$B$4018,B3190),IF(D3190<6,0,COUNTIF(B3190:$B$4018,B3190)))","v":0},2,{"$f":"IF(ISERROR(VLOOKUP(A3190,Feriados!A:A,1,FALSE)),\"n\",VLOOKUP(A3190,Feriados!A:A,1,FALSE))","v":"n"}]
[47751,2193,{"$f":"IF(E3191<>\"n\",COUNTIF(B3191:$B$4018,B3191),IF(D3191<6,0,COUNTIF(B3191:$B$4018,B3191)))","v":0},3,{"$f":"IF(ISERROR(VLOOKUP(A3191,Feriados!A:A,1,FALSE)),\"n\",VLOOKUP(A3191,Feriados!A:A,1,FALSE))","v":"n"}]
[47752,2194,{"$f":"IF(E3192<>\"n\",COUNTIF(B3192:$B$4018,B3192),IF(D3192<6,0,COUNTIF(B3192:$B$4018,B3192)))","v":0},4,{"$f":"IF(ISERROR(VLOOKUP(A3192,Feriados!A:A,1,FALSE)),\"n\",VLOOKUP(A3192,Feriados!A:A,1,FALSE))","v":"n"}]
[47753,2195,{"$f":"IF(E3193<>\"n\",COUNTIF(B3193:$B$4018,B3193),IF(D3193<6,0,COUNTIF(B3193:$B$4018,B3193)))","v":0},5,{"$f":"IF(ISERROR(VLOOKUP(A3193,Feriados!A:A,1,FALSE)),\"n\",VLOOKUP(A3193,Feriados!A:A,1,FALSE))","v":"n"}]
[47754,2195,{"$f":"IF(E3194<>\"n\",COUNTIF(B3194:$B$4018,B3194),IF(D3194<6,0,COUNTIF(B3194:$B$4018,B3194)))","v":2},6,{"$f":"IF(ISERROR(VLOOKUP(A3194,Feriados!A:A,1,FALSE)),\"n\",VLOOKUP(A3194,Feriados!A:A,1,FALSE))","v":"n"}]
[47755,2195,{"$f":"IF(E3195<>\"n\",COUNTIF(B3195:$B$4018,B3195),IF(D3195<6,0,COUNTIF(B3195:$B$4018,B3195)))","v":1},7,{"$f":"IF(ISERROR(VLOOKUP(A3195,Feriados!A:A,1,FALSE)),\"n\",VLOOKUP(A3195,Feriados!A:A,1,FALSE))","v":"n"}]
[47756,2196,{"$f":"IF(E3196<>\"n\",COUNTIF(B3196:$B$4018,B3196),IF(D3196<6,0,COUNTIF(B3196:$B$4018,B3196)))","v":0},1,{"$f":"IF(ISERROR(VLOOKUP(A3196,Feriados!A:A,1,FALSE)),\"n\",VLOOKUP(A3196,Feriados!A:A,1,FALSE))","v":"n"}]
[47757,2197,{"$f":"IF(E3197<>\"n\",COUNTIF(B3197:$B$4018,B3197),IF(D3197<6,0,COUNTIF(B3197:$B$4018,B3197)))","v":0},2,{"$f":"IF(ISERROR(VLOOKUP(A3197,Feriados!A:A,1,FALSE)),\"n\",VLOOKUP(A3197,Feriados!A:A,1,FALSE))","v":"n"}]
[47758,2198,{"$f":"IF(E3198<>\"n\",COUNTIF(B3198:$B$4018,B3198),IF(D3198<6,0,COUNTIF(B3198:$B$4018,B3198)))","v":0},3,{"$f":"IF(ISERROR(VLOOKUP(A3198,Feriados!A:A,1,FALSE)),\"n\",VLOOKUP(A3198,Feriados!A:A,1,FALSE))","v":"n"}]
[47759,2199,{"$f":"IF(E3199<>\"n\",COUNTIF(B3199:$B$4018,B3199),IF(D3199<6,0,COUNTIF(B3199:$B$4018,B3199)))","v":0},4,{"$f":"IF(ISERROR(VLOOKUP(A3199,Feriados!A:A,1,FALSE)),\"n\",VLOOKUP(A3199,Feriados!A:A,1,FALSE))","v":"n"}]
[47760,2200,{"$f":"IF(E3200<>\"n\",COUNTIF(B3200:$B$4018,B3200),IF(D3200<6,0,COUNTIF(B3200:$B$4018,B3200)))","v":0},5,{"$f":"IF(ISERROR(VLOOKUP(A3200,Feriados!A:A,1,FALSE)),\"n\",VLOOKUP(A3200,Feriados!A:A,1,FALSE))","v":"n"}]
[47761,2200,{"$f":"IF(E3201<>\"n\",COUNTIF(B3201:$B$4018,B3201),IF(D3201<6,0,COUNTIF(B3201:$B$4018,B3201)))","v":2},6,{"$f":"IF(ISERROR(VLOOKUP(A3201,Feriados!A:A,1,FALSE)),\"n\",VLOOKUP(A3201,Feriados!A:A,1,FALSE))","v":"n"}]
[47762,2200,{"$f":"IF(E3202<>\"n\",COUNTIF(B3202:$B$4018,B3202),IF(D3202<6,0,COUNTIF(B3202:$B$4018,B3202)))","v":1},7,{"$f":"IF(ISERROR(VLOOKUP(A3202,Feriados!A:A,1,FALSE)),\"n\",VLOOKUP(A3202,Feriados!A:A,1,FALSE))","v":"n"}]
[47763,2201,{"$f":"IF(E3203<>\"n\",COUNTIF(B3203:$B$4018,B3203),IF(D3203<6,0,COUNTIF(B3203:$B$4018,B3203)))","v":0},1,{"$f":"IF(ISERROR(VLOOKUP(A3203,Feriados!A:A,1,FALSE)),\"n\",VLOOKUP(A3203,Feriados!A:A,1,FALSE))","v":"n"}]
[{"$f":"A3203+1","v":47764},2202,{"$f":"IF(E3204<>\"n\",COUNTIF(B3204:$B$4018,B3204),IF(D3204<6,0,COUNTIF(B3204:$B$4018,B3204)))","v":0},2,{"$f":"IF(ISERROR(VLOOKUP(A3204,Feriados!A:A,1,FALSE)),\"n\",VLOOKUP(A3204,Feriados!A:A,1,FALSE))","v":"n"}]
[47765,2203,{"$f":"IF(E3205<>\"n\",COUNTIF(B3205:$B$4018,B3205),IF(D3205<6,0,COUNTIF(B3205:$B$4018,B3205)))","v":0},3,{"$f":"IF(ISERROR(VLOOKUP(A3205,Feriados!A:A,1,FALSE)),\"n\",VLOOKUP(A3205,Feriados!A:A,1,FALSE))","v":"n"}]
[47766,2204,{"$f":"IF(E3206<>\"n\",COUNTIF(B3206:$B$4018,B3206),IF(D3206<6,0,COUNTIF(B3206:$B$4018,B3206)))","v":0},4,{"$f":"IF(ISERROR(VLOOKUP(A3206,Feriados!A:A,1,FALSE)),\"n\",VLOOKUP(A3206,Feriados!A:A,1,FALSE))","v":"n"}]
[47767,2205,{"$f":"IF(E3207<>\"n\",COUNTIF(B3207:$B$4018,B3207),IF(D3207<6,0,COUNTIF(B3207:$B$4018,B3207)))","v":0},5,{"$f":"IF(ISERROR(VLOOKUP(A3207,Feriados!A:A,1,FALSE)),\"n\",VLOOKUP(A3207,Feriados!A:A,1,FALSE))","v":"n"}]
[47768,2205,{"$f":"IF(E3208<>\"n\",COUNTIF(B3208:$B$4018,B3208),IF(D3208<6,0,COUNTIF(B3208:$B$4018,B3208)))","v":2},6,{"$f":"IF(ISERROR(VLOOKUP(A3208,Feriados!A:A,1,FALSE)),\"n\",VLOOKUP(A3208,Feriados!A:A,1,FALSE))","v":"2030-10-12"}]
[47769,2205,{"$f":"IF(E3209<>\"n\",COUNTIF(B3209:$B$4018,B3209),IF(D3209<6,0,COUNTIF(B3209:$B$4018,B3209)))","v":1},7,{"$f":"IF(ISERROR(VLOOKUP(A3209,Feriados!A:A,1,FALSE)),\"n\",VLOOKUP(A3209,Feriados!A:A,1,FALSE))","v":"n"}]
[47770,2206,{"$f":"IF(E3210<>\"n\",COUNTIF(B3210:$B$4018,B3210),IF(D3210<6,0,COUNTIF(B3210:$B$4018,B3210)))","v":0},1,{"$f":"IF(ISERROR(VLOOKUP(A3210,Feriados!A:A,1,FALSE)),\"n\",VLOOKUP(A3210,Feriados!A:A,1,FALSE))","v":"n"}]
[47771,2207,{"$f":"IF(E3211<>\"n\",COUNTIF(B3211:$B$4018,B3211),IF(D3211<6,0,COUNTIF(B3211:$B$4018,B3211)))","v":0},2,{"$f":"IF(ISERROR(VLOOKUP(A3211,Feriados!A:A,1,FALSE)),\"n\",VLOOKUP(A3211,Feriados!A:A,1,FALSE))","v":"n"}]
[47772,2208,{"$f":"IF(E3212<>\"n\",COUNTIF(B3212:$B$4018,B3212),IF(D3212<6,0,COUNTIF(B3212:$B$4018,B3212)))","v":0},3,{"$f":"IF(ISERROR(VLOOKUP(A3212,Feriados!A:A,1,FALSE)),\"n\",VLOOKUP(A3212,Feriados!A:A,1,FALSE))","v":"n"}]
[47773,2209,{"$f":"IF(E3213<>\"n\",COUNTIF(B3213:$B$4018,B3213),IF(D3213<6,0,COUNTIF(B3213:$B$4018,B3213)))","v":0},4,{"$f":"IF(ISERROR(VLOOKUP(A3213,Feriados!A:A,1,FALSE)),\"n\",VLOOKUP(A3213,Feriados!A:A,1,FALSE))","v":"n"}]
[47774,2210,{"$f":"IF(E3214<>\"n\",COUNTIF(B3214:$B$4018,B3214),IF(D3214<6,0,COUNTIF(B3214:$B$4018,B3214)))","v":0},5,{"$f":"IF(ISERROR(VLOOKUP(A3214,Feriados!A:A,1,FALSE)),\"n\",VLOOKUP(A3214,Feriados!A:A,1,FALSE))","v":"n"}]
[47775,2210,{"$f":"IF(E3215<>\"n\",COUNTIF(B3215:$B$4018,B3215),IF(D3215<6,0,COUNTIF(B3215:$B$4018,B3215)))","v":2},6,{"$f":"IF(ISERROR(VLOOKUP(A3215,Feriados!A:A,1,FALSE)),\"n\",VLOOKUP(A3215,Feriados!A:A,1,FALSE))","v":"n"}]
[47776,2210,{"$f":"IF(E3216<>\"n\",COUNTIF(B3216:$B$4018,B3216),IF(D3216<6,0,COUNTIF(B3216:$B$4018,B3216)))","v":1},7,{"$f":"IF(ISERROR(VLOOKUP(A3216,Feriados!A:A,1,FALSE)),\"n\",VLOOKUP(A3216,Feriados!A:A,1,FALSE))","v":"n"}]
[47777,2211,{"$f":"IF(E3217<>\"n\",COUNTIF(B3217:$B$4018,B3217),IF(D3217<6,0,COUNTIF(B3217:$B$4018,B3217)))","v":0},1,{"$f":"IF(ISERROR(VLOOKUP(A3217,Feriados!A:A,1,FALSE)),\"n\",VLOOKUP(A3217,Feriados!A:A,1,FALSE))","v":"n"}]
[47778,2212,{"$f":"IF(E3218<>\"n\",COUNTIF(B3218:$B$4018,B3218),IF(D3218<6,0,COUNTIF(B3218:$B$4018,B3218)))","v":0},2,{"$f":"IF(ISERROR(VLOOKUP(A3218,Feriados!A:A,1,FALSE)),\"n\",VLOOKUP(A3218,Feriados!A:A,1,FALSE))","v":"n"}]
[47779,2213,{"$f":"IF(E3219<>\"n\",COUNTIF(B3219:$B$4018,B3219),IF(D3219<6,0,COUNTIF(B3219:$B$4018,B3219)))","v":0},3,{"$f":"IF(ISERROR(VLOOKUP(A3219,Feriados!A:A,1,FALSE)),\"n\",VLOOKUP(A3219,Feriados!A:A,1,FALSE))","v":"n"}]
[47780,2214,{"$f":"IF(E3220<>\"n\",COUNTIF(B3220:$B$4018,B3220),IF(D3220<6,0,COUNTIF(B3220:$B$4018,B3220)))","v":0},4,{"$f":"IF(ISERROR(VLOOKUP(A3220,Feriados!A:A,1,FALSE)),\"n\",VLOOKUP(A3220,Feriados!A:A,1,FALSE))","v":"n"}]
[47781,2215,{"$f":"IF(E3221<>\"n\",COUNTIF(B3221:$B$4018,B3221),IF(D3221<6,0,COUNTIF(B3221:$B$4018,B3221)))","v":0},5,{"$f":"IF(ISERROR(VLOOKUP(A3221,Feriados!A:A,1,FALSE)),\"n\",VLOOKUP(A3221,Feriados!A:A,1,FALSE))","v":"n"}]
[47782,2215,{"$f":"IF(E3222<>\"n\",COUNTIF(B3222:$B$4018,B3222),IF(D3222<6,0,COUNTIF(B3222:$B$4018,B3222)))","v":2},6,{"$f":"IF(ISERROR(VLOOKUP(A3222,Feriados!A:A,1,FALSE)),\"n\",VLOOKUP(A3222,Feriados!A:A,1,FALSE))","v":"n"}]
[47783,2215,{"$f":"IF(E3223<>\"n\",COUNTIF(B3223:$B$4018,B3223),IF(D3223<6,0,COUNTIF(B3223:$B$4018,B3223)))","v":1},7,{"$f":"IF(ISERROR(VLOOKUP(A3223,Feriados!A:A,1,FALSE)),\"n\",VLOOKUP(A3223,Feriados!A:A,1,FALSE))","v":"n"}]
[47784,2216,{"$f":"IF(E3224<>\"n\",COUNTIF(B3224:$B$4018,B3224),IF(D3224<6,0,COUNTIF(B3224:$B$4018,B3224)))","v":0},1,{"$f":"IF(ISERROR(VLOOKUP(A3224,Feriados!A:A,1,FALSE)),\"n\",VLOOKUP(A3224,Feriados!A:A,1,FALSE))","v":"n"}]
[47785,2217,{"$f":"IF(E3225<>\"n\",COUNTIF(B3225:$B$4018,B3225),IF(D3225<6,0,COUNTIF(B3225:$B$4018,B3225)))","v":0},2,{"$f":"IF(ISERROR(VLOOKUP(A3225,Feriados!A:A,1,FALSE)),\"n\",VLOOKUP(A3225,Feriados!A:A,1,FALSE))","v":"n"}]
[47786,2218,{"$f":"IF(E3226<>\"n\",COUNTIF(B3226:$B$4018,B3226),IF(D3226<6,0,COUNTIF(B3226:$B$4018,B3226)))","v":0},3,{"$f":"IF(ISERROR(VLOOKUP(A3226,Feriados!A:A,1,FALSE)),\"n\",VLOOKUP(A3226,Feriados!A:A,1,FALSE))","v":"n"}]
[47787,2219,{"$f":"IF(E3227<>\"n\",COUNTIF(B3227:$B$4018,B3227),IF(D3227<6,0,COUNTIF(B3227:$B$4018,B3227)))","v":0},4,{"$f":"IF(ISERROR(VLOOKUP(A3227,Feriados!A:A,1,FALSE)),\"n\",VLOOKUP(A3227,Feriados!A:A,1,FALSE))","v":"n"}]
[47788,2220,{"$f":"IF(E3228<>\"n\",COUNTIF(B3228:$B$4018,B3228),IF(D3228<6,0,COUNTIF(B3228:$B$4018,B3228)))","v":0},5,{"$f":"IF(ISERROR(VLOOKUP(A3228,Feriados!A:A,1,FALSE)),\"n\",VLOOKUP(A3228,Feriados!A:A,1,FALSE))","v":"n"}]
[47789,2220,{"$f":"IF(E3229<>\"n\",COUNTIF(B3229:$B$4018,B3229),IF(D3229<6,0,COUNTIF(B3229:$B$4018,B3229)))","v":2},6,{"$f":"IF(ISERROR(VLOOKUP(A3229,Feriados!A:A,1,FALSE)),\"n\",VLOOKUP(A3229,Feriados!A:A,1,FALSE))","v":"2030-11-02"}]
[47790,{"$f":"NETWORKDAYS($A$2,A3230,feriados)","v":2220},{"$f":"IF(E3230<>\"n\",COUNTIF(B3230:$B$4018,B3230),IF(D3230<6,0,COUNTIF(B3230:$B$4018,B3230)))","v":1},{"$f":"WEEKDAY(A3230,2)","v":7},{"$f":"IF(ISERROR(VLOOKUP(A3230,Feriados!A:A,1,FALSE)),\"n\",VLOOKUP(A3230,Feriados!A:A,1,FALSE))","v":"n"}]
[47791,2221,{"$f":"IF(E3231<>\"n\",COUNTIF(B3231:$B$4018,B3231),IF(D3231<6,0,COUNTIF(B3231:$B$4018,B3231)))","v":0},1,{"$f":"IF(ISERROR(VLOOKUP(A3231,Feriados!A:A,1,FALSE)),\"n\",VLOOKUP(A3231,Feriados!A:A,1,FALSE))","v":"n"}]
[47792,2222,{"$f":"IF(E3232<>\"n\",COUNTIF(B3232:$B$4018,B3232),IF(D3232<6,0,COUNTIF(B3232:$B$4018,B3232)))","v":0},2,{"$f":"IF(ISERROR(VLOOKUP(A3232,Feriados!A:A,1,FALSE)),\"n\",VLOOKUP(A3232,Feriados!A:A,1,FALSE))","v":"n"}]
[47793,2223,{"$f":"IF(E3233<>\"n\",COUNTIF(B3233:$B$4018,B3233),IF(D3233<6,0,COUNTIF(B3233:$B$4018,B3233)))","v":0},3,{"$f":"IF(ISERROR(VLOOKUP(A3233,Feriados!A:A,1,FALSE)),\"n\",VLOOKUP(A3233,Feriados!A:A,1,FALSE))","v":"n"}]
[47794,2224,{"$f":"IF(E3234<>\"n\",COUNTIF(B3234:$B$4018,B3234),IF(D3234<6,0,COUNTIF(B3234:$B$4018,B3234)))","v":0},4,{"$f":"IF(ISERROR(VLOOKUP(A3234,Feriados!A:A,1,FALSE)),\"n\",VLOOKUP(A3234,Feriados!A:A,1,FALSE))","v":"n"}]
[47795,2225,{"$f":"IF(E3235<>\"n\",COUNTIF(B3235:$B$4018,B3235),IF(D3235<6,0,COUNTIF(B3235:$B$4018,B3235)))","v":0},5,{"$f":"IF(ISERROR(VLOOKUP(A3235,Feriados!A:A,1,FALSE)),\"n\",VLOOKUP(A3235,Feriados!A:A,1,FALSE))","v":"n"}]
[47796,2225,{"$f":"IF(E3236<>\"n\",COUNTIF(B3236:$B$4018,B3236),IF(D3236<6,0,COUNTIF(B3236:$B$4018,B3236)))","v":2},6,{"$f":"IF(ISERROR(VLOOKUP(A3236,Feriados!A:A,1,FALSE)),\"n\",VLOOKUP(A3236,Feriados!A:A,1,FALSE))","v":"n"}]
[47797,2225,{"$f":"IF(E3237<>\"n\",COUNTIF(B3237:$B$4018,B3237),IF(D3237<6,0,COUNTIF(B3237:$B$4018,B3237)))","v":1},7,{"$f":"IF(ISERROR(VLOOKUP(A3237,Feriados!A:A,1,FALSE)),\"n\",VLOOKUP(A3237,Feriados!A:A,1,FALSE))","v":"n"}]
[47798,2226,{"$f":"IF(E3238<>\"n\",COUNTIF(B3238:$B$4018,B3238),IF(D3238<6,0,COUNTIF(B3238:$B$4018,B3238)))","v":0},1,{"$f":"IF(ISERROR(VLOOKUP(A3238,Feriados!A:A,1,FALSE)),\"n\",VLOOKUP(A3238,Feriados!A:A,1,FALSE))","v":"n"}]
[47799,2227,{"$f":"IF(E3239<>\"n\",COUNTIF(B3239:$B$4018,B3239),IF(D3239<6,0,COUNTIF(B3239:$B$4018,B3239)))","v":0},2,{"$f":"IF(ISERROR(VLOOKUP(A3239,Feriados!A:A,1,FALSE)),\"n\",VLOOKUP(A3239,Feriados!A:A,1,FALSE))","v":"n"}]
[47800,2228,{"$f":"IF(E3240<>\"n\",COUNTIF(B3240:$B$4018,B3240),IF(D3240<6,0,COUNTIF(B3240:$B$4018,B3240)))","v":0},3,{"$f":"IF(ISERROR(VLOOKUP(A3240,Feriados!A:A,1,FALSE)),\"n\",VLOOKUP(A3240,Feriados!A:A,1,FALSE))","v":"n"}]
[47801,2229,{"$f":"IF(E3241<>\"n\",COUNTIF(B3241:$B$4018,B3241),IF(D3241<6,0,COUNTIF(B3241:$B$4018,B3241)))","v":0},4,{"$f":"IF(ISERROR(VLOOKUP(A3241,Feriados!A:A,1,FALSE)),\"n\",VLOOKUP(A3241,Feriados!A:A,1,FALSE))","v":"n"}]
[47802,2229,{"$f":"IF(E3242<>\"n\",COUNTIF(B3242:$B$4018,B3242),IF(D3242<6,0,COUNTIF(B3242:$B$4018,B3242)))","v":3},5,{"$f":"IF(ISERROR(VLOOKUP(A3242,Feriados!A:A,1,FALSE)),\"n\",VLOOKUP(A3242,Feriados!A:A,1,FALSE))","v":"2030-11-15"}]
[47803,2229,{"$f":"IF(E3243<>\"n\",COUNTIF(B3243:$B$4018,B3243),IF(D3243<6,0,COUNTIF(B3243:$B$4018,B3243)))","v":2},6,{"$f":"IF(ISERROR(VLOOKUP(A3243,Feriados!A:A,1,FALSE)),\"n\",VLOOKUP(A3243,Feriados!A:A,1,FALSE))","v":"n"}]
[47804,2229,{"$f":"IF(E3244<>\"n\",COUNTIF(B3244:$B$4018,B3244),IF(D3244<6,0,COUNTIF(B3244:$B$4018,B3244)))","v":1},7,{"$f":"IF(ISERROR(VLOOKUP(A3244,Feriados!A:A,1,FALSE)),\"n\",VLOOKUP(A3244,Feriados!A:A,1,FALSE))","v":"n"}]
[47805,2230,{"$f":"IF(E3245<>\"n\",COUNTIF(B3245:$B$4018,B3245),IF(D3245<6,0,COUNTIF(B3245:$B$4018,B3245)))","v":0},1,{"$f":"IF(ISERROR(VLOOKUP(A3245,Feriados!A:A,1,FALSE)),\"n\",VLOOKUP(A3245,Feriados!A:A,1,FALSE))","v":"n"}]
[47806,2231,{"$f":"IF(E3246<>\"n\",COUNTIF(B3246:$B$4018,B3246),IF(D3246<6,0,COUNTIF(B3246:$B$4018,B3246)))","v":0},2,{"$f":"IF(ISERROR(VLOOKUP(A3246,Feriados!A:A,1,FALSE)),\"n\",VLOOKUP(A3246,Feriados!A:A,1,FALSE))","v":"n"}]
[47807,2232,{"$f":"IF(E3247<>\"n\",COUNTIF(B3247:$B$4018,B3247),IF(D3247<6,0,COUNTIF(B3247:$B$4018,B3247)))","v":0},3,{"$f":"IF(ISERROR(VLOOKUP(A3247,Feriados!A:A,1,FALSE)),\"n\",VLOOKUP(A3247,Feriados!A:A,1,FALSE))","v":"n"}]
[47808,2233,{"$f":"IF(E3248<>\"n\",COUNTIF(B3248:$B$4018,B3248),IF(D3248<6,0,COUNTIF(B3248:$B$4018,B3248)))","v":0},4,{"$f":"IF(ISERROR(VLOOKUP(A3248,Feriados!A:A,1,FALSE)),\"n\",VLOOKUP(A3248,Feriados!A:A,1,FALSE))","v":"n"}]
[47809,2234,{"$f":"IF(E3249<>\"n\",COUNTIF(B3249:$B$4018,B3249),IF(D3249<6,0,COUNTIF(B3249:$B$4018,B3249)))","v":0},5,{"$f":"IF(ISERROR(VLOOKUP(A3249,Feriados!A:A,1,FALSE)),\"n\",VLOOKUP(A3249,Feriados!A:A,1,FALSE))","v":"n"}]
[47810,2234,{"$f":"IF(E3250<>\"n\",COUNTIF(B3250:$B$4018,B3250),IF(D3250<6,0,COUNTIF(B3250:$B$4018,B3250)))","v":2},6,{"$f":"IF(ISERROR(VLOOKUP(A3250,Feriados!A:A,1,FALSE)),\"n\",VLOOKUP(A3250,Feriados!A:A,1,FALSE))","v":"n"}]
[47811,2234,{"$f":"IF(E3251<>\"n\",COUNTIF(B3251:$B$4018,B3251),IF(D3251<6,0,COUNTIF(B3251:$B$4018,B3251)))","v":1},7,{"$f":"IF(ISERROR(VLOOKUP(A3251,Feriados!A:A,1,FALSE)),\"n\",VLOOKUP(A3251,Feriados!A:A,1,FALSE))","v":"n"}]
[47812,2235,{"$f":"IF(E3252<>\"n\",COUNTIF(B3252:$B$4018,B3252),IF(D3252<6,0,COUNTIF(B3252:$B$4018,B3252)))","v":0},1,{"$f":"IF(ISERROR(VLOOKUP(A3252,Feriados!A:A,1,FALSE)),\"n\",VLOOKUP(A3252,Feriados!A:A,1,FALSE))","v":"n"}]
[47813,2236,{"$f":"IF(E3253<>\"n\",COUNTIF(B3253:$B$4018,B3253),IF(D3253<6,0,COUNTIF(B3253:$B$4018,B3253)))","v":0},2,{"$f":"IF(ISERROR(VLOOKUP(A3253,Feriados!A:A,1,FALSE)),\"n\",VLOOKUP(A3253,Feriados!A:A,1,FALSE))","v":"n"}]
[47814,2237,{"$f":"IF(E3254<>\"n\",COUNTIF(B3254:$B$4018,B3254),IF(D3254<6,0,COUNTIF(B3254:$B$4018,B3254)))","v":0},3,{"$f":"IF(ISERROR(VLOOKUP(A3254,Feriados!A:A,1,FALSE)),\"n\",VLOOKUP(A3254,Feriados!A:A,1,FALSE))","v":"n"}]
[47815,2238,{"$f":"IF(E3255<>\"n\",COUNTIF(B3255:$B$4018,B3255),IF(D3255<6,0,COUNTIF(B3255:$B$4018,B3255)))","v":0},4,{"$f":"IF(ISERROR(VLOOKUP(A3255,Feriados!A:A,1,FALSE)),\"n\",VLOOKUP(A3255,Feriados!A:A,1,FALSE))","v":"n"}]
[47816,2239,{"$f":"IF(E3256<>\"n\",COUNTIF(B3256:$B$4018,B3256),IF(D3256<6,0,COUNTIF(B3256:$B$4018,B3256)))","v":0},5,{"$f":"IF(ISERROR(VLOOKUP(A3256,Feriados!A:A,1,FALSE)),\"n\",VLOOKUP(A3256,Feriados!A:A,1,FALSE))","v":"n"}]
[47817,2239,{"$f":"IF(E3257<>\"n\",COUNTIF(B3257:$B$4018,B3257),IF(D3257<6,0,COUNTIF(B3257:$B$4018,B3257)))","v":2},6,{"$f":"IF(ISERROR(VLOOKUP(A3257,Feriados!A:A,1,FALSE)),\"n\",VLOOKUP(A3257,Feriados!A:A,1,FALSE))","v":"n"}]
[47818,2239,{"$f":"IF(E3258<>\"n\",COUNTIF(B3258:$B$4018,B3258),IF(D3258<6,0,COUNTIF(B3258:$B$4018,B3258)))","v":1},7,{"$f":"IF(ISERROR(VLOOKUP(A3258,Feriados!A:A,1,FALSE)),\"n\",VLOOKUP(A3258,Feriados!A:A,1,FALSE))","v":"n"}]
[47819,2240,{"$f":"IF(E3259<>\"n\",COUNTIF(B3259:$B$4018,B3259),IF(D3259<6,0,COUNTIF(B3259:$B$4018,B3259)))","v":0},1,{"$f":"IF(ISERROR(VLOOKUP(A3259,Feriados!A:A,1,FALSE)),\"n\",VLOOKUP(A3259,Feriados!A:A,1,FALSE))","v":"n"}]
[47820,2241,{"$f":"IF(E3260<>\"n\",COUNTIF(B3260:$B$4018,B3260),IF(D3260<6,0,COUNTIF(B3260:$B$4018,B3260)))","v":0},2,{"$f":"IF(ISERROR(VLOOKUP(A3260,Feriados!A:A,1,FALSE)),\"n\",VLOOKUP(A3260,Feriados!A:A,1,FALSE))","v":"n"}]
[47821,2242,{"$f":"IF(E3261<>\"n\",COUNTIF(B3261:$B$4018,B3261),IF(D3261<6,0,COUNTIF(B3261:$B$4018,B3261)))","v":0},3,{"$f":"IF(ISERROR(VLOOKUP(A3261,Feriados!A:A,1,FALSE)),\"n\",VLOOKUP(A3261,Feriados!A:A,1,FALSE))","v":"n"}]
[47822,2243,{"$f":"IF(E3262<>\"n\",COUNTIF(B3262:$B$4018,B3262),IF(D3262<6,0,COUNTIF(B3262:$B$4018,B3262)))","v":0},4,{"$f":"IF(ISERROR(VLOOKUP(A3262,Feriados!A:A,1,FALSE)),\"n\",VLOOKUP(A3262,Feriados!A:A,1,FALSE))","v":"n"}]
[47823,2244,{"$f":"IF(E3263<>\"n\",COUNTIF(B3263:$B$4018,B3263),IF(D3263<6,0,COUNTIF(B3263:$B$4018,B3263)))","v":0},5,{"$f":"IF(ISERROR(VLOOKUP(A3263,Feriados!A:A,1,FALSE)),\"n\",VLOOKUP(A3263,Feriados!A:A,1,FALSE))","v":"n"}]
[47824,2244,{"$f":"IF(E3264<>\"n\",COUNTIF(B3264:$B$4018,B3264),IF(D3264<6,0,COUNTIF(B3264:$B$4018,B3264)))","v":2},6,{"$f":"IF(ISERROR(VLOOKUP(A3264,Feriados!A:A,1,FALSE)),\"n\",VLOOKUP(A3264,Feriados!A:A,1,FALSE))","v":"n"}]
[47825,2244,{"$f":"IF(E3265<>\"n\",COUNTIF(B3265:$B$4018,B3265),IF(D3265<6,0,COUNTIF(B3265:$B$4018,B3265)))","v":1},7,{"$f":"IF(ISERROR(VLOOKUP(A3265,Feriados!A:A,1,FALSE)),\"n\",VLOOKUP(A3265,Feriados!A:A,1,FALSE))","v":"n"}]
[47826,2245,{"$f":"IF(E3266<>\"n\",COUNTIF(B3266:$B$4018,B3266),IF(D3266<6,0,COUNTIF(B3266:$B$4018,B3266)))","v":0},1,{"$f":"IF(ISERROR(VLOOKUP(A3266,Feriados!A:A,1,FALSE)),\"n\",VLOOKUP(A3266,Feriados!A:A,1,FALSE))","v":"n"}]
[47827,2246,{"$f":"IF(E3267<>\"n\",COUNTIF(B3267:$B$4018,B3267),IF(D3267<6,0,COUNTIF(B3267:$B$4018,B3267)))","v":0},2,{"$f":"IF(ISERROR(VLOOKUP(A3267,Feriados!A:A,1,FALSE)),\"n\",VLOOKUP(A3267,Feriados!A:A,1,FALSE))","v":"n"}]
[{"$f":"A3267+1","v":47828},2247,{"$f":"IF(E3268<>\"n\",COUNTIF(B3268:$B$4018,B3268),IF(D3268<6,0,COUNTIF(B3268:$B$4018,B3268)))","v":0},3,{"$f":"IF(ISERROR(VLOOKUP(A3268,Feriados!A:A,1,FALSE)),\"n\",VLOOKUP(A3268,Feriados!A:A,1,FALSE))","v":"n"}]
[47829,2248,{"$f":"IF(E3269<>\"n\",COUNTIF(B3269:$B$4018,B3269),IF(D3269<6,0,COUNTIF(B3269:$B$4018,B3269)))","v":0},4,{"$f":"IF(ISERROR(VLOOKUP(A3269,Feriados!A:A,1,FALSE)),\"n\",VLOOKUP(A3269,Feriados!A:A,1,FALSE))","v":"n"}]
[47830,2249,{"$f":"IF(E3270<>\"n\",COUNTIF(B3270:$B$4018,B3270),IF(D3270<6,0,COUNTIF(B3270:$B$4018,B3270)))","v":0},5,{"$f":"IF(ISERROR(VLOOKUP(A3270,Feriados!A:A,1,FALSE)),\"n\",VLOOKUP(A3270,Feriados!A:A,1,FALSE))","v":"n"}]
[47831,2249,{"$f":"IF(E3271<>\"n\",COUNTIF(B3271:$B$4018,B3271),IF(D3271<6,0,COUNTIF(B3271:$B$4018,B3271)))","v":2},6,{"$f":"IF(ISERROR(VLOOKUP(A3271,Feriados!A:A,1,FALSE)),\"n\",VLOOKUP(A3271,Feriados!A:A,1,FALSE))","v":"n"}]
[47832,2249,{"$f":"IF(E3272<>\"n\",COUNTIF(B3272:$B$4018,B3272),IF(D3272<6,0,COUNTIF(B3272:$B$4018,B3272)))","v":1},7,{"$f":"IF(ISERROR(VLOOKUP(A3272,Feriados!A:A,1,FALSE)),\"n\",VLOOKUP(A3272,Feriados!A:A,1,FALSE))","v":"n"}]
[47833,2250,{"$f":"IF(E3273<>\"n\",COUNTIF(B3273:$B$4018,B3273),IF(D3273<6,0,COUNTIF(B3273:$B$4018,B3273)))","v":0},1,{"$f":"IF(ISERROR(VLOOKUP(A3273,Feriados!A:A,1,FALSE)),\"n\",VLOOKUP(A3273,Feriados!A:A,1,FALSE))","v":"n"}]
[47834,2251,{"$f":"IF(E3274<>\"n\",COUNTIF(B3274:$B$4018,B3274),IF(D3274<6,0,COUNTIF(B3274:$B$4018,B3274)))","v":0},2,{"$f":"IF(ISERROR(VLOOKUP(A3274,Feriados!A:A,1,FALSE)),\"n\",VLOOKUP(A3274,Feriados!A:A,1,FALSE))","v":"n"}]
[47835,2252,{"$f":"IF(E3275<>\"n\",COUNTIF(B3275:$B$4018,B3275),IF(D3275<6,0,COUNTIF(B3275:$B$4018,B3275)))","v":0},3,{"$f":"IF(ISERROR(VLOOKUP(A3275,Feriados!A:A,1,FALSE)),\"n\",VLOOKUP(A3275,Feriados!A:A,1,FALSE))","v":"n"}]
[47836,2253,{"$f":"IF(E3276<>\"n\",COUNTIF(B3276:$B$4018,B3276),IF(D3276<6,0,COUNTIF(B3276:$B$4018,B3276)))","v":0},4,{"$f":"IF(ISERROR(VLOOKUP(A3276,Feriados!A:A,1,FALSE)),\"n\",VLOOKUP(A3276,Feriados!A:A,1,FALSE))","v":"n"}]
[47837,2254,{"$f":"IF(E3277<>\"n\",COUNTIF(B3277:$B$4018,B3277),IF(D3277<6,0,COUNTIF(B3277:$B$4018,B3277)))","v":0},5,{"$f":"IF(ISERROR(VLOOKUP(A3277,Feriados!A:A,1,FALSE)),\"n\",VLOOKUP(A3277,Feriados!A:A,1,FALSE))","v":"n"}]
[47838,2254,{"$f":"IF(E3278<>\"n\",COUNTIF(B3278:$B$4018,B3278),IF(D3278<6,0,COUNTIF(B3278:$B$4018,B3278)))","v":2},6,{"$f":"IF(ISERROR(VLOOKUP(A3278,Feriados!A:A,1,FALSE)),\"n\",VLOOKUP(A3278,Feriados!A:A,1,FALSE))","v":"n"}]
[47839,2254,{"$f":"IF(E3279<>\"n\",COUNTIF(B3279:$B$4018,B3279),IF(D3279<6,0,COUNTIF(B3279:$B$4018,B3279)))","v":1},7,{"$f":"IF(ISERROR(VLOOKUP(A3279,Feriados!A:A,1,FALSE)),\"n\",VLOOKUP(A3279,Feriados!A:A,1,FALSE))","v":"n"}]
[47840,2255,{"$f":"IF(E3280<>\"n\",COUNTIF(B3280:$B$4018,B3280),IF(D3280<6,0,COUNTIF(B3280:$B$4018,B3280)))","v":0},1,{"$f":"IF(ISERROR(VLOOKUP(A3280,Feriados!A:A,1,FALSE)),\"n\",VLOOKUP(A3280,Feriados!A:A,1,FALSE))","v":"n"}]
[47841,2256,{"$f":"IF(E3281<>\"n\",COUNTIF(B3281:$B$4018,B3281),IF(D3281<6,0,COUNTIF(B3281:$B$4018,B3281)))","v":0},2,{"$f":"IF(ISERROR(VLOOKUP(A3281,Feriados!A:A,1,FALSE)),\"n\",VLOOKUP(A3281,Feriados!A:A,1,FALSE))","v":"n"}]
[47842,2256,{"$f":"IF(E3282<>\"n\",COUNTIF(B3282:$B$4018,B3282),IF(D3282<6,0,COUNTIF(B3282:$B$4018,B3282)))","v":1},3,{"$f":"IF(ISERROR(VLOOKUP(A3282,Feriados!A:A,1,FALSE)),\"n\",VLOOKUP(A3282,Feriados!A:A,1,FALSE))","v":"2030-12-25"}]
[47843,2257,{"$f":"IF(E3283<>\"n\",COUNTIF(B3283:$B$4018,B3283),IF(D3283<6,0,COUNTIF(B3283:$B$4018,B3283)))","v":0},4,{"$f":"IF(ISERROR(VLOOKUP(A3283,Feriados!A:A,1,FALSE)),\"n\",VLOOKUP(A3283,Feriados!A:A,1,FALSE))","v":"n"}]
[47844,2258,{"$f":"IF(E3284<>\"n\",COUNTIF(B3284:$B$4018,B3284),IF(D3284<6,0,COUNTIF(B3284:$B$4018,B3284)))","v":0},5,{"$f":"IF(ISERROR(VLOOKUP(A3284,Feriados!A:A,1,FALSE)),\"n\",VLOOKUP(A3284,Feriados!A:A,1,FALSE))","v":"n"}]
[47845,2258,{"$f":"IF(E3285<>\"n\",COUNTIF(B3285:$B$4018,B3285),IF(D3285<6,0,COUNTIF(B3285:$B$4018,B3285)))","v":2},6,{"$f":"IF(ISERROR(VLOOKUP(A3285,Feriados!A:A,1,FALSE)),\"n\",VLOOKUP(A3285,Feriados!A:A,1,FALSE))","v":"n"}]
[47846,2258,{"$f":"IF(E3286<>\"n\",COUNTIF(B3286:$B$4018,B3286),IF(D3286<6,0,COUNTIF(B3286:$B$4018,B3286)))","v":1},7,{"$f":"IF(ISERROR(VLOOKUP(A3286,Feriados!A:A,1,FALSE)),\"n\",VLOOKUP(A3286,Feriados!A:A,1,FALSE))","v":"n"}]
[47847,2259,{"$f":"IF(E3287<>\"n\",COUNTIF(B3287:$B$4018,B3287),IF(D3287<6,0,COUNTIF(B3287:$B$4018,B3287)))","v":0},1,{"$f":"IF(ISERROR(VLOOKUP(A3287,Feriados!A:A,1,FALSE)),\"n\",VLOOKUP(A3287,Feriados!A:A,1,FALSE))","v":"n"}]
[47848,2260,{"$f":"IF(E3288<>\"n\",COUNTIF(B3288:$B$4018,B3288),IF(D3288<6,0,COUNTIF(B3288:$B$4018,B3288)))","v":0},2,{"$f":"IF(ISERROR(VLOOKUP(A3288,Feriados!A:A,1,FALSE)),\"n\",VLOOKUP(A3288,Feriados!A:A,1,FALSE))","v":"n"}]
[47849,2260,{"$f":"IF(E3289<>\"n\",COUNTIF(B3289:$B$4018,B3289),IF(D3289<6,0,COUNTIF(B3289:$B$4018,B3289)))","v":1},3,{"$f":"IF(ISERROR(VLOOKUP(A3289,Feriados!A:A,1,FALSE)),\"n\",VLOOKUP(A3289,Feriados!A:A,1,FALSE))","v":"2031-01-01"}]
[47850,2261,{"$f":"IF(E3290<>\"n\",COUNTIF(B3290:$B$4018,B3290),IF(D3290<6,0,COUNTIF(B3290:$B$4018,B3290)))","v":0},4,{"$f":"IF(ISERROR(VLOOKUP(A3290,Feriados!A:A,1,FALSE)),\"n\",VLOOKUP(A3290,Feriados!A:A,1,FALSE))","v":"n"}]
[47851,2262,{"$f":"IF(E3291<>\"n\",COUNTIF(B3291:$B$4018,B3291),IF(D3291<6,0,COUNTIF(B3291:$B$4018,B3291)))","v":0},5,{"$f":"IF(ISERROR(VLOOKUP(A3291,Feriados!A:A,1,FALSE)),\"n\",VLOOKUP(A3291,Feriados!A:A,1,FALSE))","v":"n"}]
[47852,2262,{"$f":"IF(E3292<>\"n\",COUNTIF(B3292:$B$4018,B3292),IF(D3292<6,0,COUNTIF(B3292:$B$4018,B3292)))","v":2},6,{"$f":"IF(ISERROR(VLOOKUP(A3292,Feriados!A:A,1,FALSE)),\"n\",VLOOKUP(A3292,Feriados!A:A,1,FALSE))","v":"n"}]
[47853,2262,{"$f":"IF(E3293<>\"n\",COUNTIF(B3293:$B$4018,B3293),IF(D3293<6,0,COUNTIF(B3293:$B$4018,B3293)))","v":1},7,{"$f":"IF(ISERROR(VLOOKUP(A3293,Feriados!A:A,1,FALSE)),\"n\",VLOOKUP(A3293,Feriados!A:A,1,FALSE))","v":"n"}]
[47854,{"$f":"NETWORKDAYS($A$2,A3294,feriados)","v":2263},{"$f":"IF(E3294<>\"n\",COUNTIF(B3294:$B$4018,B3294),IF(D3294<6,0,COUNTIF(B3294:$B$4018,B3294)))","v":0},{"$f":"WEEKDAY(A3294,2)","v":1},{"$f":"IF(ISERROR(VLOOKUP(A3294,Feriados!A:A,1,FALSE)),\"n\",VLOOKUP(A3294,Feriados!A:A,1,FALSE))","v":"n"}]
[47855,2264,{"$f":"IF(E3295<>\"n\",COUNTIF(B3295:$B$4018,B3295),IF(D3295<6,0,COUNTIF(B3295:$B$4018,B3295)))","v":0},2,{"$f":"IF(ISERROR(VLOOKUP(A3295,Feriados!A:A,1,FALSE)),\"n\",VLOOKUP(A3295,Feriados!A:A,1,FALSE))","v":"n"}]
[47856,2265,{"$f":"IF(E3296<>\"n\",COUNTIF(B3296:$B$4018,B3296),IF(D3296<6,0,COUNTIF(B3296:$B$4018,B3296)))","v":0},3,{"$f":"IF(ISERROR(VLOOKUP(A3296,Feriados!A:A,1,FALSE)),\"n\",VLOOKUP(A3296,Feriados!A:A,1,FALSE))","v":"n"}]
[47857,2266,{"$f":"IF(E3297<>\"n\",COUNTIF(B3297:$B$4018,B3297),IF(D3297<6,0,COUNTIF(B3297:$B$4018,B3297)))","v":0},4,{"$f":"IF(ISERROR(VLOOKUP(A3297,Feriados!A:A,1,FALSE)),\"n\",VLOOKUP(A3297,Feriados!A:A,1,FALSE))","v":"n"}]
[47858,2267,{"$f":"IF(E3298<>\"n\",COUNTIF(B3298:$B$4018,B3298),IF(D3298<6,0,COUNTIF(B3298:$B$4018,B3298)))","v":0},5,{"$f":"IF(ISERROR(VLOOKUP(A3298,Feriados!A:A,1,FALSE)),\"n\",VLOOKUP(A3298,Feriados!A:A,1,FALSE))","v":"n"}]
[47859,2267,{"$f":"IF(E3299<>\"n\",COUNTIF(B3299:$B$4018,B3299),IF(D3299<6,0,COUNTIF(B3299:$B$4018,B3299)))","v":2},6,{"$f":"IF(ISERROR(VLOOKUP(A3299,Feriados!A:A,1,FALSE)),\"n\",VLOOKUP(A3299,Feriados!A:A,1,FALSE))","v":"n"}]
[47860,2267,{"$f":"IF(E3300<>\"n\",COUNTIF(B3300:$B$4018,B3300),IF(D3300<6,0,COUNTIF(B3300:$B$4018,B3300)))","v":1},7,{"$f":"IF(ISERROR(VLOOKUP(A3300,Feriados!A:A,1,FALSE)),\"n\",VLOOKUP(A3300,Feriados!A:A,1,FALSE))","v":"n"}]
[47861,2268,{"$f":"IF(E3301<>\"n\",COUNTIF(B3301:$B$4018,B3301),IF(D3301<6,0,COUNTIF(B3301:$B$4018,B3301)))","v":0},1,{"$f":"IF(ISERROR(VLOOKUP(A3301,Feriados!A:A,1,FALSE)),\"n\",VLOOKUP(A3301,Feriados!A:A,1,FALSE))","v":"n"}]
[47862,2269,{"$f":"IF(E3302<>\"n\",COUNTIF(B3302:$B$4018,B3302),IF(D3302<6,0,COUNTIF(B3302:$B$4018,B3302)))","v":0},2,{"$f":"IF(ISERROR(VLOOKUP(A3302,Feriados!A:A,1,FALSE)),\"n\",VLOOKUP(A3302,Feriados!A:A,1,FALSE))","v":"n"}]
[47863,2270,{"$f":"IF(E3303<>\"n\",COUNTIF(B3303:$B$4018,B3303),IF(D3303<6,0,COUNTIF(B3303:$B$4018,B3303)))","v":0},3,{"$f":"IF(ISERROR(VLOOKUP(A3303,Feriados!A:A,1,FALSE)),\"n\",VLOOKUP(A3303,Feriados!A:A,1,FALSE))","v":"n"}]
[47864,2271,{"$f":"IF(E3304<>\"n\",COUNTIF(B3304:$B$4018,B3304),IF(D3304<6,0,COUNTIF(B3304:$B$4018,B3304)))","v":0},4,{"$f":"IF(ISERROR(VLOOKUP(A3304,Feriados!A:A,1,FALSE)),\"n\",VLOOKUP(A3304,Feriados!A:A,1,FALSE))","v":"n"}]
[47865,2272,{"$f":"IF(E3305<>\"n\",COUNTIF(B3305:$B$4018,B3305),IF(D3305<6,0,COUNTIF(B3305:$B$4018,B3305)))","v":0},5,{"$f":"IF(ISERROR(VLOOKUP(A3305,Feriados!A:A,1,FALSE)),\"n\",VLOOKUP(A3305,Feriados!A:A,1,FALSE))","v":"n"}]
[47866,2272,{"$f":"IF(E3306<>\"n\",COUNTIF(B3306:$B$4018,B3306),IF(D3306<6,0,COUNTIF(B3306:$B$4018,B3306)))","v":2},6,{"$f":"IF(ISERROR(VLOOKUP(A3306,Feriados!A:A,1,FALSE)),\"n\",VLOOKUP(A3306,Feriados!A:A,1,FALSE))","v":"n"}]
[47867,2272,{"$f":"IF(E3307<>\"n\",COUNTIF(B3307:$B$4018,B3307),IF(D3307<6,0,COUNTIF(B3307:$B$4018,B3307)))","v":1},7,{"$f":"IF(ISERROR(VLOOKUP(A3307,Feriados!A:A,1,FALSE)),\"n\",VLOOKUP(A3307,Feriados!A:A,1,FALSE))","v":"n"}]
[47868,2273,{"$f":"IF(E3308<>\"n\",COUNTIF(B3308:$B$4018,B3308),IF(D3308<6,0,COUNTIF(B3308:$B$4018,B3308)))","v":0},1,{"$f":"IF(ISERROR(VLOOKUP(A3308,Feriados!A:A,1,FALSE)),\"n\",VLOOKUP(A3308,Feriados!A:A,1,FALSE))","v":"n"}]
[47869,2274,{"$f":"IF(E3309<>\"n\",COUNTIF(B3309:$B$4018,B3309),IF(D3309<6,0,COUNTIF(B3309:$B$4018,B3309)))","v":0},2,{"$f":"IF(ISERROR(VLOOKUP(A3309,Feriados!A:A,1,FALSE)),\"n\",VLOOKUP(A3309,Feriados!A:A,1,FALSE))","v":"n"}]
[47870,2275,{"$f":"IF(E3310<>\"n\",COUNTIF(B3310:$B$4018,B3310),IF(D3310<6,0,COUNTIF(B3310:$B$4018,B3310)))","v":0},3,{"$f":"IF(ISERROR(VLOOKUP(A3310,Feriados!A:A,1,FALSE)),\"n\",VLOOKUP(A3310,Feriados!A:A,1,FALSE))","v":"n"}]
[47871,2276,{"$f":"IF(E3311<>\"n\",COUNTIF(B3311:$B$4018,B3311),IF(D3311<6,0,COUNTIF(B3311:$B$4018,B3311)))","v":0},4,{"$f":"IF(ISERROR(VLOOKUP(A3311,Feriados!A:A,1,FALSE)),\"n\",VLOOKUP(A3311,Feriados!A:A,1,FALSE))","v":"n"}]
[47872,2277,{"$f":"IF(E3312<>\"n\",COUNTIF(B3312:$B$4018,B3312),IF(D3312<6,0,COUNTIF(B3312:$B$4018,B3312)))","v":0},5,{"$f":"IF(ISERROR(VLOOKUP(A3312,Feriados!A:A,1,FALSE)),\"n\",VLOOKUP(A3312,Feriados!A:A,1,FALSE))","v":"n"}]
[47873,2277,{"$f":"IF(E3313<>\"n\",COUNTIF(B3313:$B$4018,B3313),IF(D3313<6,0,COUNTIF(B3313:$B$4018,B3313)))","v":2},6,{"$f":"IF(ISERROR(VLOOKUP(A3313,Feriados!A:A,1,FALSE)),\"n\",VLOOKUP(A3313,Feriados!A:A,1,FALSE))","v":"n"}]
[47874,2277,{"$f":"IF(E3314<>\"n\",COUNTIF(B3314:$B$4018,B3314),IF(D3314<6,0,COUNTIF(B3314:$B$4018,B3314)))","v":1},7,{"$f":"IF(ISERROR(VLOOKUP(A3314,Feriados!A:A,1,FALSE)),\"n\",VLOOKUP(A3314,Feriados!A:A,1,FALSE))","v":"n"}]
[47875,2278,{"$f":"IF(E3315<>\"n\",COUNTIF(B3315:$B$4018,B3315),IF(D3315<6,0,COUNTIF(B3315:$B$4018,B3315)))","v":0},1,{"$f":"IF(ISERROR(VLOOKUP(A3315,Feriados!A:A,1,FALSE)),\"n\",VLOOKUP(A3315,Feriados!A:A,1,FALSE))","v":"n"}]
[47876,2279,{"$f":"IF(E3316<>\"n\",COUNTIF(B3316:$B$4018,B3316),IF(D3316<6,0,COUNTIF(B3316:$B$4018,B3316)))","v":0},2,{"$f":"IF(ISERROR(VLOOKUP(A3316,Feriados!A:A,1,FALSE)),\"n\",VLOOKUP(A3316,Feriados!A:A,1,FALSE))","v":"n"}]
[47877,2280,{"$f":"IF(E3317<>\"n\",COUNTIF(B3317:$B$4018,B3317),IF(D3317<6,0,COUNTIF(B3317:$B$4018,B3317)))","v":0},3,{"$f":"IF(ISERROR(VLOOKUP(A3317,Feriados!A:A,1,FALSE)),\"n\",VLOOKUP(A3317,Feriados!A:A,1,FALSE))","v":"n"}]
[47878,2281,{"$f":"IF(E3318<>\"n\",COUNTIF(B3318:$B$4018,B3318),IF(D3318<6,0,COUNTIF(B3318:$B$4018,B3318)))","v":0},4,{"$f":"IF(ISERROR(VLOOKUP(A3318,Feriados!A:A,1,FALSE)),\"n\",VLOOKUP(A3318,Feriados!A:A,1,FALSE))","v":"n"}]
[47879,2282,{"$f":"IF(E3319<>\"n\",COUNTIF(B3319:$B$4018,B3319),IF(D3319<6,0,COUNTIF(B3319:$B$4018,B3319)))","v":0},5,{"$f":"IF(ISERROR(VLOOKUP(A3319,Feriados!A:A,1,FALSE)),\"n\",VLOOKUP(A3319,Feriados!A:A,1,FALSE))","v":"n"}]
[47880,2282,{"$f":"IF(E3320<>\"n\",COUNTIF(B3320:$B$4018,B3320),IF(D3320<6,0,COUNTIF(B3320:$B$4018,B3320)))","v":2},6,{"$f":"IF(ISERROR(VLOOKUP(A3320,Feriados!A:A,1,FALSE)),\"n\",VLOOKUP(A3320,Feriados!A:A,1,FALSE))","v":"n"}]
[47881,2282,{"$f":"IF(E3321<>\"n\",COUNTIF(B3321:$B$4018,B3321),IF(D3321<6,0,COUNTIF(B3321:$B$4018,B3321)))","v":1},7,{"$f":"IF(ISERROR(VLOOKUP(A3321,Feriados!A:A,1,FALSE)),\"n\",VLOOKUP(A3321,Feriados!A:A,1,FALSE))","v":"n"}]
[47882,2283,{"$f":"IF(E3322<>\"n\",COUNTIF(B3322:$B$4018,B3322),IF(D3322<6,0,COUNTIF(B3322:$B$4018,B3322)))","v":0},1,{"$f":"IF(ISERROR(VLOOKUP(A3322,Feriados!A:A,1,FALSE)),\"n\",VLOOKUP(A3322,Feriados!A:A,1,FALSE))","v":"n"}]
[47883,2284,{"$f":"IF(E3323<>\"n\",COUNTIF(B3323:$B$4018,B3323),IF(D3323<6,0,COUNTIF(B3323:$B$4018,B3323)))","v":0},2,{"$f":"IF(ISERROR(VLOOKUP(A3323,Feriados!A:A,1,FALSE)),\"n\",VLOOKUP(A3323,Feriados!A:A,1,FALSE))","v":"n"}]
[47884,2285,{"$f":"IF(E3324<>\"n\",COUNTIF(B3324:$B$4018,B3324),IF(D3324<6,0,COUNTIF(B3324:$B$4018,B3324)))","v":0},3,{"$f":"IF(ISERROR(VLOOKUP(A3324,Feriados!A:A,1,FALSE)),\"n\",VLOOKUP(A3324,Feriados!A:A,1,FALSE))","v":"n"}]
[47885,2286,{"$f":"IF(E3325<>\"n\",COUNTIF(B3325:$B$4018,B3325),IF(D3325<6,0,COUNTIF(B3325:$B$4018,B3325)))","v":0},4,{"$f":"IF(ISERROR(VLOOKUP(A3325,Feriados!A:A,1,FALSE)),\"n\",VLOOKUP(A3325,Feriados!A:A,1,FALSE))","v":"n"}]
[47886,2287,{"$f":"IF(E3326<>\"n\",COUNTIF(B3326:$B$4018,B3326),IF(D3326<6,0,COUNTIF(B3326:$B$4018,B3326)))","v":0},5,{"$f":"IF(ISERROR(VLOOKUP(A3326,Feriados!A:A,1,FALSE)),\"n\",VLOOKUP(A3326,Feriados!A:A,1,FALSE))","v":"n"}]
[47887,2287,{"$f":"IF(E3327<>\"n\",COUNTIF(B3327:$B$4018,B3327),IF(D3327<6,0,COUNTIF(B3327:$B$4018,B3327)))","v":2},6,{"$f":"IF(ISERROR(VLOOKUP(A3327,Feriados!A:A,1,FALSE)),\"n\",VLOOKUP(A3327,Feriados!A:A,1,FALSE))","v":"n"}]
[47888,2287,{"$f":"IF(E3328<>\"n\",COUNTIF(B3328:$B$4018,B3328),IF(D3328<6,0,COUNTIF(B3328:$B$4018,B3328)))","v":1},7,{"$f":"IF(ISERROR(VLOOKUP(A3328,Feriados!A:A,1,FALSE)),\"n\",VLOOKUP(A3328,Feriados!A:A,1,FALSE))","v":"n"}]
[47889,2288,{"$f":"IF(E3329<>\"n\",COUNTIF(B3329:$B$4018,B3329),IF(D3329<6,0,COUNTIF(B3329:$B$4018,B3329)))","v":0},1,{"$f":"IF(ISERROR(VLOOKUP(A3329,Feriados!A:A,1,FALSE)),\"n\",VLOOKUP(A3329,Feriados!A:A,1,FALSE))","v":"n"}]
[47890,2289,{"$f":"IF(E3330<>\"n\",COUNTIF(B3330:$B$4018,B3330),IF(D3330<6,0,COUNTIF(B3330:$B$4018,B3330)))","v":0},2,{"$f":"IF(ISERROR(VLOOKUP(A3330,Feriados!A:A,1,FALSE)),\"n\",VLOOKUP(A3330,Feriados!A:A,1,FALSE))","v":"n"}]
[47891,2290,{"$f":"IF(E3331<>\"n\",COUNTIF(B3331:$B$4018,B3331),IF(D3331<6,0,COUNTIF(B3331:$B$4018,B3331)))","v":0},3,{"$f":"IF(ISERROR(VLOOKUP(A3331,Feriados!A:A,1,FALSE)),\"n\",VLOOKUP(A3331,Feriados!A:A,1,FALSE))","v":"n"}]
[{"$f":"A3331+1","v":47892},2291,{"$f":"IF(E3332<>\"n\",COUNTIF(B3332:$B$4018,B3332),IF(D3332<6,0,COUNTIF(B3332:$B$4018,B3332)))","v":0},4,{"$f":"IF(ISERROR(VLOOKUP(A3332,Feriados!A:A,1,FALSE)),\"n\",VLOOKUP(A3332,Feriados!A:A,1,FALSE))","v":"n"}]
[47893,2292,{"$f":"IF(E3333<>\"n\",COUNTIF(B3333:$B$4018,B3333),IF(D3333<6,0,COUNTIF(B3333:$B$4018,B3333)))","v":0},5,{"$f":"IF(ISERROR(VLOOKUP(A3333,Feriados!A:A,1,FALSE)),\"n\",VLOOKUP(A3333,Feriados!A:A,1,FALSE))","v":"n"}]
[47894,2292,{"$f":"IF(E3334<>\"n\",COUNTIF(B3334:$B$4018,B3334),IF(D3334<6,0,COUNTIF(B3334:$B$4018,B3334)))","v":2},6,{"$f":"IF(ISERROR(VLOOKUP(A3334,Feriados!A:A,1,FALSE)),\"n\",VLOOKUP(A3334,Feriados!A:A,1,FALSE))","v":"n"}]
[47895,2292,{"$f":"IF(E3335<>\"n\",COUNTIF(B3335:$B$4018,B3335),IF(D3335<6,0,COUNTIF(B3335:$B$4018,B3335)))","v":1},7,{"$f":"IF(ISERROR(VLOOKUP(A3335,Feriados!A:A,1,FALSE)),\"n\",VLOOKUP(A3335,Feriados!A:A,1,FALSE))","v":"n"}]
[47896,2293,{"$f":"IF(E3336<>\"n\",COUNTIF(B3336:$B$4018,B3336),IF(D3336<6,0,COUNTIF(B3336:$B$4018,B3336)))","v":0},1,{"$f":"IF(ISERROR(VLOOKUP(A3336,Feriados!A:A,1,FALSE)),\"n\",VLOOKUP(A3336,Feriados!A:A,1,FALSE))","v":"n"}]
[47897,2294,{"$f":"IF(E3337<>\"n\",COUNTIF(B3337:$B$4018,B3337),IF(D3337<6,0,COUNTIF(B3337:$B$4018,B3337)))","v":0},2,{"$f":"IF(ISERROR(VLOOKUP(A3337,Feriados!A:A,1,FALSE)),\"n\",VLOOKUP(A3337,Feriados!A:A,1,FALSE))","v":"n"}]
[47898,2295,{"$f":"IF(E3338<>\"n\",COUNTIF(B3338:$B$4018,B3338),IF(D3338<6,0,COUNTIF(B3338:$B$4018,B3338)))","v":0},3,{"$f":"IF(ISERROR(VLOOKUP(A3338,Feriados!A:A,1,FALSE)),\"n\",VLOOKUP(A3338,Feriados!A:A,1,FALSE))","v":"n"}]
[47899,2296,{"$f":"IF(E3339<>\"n\",COUNTIF(B3339:$B$4018,B3339),IF(D3339<6,0,COUNTIF(B3339:$B$4018,B3339)))","v":0},4,{"$f":"IF(ISERROR(VLOOKUP(A3339,Feriados!A:A,1,FALSE)),\"n\",VLOOKUP(A3339,Feriados!A:A,1,FALSE))","v":"n"}]
[47900,2297,{"$f":"IF(E3340<>\"n\",COUNTIF(B3340:$B$4018,B3340),IF(D3340<6,0,COUNTIF(B3340:$B$4018,B3340)))","v":0},5,{"$f":"IF(ISERROR(VLOOKUP(A3340,Feriados!A:A,1,FALSE)),\"n\",VLOOKUP(A3340,Feriados!A:A,1,FALSE))","v":"n"}]
[47901,2297,{"$f":"IF(E3341<>\"n\",COUNTIF(B3341:$B$4018,B3341),IF(D3341<6,0,COUNTIF(B3341:$B$4018,B3341)))","v":4},6,{"$f":"IF(ISERROR(VLOOKUP(A3341,Feriados!A:A,1,FALSE)),\"n\",VLOOKUP(A3341,Feriados!A:A,1,FALSE))","v":"n"}]
[47902,2297,{"$f":"IF(E3342<>\"n\",COUNTIF(B3342:$B$4018,B3342),IF(D3342<6,0,COUNTIF(B3342:$B$4018,B3342)))","v":3},7,{"$f":"IF(ISERROR(VLOOKUP(A3342,Feriados!A:A,1,FALSE)),\"n\",VLOOKUP(A3342,Feriados!A:A,1,FALSE))","v":"n"}]
[47903,2297,{"$f":"IF(E3343<>\"n\",COUNTIF(B3343:$B$4018,B3343),IF(D3343<6,0,COUNTIF(B3343:$B$4018,B3343)))","v":2},1,{"$f":"IF(ISERROR(VLOOKUP(A3343,Feriados!A:A,1,FALSE)),\"n\",VLOOKUP(A3343,Feriados!A:A,1,FALSE))","v":"2031-02-24"}]
[47904,2297,{"$f":"IF(E3344<>\"n\",COUNTIF(B3344:$B$4018,B3344),IF(D3344<6,0,COUNTIF(B3344:$B$4018,B3344)))","v":1},2,{"$f":"IF(ISERROR(VLOOKUP(A3344,Feriados!A:A,1,FALSE)),\"n\",VLOOKUP(A3344,Feriados!A:A,1,FALSE))","v":"2031-02-25"}]
[47905,2298,{"$f":"IF(E3345<>\"n\",COUNTIF(B3345:$B$4018,B3345),IF(D3345<6,0,COUNTIF(B3345:$B$4018,B3345)))","v":0},3,{"$f":"IF(ISERROR(VLOOKUP(A3345,Feriados!A:A,1,FALSE)),\"n\",VLOOKUP(A3345,Feriados!A:A,1,FALSE))","v":"n"}]
[47906,2299,{"$f":"IF(E3346<>\"n\",COUNTIF(B3346:$B$4018,B3346),IF(D3346<6,0,COUNTIF(B3346:$B$4018,B3346)))","v":0},4,{"$f":"IF(ISERROR(VLOOKUP(A3346,Feriados!A:A,1,FALSE)),\"n\",VLOOKUP(A3346,Feriados!A:A,1,FALSE))","v":"n"}]
[47907,2300,{"$f":"IF(E3347<>\"n\",COUNTIF(B3347:$B$4018,B3347),IF(D3347<6,0,COUNTIF(B3347:$B$4018,B3347)))","v":0},5,{"$f":"IF(ISERROR(VLOOKUP(A3347,Feriados!A:A,1,FALSE)),\"n\",VLOOKUP(A3347,Feriados!A:A,1,FALSE))","v":"n"}]
[47908,2300,{"$f":"IF(E3348<>\"n\",COUNTIF(B3348:$B$4018,B3348),IF(D3348<6,0,COUNTIF(B3348:$B$4018,B3348)))","v":2},6,{"$f":"IF(ISERROR(VLOOKUP(A3348,Feriados!A:A,1,FALSE)),\"n\",VLOOKUP(A3348,Feriados!A:A,1,FALSE))","v":"n"}]
[47909,2300,{"$f":"IF(E3349<>\"n\",COUNTIF(B3349:$B$4018,B3349),IF(D3349<6,0,COUNTIF(B3349:$B$4018,B3349)))","v":1},7,{"$f":"IF(ISERROR(VLOOKUP(A3349,Feriados!A:A,1,FALSE)),\"n\",VLOOKUP(A3349,Feriados!A:A,1,FALSE))","v":"n"}]
[47910,2301,{"$f":"IF(E3350<>\"n\",COUNTIF(B3350:$B$4018,B3350),IF(D3350<6,0,COUNTIF(B3350:$B$4018,B3350)))","v":0},1,{"$f":"IF(ISERROR(VLOOKUP(A3350,Feriados!A:A,1,FALSE)),\"n\",VLOOKUP(A3350,Feriados!A:A,1,FALSE))","v":"n"}]
[47911,2302,{"$f":"IF(E3351<>\"n\",COUNTIF(B3351:$B$4018,B3351),IF(D3351<6,0,COUNTIF(B3351:$B$4018,B3351)))","v":0},2,{"$f":"IF(ISERROR(VLOOKUP(A3351,Feriados!A:A,1,FALSE)),\"n\",VLOOKUP(A3351,Feriados!A:A,1,FALSE))","v":"n"}]
[47912,2303,{"$f":"IF(E3352<>\"n\",COUNTIF(B3352:$B$4018,B3352),IF(D3352<6,0,COUNTIF(B3352:$B$4018,B3352)))","v":0},3,{"$f":"IF(ISERROR(VLOOKUP(A3352,Feriados!A:A,1,FALSE)),\"n\",VLOOKUP(A3352,Feriados!A:A,1,FALSE))","v":"n"}]
[47913,2304,{"$f":"IF(E3353<>\"n\",COUNTIF(B3353:$B$4018,B3353),IF(D3353<6,0,COUNTIF(B3353:$B$4018,B3353)))","v":0},4,{"$f":"IF(ISERROR(VLOOKUP(A3353,Feriados!A:A,1,FALSE)),\"n\",VLOOKUP(A3353,Feriados!A:A,1,FALSE))","v":"n"}]
[47914,2305,{"$f":"IF(E3354<>\"n\",COUNTIF(B3354:$B$4018,B3354),IF(D3354<6,0,COUNTIF(B3354:$B$4018,B3354)))","v":0},5,{"$f":"IF(ISERROR(VLOOKUP(A3354,Feriados!A:A,1,FALSE)),\"n\",VLOOKUP(A3354,Feriados!A:A,1,FALSE))","v":"n"}]
[47915,2305,{"$f":"IF(E3355<>\"n\",COUNTIF(B3355:$B$4018,B3355),IF(D3355<6,0,COUNTIF(B3355:$B$4018,B3355)))","v":2},6,{"$f":"IF(ISERROR(VLOOKUP(A3355,Feriados!A:A,1,FALSE)),\"n\",VLOOKUP(A3355,Feriados!A:A,1,FALSE))","v":"n"}]
[47916,2305,{"$f":"IF(E3356<>\"n\",COUNTIF(B3356:$B$4018,B3356),IF(D3356<6,0,COUNTIF(B3356:$B$4018,B3356)))","v":1},7,{"$f":"IF(ISERROR(VLOOKUP(A3356,Feriados!A:A,1,FALSE)),\"n\",VLOOKUP(A3356,Feriados!A:A,1,FALSE))","v":"n"}]
[47917,2306,{"$f":"IF(E3357<>\"n\",COUNTIF(B3357:$B$4018,B3357),IF(D3357<6,0,COUNTIF(B3357:$B$4018,B3357)))","v":0},1,{"$f":"IF(ISERROR(VLOOKUP(A3357,Feriados!A:A,1,FALSE)),\"n\",VLOOKUP(A3357,Feriados!A:A,1,FALSE))","v":"n"}]
[47918,{"$f":"NETWORKDAYS($A$2,A3358,feriados)","v":2307},{"$f":"IF(E3358<>\"n\",COUNTIF(B3358:$B$4018,B3358),IF(D3358<6,0,COUNTIF(B3358:$B$4018,B3358)))","v":0},{"$f":"WEEKDAY(A3358,2)","v":2},{"$f":"IF(ISERROR(VLOOKUP(A3358,Feriados!A:A,1,FALSE)),\"n\",VLOOKUP(A3358,Feriados!A:A,1,FALSE))","v":"n"}]
[47919,2308,{"$f":"IF(E3359<>\"n\",COUNTIF(B3359:$B$4018,B3359),IF(D3359<6,0,COUNTIF(B3359:$B$4018,B3359)))","v":0},3,{"$f":"IF(ISERROR(VLOOKUP(A3359,Feriados!A:A,1,FALSE)),\"n\",VLOOKUP(A3359,Feriados!A:A,1,FALSE))","v":"n"}]
[47920,2309,{"$f":"IF(E3360<>\"n\",COUNTIF(B3360:$B$4018,B3360),IF(D3360<6,0,COUNTIF(B3360:$B$4018,B3360)))","v":0},4,{"$f":"IF(ISERROR(VLOOKUP(A3360,Feriados!A:A,1,FALSE)),\"n\",VLOOKUP(A3360,Feriados!A:A,1,FALSE))","v":"n"}]
[47921,2310,{"$f":"IF(E3361<>\"n\",COUNTIF(B3361:$B$4018,B3361),IF(D3361<6,0,COUNTIF(B3361:$B$4018,B3361)))","v":0},5,{"$f":"IF(ISERROR(VLOOKUP(A3361,Feriados!A:A,1,FALSE)),\"n\",VLOOKUP(A3361,Feriados!A:A,1,FALSE))","v":"n"}]
[47922,2310,{"$f":"IF(E3362<>\"n\",COUNTIF(B3362:$B$4018,B3362),IF(D3362<6,0,COUNTIF(B3362:$B$4018,B3362)))","v":2},6,{"$f":"IF(ISERROR(VLOOKUP(A3362,Feriados!A:A,1,FALSE)),\"n\",VLOOKUP(A3362,Feriados!A:A,1,FALSE))","v":"n"}]
[47923,2310,{"$f":"IF(E3363<>\"n\",COUNTIF(B3363:$B$4018,B3363),IF(D3363<6,0,COUNTIF(B3363:$B$4018,B3363)))","v":1},7,{"$f":"IF(ISERROR(VLOOKUP(A3363,Feriados!A:A,1,FALSE)),\"n\",VLOOKUP(A3363,Feriados!A:A,1,FALSE))","v":"n"}]
[47924,2311,{"$f":"IF(E3364<>\"n\",COUNTIF(B3364:$B$4018,B3364),IF(D3364<6,0,COUNTIF(B3364:$B$4018,B3364)))","v":0},1,{"$f":"IF(ISERROR(VLOOKUP(A3364,Feriados!A:A,1,FALSE)),\"n\",VLOOKUP(A3364,Feriados!A:A,1,FALSE))","v":"n"}]
[47925,2312,{"$f":"IF(E3365<>\"n\",COUNTIF(B3365:$B$4018,B3365),IF(D3365<6,0,COUNTIF(B3365:$B$4018,B3365)))","v":0},2,{"$f":"IF(ISERROR(VLOOKUP(A3365,Feriados!A:A,1,FALSE)),\"n\",VLOOKUP(A3365,Feriados!A:A,1,FALSE))","v":"n"}]
[47926,2313,{"$f":"IF(E3366<>\"n\",COUNTIF(B3366:$B$4018,B3366),IF(D3366<6,0,COUNTIF(B3366:$B$4018,B3366)))","v":0},3,{"$f":"IF(ISERROR(VLOOKUP(A3366,Feriados!A:A,1,FALSE)),\"n\",VLOOKUP(A3366,Feriados!A:A,1,FALSE))","v":"n"}]
[47927,2314,{"$f":"IF(E3367<>\"n\",COUNTIF(B3367:$B$4018,B3367),IF(D3367<6,0,COUNTIF(B3367:$B$4018,B3367)))","v":0},4,{"$f":"IF(ISERROR(VLOOKUP(A3367,Feriados!A:A,1,FALSE)),\"n\",VLOOKUP(A3367,Feriados!A:A,1,FALSE))","v":"n"}]
[47928,2315,{"$f":"IF(E3368<>\"n\",COUNTIF(B3368:$B$4018,B3368),IF(D3368<6,0,COUNTIF(B3368:$B$4018,B3368)))","v":0},5,{"$f":"IF(ISERROR(VLOOKUP(A3368,Feriados!A:A,1,FALSE)),\"n\",VLOOKUP(A3368,Feriados!A:A,1,FALSE))","v":"n"}]
[47929,2315,{"$f":"IF(E3369<>\"n\",COUNTIF(B3369:$B$4018,B3369),IF(D3369<6,0,COUNTIF(B3369:$B$4018,B3369)))","v":2},6,{"$f":"IF(ISERROR(VLOOKUP(A3369,Feriados!A:A,1,FALSE)),\"n\",VLOOKUP(A3369,Feriados!A:A,1,FALSE))","v":"n"}]
[47930,2315,{"$f":"IF(E3370<>\"n\",COUNTIF(B3370:$B$4018,B3370),IF(D3370<6,0,COUNTIF(B3370:$B$4018,B3370)))","v":1},7,{"$f":"IF(ISERROR(VLOOKUP(A3370,Feriados!A:A,1,FALSE)),\"n\",VLOOKUP(A3370,Feriados!A:A,1,FALSE))","v":"n"}]
[47931,2316,{"$f":"IF(E3371<>\"n\",COUNTIF(B3371:$B$4018,B3371),IF(D3371<6,0,COUNTIF(B3371:$B$4018,B3371)))","v":0},1,{"$f":"IF(ISERROR(VLOOKUP(A3371,Feriados!A:A,1,FALSE)),\"n\",VLOOKUP(A3371,Feriados!A:A,1,FALSE))","v":"n"}]
[47932,2317,{"$f":"IF(E3372<>\"n\",COUNTIF(B3372:$B$4018,B3372),IF(D3372<6,0,COUNTIF(B3372:$B$4018,B3372)))","v":0},2,{"$f":"IF(ISERROR(VLOOKUP(A3372,Feriados!A:A,1,FALSE)),\"n\",VLOOKUP(A3372,Feriados!A:A,1,FALSE))","v":"n"}]
[47933,2318,{"$f":"IF(E3373<>\"n\",COUNTIF(B3373:$B$4018,B3373),IF(D3373<6,0,COUNTIF(B3373:$B$4018,B3373)))","v":0},3,{"$f":"IF(ISERROR(VLOOKUP(A3373,Feriados!A:A,1,FALSE)),\"n\",VLOOKUP(A3373,Feriados!A:A,1,FALSE))","v":"n"}]
[47934,2319,{"$f":"IF(E3374<>\"n\",COUNTIF(B3374:$B$4018,B3374),IF(D3374<6,0,COUNTIF(B3374:$B$4018,B3374)))","v":0},4,{"$f":"IF(ISERROR(VLOOKUP(A3374,Feriados!A:A,1,FALSE)),\"n\",VLOOKUP(A3374,Feriados!A:A,1,FALSE))","v":"n"}]
[47935,2320,{"$f":"IF(E3375<>\"n\",COUNTIF(B3375:$B$4018,B3375),IF(D3375<6,0,COUNTIF(B3375:$B$4018,B3375)))","v":0},5,{"$f":"IF(ISERROR(VLOOKUP(A3375,Feriados!A:A,1,FALSE)),\"n\",VLOOKUP(A3375,Feriados!A:A,1,FALSE))","v":"n"}]
[47936,2320,{"$f":"IF(E3376<>\"n\",COUNTIF(B3376:$B$4018,B3376),IF(D3376<6,0,COUNTIF(B3376:$B$4018,B3376)))","v":2},6,{"$f":"IF(ISERROR(VLOOKUP(A3376,Feriados!A:A,1,FALSE)),\"n\",VLOOKUP(A3376,Feriados!A:A,1,FALSE))","v":"n"}]
[47937,2320,{"$f":"IF(E3377<>\"n\",COUNTIF(B3377:$B$4018,B3377),IF(D3377<6,0,COUNTIF(B3377:$B$4018,B3377)))","v":1},7,{"$f":"IF(ISERROR(VLOOKUP(A3377,Feriados!A:A,1,FALSE)),\"n\",VLOOKUP(A3377,Feriados!A:A,1,FALSE))","v":"n"}]
[47938,2321,{"$f":"IF(E3378<>\"n\",COUNTIF(B3378:$B$4018,B3378),IF(D3378<6,0,COUNTIF(B3378:$B$4018,B3378)))","v":0},1,{"$f":"IF(ISERROR(VLOOKUP(A3378,Feriados!A:A,1,FALSE)),\"n\",VLOOKUP(A3378,Feriados!A:A,1,FALSE))","v":"n"}]
[47939,2322,{"$f":"IF(E3379<>\"n\",COUNTIF(B3379:$B$4018,B3379),IF(D3379<6,0,COUNTIF(B3379:$B$4018,B3379)))","v":0},2,{"$f":"IF(ISERROR(VLOOKUP(A3379,Feriados!A:A,1,FALSE)),\"n\",VLOOKUP(A3379,Feriados!A:A,1,FALSE))","v":"n"}]
[47940,2323,{"$f":"IF(E3380<>\"n\",COUNTIF(B3380:$B$4018,B3380),IF(D3380<6,0,COUNTIF(B3380:$B$4018,B3380)))","v":0},3,{"$f":"IF(ISERROR(VLOOKUP(A3380,Feriados!A:A,1,FALSE)),\"n\",VLOOKUP(A3380,Feriados!A:A,1,FALSE))","v":"n"}]
[47941,2324,{"$f":"IF(E3381<>\"n\",COUNTIF(B3381:$B$4018,B3381),IF(D3381<6,0,COUNTIF(B3381:$B$4018,B3381)))","v":0},4,{"$f":"IF(ISERROR(VLOOKUP(A3381,Feriados!A:A,1,FALSE)),\"n\",VLOOKUP(A3381,Feriados!A:A,1,FALSE))","v":"n"}]
[47942,2325,{"$f":"IF(E3382<>\"n\",COUNTIF(B3382:$B$4018,B3382),IF(D3382<6,0,COUNTIF(B3382:$B$4018,B3382)))","v":0},5,{"$f":"IF(ISERROR(VLOOKUP(A3382,Feriados!A:A,1,FALSE)),\"n\",VLOOKUP(A3382,Feriados!A:A,1,FALSE))","v":"n"}]
[47943,2325,{"$f":"IF(E3383<>\"n\",COUNTIF(B3383:$B$4018,B3383),IF(D3383<6,0,COUNTIF(B3383:$B$4018,B3383)))","v":2},6,{"$f":"IF(ISERROR(VLOOKUP(A3383,Feriados!A:A,1,FALSE)),\"n\",VLOOKUP(A3383,Feriados!A:A,1,FALSE))","v":"n"}]
[47944,2325,{"$f":"IF(E3384<>\"n\",COUNTIF(B3384:$B$4018,B3384),IF(D3384<6,0,COUNTIF(B3384:$B$4018,B3384)))","v":1},7,{"$f":"IF(ISERROR(VLOOKUP(A3384,Feriados!A:A,1,FALSE)),\"n\",VLOOKUP(A3384,Feriados!A:A,1,FALSE))","v":"n"}]
[47945,2326,{"$f":"IF(E3385<>\"n\",COUNTIF(B3385:$B$4018,B3385),IF(D3385<6,0,COUNTIF(B3385:$B$4018,B3385)))","v":0},1,{"$f":"IF(ISERROR(VLOOKUP(A3385,Feriados!A:A,1,FALSE)),\"n\",VLOOKUP(A3385,Feriados!A:A,1,FALSE))","v":"n"}]
[47946,2327,{"$f":"IF(E3386<>\"n\",COUNTIF(B3386:$B$4018,B3386),IF(D3386<6,0,COUNTIF(B3386:$B$4018,B3386)))","v":0},2,{"$f":"IF(ISERROR(VLOOKUP(A3386,Feriados!A:A,1,FALSE)),\"n\",VLOOKUP(A3386,Feriados!A:A,1,FALSE))","v":"n"}]
[47947,2328,{"$f":"IF(E3387<>\"n\",COUNTIF(B3387:$B$4018,B3387),IF(D3387<6,0,COUNTIF(B3387:$B$4018,B3387)))","v":0},3,{"$f":"IF(ISERROR(VLOOKUP(A3387,Feriados!A:A,1,FALSE)),\"n\",VLOOKUP(A3387,Feriados!A:A,1,FALSE))","v":"n"}]
[47948,2329,{"$f":"IF(E3388<>\"n\",COUNTIF(B3388:$B$4018,B3388),IF(D3388<6,0,COUNTIF(B3388:$B$4018,B3388)))","v":0},4,{"$f":"IF(ISERROR(VLOOKUP(A3388,Feriados!A:A,1,FALSE)),\"n\",VLOOKUP(A3388,Feriados!A:A,1,FALSE))","v":"n"}]
[47949,2329,{"$f":"IF(E3389<>\"n\",COUNTIF(B3389:$B$4018,B3389),IF(D3389<6,0,COUNTIF(B3389:$B$4018,B3389)))","v":3},5,{"$f":"IF(ISERROR(VLOOKUP(A3389,Feriados!A:A,1,FALSE)),\"n\",VLOOKUP(A3389,Feriados!A:A,1,FALSE))","v":"2031-04-11"}]
[47950,2329,{"$f":"IF(E3390<>\"n\",COUNTIF(B3390:$B$4018,B3390),IF(D3390<6,0,COUNTIF(B3390:$B$4018,B3390)))","v":2},6,{"$f":"IF(ISERROR(VLOOKUP(A3390,Feriados!A:A,1,FALSE)),\"n\",VLOOKUP(A3390,Feriados!A:A,1,FALSE))","v":"n"}]
[47951,2329,{"$f":"IF(E3391<>\"n\",COUNTIF(B3391:$B$4018,B3391),IF(D3391<6,0,COUNTIF(B3391:$B$4018,B3391)))","v":1},7,{"$f":"IF(ISERROR(VLOOKUP(A3391,Feriados!A:A,1,FALSE)),\"n\",VLOOKUP(A3391,Feriados!A:A,1,FALSE))","v":"2031-04-13"}]
[47952,2330,{"$f":"IF(E3392<>\"n\",COUNTIF(B3392:$B$4018,B3392),IF(D3392<6,0,COUNTIF(B3392:$B$4018,B3392)))","v":0},1,{"$f":"IF(ISERROR(VLOOKUP(A3392,Feriados!A:A,1,FALSE)),\"n\",VLOOKUP(A3392,Feriados!A:A,1,FALSE))","v":"n"}]
[47953,2331,{"$f":"IF(E3393<>\"n\",COUNTIF(B3393:$B$4018,B3393),IF(D3393<6,0,COUNTIF(B3393:$B$4018,B3393)))","v":0},2,{"$f":"IF(ISERROR(VLOOKUP(A3393,Feriados!A:A,1,FALSE)),\"n\",VLOOKUP(A3393,Feriados!A:A,1,FALSE))","v":"n"}]
[47954,2332,{"$f":"IF(E3394<>\"n\",COUNTIF(B3394:$B$4018,B3394),IF(D3394<6,0,COUNTIF(B3394:$B$4018,B3394)))","v":0},3,{"$f":"IF(ISERROR(VLOOKUP(A3394,Feriados!A:A,1,FALSE)),\"n\",VLOOKUP(A3394,Feriados!A:A,1,FALSE))","v":"n"}]
[47955,2333,{"$f":"IF(E3395<>\"n\",COUNTIF(B3395:$B$4018,B3395),IF(D3395<6,0,COUNTIF(B3395:$B$4018,B3395)))","v":0},4,{"$f":"IF(ISERROR(VLOOKUP(A3395,Feriados!A:A,1,FALSE)),\"n\",VLOOKUP(A3395,Feriados!A:A,1,FALSE))","v":"n"}]
[{"$f":"A3395+1","v":47956},2334,{"$f":"IF(E3396<>\"n\",COUNTIF(B3396:$B$4018,B3396),IF(D3396<6,0,COUNTIF(B3396:$B$4018,B3396)))","v":0},5,{"$f":"IF(ISERROR(VLOOKUP(A3396,Feriados!A:A,1,FALSE)),\"n\",VLOOKUP(A3396,Feriados!A:A,1,FALSE))","v":"n"}]
[47957,2334,{"$f":"IF(E3397<>\"n\",COUNTIF(B3397:$B$4018,B3397),IF(D3397<6,0,COUNTIF(B3397:$B$4018,B3397)))","v":3},6,{"$f":"IF(ISERROR(VLOOKUP(A3397,Feriados!A:A,1,FALSE)),\"n\",VLOOKUP(A3397,Feriados!A:A,1,FALSE))","v":"n"}]
[47958,2334,{"$f":"IF(E3398<>\"n\",COUNTIF(B3398:$B$4018,B3398),IF(D3398<6,0,COUNTIF(B3398:$B$4018,B3398)))","v":2},7,{"$f":"IF(ISERROR(VLOOKUP(A3398,Feriados!A:A,1,FALSE)),\"n\",VLOOKUP(A3398,Feriados!A:A,1,FALSE))","v":"n"}]
[47959,2334,{"$f":"IF(E3399<>\"n\",COUNTIF(B3399:$B$4018,B3399),IF(D3399<6,0,COUNTIF(B3399:$B$4018,B3399)))","v":1},1,{"$f":"IF(ISERROR(VLOOKUP(A3399,Feriados!A:A,1,FALSE)),\"n\",VLOOKUP(A3399,Feriados!A:A,1,FALSE))","v":"2031-04-21"}]
[47960,2335,{"$f":"IF(E3400<>\"n\",COUNTIF(B3400:$B$4018,B3400),IF(D3400<6,0,COUNTIF(B3400:$B$4018,B3400)))","v":0},2,{"$f":"IF(ISERROR(VLOOKUP(A3400,Feriados!A:A,1,FALSE)),\"n\",VLOOKUP(A3400,Feriados!A:A,1,FALSE))","v":"n"}]
[47961,2336,{"$f":"IF(E3401<>\"n\",COUNTIF(B3401:$B$4018,B3401),IF(D3401<6,0,COUNTIF(B3401:$B$4018,B3401)))","v":0},3,{"$f":"IF(ISERROR(VLOOKUP(A3401,Feriados!A:A,1,FALSE)),\"n\",VLOOKUP(A3401,Feriados!A:A,1,FALSE))","v":"n"}]
[47962,2337,{"$f":"IF(E3402<>\"n\",COUNTIF(B3402:$B$4018,B3402),IF(D3402<6,0,COUNTIF(B3402:$B$4018,B3402)))","v":0},4,{"$f":"IF(ISERROR(VLOOKUP(A3402,Feriados!A:A,1,FALSE)),\"n\",VLOOKUP(A3402,Feriados!A:A,1,FALSE))","v":"n"}]
[47963,2338,{"$f":"IF(E3403<>\"n\",COUNTIF(B3403:$B$4018,B3403),IF(D3403<6,0,COUNTIF(B3403:$B$4018,B3403)))","v":0},5,{"$f":"IF(ISERROR(VLOOKUP(A3403,Feriados!A:A,1,FALSE)),\"n\",VLOOKUP(A3403,Feriados!A:A,1,FALSE))","v":"n"}]
[47964,2338,{"$f":"IF(E3404<>\"n\",COUNTIF(B3404:$B$4018,B3404),IF(D3404<6,0,COUNTIF(B3404:$B$4018,B3404)))","v":2},6,{"$f":"IF(ISERROR(VLOOKUP(A3404,Feriados!A:A,1,FALSE)),\"n\",VLOOKUP(A3404,Feriados!A:A,1,FALSE))","v":"n"}]
[47965,2338,{"$f":"IF(E3405<>\"n\",COUNTIF(B3405:$B$4018,B3405),IF(D3405<6,0,COUNTIF(B3405:$B$4018,B3405)))","v":1},7,{"$f":"IF(ISERROR(VLOOKUP(A3405,Feriados!A:A,1,FALSE)),\"n\",VLOOKUP(A3405,Feriados!A:A,1,FALSE))","v":"n"}]
[47966,2339,{"$f":"IF(E3406<>\"n\",COUNTIF(B3406:$B$4018,B3406),IF(D3406<6,0,COUNTIF(B3406:$B$4018,B3406)))","v":0},1,{"$f":"IF(ISERROR(VLOOKUP(A3406,Feriados!A:A,1,FALSE)),\"n\",VLOOKUP(A3406,Feriados!A:A,1,FALSE))","v":"n"}]
[47967,2340,{"$f":"IF(E3407<>\"n\",COUNTIF(B3407:$B$4018,B3407),IF(D3407<6,0,COUNTIF(B3407:$B$4018,B3407)))","v":0},2,{"$f":"IF(ISERROR(VLOOKUP(A3407,Feriados!A:A,1,FALSE)),\"n\",VLOOKUP(A3407,Feriados!A:A,1,FALSE))","v":"n"}]
[47968,2341,{"$f":"IF(E3408<>\"n\",COUNTIF(B3408:$B$4018,B3408),IF(D3408<6,0,COUNTIF(B3408:$B$4018,B3408)))","v":0},3,{"$f":"IF(ISERROR(VLOOKUP(A3408,Feriados!A:A,1,FALSE)),\"n\",VLOOKUP(A3408,Feriados!A:A,1,FALSE))","v":"n"}]
[47969,2341,{"$f":"IF(E3409<>\"n\",COUNTIF(B3409:$B$4018,B3409),IF(D3409<6,0,COUNTIF(B3409:$B$4018,B3409)))","v":1},4,{"$f":"IF(ISERROR(VLOOKUP(A3409,Feriados!A:A,1,FALSE)),\"n\",VLOOKUP(A3409,Feriados!A:A,1,FALSE))","v":"2031-05-01"}]
[47970,2342,{"$f":"IF(E3410<>\"n\",COUNTIF(B3410:$B$4018,B3410),IF(D3410<6,0,COUNTIF(B3410:$B$4018,B3410)))","v":0},5,{"$f":"IF(ISERROR(VLOOKUP(A3410,Feriados!A:A,1,FALSE)),\"n\",VLOOKUP(A3410,Feriados!A:A,1,FALSE))","v":"n"}]
[47971,2342,{"$f":"IF(E3411<>\"n\",COUNTIF(B3411:$B$4018,B3411),IF(D3411<6,0,COUNTIF(B3411:$B$4018,B3411)))","v":2},6,{"$f":"IF(ISERROR(VLOOKUP(A3411,Feriados!A:A,1,FALSE)),\"n\",VLOOKUP(A3411,Feriados!A:A,1,FALSE))","v":"n"}]
[47972,2342,{"$f":"IF(E3412<>\"n\",COUNTIF(B3412:$B$4018,B3412),IF(D3412<6,0,COUNTIF(B3412:$B$4018,B3412)))","v":1},7,{"$f":"IF(ISERROR(VLOOKUP(A3412,Feriados!A:A,1,FALSE)),\"n\",VLOOKUP(A3412,Feriados!A:A,1,FALSE))","v":"n"}]
[47973,2343,{"$f":"IF(E3413<>\"n\",COUNTIF(B3413:$B$4018,B3413),IF(D3413<6,0,COUNTIF(B3413:$B$4018,B3413)))","v":0},1,{"$f":"IF(ISERROR(VLOOKUP(A3413,Feriados!A:A,1,FALSE)),\"n\",VLOOKUP(A3413,Feriados!A:A,1,FALSE))","v":"n"}]
[47974,2344,{"$f":"IF(E3414<>\"n\",COUNTIF(B3414:$B$4018,B3414),IF(D3414<6,0,COUNTIF(B3414:$B$4018,B3414)))","v":0},2,{"$f":"IF(ISERROR(VLOOKUP(A3414,Feriados!A:A,1,FALSE)),\"n\",VLOOKUP(A3414,Feriados!A:A,1,FALSE))","v":"n"}]
[47975,2345,{"$f":"IF(E3415<>\"n\",COUNTIF(B3415:$B$4018,B3415),IF(D3415<6,0,COUNTIF(B3415:$B$4018,B3415)))","v":0},3,{"$f":"IF(ISERROR(VLOOKUP(A3415,Feriados!A:A,1,FALSE)),\"n\",VLOOKUP(A3415,Feriados!A:A,1,FALSE))","v":"n"}]
[47976,2346,{"$f":"IF(E3416<>\"n\",COUNTIF(B3416:$B$4018,B3416),IF(D3416<6,0,COUNTIF(B3416:$B$4018,B3416)))","v":0},4,{"$f":"IF(ISERROR(VLOOKUP(A3416,Feriados!A:A,1,FALSE)),\"n\",VLOOKUP(A3416,Feriados!A:A,1,FALSE))","v":"n"}]
[47977,2347,{"$f":"IF(E3417<>\"n\",COUNTIF(B3417:$B$4018,B3417),IF(D3417<6,0,COUNTIF(B3417:$B$4018,B3417)))","v":0},5,{"$f":"IF(ISERROR(VLOOKUP(A3417,Feriados!A:A,1,FALSE)),\"n\",VLOOKUP(A3417,Feriados!A:A,1,FALSE))","v":"n"}]
[47978,2347,{"$f":"IF(E3418<>\"n\",COUNTIF(B3418:$B$4018,B3418),IF(D3418<6,0,COUNTIF(B3418:$B$4018,B3418)))","v":2},6,{"$f":"IF(ISERROR(VLOOKUP(A3418,Feriados!A:A,1,FALSE)),\"n\",VLOOKUP(A3418,Feriados!A:A,1,FALSE))","v":"n"}]
[47979,2347,{"$f":"IF(E3419<>\"n\",COUNTIF(B3419:$B$4018,B3419),IF(D3419<6,0,COUNTIF(B3419:$B$4018,B3419)))","v":1},7,{"$f":"IF(ISERROR(VLOOKUP(A3419,Feriados!A:A,1,FALSE)),\"n\",VLOOKUP(A3419,Feriados!A:A,1,FALSE))","v":"n"}]
[47980,2348,{"$f":"IF(E3420<>\"n\",COUNTIF(B3420:$B$4018,B3420),IF(D3420<6,0,COUNTIF(B3420:$B$4018,B3420)))","v":0},1,{"$f":"IF(ISERROR(VLOOKUP(A3420,Feriados!A:A,1,FALSE)),\"n\",VLOOKUP(A3420,Feriados!A:A,1,FALSE))","v":"n"}]
[47981,2349,{"$f":"IF(E3421<>\"n\",COUNTIF(B3421:$B$4018,B3421),IF(D3421<6,0,COUNTIF(B3421:$B$4018,B3421)))","v":0},2,{"$f":"IF(ISERROR(VLOOKUP(A3421,Feriados!A:A,1,FALSE)),\"n\",VLOOKUP(A3421,Feriados!A:A,1,FALSE))","v":"n"}]
[47982,{"$f":"NETWORKDAYS($A$2,A3422,feriados)","v":2350},{"$f":"IF(E3422<>\"n\",COUNTIF(B3422:$B$4018,B3422),IF(D3422<6,0,COUNTIF(B3422:$B$4018,B3422)))","v":0},{"$f":"WEEKDAY(A3422,2)","v":3},{"$f":"IF(ISERROR(VLOOKUP(A3422,Feriados!A:A,1,FALSE)),\"n\",VLOOKUP(A3422,Feriados!A:A,1,FALSE))","v":"n"}]
[47983,2351,{"$f":"IF(E3423<>\"n\",COUNTIF(B3423:$B$4018,B3423),IF(D3423<6,0,COUNTIF(B3423:$B$4018,B3423)))","v":0},4,{"$f":"IF(ISERROR(VLOOKUP(A3423,Feriados!A:A,1,FALSE)),\"n\",VLOOKUP(A3423,Feriados!A:A,1,FALSE))","v":"n"}]
[47984,2352,{"$f":"IF(E3424<>\"n\",COUNTIF(B3424:$B$4018,B3424),IF(D3424<6,0,COUNTIF(B3424:$B$4018,B3424)))","v":0},5,{"$f":"IF(ISERROR(VLOOKUP(A3424,Feriados!A:A,1,FALSE)),\"n\",VLOOKUP(A3424,Feriados!A:A,1,FALSE))","v":"n"}]
[47985,2352,{"$f":"IF(E3425<>\"n\",COUNTIF(B3425:$B$4018,B3425),IF(D3425<6,0,COUNTIF(B3425:$B$4018,B3425)))","v":2},6,{"$f":"IF(ISERROR(VLOOKUP(A3425,Feriados!A:A,1,FALSE)),\"n\",VLOOKUP(A3425,Feriados!A:A,1,FALSE))","v":"n"}]
[47986,2352,{"$f":"IF(E3426<>\"n\",COUNTIF(B3426:$B$4018,B3426),IF(D3426<6,0,COUNTIF(B3426:$B$4018,B3426)))","v":1},7,{"$f":"IF(ISERROR(VLOOKUP(A3426,Feriados!A:A,1,FALSE)),\"n\",VLOOKUP(A3426,Feriados!A:A,1,FALSE))","v":"n"}]
[47987,2353,{"$f":"IF(E3427<>\"n\",COUNTIF(B3427:$B$4018,B3427),IF(D3427<6,0,COUNTIF(B3427:$B$4018,B3427)))","v":0},1,{"$f":"IF(ISERROR(VLOOKUP(A3427,Feriados!A:A,1,FALSE)),\"n\",VLOOKUP(A3427,Feriados!A:A,1,FALSE))","v":"n"}]
[47988,2354,{"$f":"IF(E3428<>\"n\",COUNTIF(B3428:$B$4018,B3428),IF(D3428<6,0,COUNTIF(B3428:$B$4018,B3428)))","v":0},2,{"$f":"IF(ISERROR(VLOOKUP(A3428,Feriados!A:A,1,FALSE)),\"n\",VLOOKUP(A3428,Feriados!A:A,1,FALSE))","v":"n"}]
[47989,2355,{"$f":"IF(E3429<>\"n\",COUNTIF(B3429:$B$4018,B3429),IF(D3429<6,0,COUNTIF(B3429:$B$4018,B3429)))","v":0},3,{"$f":"IF(ISERROR(VLOOKUP(A3429,Feriados!A:A,1,FALSE)),\"n\",VLOOKUP(A3429,Feriados!A:A,1,FALSE))","v":"n"}]
[47990,2356,{"$f":"IF(E3430<>\"n\",COUNTIF(B3430:$B$4018,B3430),IF(D3430<6,0,COUNTIF(B3430:$B$4018,B3430)))","v":0},4,{"$f":"IF(ISERROR(VLOOKUP(A3430,Feriados!A:A,1,FALSE)),\"n\",VLOOKUP(A3430,Feriados!A:A,1,FALSE))","v":"n"}]
[47991,2357,{"$f":"IF(E3431<>\"n\",COUNTIF(B3431:$B$4018,B3431),IF(D3431<6,0,COUNTIF(B3431:$B$4018,B3431)))","v":0},5,{"$f":"IF(ISERROR(VLOOKUP(A3431,Feriados!A:A,1,FALSE)),\"n\",VLOOKUP(A3431,Feriados!A:A,1,FALSE))","v":"n"}]
[47992,2357,{"$f":"IF(E3432<>\"n\",COUNTIF(B3432:$B$4018,B3432),IF(D3432<6,0,COUNTIF(B3432:$B$4018,B3432)))","v":2},6,{"$f":"IF(ISERROR(VLOOKUP(A3432,Feriados!A:A,1,FALSE)),\"n\",VLOOKUP(A3432,Feriados!A:A,1,FALSE))","v":"n"}]
[47993,2357,{"$f":"IF(E3433<>\"n\",COUNTIF(B3433:$B$4018,B3433),IF(D3433<6,0,COUNTIF(B3433:$B$4018,B3433)))","v":1},7,{"$f":"IF(ISERROR(VLOOKUP(A3433,Feriados!A:A,1,FALSE)),\"n\",VLOOKUP(A3433,Feriados!A:A,1,FALSE))","v":"n"}]
[47994,2358,{"$f":"IF(E3434<>\"n\",COUNTIF(B3434:$B$4018,B3434),IF(D3434<6,0,COUNTIF(B3434:$B$4018,B3434)))","v":0},1,{"$f":"IF(ISERROR(VLOOKUP(A3434,Feriados!A:A,1,FALSE)),\"n\",VLOOKUP(A3434,Feriados!A:A,1,FALSE))","v":"n"}]
[47995,2359,{"$f":"IF(E3435<>\"n\",COUNTIF(B3435:$B$4018,B3435),IF(D3435<6,0,COUNTIF(B3435:$B$4018,B3435)))","v":0},2,{"$f":"IF(ISERROR(VLOOKUP(A3435,Feriados!A:A,1,FALSE)),\"n\",VLOOKUP(A3435,Feriados!A:A,1,FALSE))","v":"n"}]
[47996,2360,{"$f":"IF(E3436<>\"n\",COUNTIF(B3436:$B$4018,B3436),IF(D3436<6,0,COUNTIF(B3436:$B$4018,B3436)))","v":0},3,{"$f":"IF(ISERROR(VLOOKUP(A3436,Feriados!A:A,1,FALSE)),\"n\",VLOOKUP(A3436,Feriados!A:A,1,FALSE))","v":"n"}]
[47997,2361,{"$f":"IF(E3437<>\"n\",COUNTIF(B3437:$B$4018,B3437),IF(D3437<6,0,COUNTIF(B3437:$B$4018,B3437)))","v":0},4,{"$f":"IF(ISERROR(VLOOKUP(A3437,Feriados!A:A,1,FALSE)),\"n\",VLOOKUP(A3437,Feriados!A:A,1,FALSE))","v":"n"}]
[47998,2362,{"$f":"IF(E3438<>\"n\",COUNTIF(B3438:$B$4018,B3438),IF(D3438<6,0,COUNTIF(B3438:$B$4018,B3438)))","v":0},5,{"$f":"IF(ISERROR(VLOOKUP(A3438,Feriados!A:A,1,FALSE)),\"n\",VLOOKUP(A3438,Feriados!A:A,1,FALSE))","v":"n"}]
[47999,2362,{"$f":"IF(E3439<>\"n\",COUNTIF(B3439:$B$4018,B3439),IF(D3439<6,0,COUNTIF(B3439:$B$4018,B3439)))","v":2},6,{"$f":"IF(ISERROR(VLOOKUP(A3439,Feriados!A:A,1,FALSE)),\"n\",VLOOKUP(A3439,Feriados!A:A,1,FALSE))","v":"n"}]
[48000,2362,{"$f":"IF(E3440<>\"n\",COUNTIF(B3440:$B$4018,B3440),IF(D3440<6,0,COUNTIF(B3440:$B$4018,B3440)))","v":1},7,{"$f":"IF(ISERROR(VLOOKUP(A3440,Feriados!A:A,1,FALSE)),\"n\",VLOOKUP(A3440,Feriados!A:A,1,FALSE))","v":"n"}]
[48001,2363,{"$f":"IF(E3441<>\"n\",COUNTIF(B3441:$B$4018,B3441),IF(D3441<6,0,COUNTIF(B3441:$B$4018,B3441)))","v":0},1,{"$f":"IF(ISERROR(VLOOKUP(A3441,Feriados!A:A,1,FALSE)),\"n\",VLOOKUP(A3441,Feriados!A:A,1,FALSE))","v":"n"}]
[48002,2364,{"$f":"IF(E3442<>\"n\",COUNTIF(B3442:$B$4018,B3442),IF(D3442<6,0,COUNTIF(B3442:$B$4018,B3442)))","v":0},2,{"$f":"IF(ISERROR(VLOOKUP(A3442,Feriados!A:A,1,FALSE)),\"n\",VLOOKUP(A3442,Feriados!A:A,1,FALSE))","v":"n"}]
[48003,2365,{"$f":"IF(E3443<>\"n\",COUNTIF(B3443:$B$4018,B3443),IF(D3443<6,0,COUNTIF(B3443:$B$4018,B3443)))","v":0},3,{"$f":"IF(ISERROR(VLOOKUP(A3443,Feriados!A:A,1,FALSE)),\"n\",VLOOKUP(A3443,Feriados!A:A,1,FALSE))","v":"n"}]
[48004,2366,{"$f":"IF(E3444<>\"n\",COUNTIF(B3444:$B$4018,B3444),IF(D3444<6,0,COUNTIF(B3444:$B$4018,B3444)))","v":0},4,{"$f":"IF(ISERROR(VLOOKUP(A3444,Feriados!A:A,1,FALSE)),\"n\",VLOOKUP(A3444,Feriados!A:A,1,FALSE))","v":"n"}]
[48005,2367,{"$f":"IF(E3445<>\"n\",COUNTIF(B3445:$B$4018,B3445),IF(D3445<6,0,COUNTIF(B3445:$B$4018,B3445)))","v":0},5,{"$f":"IF(ISERROR(VLOOKUP(A3445,Feriados!A:A,1,FALSE)),\"n\",VLOOKUP(A3445,Feriados!A:A,1,FALSE))","v":"n"}]
[48006,2367,{"$f":"IF(E3446<>\"n\",COUNTIF(B3446:$B$4018,B3446),IF(D3446<6,0,COUNTIF(B3446:$B$4018,B3446)))","v":2},6,{"$f":"IF(ISERROR(VLOOKUP(A3446,Feriados!A:A,1,FALSE)),\"n\",VLOOKUP(A3446,Feriados!A:A,1,FALSE))","v":"n"}]
[48007,2367,{"$f":"IF(E3447<>\"n\",COUNTIF(B3447:$B$4018,B3447),IF(D3447<6,0,COUNTIF(B3447:$B$4018,B3447)))","v":1},7,{"$f":"IF(ISERROR(VLOOKUP(A3447,Feriados!A:A,1,FALSE)),\"n\",VLOOKUP(A3447,Feriados!A:A,1,FALSE))","v":"n"}]
[48008,2368,{"$f":"IF(E3448<>\"n\",COUNTIF(B3448:$B$4018,B3448),IF(D3448<6,0,COUNTIF(B3448:$B$4018,B3448)))","v":0},1,{"$f":"IF(ISERROR(VLOOKUP(A3448,Feriados!A:A,1,FALSE)),\"n\",VLOOKUP(A3448,Feriados!A:A,1,FALSE))","v":"n"}]
[48009,2369,{"$f":"IF(E3449<>\"n\",COUNTIF(B3449:$B$4018,B3449),IF(D3449<6,0,COUNTIF(B3449:$B$4018,B3449)))","v":0},2,{"$f":"IF(ISERROR(VLOOKUP(A3449,Feriados!A:A,1,FALSE)),\"n\",VLOOKUP(A3449,Feriados!A:A,1,FALSE))","v":"n"}]
[48010,2370,{"$f":"IF(E3450<>\"n\",COUNTIF(B3450:$B$4018,B3450),IF(D3450<6,0,COUNTIF(B3450:$B$4018,B3450)))","v":0},3,{"$f":"IF(ISERROR(VLOOKUP(A3450,Feriados!A:A,1,FALSE)),\"n\",VLOOKUP(A3450,Feriados!A:A,1,FALSE))","v":"n"}]
[48011,2370,{"$f":"IF(E3451<>\"n\",COUNTIF(B3451:$B$4018,B3451),IF(D3451<6,0,COUNTIF(B3451:$B$4018,B3451)))","v":1},4,{"$f":"IF(ISERROR(VLOOKUP(A3451,Feriados!A:A,1,FALSE)),\"n\",VLOOKUP(A3451,Feriados!A:A,1,FALSE))","v":"2031-06-12"}]
[48012,2371,{"$f":"IF(E3452<>\"n\",COUNTIF(B3452:$B$4018,B3452),IF(D3452<6,0,COUNTIF(B3452:$B$4018,B3452)))","v":0},5,{"$f":"IF(ISERROR(VLOOKUP(A3452,Feriados!A:A,1,FALSE)),\"n\",VLOOKUP(A3452,Feriados!A:A,1,FALSE))","v":"n"}]
[48013,2371,{"$f":"IF(E3453<>\"n\",COUNTIF(B3453:$B$4018,B3453),IF(D3453<6,0,COUNTIF(B3453:$B$4018,B3453)))","v":2},6,{"$f":"IF(ISERROR(VLOOKUP(A3453,Feriados!A:A,1,FALSE)),\"n\",VLOOKUP(A3453,Feriados!A:A,1,FALSE))","v":"n"}]
[48014,2371,{"$f":"IF(E3454<>\"n\",COUNTIF(B3454:$B$4018,B3454),IF(D3454<6,0,COUNTIF(B3454:$B$4018,B3454)))","v":1},7,{"$f":"IF(ISERROR(VLOOKUP(A3454,Feriados!A:A,1,FALSE)),\"n\",VLOOKUP(A3454,Feriados!A:A,1,FALSE))","v":"n"}]
[48015,2372,{"$f":"IF(E3455<>\"n\",COUNTIF(B3455:$B$4018,B3455),IF(D3455<6,0,COUNTIF(B3455:$B$4018,B3455)))","v":0},1,{"$f":"IF(ISERROR(VLOOKUP(A3455,Feriados!A:A,1,FALSE)),\"n\",VLOOKUP(A3455,Feriados!A:A,1,FALSE))","v":"n"}]
[48016,2373,{"$f":"IF(E3456<>\"n\",COUNTIF(B3456:$B$4018,B3456),IF(D3456<6,0,COUNTIF(B3456:$B$4018,B3456)))","v":0},2,{"$f":"IF(ISERROR(VLOOKUP(A3456,Feriados!A:A,1,FALSE)),\"n\",VLOOKUP(A3456,Feriados!A:A,1,FALSE))","v":"n"}]
[48017,2374,{"$f":"IF(E3457<>\"n\",COUNTIF(B3457:$B$4018,B3457),IF(D3457<6,0,COUNTIF(B3457:$B$4018,B3457)))","v":0},3,{"$f":"IF(ISERROR(VLOOKUP(A3457,Feriados!A:A,1,FALSE)),\"n\",VLOOKUP(A3457,Feriados!A:A,1,FALSE))","v":"n"}]
[48018,2375,{"$f":"IF(E3458<>\"n\",COUNTIF(B3458:$B$4018,B3458),IF(D3458<6,0,COUNTIF(B3458:$B$4018,B3458)))","v":0},4,{"$f":"IF(ISERROR(VLOOKUP(A3458,Feriados!A:A,1,FALSE)),\"n\",VLOOKUP(A3458,Feriados!A:A,1,FALSE))","v":"n"}]
[48019,2376,{"$f":"IF(E3459<>\"n\",COUNTIF(B3459:$B$4018,B3459),IF(D3459<6,0,COUNTIF(B3459:$B$4018,B3459)))","v":0},5,{"$f":"IF(ISERROR(VLOOKUP(A3459,Feriados!A:A,1,FALSE)),\"n\",VLOOKUP(A3459,Feriados!A:A,1,FALSE))","v":"n"}]
[{"$f":"A3459+1","v":48020},2376,{"$f":"IF(E3460<>\"n\",COUNTIF(B3460:$B$4018,B3460),IF(D3460<6,0,COUNTIF(B3460:$B$4018,B3460)))","v":2},6,{"$f":"IF(ISERROR(VLOOKUP(A3460,Feriados!A:A,1,FALSE)),\"n\",VLOOKUP(A3460,Feriados!A:A,1,FALSE))","v":"n"}]
[48021,2376,{"$f":"IF(E3461<>\"n\",COUNTIF(B3461:$B$4018,B3461),IF(D3461<6,0,COUNTIF(B3461:$B$4018,B3461)))","v":1},7,{"$f":"IF(ISERROR(VLOOKUP(A3461,Feriados!A:A,1,FALSE)),\"n\",VLOOKUP(A3461,Feriados!A:A,1,FALSE))","v":"n"}]
[48022,2377,{"$f":"IF(E3462<>\"n\",COUNTIF(B3462:$B$4018,B3462),IF(D3462<6,0,COUNTIF(B3462:$B$4018,B3462)))","v":0},1,{"$f":"IF(ISERROR(VLOOKUP(A3462,Feriados!A:A,1,FALSE)),\"n\",VLOOKUP(A3462,Feriados!A:A,1,FALSE))","v":"n"}]
[48023,2378,{"$f":"IF(E3463<>\"n\",COUNTIF(B3463:$B$4018,B3463),IF(D3463<6,0,COUNTIF(B3463:$B$4018,B3463)))","v":0},2,{"$f":"IF(ISERROR(VLOOKUP(A3463,Feriados!A:A,1,FALSE)),\"n\",VLOOKUP(A3463,Feriados!A:A,1,FALSE))","v":"n"}]
[48024,2379,{"$f":"IF(E3464<>\"n\",COUNTIF(B3464:$B$4018,B3464),IF(D3464<6,0,COUNTIF(B3464:$B$4018,B3464)))","v":0},3,{"$f":"IF(ISERROR(VLOOKUP(A3464,Feriados!A:A,1,FALSE)),\"n\",VLOOKUP(A3464,Feriados!A:A,1,FALSE))","v":"n"}]
[48025,2380,{"$f":"IF(E3465<>\"n\",COUNTIF(B3465:$B$4018,B3465),IF(D3465<6,0,COUNTIF(B3465:$B$4018,B3465)))","v":0},4,{"$f":"IF(ISERROR(VLOOKUP(A3465,Feriados!A:A,1,FALSE)),\"n\",VLOOKUP(A3465,Feriados!A:A,1,FALSE))","v":"n"}]
[48026,2381,{"$f":"IF(E3466<>\"n\",COUNTIF(B3466:$B$4018,B3466),IF(D3466<6,0,COUNTIF(B3466:$B$4018,B3466)))","v":0},5,{"$f":"IF(ISERROR(VLOOKUP(A3466,Feriados!A:A,1,FALSE)),\"n\",VLOOKUP(A3466,Feriados!A:A,1,FALSE))","v":"n"}]
[48027,2381,{"$f":"IF(E3467<>\"n\",COUNTIF(B3467:$B$4018,B3467),IF(D3467<6,0,COUNTIF(B3467:$B$4018,B3467)))","v":2},6,{"$f":"IF(ISERROR(VLOOKUP(A3467,Feriados!A:A,1,FALSE)),\"n\",VLOOKUP(A3467,Feriados!A:A,1,FALSE))","v":"n"}]
[48028,2381,{"$f":"IF(E3468<>\"n\",COUNTIF(B3468:$B$4018,B3468),IF(D3468<6,0,COUNTIF(B3468:$B$4018,B3468)))","v":1},7,{"$f":"IF(ISERROR(VLOOKUP(A3468,Feriados!A:A,1,FALSE)),\"n\",VLOOKUP(A3468,Feriados!A:A,1,FALSE))","v":"n"}]
[48029,2382,{"$f":"IF(E3469<>\"n\",COUNTIF(B3469:$B$4018,B3469),IF(D3469<6,0,COUNTIF(B3469:$B$4018,B3469)))","v":0},1,{"$f":"IF(ISERROR(VLOOKUP(A3469,Feriados!A:A,1,FALSE)),\"n\",VLOOKUP(A3469,Feriados!A:A,1,FALSE))","v":"n"}]
[48030,2383,{"$f":"IF(E3470<>\"n\",COUNTIF(B3470:$B$4018,B3470),IF(D3470<6,0,COUNTIF(B3470:$B$4018,B3470)))","v":0},2,{"$f":"IF(ISERROR(VLOOKUP(A3470,Feriados!A:A,1,FALSE)),\"n\",VLOOKUP(A3470,Feriados!A:A,1,FALSE))","v":"n"}]
[48031,2384,{"$f":"IF(E3471<>\"n\",COUNTIF(B3471:$B$4018,B3471),IF(D3471<6,0,COUNTIF(B3471:$B$4018,B3471)))","v":0},3,{"$f":"IF(ISERROR(VLOOKUP(A3471,Feriados!A:A,1,FALSE)),\"n\",VLOOKUP(A3471,Feriados!A:A,1,FALSE))","v":"n"}]
[48032,2385,{"$f":"IF(E3472<>\"n\",COUNTIF(B3472:$B$4018,B3472),IF(D3472<6,0,COUNTIF(B3472:$B$4018,B3472)))","v":0},4,{"$f":"IF(ISERROR(VLOOKUP(A3472,Feriados!A:A,1,FALSE)),\"n\",VLOOKUP(A3472,Feriados!A:A,1,FALSE))","v":"n"}]
[48033,2386,{"$f":"IF(E3473<>\"n\",COUNTIF(B3473:$B$4018,B3473),IF(D3473<6,0,COUNTIF(B3473:$B$4018,B3473)))","v":0},5,{"$f":"IF(ISERROR(VLOOKUP(A3473,Feriados!A:A,1,FALSE)),\"n\",VLOOKUP(A3473,Feriados!A:A,1,FALSE))","v":"n"}]
[48034,2386,{"$f":"IF(E3474<>\"n\",COUNTIF(B3474:$B$4018,B3474),IF(D3474<6,0,COUNTIF(B3474:$B$4018,B3474)))","v":2},6,{"$f":"IF(ISERROR(VLOOKUP(A3474,Feriados!A:A,1,FALSE)),\"n\",VLOOKUP(A3474,Feriados!A:A,1,FALSE))","v":"n"}]
[48035,2386,{"$f":"IF(E3475<>\"n\",COUNTIF(B3475:$B$4018,B3475),IF(D3475<6,0,COUNTIF(B3475:$B$4018,B3475)))","v":1},7,{"$f":"IF(ISERROR(VLOOKUP(A3475,Feriados!A:A,1,FALSE)),\"n\",VLOOKUP(A3475,Feriados!A:A,1,FALSE))","v":"n"}]
[48036,2387,{"$f":"IF(E3476<>\"n\",COUNTIF(B3476:$B$4018,B3476),IF(D3476<6,0,COUNTIF(B3476:$B$4018,B3476)))","v":0},1,{"$f":"IF(ISERROR(VLOOKUP(A3476,Feriados!A:A,1,FALSE)),\"n\",VLOOKUP(A3476,Feriados!A:A,1,FALSE))","v":"n"}]
[48037,2388,{"$f":"IF(E3477<>\"n\",COUNTIF(B3477:$B$4018,B3477),IF(D3477<6,0,COUNTIF(B3477:$B$4018,B3477)))","v":0},2,{"$f":"IF(ISERROR(VLOOKUP(A3477,Feriados!A:A,1,FALSE)),\"n\",VLOOKUP(A3477,Feriados!A:A,1,FALSE))","v":"n"}]
[48038,2389,{"$f":"IF(E3478<>\"n\",COUNTIF(B3478:$B$4018,B3478),IF(D3478<6,0,COUNTIF(B3478:$B$4018,B3478)))","v":0},3,{"$f":"IF(ISERROR(VLOOKUP(A3478,Feriados!A:A,1,FALSE)),\"n\",VLOOKUP(A3478,Feriados!A:A,1,FALSE))","v":"n"}]
[48039,2390,{"$f":"IF(E3479<>\"n\",COUNTIF(B3479:$B$4018,B3479),IF(D3479<6,0,COUNTIF(B3479:$B$4018,B3479)))","v":0},4,{"$f":"IF(ISERROR(VLOOKUP(A3479,Feriados!A:A,1,FALSE)),\"n\",VLOOKUP(A3479,Feriados!A:A,1,FALSE))","v":"n"}]
[48040,2391,{"$f":"IF(E3480<>\"n\",COUNTIF(B3480:$B$4018,B3480),IF(D3480<6,0,COUNTIF(B3480:$B$4018,B3480)))","v":0},5,{"$f":"IF(ISERROR(VLOOKUP(A3480,Feriados!A:A,1,FALSE)),\"n\",VLOOKUP(A3480,Feriados!A:A,1,FALSE))","v":"n"}]
[48041,2391,{"$f":"IF(E3481<>\"n\",COUNTIF(B3481:$B$4018,B3481),IF(D3481<6,0,COUNTIF(B3481:$B$4018,B3481)))","v":2},6,{"$f":"IF(ISERROR(VLOOKUP(A3481,Feriados!A:A,1,FALSE)),\"n\",VLOOKUP(A3481,Feriados!A:A,1,FALSE))","v":"n"}]
[48042,2391,{"$f":"IF(E3482<>\"n\",COUNTIF(B3482:$B$4018,B3482),IF(D3482<6,0,COUNTIF(B3482:$B$4018,B3482)))","v":1},7,{"$f":"IF(ISERROR(VLOOKUP(A3482,Feriados!A:A,1,FALSE)),\"n\",VLOOKUP(A3482,Feriados!A:A,1,FALSE))","v":"n"}]
[48043,2392,{"$f":"IF(E3483<>\"n\",COUNTIF(B3483:$B$4018,B3483),IF(D3483<6,0,COUNTIF(B3483:$B$4018,B3483)))","v":0},1,{"$f":"IF(ISERROR(VLOOKUP(A3483,Feriados!A:A,1,FALSE)),\"n\",VLOOKUP(A3483,Feriados!A:A,1,FALSE))","v":"n"}]
[48044,2393,{"$f":"IF(E3484<>\"n\",COUNTIF(B3484:$B$4018,B3484),IF(D3484<6,0,COUNTIF(B3484:$B$4018,B3484)))","v":0},2,{"$f":"IF(ISERROR(VLOOKUP(A3484,Feriados!A:A,1,FALSE)),\"n\",VLOOKUP(A3484,Feriados!A:A,1,FALSE))","v":"n"}]
[48045,2394,{"$f":"IF(E3485<>\"n\",COUNTIF(B3485:$B$4018,B3485),IF(D3485<6,0,COUNTIF(B3485:$B$4018,B3485)))","v":0},3,{"$f":"IF(ISERROR(VLOOKUP(A3485,Feriados!A:A,1,FALSE)),\"n\",VLOOKUP(A3485,Feriados!A:A,1,FALSE))","v":"n"}]
[48046,{"$f":"NETWORKDAYS($A$2,A3486,feriados)","v":2395},{"$f":"IF(E3486<>\"n\",COUNTIF(B3486:$B$4018,B3486),IF(D3486<6,0,COUNTIF(B3486:$B$4018,B3486)))","v":0},{"$f":"WEEKDAY(A3486,2)","v":4},{"$f":"IF(ISERROR(VLOOKUP(A3486,Feriados!A:A,1,FALSE)),\"n\",VLOOKUP(A3486,Feriados!A:A,1,FALSE))","v":"n"}]
[48047,2396,{"$f":"IF(E3487<>\"n\",COUNTIF(B3487:$B$4018,B3487),IF(D3487<6,0,COUNTIF(B3487:$B$4018,B3487)))","v":0},5,{"$f":"IF(ISERROR(VLOOKUP(A3487,Feriados!A:A,1,FALSE)),\"n\",VLOOKUP(A3487,Feriados!A:A,1,FALSE))","v":"n"}]
[48048,2396,{"$f":"IF(E3488<>\"n\",COUNTIF(B3488:$B$4018,B3488),IF(D3488<6,0,COUNTIF(B3488:$B$4018,B3488)))","v":2},6,{"$f":"IF(ISERROR(VLOOKUP(A3488,Feriados!A:A,1,FALSE)),\"n\",VLOOKUP(A3488,Feriados!A:A,1,FALSE))","v":"n"}]
[48049,2396,{"$f":"IF(E3489<>\"n\",COUNTIF(B3489:$B$4018,B3489),IF(D3489<6,0,COUNTIF(B3489:$B$4018,B3489)))","v":1},7,{"$f":"IF(ISERROR(VLOOKUP(A3489,Feriados!A:A,1,FALSE)),\"n\",VLOOKUP(A3489,Feriados!A:A,1,FALSE))","v":"n"}]
[48050,2397,{"$f":"IF(E3490<>\"n\",COUNTIF(B3490:$B$4018,B3490),IF(D3490<6,0,COUNTIF(B3490:$B$4018,B3490)))","v":0},1,{"$f":"IF(ISERROR(VLOOKUP(A3490,Feriados!A:A,1,FALSE)),\"n\",VLOOKUP(A3490,Feriados!A:A,1,FALSE))","v":"n"}]
[48051,2398,{"$f":"IF(E3491<>\"n\",COUNTIF(B3491:$B$4018,B3491),IF(D3491<6,0,COUNTIF(B3491:$B$4018,B3491)))","v":0},2,{"$f":"IF(ISERROR(VLOOKUP(A3491,Feriados!A:A,1,FALSE)),\"n\",VLOOKUP(A3491,Feriados!A:A,1,FALSE))","v":"n"}]
[48052,2399,{"$f":"IF(E3492<>\"n\",COUNTIF(B3492:$B$4018,B3492),IF(D3492<6,0,COUNTIF(B3492:$B$4018,B3492)))","v":0},3,{"$f":"IF(ISERROR(VLOOKUP(A3492,Feriados!A:A,1,FALSE)),\"n\",VLOOKUP(A3492,Feriados!A:A,1,FALSE))","v":"n"}]
[48053,2400,{"$f":"IF(E3493<>\"n\",COUNTIF(B3493:$B$4018,B3493),IF(D3493<6,0,COUNTIF(B3493:$B$4018,B3493)))","v":0},4,{"$f":"IF(ISERROR(VLOOKUP(A3493,Feriados!A:A,1,FALSE)),\"n\",VLOOKUP(A3493,Feriados!A:A,1,FALSE))","v":"n"}]
[48054,2401,{"$f":"IF(E3494<>\"n\",COUNTIF(B3494:$B$4018,B3494),IF(D3494<6,0,COUNTIF(B3494:$B$4018,B3494)))","v":0},5,{"$f":"IF(ISERROR(VLOOKUP(A3494,Feriados!A:A,1,FALSE)),\"n\",VLOOKUP(A3494,Feriados!A:A,1,FALSE))","v":"n"}]
[48055,2401,{"$f":"IF(E3495<>\"n\",COUNTIF(B3495:$B$4018,B3495),IF(D3495<6,0,COUNTIF(B3495:$B$4018,B3495)))","v":2},6,{"$f":"IF(ISERROR(VLOOKUP(A3495,Feriados!A:A,1,FALSE)),\"n\",VLOOKUP(A3495,Feriados!A:A,1,FALSE))","v":"n"}]
[48056,2401,{"$f":"IF(E3496<>\"n\",COUNTIF(B3496:$B$4018,B3496),IF(D3496<6,0,COUNTIF(B3496:$B$4018,B3496)))","v":1},7,{"$f":"IF(ISERROR(VLOOKUP(A3496,Feriados!A:A,1,FALSE)),\"n\",VLOOKUP(A3496,Feriados!A:A,1,FALSE))","v":"n"}]
[48057,2402,{"$f":"IF(E3497<>\"n\",COUNTIF(B3497:$B$4018,B3497),IF(D3497<6,0,COUNTIF(B3497:$B$4018,B3497)))","v":0},1,{"$f":"IF(ISERROR(VLOOKUP(A3497,Feriados!A:A,1,FALSE)),\"n\",VLOOKUP(A3497,Feriados!A:A,1,FALSE))","v":"n"}]
[48058,2403,{"$f":"IF(E3498<>\"n\",COUNTIF(B3498:$B$4018,B3498),IF(D3498<6,0,COUNTIF(B3498:$B$4018,B3498)))","v":0},2,{"$f":"IF(ISERROR(VLOOKUP(A3498,Feriados!A:A,1,FALSE)),\"n\",VLOOKUP(A3498,Feriados!A:A,1,FALSE))","v":"n"}]
[48059,2404,{"$f":"IF(E3499<>\"n\",COUNTIF(B3499:$B$4018,B3499),IF(D3499<6,0,COUNTIF(B3499:$B$4018,B3499)))","v":0},3,{"$f":"IF(ISERROR(VLOOKUP(A3499,Feriados!A:A,1,FALSE)),\"n\",VLOOKUP(A3499,Feriados!A:A,1,FALSE))","v":"n"}]
[48060,2405,{"$f":"IF(E3500<>\"n\",COUNTIF(B3500:$B$4018,B3500),IF(D3500<6,0,COUNTIF(B3500:$B$4018,B3500)))","v":0},4,{"$f":"IF(ISERROR(VLOOKUP(A3500,Feriados!A:A,1,FALSE)),\"n\",VLOOKUP(A3500,Feriados!A:A,1,FALSE))","v":"n"}]
[48061,2406,{"$f":"IF(E3501<>\"n\",COUNTIF(B3501:$B$4018,B3501),IF(D3501<6,0,COUNTIF(B3501:$B$4018,B3501)))","v":0},5,{"$f":"IF(ISERROR(VLOOKUP(A3501,Feriados!A:A,1,FALSE)),\"n\",VLOOKUP(A3501,Feriados!A:A,1,FALSE))","v":"n"}]
[48062,2406,{"$f":"IF(E3502<>\"n\",COUNTIF(B3502:$B$4018,B3502),IF(D3502<6,0,COUNTIF(B3502:$B$4018,B3502)))","v":2},6,{"$f":"IF(ISERROR(VLOOKUP(A3502,Feriados!A:A,1,FALSE)),\"n\",VLOOKUP(A3502,Feriados!A:A,1,FALSE))","v":"n"}]
[48063,2406,{"$f":"IF(E3503<>\"n\",COUNTIF(B3503:$B$4018,B3503),IF(D3503<6,0,COUNTIF(B3503:$B$4018,B3503)))","v":1},7,{"$f":"IF(ISERROR(VLOOKUP(A3503,Feriados!A:A,1,FALSE)),\"n\",VLOOKUP(A3503,Feriados!A:A,1,FALSE))","v":"n"}]
[48064,2407,{"$f":"IF(E3504<>\"n\",COUNTIF(B3504:$B$4018,B3504),IF(D3504<6,0,COUNTIF(B3504:$B$4018,B3504)))","v":0},1,{"$f":"IF(ISERROR(VLOOKUP(A3504,Feriados!A:A,1,FALSE)),\"n\",VLOOKUP(A3504,Feriados!A:A,1,FALSE))","v":"n"}]
[48065,2408,{"$f":"IF(E3505<>\"n\",COUNTIF(B3505:$B$4018,B3505),IF(D3505<6,0,COUNTIF(B3505:$B$4018,B3505)))","v":0},2,{"$f":"IF(ISERROR(VLOOKUP(A3505,Feriados!A:A,1,FALSE)),\"n\",VLOOKUP(A3505,Feriados!A:A,1,FALSE))","v":"n"}]
[48066,2409,{"$f":"IF(E3506<>\"n\",COUNTIF(B3506:$B$4018,B3506),IF(D3506<6,0,COUNTIF(B3506:$B$4018,B3506)))","v":0},3,{"$f":"IF(ISERROR(VLOOKUP(A3506,Feriados!A:A,1,FALSE)),\"n\",VLOOKUP(A3506,Feriados!A:A,1,FALSE))","v":"n"}]
[48067,2410,{"$f":"IF(E3507<>\"n\",COUNTIF(B3507:$B$4018,B3507),IF(D3507<6,0,COUNTIF(B3507:$B$4018,B3507)))","v":0},4,{"$f":"IF(ISERROR(VLOOKUP(A3507,Feriados!A:A,1,FALSE)),\"n\",VLOOKUP(A3507,Feriados!A:A,1,FALSE))","v":"n"}]
[48068,2411,{"$f":"IF(E3508<>\"n\",COUNTIF(B3508:$B$4018,B3508),IF(D3508<6,0,COUNTIF(B3508:$B$4018,B3508)))","v":0},5,{"$f":"IF(ISERROR(VLOOKUP(A3508,Feriados!A:A,1,FALSE)),\"n\",VLOOKUP(A3508,Feriados!A:A,1,FALSE))","v":"n"}]
[48069,2411,{"$f":"IF(E3509<>\"n\",COUNTIF(B3509:$B$4018,B3509),IF(D3509<6,0,COUNTIF(B3509:$B$4018,B3509)))","v":2},6,{"$f":"IF(ISERROR(VLOOKUP(A3509,Feriados!A:A,1,FALSE)),\"n\",VLOOKUP(A3509,Feriados!A:A,1,FALSE))","v":"n"}]
[48070,2411,{"$f":"IF(E3510<>\"n\",COUNTIF(B3510:$B$4018,B3510),IF(D3510<6,0,COUNTIF(B3510:$B$4018,B3510)))","v":1},7,{"$f":"IF(ISERROR(VLOOKUP(A3510,Feriados!A:A,1,FALSE)),\"n\",VLOOKUP(A3510,Feriados!A:A,1,FALSE))","v":"n"}]
[48071,2412,{"$f":"IF(E3511<>\"n\",COUNTIF(B3511:$B$4018,B3511),IF(D3511<6,0,COUNTIF(B3511:$B$4018,B3511)))","v":0},1,{"$f":"IF(ISERROR(VLOOKUP(A3511,Feriados!A:A,1,FALSE)),\"n\",VLOOKUP(A3511,Feriados!A:A,1,FALSE))","v":"n"}]
[48072,2413,{"$f":"IF(E3512<>\"n\",COUNTIF(B3512:$B$4018,B3512),IF(D3512<6,0,COUNTIF(B3512:$B$4018,B3512)))","v":0},2,{"$f":"IF(ISERROR(VLOOKUP(A3512,Feriados!A:A,1,FALSE)),\"n\",VLOOKUP(A3512,Feriados!A:A,1,FALSE))","v":"n"}]
[48073,2414,{"$f":"IF(E3513<>\"n\",COUNTIF(B3513:$B$4018,B3513),IF(D3513<6,0,COUNTIF(B3513:$B$4018,B3513)))","v":0},3,{"$f":"IF(ISERROR(VLOOKUP(A3513,Feriados!A:A,1,FALSE)),\"n\",VLOOKUP(A3513,Feriados!A:A,1,FALSE))","v":"n"}]
[48074,2415,{"$f":"IF(E3514<>\"n\",COUNTIF(B3514:$B$4018,B3514),IF(D3514<6,0,COUNTIF(B3514:$B$4018,B3514)))","v":0},4,{"$f":"IF(ISERROR(VLOOKUP(A3514,Feriados!A:A,1,FALSE)),\"n\",VLOOKUP(A3514,Feriados!A:A,1,FALSE))","v":"n"}]
[48075,2416,{"$f":"IF(E3515<>\"n\",COUNTIF(B3515:$B$4018,B3515),IF(D3515<6,0,COUNTIF(B3515:$B$4018,B3515)))","v":0},5,{"$f":"IF(ISERROR(VLOOKUP(A3515,Feriados!A:A,1,FALSE)),\"n\",VLOOKUP(A3515,Feriados!A:A,1,FALSE))","v":"n"}]
[48076,2416,{"$f":"IF(E3516<>\"n\",COUNTIF(B3516:$B$4018,B3516),IF(D3516<6,0,COUNTIF(B3516:$B$4018,B3516)))","v":2},6,{"$f":"IF(ISERROR(VLOOKUP(A3516,Feriados!A:A,1,FALSE)),\"n\",VLOOKUP(A3516,Feriados!A:A,1,FALSE))","v":"n"}]
[48077,2416,{"$f":"IF(E3517<>\"n\",COUNTIF(B3517:$B$4018,B3517),IF(D3517<6,0,COUNTIF(B3517:$B$4018,B3517)))","v":1},7,{"$f":"IF(ISERROR(VLOOKUP(A3517,Feriados!A:A,1,FALSE)),\"n\",VLOOKUP(A3517,Feriados!A:A,1,FALSE))","v":"n"}]
[48078,2417,{"$f":"IF(E3518<>\"n\",COUNTIF(B3518:$B$4018,B3518),IF(D3518<6,0,COUNTIF(B3518:$B$4018,B3518)))","v":0},1,{"$f":"IF(ISERROR(VLOOKUP(A3518,Feriados!A:A,1,FALSE)),\"n\",VLOOKUP(A3518,Feriados!A:A,1,FALSE))","v":"n"}]
[48079,2418,{"$f":"IF(E3519<>\"n\",COUNTIF(B3519:$B$4018,B3519),IF(D3519<6,0,COUNTIF(B3519:$B$4018,B3519)))","v":0},2,{"$f":"IF(ISERROR(VLOOKUP(A3519,Feriados!A:A,1,FALSE)),\"n\",VLOOKUP(A3519,Feriados!A:A,1,FALSE))","v":"n"}]
[48080,2419,{"$f":"IF(E3520<>\"n\",COUNTIF(B3520:$B$4018,B3520),IF(D3520<6,0,COUNTIF(B3520:$B$4018,B3520)))","v":0},3,{"$f":"IF(ISERROR(VLOOKUP(A3520,Feriados!A:A,1,FALSE)),\"n\",VLOOKUP(A3520,Feriados!A:A,1,FALSE))","v":"n"}]
[48081,2420,{"$f":"IF(E3521<>\"n\",COUNTIF(B3521:$B$4018,B3521),IF(D3521<6,0,COUNTIF(B3521:$B$4018,B3521)))","v":0},4,{"$f":"IF(ISERROR(VLOOKUP(A3521,Feriados!A:A,1,FALSE)),\"n\",VLOOKUP(A3521,Feriados!A:A,1,FALSE))","v":"n"}]
[48082,2421,{"$f":"IF(E3522<>\"n\",COUNTIF(B3522:$B$4018,B3522),IF(D3522<6,0,COUNTIF(B3522:$B$4018,B3522)))","v":0},5,{"$f":"IF(ISERROR(VLOOKUP(A3522,Feriados!A:A,1,FALSE)),\"n\",VLOOKUP(A3522,Feriados!A:A,1,FALSE))","v":"n"}]
[48083,2421,{"$f":"IF(E3523<>\"n\",COUNTIF(B3523:$B$4018,B3523),IF(D3523<6,0,COUNTIF(B3523:$B$4018,B3523)))","v":2},6,{"$f":"IF(ISERROR(VLOOKUP(A3523,Feriados!A:A,1,FALSE)),\"n\",VLOOKUP(A3523,Feriados!A:A,1,FALSE))","v":"n"}]
[{"$f":"A3523+1","v":48084},2421,{"$f":"IF(E3524<>\"n\",COUNTIF(B3524:$B$4018,B3524),IF(D3524<6,0,COUNTIF(B3524:$B$4018,B3524)))","v":1},7,{"$f":"IF(ISERROR(VLOOKUP(A3524,Feriados!A:A,1,FALSE)),\"n\",VLOOKUP(A3524,Feriados!A:A,1,FALSE))","v":"n"}]
[48085,2422,{"$f":"IF(E3525<>\"n\",COUNTIF(B3525:$B$4018,B3525),IF(D3525<6,0,COUNTIF(B3525:$B$4018,B3525)))","v":0},1,{"$f":"IF(ISERROR(VLOOKUP(A3525,Feriados!A:A,1,FALSE)),\"n\",VLOOKUP(A3525,Feriados!A:A,1,FALSE))","v":"n"}]
[48086,2423,{"$f":"IF(E3526<>\"n\",COUNTIF(B3526:$B$4018,B3526),IF(D3526<6,0,COUNTIF(B3526:$B$4018,B3526)))","v":0},2,{"$f":"IF(ISERROR(VLOOKUP(A3526,Feriados!A:A,1,FALSE)),\"n\",VLOOKUP(A3526,Feriados!A:A,1,FALSE))","v":"n"}]
[48087,2424,{"$f":"IF(E3527<>\"n\",COUNTIF(B3527:$B$4018,B3527),IF(D3527<6,0,COUNTIF(B3527:$B$4018,B3527)))","v":0},3,{"$f":"IF(ISERROR(VLOOKUP(A3527,Feriados!A:A,1,FALSE)),\"n\",VLOOKUP(A3527,Feriados!A:A,1,FALSE))","v":"n"}]
[48088,2425,{"$f":"IF(E3528<>\"n\",COUNTIF(B3528:$B$4018,B3528),IF(D3528<6,0,COUNTIF(B3528:$B$4018,B3528)))","v":0},4,{"$f":"IF(ISERROR(VLOOKUP(A3528,Feriados!A:A,1,FALSE)),\"n\",VLOOKUP(A3528,Feriados!A:A,1,FALSE))","v":"n"}]
[48089,2426,{"$f":"IF(E3529<>\"n\",COUNTIF(B3529:$B$4018,B3529),IF(D3529<6,0,COUNTIF(B3529:$B$4018,B3529)))","v":0},5,{"$f":"IF(ISERROR(VLOOKUP(A3529,Feriados!A:A,1,FALSE)),\"n\",VLOOKUP(A3529,Feriados!A:A,1,FALSE))","v":"n"}]
[48090,2426,{"$f":"IF(E3530<>\"n\",COUNTIF(B3530:$B$4018,B3530),IF(D3530<6,0,COUNTIF(B3530:$B$4018,B3530)))","v":2},6,{"$f":"IF(ISERROR(VLOOKUP(A3530,Feriados!A:A,1,FALSE)),\"n\",VLOOKUP(A3530,Feriados!A:A,1,FALSE))","v":"n"}]
[48091,2426,{"$f":"IF(E3531<>\"n\",COUNTIF(B3531:$B$4018,B3531),IF(D3531<6,0,COUNTIF(B3531:$B$4018,B3531)))","v":1},7,{"$f":"IF(ISERROR(VLOOKUP(A3531,Feriados!A:A,1,FALSE)),\"n\",VLOOKUP(A3531,Feriados!A:A,1,FALSE))","v":"n"}]
[48092,2427,{"$f":"IF(E3532<>\"n\",COUNTIF(B3532:$B$4018,B3532),IF(D3532<6,0,COUNTIF(B3532:$B$4018,B3532)))","v":0},1,{"$f":"IF(ISERROR(VLOOKUP(A3532,Feriados!A:A,1,FALSE)),\"n\",VLOOKUP(A3532,Feriados!A:A,1,FALSE))","v":"n"}]
[48093,2428,{"$f":"IF(E3533<>\"n\",COUNTIF(B3533:$B$4018,B3533),IF(D3533<6,0,COUNTIF(B3533:$B$4018,B3533)))","v":0},2,{"$f":"IF(ISERROR(VLOOKUP(A3533,Feriados!A:A,1,FALSE)),\"n\",VLOOKUP(A3533,Feriados!A:A,1,FALSE))","v":"n"}]
[48094,2429,{"$f":"IF(E3534<>\"n\",COUNTIF(B3534:$B$4018,B3534),IF(D3534<6,0,COUNTIF(B3534:$B$4018,B3534)))","v":0},3,{"$f":"IF(ISERROR(VLOOKUP(A3534,Feriados!A:A,1,FALSE)),\"n\",VLOOKUP(A3534,Feriados!A:A,1,FALSE))","v":"n"}]
[48095,2430,{"$f":"IF(E3535<>\"n\",COUNTIF(B3535:$B$4018,B3535),IF(D3535<6,0,COUNTIF(B3535:$B$4018,B3535)))","v":0},4,{"$f":"IF(ISERROR(VLOOKUP(A3535,Feriados!A:A,1,FALSE)),\"n\",VLOOKUP(A3535,Feriados!A:A,1,FALSE))","v":"n"}]
[48096,2431,{"$f":"IF(E3536<>\"n\",COUNTIF(B3536:$B$4018,B3536),IF(D3536<6,0,COUNTIF(B3536:$B$4018,B3536)))","v":0},5,{"$f":"IF(ISERROR(VLOOKUP(A3536,Feriados!A:A,1,FALSE)),\"n\",VLOOKUP(A3536,Feriados!A:A,1,FALSE))","v":"n"}]
[48097,2431,{"$f":"IF(E3537<>\"n\",COUNTIF(B3537:$B$4018,B3537),IF(D3537<6,0,COUNTIF(B3537:$B$4018,B3537)))","v":2},6,{"$f":"IF(ISERROR(VLOOKUP(A3537,Feriados!A:A,1,FALSE)),\"n\",VLOOKUP(A3537,Feriados!A:A,1,FALSE))","v":"n"}]
[48098,2431,{"$f":"IF(E3538<>\"n\",COUNTIF(B3538:$B$4018,B3538),IF(D3538<6,0,COUNTIF(B3538:$B$4018,B3538)))","v":1},7,{"$f":"IF(ISERROR(VLOOKUP(A3538,Feriados!A:A,1,FALSE)),\"n\",VLOOKUP(A3538,Feriados!A:A,1,FALSE))","v":"2031-09-07"}]
[48099,2432,{"$f":"IF(E3539<>\"n\",COUNTIF(B3539:$B$4018,B3539),IF(D3539<6,0,COUNTIF(B3539:$B$4018,B3539)))","v":0},1,{"$f":"IF(ISERROR(VLOOKUP(A3539,Feriados!A:A,1,FALSE)),\"n\",VLOOKUP(A3539,Feriados!A:A,1,FALSE))","v":"n"}]
[48100,2433,{"$f":"IF(E3540<>\"n\",COUNTIF(B3540:$B$4018,B3540),IF(D3540<6,0,COUNTIF(B3540:$B$4018,B3540)))","v":0},2,{"$f":"IF(ISERROR(VLOOKUP(A3540,Feriados!A:A,1,FALSE)),\"n\",VLOOKUP(A3540,Feriados!A:A,1,FALSE))","v":"n"}]
[48101,2434,{"$f":"IF(E3541<>\"n\",COUNTIF(B3541:$B$4018,B3541),IF(D3541<6,0,COUNTIF(B3541:$B$4018,B3541)))","v":0},3,{"$f":"IF(ISERROR(VLOOKUP(A3541,Feriados!A:A,1,FALSE)),\"n\",VLOOKUP(A3541,Feriados!A:A,1,FALSE))","v":"n"}]
[48102,2435,{"$f":"IF(E3542<>\"n\",COUNTIF(B3542:$B$4018,B3542),IF(D3542<6,0,COUNTIF(B3542:$B$4018,B3542)))","v":0},4,{"$f":"IF(ISERROR(VLOOKUP(A3542,Feriados!A:A,1,FALSE)),\"n\",VLOOKUP(A3542,Feriados!A:A,1,FALSE))","v":"n"}]
[48103,2436,{"$f":"IF(E3543<>\"n\",COUNTIF(B3543:$B$4018,B3543),IF(D3543<6,0,COUNTIF(B3543:$B$4018,B3543)))","v":0},5,{"$f":"IF(ISERROR(VLOOKUP(A3543,Feriados!A:A,1,FALSE)),\"n\",VLOOKUP(A3543,Feriados!A:A,1,FALSE))","v":"n"}]
[48104,2436,{"$f":"IF(E3544<>\"n\",COUNTIF(B3544:$B$4018,B3544),IF(D3544<6,0,COUNTIF(B3544:$B$4018,B3544)))","v":2},6,{"$f":"IF(ISERROR(VLOOKUP(A3544,Feriados!A:A,1,FALSE)),\"n\",VLOOKUP(A3544,Feriados!A:A,1,FALSE))","v":"n"}]
[48105,2436,{"$f":"IF(E3545<>\"n\",COUNTIF(B3545:$B$4018,B3545),IF(D3545<6,0,COUNTIF(B3545:$B$4018,B3545)))","v":1},7,{"$f":"IF(ISERROR(VLOOKUP(A3545,Feriados!A:A,1,FALSE)),\"n\",VLOOKUP(A3545,Feriados!A:A,1,FALSE))","v":"n"}]
[48106,2437,{"$f":"IF(E3546<>\"n\",COUNTIF(B3546:$B$4018,B3546),IF(D3546<6,0,COUNTIF(B3546:$B$4018,B3546)))","v":0},1,{"$f":"IF(ISERROR(VLOOKUP(A3546,Feriados!A:A,1,FALSE)),\"n\",VLOOKUP(A3546,Feriados!A:A,1,FALSE))","v":"n"}]
[48107,2438,{"$f":"IF(E3547<>\"n\",COUNTIF(B3547:$B$4018,B3547),IF(D3547<6,0,COUNTIF(B3547:$B$4018,B3547)))","v":0},2,{"$f":"IF(ISERROR(VLOOKUP(A3547,Feriados!A:A,1,FALSE)),\"n\",VLOOKUP(A3547,Feriados!A:A,1,FALSE))","v":"n"}]
[48108,2439,{"$f":"IF(E3548<>\"n\",COUNTIF(B3548:$B$4018,B3548),IF(D3548<6,0,COUNTIF(B3548:$B$4018,B3548)))","v":0},3,{"$f":"IF(ISERROR(VLOOKUP(A3548,Feriados!A:A,1,FALSE)),\"n\",VLOOKUP(A3548,Feriados!A:A,1,FALSE))","v":"n"}]
[48109,2440,{"$f":"IF(E3549<>\"n\",COUNTIF(B3549:$B$4018,B3549),IF(D3549<6,0,COUNTIF(B3549:$B$4018,B3549)))","v":0},4,{"$f":"IF(ISERROR(VLOOKUP(A3549,Feriados!A:A,1,FALSE)),\"n\",VLOOKUP(A3549,Feriados!A:A,1,FALSE))","v":"n"}]
[48110,{"$f":"NETWORKDAYS($A$2,A3550,feriados)","v":2441},{"$f":"IF(E3550<>\"n\",COUNTIF(B3550:$B$4018,B3550),IF(D3550<6,0,COUNTIF(B3550:$B$4018,B3550)))","v":0},{"$f":"WEEKDAY(A3550,2)","v":5},{"$f":"IF(ISERROR(VLOOKUP(A3550,Feriados!A:A,1,FALSE)),\"n\",VLOOKUP(A3550,Feriados!A:A,1,FALSE))","v":"n"}]
[48111,2441,{"$f":"IF(E3551<>\"n\",COUNTIF(B3551:$B$4018,B3551),IF(D3551<6,0,COUNTIF(B3551:$B$4018,B3551)))","v":2},6,{"$f":"IF(ISERROR(VLOOKUP(A3551,Feriados!A:A,1,FALSE)),\"n\",VLOOKUP(A3551,Feriados!A:A,1,FALSE))","v":"n"}]
[48112,2441,{"$f":"IF(E3552<>\"n\",COUNTIF(B3552:$B$4018,B3552),IF(D3552<6,0,COUNTIF(B3552:$B$4018,B3552)))","v":1},7,{"$f":"IF(ISERROR(VLOOKUP(A3552,Feriados!A:A,1,FALSE)),\"n\",VLOOKUP(A3552,Feriados!A:A,1,FALSE))","v":"n"}]
[48113,2442,{"$f":"IF(E3553<>\"n\",COUNTIF(B3553:$B$4018,B3553),IF(D3553<6,0,COUNTIF(B3553:$B$4018,B3553)))","v":0},1,{"$f":"IF(ISERROR(VLOOKUP(A3553,Feriados!A:A,1,FALSE)),\"n\",VLOOKUP(A3553,Feriados!A:A,1,FALSE))","v":"n"}]
[48114,2443,{"$f":"IF(E3554<>\"n\",COUNTIF(B3554:$B$4018,B3554),IF(D3554<6,0,COUNTIF(B3554:$B$4018,B3554)))","v":0},2,{"$f":"IF(ISERROR(VLOOKUP(A3554,Feriados!A:A,1,FALSE)),\"n\",VLOOKUP(A3554,Feriados!A:A,1,FALSE))","v":"n"}]
[48115,2444,{"$f":"IF(E3555<>\"n\",COUNTIF(B3555:$B$4018,B3555),IF(D3555<6,0,COUNTIF(B3555:$B$4018,B3555)))","v":0},3,{"$f":"IF(ISERROR(VLOOKUP(A3555,Feriados!A:A,1,FALSE)),\"n\",VLOOKUP(A3555,Feriados!A:A,1,FALSE))","v":"n"}]
[48116,2445,{"$f":"IF(E3556<>\"n\",COUNTIF(B3556:$B$4018,B3556),IF(D3556<6,0,COUNTIF(B3556:$B$4018,B3556)))","v":0},4,{"$f":"IF(ISERROR(VLOOKUP(A3556,Feriados!A:A,1,FALSE)),\"n\",VLOOKUP(A3556,Feriados!A:A,1,FALSE))","v":"n"}]
[48117,2446,{"$f":"IF(E3557<>\"n\",COUNTIF(B3557:$B$4018,B3557),IF(D3557<6,0,COUNTIF(B3557:$B$4018,B3557)))","v":0},5,{"$f":"IF(ISERROR(VLOOKUP(A3557,Feriados!A:A,1,FALSE)),\"n\",VLOOKUP(A3557,Feriados!A:A,1,FALSE))","v":"n"}]
[48118,2446,{"$f":"IF(E3558<>\"n\",COUNTIF(B3558:$B$4018,B3558),IF(D3558<6,0,COUNTIF(B3558:$B$4018,B3558)))","v":2},6,{"$f":"IF(ISERROR(VLOOKUP(A3558,Feriados!A:A,1,FALSE)),\"n\",VLOOKUP(A3558,Feriados!A:A,1,FALSE))","v":"n"}]
[48119,2446,{"$f":"IF(E3559<>\"n\",COUNTIF(B3559:$B$4018,B3559),IF(D3559<6,0,COUNTIF(B3559:$B$4018,B3559)))","v":1},7,{"$f":"IF(ISERROR(VLOOKUP(A3559,Feriados!A:A,1,FALSE)),\"n\",VLOOKUP(A3559,Feriados!A:A,1,FALSE))","v":"n"}]
[48120,2447,{"$f":"IF(E3560<>\"n\",COUNTIF(B3560:$B$4018,B3560),IF(D3560<6,0,COUNTIF(B3560:$B$4018,B3560)))","v":0},1,{"$f":"IF(ISERROR(VLOOKUP(A3560,Feriados!A:A,1,FALSE)),\"n\",VLOOKUP(A3560,Feriados!A:A,1,FALSE))","v":"n"}]
[48121,2448,{"$f":"IF(E3561<>\"n\",COUNTIF(B3561:$B$4018,B3561),IF(D3561<6,0,COUNTIF(B3561:$B$4018,B3561)))","v":0},2,{"$f":"IF(ISERROR(VLOOKUP(A3561,Feriados!A:A,1,FALSE)),\"n\",VLOOKUP(A3561,Feriados!A:A,1,FALSE))","v":"n"}]
[48122,2449,{"$f":"IF(E3562<>\"n\",COUNTIF(B3562:$B$4018,B3562),IF(D3562<6,0,COUNTIF(B3562:$B$4018,B3562)))","v":0},3,{"$f":"IF(ISERROR(VLOOKUP(A3562,Feriados!A:A,1,FALSE)),\"n\",VLOOKUP(A3562,Feriados!A:A,1,FALSE))","v":"n"}]
[48123,2450,{"$f":"IF(E3563<>\"n\",COUNTIF(B3563:$B$4018,B3563),IF(D3563<6,0,COUNTIF(B3563:$B$4018,B3563)))","v":0},4,{"$f":"IF(ISERROR(VLOOKUP(A3563,Feriados!A:A,1,FALSE)),\"n\",VLOOKUP(A3563,Feriados!A:A,1,FALSE))","v":"n"}]
[48124,2451,{"$f":"IF(E3564<>\"n\",COUNTIF(B3564:$B$4018,B3564),IF(D3564<6,0,COUNTIF(B3564:$B$4018,B3564)))","v":0},5,{"$f":"IF(ISERROR(VLOOKUP(A3564,Feriados!A:A,1,FALSE)),\"n\",VLOOKUP(A3564,Feriados!A:A,1,FALSE))","v":"n"}]
[48125,2451,{"$f":"IF(E3565<>\"n\",COUNTIF(B3565:$B$4018,B3565),IF(D3565<6,0,COUNTIF(B3565:$B$4018,B3565)))","v":2},6,{"$f":"IF(ISERROR(VLOOKUP(A3565,Feriados!A:A,1,FALSE)),\"n\",VLOOKUP(A3565,Feriados!A:A,1,FALSE))","v":"n"}]
[48126,2451,{"$f":"IF(E3566<>\"n\",COUNTIF(B3566:$B$4018,B3566),IF(D3566<6,0,COUNTIF(B3566:$B$4018,B3566)))","v":1},7,{"$f":"IF(ISERROR(VLOOKUP(A3566,Feriados!A:A,1,FALSE)),\"n\",VLOOKUP(A3566,Feriados!A:A,1,FALSE))","v":"n"}]
[48127,2452,{"$f":"IF(E3567<>\"n\",COUNTIF(B3567:$B$4018,B3567),IF(D3567<6,0,COUNTIF(B3567:$B$4018,B3567)))","v":0},1,{"$f":"IF(ISERROR(VLOOKUP(A3567,Feriados!A:A,1,FALSE)),\"n\",VLOOKUP(A3567,Feriados!A:A,1,FALSE))","v":"n"}]
[48128,2453,{"$f":"IF(E3568<>\"n\",COUNTIF(B3568:$B$4018,B3568),IF(D3568<6,0,COUNTIF(B3568:$B$4018,B3568)))","v":0},2,{"$f":"IF(ISERROR(VLOOKUP(A3568,Feriados!A:A,1,FALSE)),\"n\",VLOOKUP(A3568,Feriados!A:A,1,FALSE))","v":"n"}]
[48129,2454,{"$f":"IF(E3569<>\"n\",COUNTIF(B3569:$B$4018,B3569),IF(D3569<6,0,COUNTIF(B3569:$B$4018,B3569)))","v":0},3,{"$f":"IF(ISERROR(VLOOKUP(A3569,Feriados!A:A,1,FALSE)),\"n\",VLOOKUP(A3569,Feriados!A:A,1,FALSE))","v":"n"}]
[48130,2455,{"$f":"IF(E3570<>\"n\",COUNTIF(B3570:$B$4018,B3570),IF(D3570<6,0,COUNTIF(B3570:$B$4018,B3570)))","v":0},4,{"$f":"IF(ISERROR(VLOOKUP(A3570,Feriados!A:A,1,FALSE)),\"n\",VLOOKUP(A3570,Feriados!A:A,1,FALSE))","v":"n"}]
[48131,2456,{"$f":"IF(E3571<>\"n\",COUNTIF(B3571:$B$4018,B3571),IF(D3571<6,0,COUNTIF(B3571:$B$4018,B3571)))","v":0},5,{"$f":"IF(ISERROR(VLOOKUP(A3571,Feriados!A:A,1,FALSE)),\"n\",VLOOKUP(A3571,Feriados!A:A,1,FALSE))","v":"n"}]
[48132,2456,{"$f":"IF(E3572<>\"n\",COUNTIF(B3572:$B$4018,B3572),IF(D3572<6,0,COUNTIF(B3572:$B$4018,B3572)))","v":2},6,{"$f":"IF(ISERROR(VLOOKUP(A3572,Feriados!A:A,1,FALSE)),\"n\",VLOOKUP(A3572,Feriados!A:A,1,FALSE))","v":"n"}]
[48133,2456,{"$f":"IF(E3573<>\"n\",COUNTIF(B3573:$B$4018,B3573),IF(D3573<6,0,COUNTIF(B3573:$B$4018,B3573)))","v":1},7,{"$f":"IF(ISERROR(VLOOKUP(A3573,Feriados!A:A,1,FALSE)),\"n\",VLOOKUP(A3573,Feriados!A:A,1,FALSE))","v":"2031-10-12"}]
[48134,2457,{"$f":"IF(E3574<>\"n\",COUNTIF(B3574:$B$4018,B3574),IF(D3574<6,0,COUNTIF(B3574:$B$4018,B3574)))","v":0},1,{"$f":"IF(ISERROR(VLOOKUP(A3574,Feriados!A:A,1,FALSE)),\"n\",VLOOKUP(A3574,Feriados!A:A,1,FALSE))","v":"n"}]
[48135,2458,{"$f":"IF(E3575<>\"n\",COUNTIF(B3575:$B$4018,B3575),IF(D3575<6,0,COUNTIF(B3575:$B$4018,B3575)))","v":0},2,{"$f":"IF(ISERROR(VLOOKUP(A3575,Feriados!A:A,1,FALSE)),\"n\",VLOOKUP(A3575,Feriados!A:A,1,FALSE))","v":"n"}]
[48136,2459,{"$f":"IF(E3576<>\"n\",COUNTIF(B3576:$B$4018,B3576),IF(D3576<6,0,COUNTIF(B3576:$B$4018,B3576)))","v":0},3,{"$f":"IF(ISERROR(VLOOKUP(A3576,Feriados!A:A,1,FALSE)),\"n\",VLOOKUP(A3576,Feriados!A:A,1,FALSE))","v":"n"}]
[48137,2460,{"$f":"IF(E3577<>\"n\",COUNTIF(B3577:$B$4018,B3577),IF(D3577<6,0,COUNTIF(B3577:$B$4018,B3577)))","v":0},4,{"$f":"IF(ISERROR(VLOOKUP(A3577,Feriados!A:A,1,FALSE)),\"n\",VLOOKUP(A3577,Feriados!A:A,1,FALSE))","v":"n"}]
[48138,2461,{"$f":"IF(E3578<>\"n\",COUNTIF(B3578:$B$4018,B3578),IF(D3578<6,0,COUNTIF(B3578:$B$4018,B3578)))","v":0},5,{"$f":"IF(ISERROR(VLOOKUP(A3578,Feriados!A:A,1,FALSE)),\"n\",VLOOKUP(A3578,Feriados!A:A,1,FALSE))","v":"n"}]
[48139,2461,{"$f":"IF(E3579<>\"n\",COUNTIF(B3579:$B$4018,B3579),IF(D3579<6,0,COUNTIF(B3579:$B$4018,B3579)))","v":2},6,{"$f":"IF(ISERROR(VLOOKUP(A3579,Feriados!A:A,1,FALSE)),\"n\",VLOOKUP(A3579,Feriados!A:A,1,FALSE))","v":"n"}]
[48140,2461,{"$f":"IF(E3580<>\"n\",COUNTIF(B3580:$B$4018,B3580),IF(D3580<6,0,COUNTIF(B3580:$B$4018,B3580)))","v":1},7,{"$f":"IF(ISERROR(VLOOKUP(A3580,Feriados!A:A,1,FALSE)),\"n\",VLOOKUP(A3580,Feriados!A:A,1,FALSE))","v":"n"}]
[48141,2462,{"$f":"IF(E3581<>\"n\",COUNTIF(B3581:$B$4018,B3581),IF(D3581<6,0,COUNTIF(B3581:$B$4018,B3581)))","v":0},1,{"$f":"IF(ISERROR(VLOOKUP(A3581,Feriados!A:A,1,FALSE)),\"n\",VLOOKUP(A3581,Feriados!A:A,1,FALSE))","v":"n"}]
[48142,2463,{"$f":"IF(E3582<>\"n\",COUNTIF(B3582:$B$4018,B3582),IF(D3582<6,0,COUNTIF(B3582:$B$4018,B3582)))","v":0},2,{"$f":"IF(ISERROR(VLOOKUP(A3582,Feriados!A:A,1,FALSE)),\"n\",VLOOKUP(A3582,Feriados!A:A,1,FALSE))","v":"n"}]
[48143,2464,{"$f":"IF(E3583<>\"n\",COUNTIF(B3583:$B$4018,B3583),IF(D3583<6,0,COUNTIF(B3583:$B$4018,B3583)))","v":0},3,{"$f":"IF(ISERROR(VLOOKUP(A3583,Feriados!A:A,1,FALSE)),\"n\",VLOOKUP(A3583,Feriados!A:A,1,FALSE))","v":"n"}]
[48144,2465,{"$f":"IF(E3584<>\"n\",COUNTIF(B3584:$B$4018,B3584),IF(D3584<6,0,COUNTIF(B3584:$B$4018,B3584)))","v":0},4,{"$f":"IF(ISERROR(VLOOKUP(A3584,Feriados!A:A,1,FALSE)),\"n\",VLOOKUP(A3584,Feriados!A:A,1,FALSE))","v":"n"}]
[48145,2466,{"$f":"IF(E3585<>\"n\",COUNTIF(B3585:$B$4018,B3585),IF(D3585<6,0,COUNTIF(B3585:$B$4018,B3585)))","v":0},5,{"$f":"IF(ISERROR(VLOOKUP(A3585,Feriados!A:A,1,FALSE)),\"n\",VLOOKUP(A3585,Feriados!A:A,1,FALSE))","v":"n"}]
[48146,2466,{"$f":"IF(E3586<>\"n\",COUNTIF(B3586:$B$4018,B3586),IF(D3586<6,0,COUNTIF(B3586:$B$4018,B3586)))","v":2},6,{"$f":"IF(ISERROR(VLOOKUP(A3586,Feriados!A:A,1,FALSE)),\"n\",VLOOKUP(A3586,Feriados!A:A,1,FALSE))","v":"n"}]
[48147,2466,{"$f":"IF(E3587<>\"n\",COUNTIF(B3587:$B$4018,B3587),IF(D3587<6,0,COUNTIF(B3587:$B$4018,B3587)))","v":1},7,{"$f":"IF(ISERROR(VLOOKUP(A3587,Feriados!A:A,1,FALSE)),\"n\",VLOOKUP(A3587,Feriados!A:A,1,FALSE))","v":"n"}]
[{"$f":"A3587+1","v":48148},2467,{"$f":"IF(E3588<>\"n\",COUNTIF(B3588:$B$4018,B3588),IF(D3588<6,0,COUNTIF(B3588:$B$4018,B3588)))","v":0},1,{"$f":"IF(ISERROR(VLOOKUP(A3588,Feriados!A:A,1,FALSE)),\"n\",VLOOKUP(A3588,Feriados!A:A,1,FALSE))","v":"n"}]
[48149,2468,{"$f":"IF(E3589<>\"n\",COUNTIF(B3589:$B$4018,B3589),IF(D3589<6,0,COUNTIF(B3589:$B$4018,B3589)))","v":0},2,{"$f":"IF(ISERROR(VLOOKUP(A3589,Feriados!A:A,1,FALSE)),\"n\",VLOOKUP(A3589,Feriados!A:A,1,FALSE))","v":"n"}]
[48150,2469,{"$f":"IF(E3590<>\"n\",COUNTIF(B3590:$B$4018,B3590),IF(D3590<6,0,COUNTIF(B3590:$B$4018,B3590)))","v":0},3,{"$f":"IF(ISERROR(VLOOKUP(A3590,Feriados!A:A,1,FALSE)),\"n\",VLOOKUP(A3590,Feriados!A:A,1,FALSE))","v":"n"}]
[48151,2470,{"$f":"IF(E3591<>\"n\",COUNTIF(B3591:$B$4018,B3591),IF(D3591<6,0,COUNTIF(B3591:$B$4018,B3591)))","v":0},4,{"$f":"IF(ISERROR(VLOOKUP(A3591,Feriados!A:A,1,FALSE)),\"n\",VLOOKUP(A3591,Feriados!A:A,1,FALSE))","v":"n"}]
[48152,2471,{"$f":"IF(E3592<>\"n\",COUNTIF(B3592:$B$4018,B3592),IF(D3592<6,0,COUNTIF(B3592:$B$4018,B3592)))","v":0},5,{"$f":"IF(ISERROR(VLOOKUP(A3592,Feriados!A:A,1,FALSE)),\"n\",VLOOKUP(A3592,Feriados!A:A,1,FALSE))","v":"n"}]
[48153,2471,{"$f":"IF(E3593<>\"n\",COUNTIF(B3593:$B$4018,B3593),IF(D3593<6,0,COUNTIF(B3593:$B$4018,B3593)))","v":2},6,{"$f":"IF(ISERROR(VLOOKUP(A3593,Feriados!A:A,1,FALSE)),\"n\",VLOOKUP(A3593,Feriados!A:A,1,FALSE))","v":"n"}]
[48154,2471,{"$f":"IF(E3594<>\"n\",COUNTIF(B3594:$B$4018,B3594),IF(D3594<6,0,COUNTIF(B3594:$B$4018,B3594)))","v":1},7,{"$f":"IF(ISERROR(VLOOKUP(A3594,Feriados!A:A,1,FALSE)),\"n\",VLOOKUP(A3594,Feriados!A:A,1,FALSE))","v":"2031-11-02"}]
[48155,2472,{"$f":"IF(E3595<>\"n\",COUNTIF(B3595:$B$4018,B3595),IF(D3595<6,0,COUNTIF(B3595:$B$4018,B3595)))","v":0},1,{"$f":"IF(ISERROR(VLOOKUP(A3595,Feriados!A:A,1,FALSE)),\"n\",VLOOKUP(A3595,Feriados!A:A,1,FALSE))","v":"n"}]
[48156,2473,{"$f":"IF(E3596<>\"n\",COUNTIF(B3596:$B$4018,B3596),IF(D3596<6,0,COUNTIF(B3596:$B$4018,B3596)))","v":0},2,{"$f":"IF(ISERROR(VLOOKUP(A3596,Feriados!A:A,1,FALSE)),\"n\",VLOOKUP(A3596,Feriados!A:A,1,FALSE))","v":"n"}]
[48157,2474,{"$f":"IF(E3597<>\"n\",COUNTIF(B3597:$B$4018,B3597),IF(D3597<6,0,COUNTIF(B3597:$B$4018,B3597)))","v":0},3,{"$f":"IF(ISERROR(VLOOKUP(A3597,Feriados!A:A,1,FALSE)),\"n\",VLOOKUP(A3597,Feriados!A:A,1,FALSE))","v":"n"}]
[48158,2475,{"$f":"IF(E3598<>\"n\",COUNTIF(B3598:$B$4018,B3598),IF(D3598<6,0,COUNTIF(B3598:$B$4018,B3598)))","v":0},4,{"$f":"IF(ISERROR(VLOOKUP(A3598,Feriados!A:A,1,FALSE)),\"n\",VLOOKUP(A3598,Feriados!A:A,1,FALSE))","v":"n"}]
[48159,2476,{"$f":"IF(E3599<>\"n\",COUNTIF(B3599:$B$4018,B3599),IF(D3599<6,0,COUNTIF(B3599:$B$4018,B3599)))","v":0},5,{"$f":"IF(ISERROR(VLOOKUP(A3599,Feriados!A:A,1,FALSE)),\"n\",VLOOKUP(A3599,Feriados!A:A,1,FALSE))","v":"n"}]
[48160,2476,{"$f":"IF(E3600<>\"n\",COUNTIF(B3600:$B$4018,B3600),IF(D3600<6,0,COUNTIF(B3600:$B$4018,B3600)))","v":2},6,{"$f":"IF(ISERROR(VLOOKUP(A3600,Feriados!A:A,1,FALSE)),\"n\",VLOOKUP(A3600,Feriados!A:A,1,FALSE))","v":"n"}]
[48161,2476,{"$f":"IF(E3601<>\"n\",COUNTIF(B3601:$B$4018,B3601),IF(D3601<6,0,COUNTIF(B3601:$B$4018,B3601)))","v":1},7,{"$f":"IF(ISERROR(VLOOKUP(A3601,Feriados!A:A,1,FALSE)),\"n\",VLOOKUP(A3601,Feriados!A:A,1,FALSE))","v":"n"}]
[48162,2477,{"$f":"IF(E3602<>\"n\",COUNTIF(B3602:$B$4018,B3602),IF(D3602<6,0,COUNTIF(B3602:$B$4018,B3602)))","v":0},1,{"$f":"IF(ISERROR(VLOOKUP(A3602,Feriados!A:A,1,FALSE)),\"n\",VLOOKUP(A3602,Feriados!A:A,1,FALSE))","v":"n"}]
[48163,2478,{"$f":"IF(E3603<>\"n\",COUNTIF(B3603:$B$4018,B3603),IF(D3603<6,0,COUNTIF(B3603:$B$4018,B3603)))","v":0},2,{"$f":"IF(ISERROR(VLOOKUP(A3603,Feriados!A:A,1,FALSE)),\"n\",VLOOKUP(A3603,Feriados!A:A,1,FALSE))","v":"n"}]
[48164,2479,{"$f":"IF(E3604<>\"n\",COUNTIF(B3604:$B$4018,B3604),IF(D3604<6,0,COUNTIF(B3604:$B$4018,B3604)))","v":0},3,{"$f":"IF(ISERROR(VLOOKUP(A3604,Feriados!A:A,1,FALSE)),\"n\",VLOOKUP(A3604,Feriados!A:A,1,FALSE))","v":"n"}]
[48165,2480,{"$f":"IF(E3605<>\"n\",COUNTIF(B3605:$B$4018,B3605),IF(D3605<6,0,COUNTIF(B3605:$B$4018,B3605)))","v":0},4,{"$f":"IF(ISERROR(VLOOKUP(A3605,Feriados!A:A,1,FALSE)),\"n\",VLOOKUP(A3605,Feriados!A:A,1,FALSE))","v":"n"}]
[48166,2481,{"$f":"IF(E3606<>\"n\",COUNTIF(B3606:$B$4018,B3606),IF(D3606<6,0,COUNTIF(B3606:$B$4018,B3606)))","v":0},5,{"$f":"IF(ISERROR(VLOOKUP(A3606,Feriados!A:A,1,FALSE)),\"n\",VLOOKUP(A3606,Feriados!A:A,1,FALSE))","v":"n"}]
[48167,2481,{"$f":"IF(E3607<>\"n\",COUNTIF(B3607:$B$4018,B3607),IF(D3607<6,0,COUNTIF(B3607:$B$4018,B3607)))","v":2},6,{"$f":"IF(ISERROR(VLOOKUP(A3607,Feriados!A:A,1,FALSE)),\"n\",VLOOKUP(A3607,Feriados!A:A,1,FALSE))","v":"2031-11-15"}]
[48168,2481,{"$f":"IF(E3608<>\"n\",COUNTIF(B3608:$B$4018,B3608),IF(D3608<6,0,COUNTIF(B3608:$B$4018,B3608)))","v":1},7,{"$f":"IF(ISERROR(VLOOKUP(A3608,Feriados!A:A,1,FALSE)),\"n\",VLOOKUP(A3608,Feriados!A:A,1,FALSE))","v":"n"}]
[48169,2482,{"$f":"IF(E3609<>\"n\",COUNTIF(B3609:$B$4018,B3609),IF(D3609<6,0,COUNTIF(B3609:$B$4018,B3609)))","v":0},1,{"$f":"IF(ISERROR(VLOOKUP(A3609,Feriados!A:A,1,FALSE)),\"n\",VLOOKUP(A3609,Feriados!A:A,1,FALSE))","v":"n"}]
[48170,2483,{"$f":"IF(E3610<>\"n\",COUNTIF(B3610:$B$4018,B3610),IF(D3610<6,0,COUNTIF(B3610:$B$4018,B3610)))","v":0},2,{"$f":"IF(ISERROR(VLOOKUP(A3610,Feriados!A:A,1,FALSE)),\"n\",VLOOKUP(A3610,Feriados!A:A,1,FALSE))","v":"n"}]
[48171,2484,{"$f":"IF(E3611<>\"n\",COUNTIF(B3611:$B$4018,B3611),IF(D3611<6,0,COUNTIF(B3611:$B$4018,B3611)))","v":0},3,{"$f":"IF(ISERROR(VLOOKUP(A3611,Feriados!A:A,1,FALSE)),\"n\",VLOOKUP(A3611,Feriados!A:A,1,FALSE))","v":"n"}]
[48172,2485,{"$f":"IF(E3612<>\"n\",COUNTIF(B3612:$B$4018,B3612),IF(D3612<6,0,COUNTIF(B3612:$B$4018,B3612)))","v":0},4,{"$f":"IF(ISERROR(VLOOKUP(A3612,Feriados!A:A,1,FALSE)),\"n\",VLOOKUP(A3612,Feriados!A:A,1,FALSE))","v":"n"}]
[48173,2486,{"$f":"IF(E3613<>\"n\",COUNTIF(B3613:$B$4018,B3613),IF(D3613<6,0,COUNTIF(B3613:$B$4018,B3613)))","v":0},5,{"$f":"IF(ISERROR(VLOOKUP(A3613,Feriados!A:A,1,FALSE)),\"n\",VLOOKUP(A3613,Feriados!A:A,1,FALSE))","v":"n"}]
[48174,{"$f":"NETWORKDAYS($A$2,A3614,feriados)","v":2486},{"$f":"IF(E3614<>\"n\",COUNTIF(B3614:$B$4018,B3614),IF(D3614<6,0,COUNTIF(B3614:$B$4018,B3614)))","v":2},{"$f":"WEEKDAY(A3614,2)","v":6},{"$f":"IF(ISERROR(VLOOKUP(A3614,Feriados!A:A,1,FALSE)),\"n\",VLOOKUP(A3614,Feriados!A:A,1,FALSE))","v":"n"}]
[48175,2486,{"$f":"IF(E3615<>\"n\",COUNTIF(B3615:$B$4018,B3615),IF(D3615<6,0,COUNTIF(B3615:$B$4018,B3615)))","v":1},7,{"$f":"IF(ISERROR(VLOOKUP(A3615,Feriados!A:A,1,FALSE)),\"n\",VLOOKUP(A3615,Feriados!A:A,1,FALSE))","v":"n"}]
[48176,2487,{"$f":"IF(E3616<>\"n\",COUNTIF(B3616:$B$4018,B3616),IF(D3616<6,0,COUNTIF(B3616:$B$4018,B3616)))","v":0},1,{"$f":"IF(ISERROR(VLOOKUP(A3616,Feriados!A:A,1,FALSE)),\"n\",VLOOKUP(A3616,Feriados!A:A,1,FALSE))","v":"n"}]
[48177,2488,{"$f":"IF(E3617<>\"n\",COUNTIF(B3617:$B$4018,B3617),IF(D3617<6,0,COUNTIF(B3617:$B$4018,B3617)))","v":0},2,{"$f":"IF(ISERROR(VLOOKUP(A3617,Feriados!A:A,1,FALSE)),\"n\",VLOOKUP(A3617,Feriados!A:A,1,FALSE))","v":"n"}]
[48178,2489,{"$f":"IF(E3618<>\"n\",COUNTIF(B3618:$B$4018,B3618),IF(D3618<6,0,COUNTIF(B3618:$B$4018,B3618)))","v":0},3,{"$f":"IF(ISERROR(VLOOKUP(A3618,Feriados!A:A,1,FALSE)),\"n\",VLOOKUP(A3618,Feriados!A:A,1,FALSE))","v":"n"}]
[48179,2490,{"$f":"IF(E3619<>\"n\",COUNTIF(B3619:$B$4018,B3619),IF(D3619<6,0,COUNTIF(B3619:$B$4018,B3619)))","v":0},4,{"$f":"IF(ISERROR(VLOOKUP(A3619,Feriados!A:A,1,FALSE)),\"n\",VLOOKUP(A3619,Feriados!A:A,1,FALSE))","v":"n"}]
[48180,2491,{"$f":"IF(E3620<>\"n\",COUNTIF(B3620:$B$4018,B3620),IF(D3620<6,0,COUNTIF(B3620:$B$4018,B3620)))","v":0},5,{"$f":"IF(ISERROR(VLOOKUP(A3620,Feriados!A:A,1,FALSE)),\"n\",VLOOKUP(A3620,Feriados!A:A,1,FALSE))","v":"n"}]
[48181,2491,{"$f":"IF(E3621<>\"n\",COUNTIF(B3621:$B$4018,B3621),IF(D3621<6,0,COUNTIF(B3621:$B$4018,B3621)))","v":2},6,{"$f":"IF(ISERROR(VLOOKUP(A3621,Feriados!A:A,1,FALSE)),\"n\",VLOOKUP(A3621,Feriados!A:A,1,FALSE))","v":"n"}]
[48182,2491,{"$f":"IF(E3622<>\"n\",COUNTIF(B3622:$B$4018,B3622),IF(D3622<6,0,COUNTIF(B3622:$B$4018,B3622)))","v":1},7,{"$f":"IF(ISERROR(VLOOKUP(A3622,Feriados!A:A,1,FALSE)),\"n\",VLOOKUP(A3622,Feriados!A:A,1,FALSE))","v":"n"}]
[48183,2492,{"$f":"IF(E3623<>\"n\",COUNTIF(B3623:$B$4018,B3623),IF(D3623<6,0,COUNTIF(B3623:$B$4018,B3623)))","v":0},1,{"$f":"IF(ISERROR(VLOOKUP(A3623,Feriados!A:A,1,FALSE)),\"n\",VLOOKUP(A3623,Feriados!A:A,1,FALSE))","v":"n"}]
[48184,2493,{"$f":"IF(E3624<>\"n\",COUNTIF(B3624:$B$4018,B3624),IF(D3624<6,0,COUNTIF(B3624:$B$4018,B3624)))","v":0},2,{"$f":"IF(ISERROR(VLOOKUP(A3624,Feriados!A:A,1,FALSE)),\"n\",VLOOKUP(A3624,Feriados!A:A,1,FALSE))","v":"n"}]
[48185,2494,{"$f":"IF(E3625<>\"n\",COUNTIF(B3625:$B$4018,B3625),IF(D3625<6,0,COUNTIF(B3625:$B$4018,B3625)))","v":0},3,{"$f":"IF(ISERROR(VLOOKUP(A3625,Feriados!A:A,1,FALSE)),\"n\",VLOOKUP(A3625,Feriados!A:A,1,FALSE))","v":"n"}]
[48186,2495,{"$f":"IF(E3626<>\"n\",COUNTIF(B3626:$B$4018,B3626),IF(D3626<6,0,COUNTIF(B3626:$B$4018,B3626)))","v":0},4,{"$f":"IF(ISERROR(VLOOKUP(A3626,Feriados!A:A,1,FALSE)),\"n\",VLOOKUP(A3626,Feriados!A:A,1,FALSE))","v":"n"}]
[48187,2496,{"$f":"IF(E3627<>\"n\",COUNTIF(B3627:$B$4018,B3627),IF(D3627<6,0,COUNTIF(B3627:$B$4018,B3627)))","v":0},5,{"$f":"IF(ISERROR(VLOOKUP(A3627,Feriados!A:A,1,FALSE)),\"n\",VLOOKUP(A3627,Feriados!A:A,1,FALSE))","v":"n"}]
[48188,2496,{"$f":"IF(E3628<>\"n\",COUNTIF(B3628:$B$4018,B3628),IF(D3628<6,0,COUNTIF(B3628:$B$4018,B3628)))","v":2},6,{"$f":"IF(ISERROR(VLOOKUP(A3628,Feriados!A:A,1,FALSE)),\"n\",VLOOKUP(A3628,Feriados!A:A,1,FALSE))","v":"n"}]
[48189,2496,{"$f":"IF(E3629<>\"n\",COUNTIF(B3629:$B$4018,B3629),IF(D3629<6,0,COUNTIF(B3629:$B$4018,B3629)))","v":1},7,{"$f":"IF(ISERROR(VLOOKUP(A3629,Feriados!A:A,1,FALSE)),\"n\",VLOOKUP(A3629,Feriados!A:A,1,FALSE))","v":"n"}]
[48190,2497,{"$f":"IF(E3630<>\"n\",COUNTIF(B3630:$B$4018,B3630),IF(D3630<6,0,COUNTIF(B3630:$B$4018,B3630)))","v":0},1,{"$f":"IF(ISERROR(VLOOKUP(A3630,Feriados!A:A,1,FALSE)),\"n\",VLOOKUP(A3630,Feriados!A:A,1,FALSE))","v":"n"}]
[48191,2498,{"$f":"IF(E3631<>\"n\",COUNTIF(B3631:$B$4018,B3631),IF(D3631<6,0,COUNTIF(B3631:$B$4018,B3631)))","v":0},2,{"$f":"IF(ISERROR(VLOOKUP(A3631,Feriados!A:A,1,FALSE)),\"n\",VLOOKUP(A3631,Feriados!A:A,1,FALSE))","v":"n"}]
[48192,2499,{"$f":"IF(E3632<>\"n\",COUNTIF(B3632:$B$4018,B3632),IF(D3632<6,0,COUNTIF(B3632:$B$4018,B3632)))","v":0},3,{"$f":"IF(ISERROR(VLOOKUP(A3632,Feriados!A:A,1,FALSE)),\"n\",VLOOKUP(A3632,Feriados!A:A,1,FALSE))","v":"n"}]
[48193,2500,{"$f":"IF(E3633<>\"n\",COUNTIF(B3633:$B$4018,B3633),IF(D3633<6,0,COUNTIF(B3633:$B$4018,B3633)))","v":0},4,{"$f":"IF(ISERROR(VLOOKUP(A3633,Feriados!A:A,1,FALSE)),\"n\",VLOOKUP(A3633,Feriados!A:A,1,FALSE))","v":"n"}]
[48194,2501,{"$f":"IF(E3634<>\"n\",COUNTIF(B3634:$B$4018,B3634),IF(D3634<6,0,COUNTIF(B3634:$B$4018,B3634)))","v":0},5,{"$f":"IF(ISERROR(VLOOKUP(A3634,Feriados!A:A,1,FALSE)),\"n\",VLOOKUP(A3634,Feriados!A:A,1,FALSE))","v":"n"}]
[48195,2501,{"$f":"IF(E3635<>\"n\",COUNTIF(B3635:$B$4018,B3635),IF(D3635<6,0,COUNTIF(B3635:$B$4018,B3635)))","v":2},6,{"$f":"IF(ISERROR(VLOOKUP(A3635,Feriados!A:A,1,FALSE)),\"n\",VLOOKUP(A3635,Feriados!A:A,1,FALSE))","v":"n"}]
[48196,2501,{"$f":"IF(E3636<>\"n\",COUNTIF(B3636:$B$4018,B3636),IF(D3636<6,0,COUNTIF(B3636:$B$4018,B3636)))","v":1},7,{"$f":"IF(ISERROR(VLOOKUP(A3636,Feriados!A:A,1,FALSE)),\"n\",VLOOKUP(A3636,Feriados!A:A,1,FALSE))","v":"n"}]
[48197,2502,{"$f":"IF(E3637<>\"n\",COUNTIF(B3637:$B$4018,B3637),IF(D3637<6,0,COUNTIF(B3637:$B$4018,B3637)))","v":0},1,{"$f":"IF(ISERROR(VLOOKUP(A3637,Feriados!A:A,1,FALSE)),\"n\",VLOOKUP(A3637,Feriados!A:A,1,FALSE))","v":"n"}]
[48198,2503,{"$f":"IF(E3638<>\"n\",COUNTIF(B3638:$B$4018,B3638),IF(D3638<6,0,COUNTIF(B3638:$B$4018,B3638)))","v":0},2,{"$f":"IF(ISERROR(VLOOKUP(A3638,Feriados!A:A,1,FALSE)),\"n\",VLOOKUP(A3638,Feriados!A:A,1,FALSE))","v":"n"}]
[48199,2504,{"$f":"IF(E3639<>\"n\",COUNTIF(B3639:$B$4018,B3639),IF(D3639<6,0,COUNTIF(B3639:$B$4018,B3639)))","v":0},3,{"$f":"IF(ISERROR(VLOOKUP(A3639,Feriados!A:A,1,FALSE)),\"n\",VLOOKUP(A3639,Feriados!A:A,1,FALSE))","v":"n"}]
[48200,2505,{"$f":"IF(E3640<>\"n\",COUNTIF(B3640:$B$4018,B3640),IF(D3640<6,0,COUNTIF(B3640:$B$4018,B3640)))","v":0},4,{"$f":"IF(ISERROR(VLOOKUP(A3640,Feriados!A:A,1,FALSE)),\"n\",VLOOKUP(A3640,Feriados!A:A,1,FALSE))","v":"n"}]
[48201,2506,{"$f":"IF(E3641<>\"n\",COUNTIF(B3641:$B$4018,B3641),IF(D3641<6,0,COUNTIF(B3641:$B$4018,B3641)))","v":0},5,{"$f":"IF(ISERROR(VLOOKUP(A3641,Feriados!A:A,1,FALSE)),\"n\",VLOOKUP(A3641,Feriados!A:A,1,FALSE))","v":"n"}]
[48202,2506,{"$f":"IF(E3642<>\"n\",COUNTIF(B3642:$B$4018,B3642),IF(D3642<6,0,COUNTIF(B3642:$B$4018,B3642)))","v":2},6,{"$f":"IF(ISERROR(VLOOKUP(A3642,Feriados!A:A,1,FALSE)),\"n\",VLOOKUP(A3642,Feriados!A:A,1,FALSE))","v":"n"}]
[48203,2506,{"$f":"IF(E3643<>\"n\",COUNTIF(B3643:$B$4018,B3643),IF(D3643<6,0,COUNTIF(B3643:$B$4018,B3643)))","v":1},7,{"$f":"IF(ISERROR(VLOOKUP(A3643,Feriados!A:A,1,FALSE)),\"n\",VLOOKUP(A3643,Feriados!A:A,1,FALSE))","v":"n"}]
[48204,2507,{"$f":"IF(E3644<>\"n\",COUNTIF(B3644:$B$4018,B3644),IF(D3644<6,0,COUNTIF(B3644:$B$4018,B3644)))","v":0},1,{"$f":"IF(ISERROR(VLOOKUP(A3644,Feriados!A:A,1,FALSE)),\"n\",VLOOKUP(A3644,Feriados!A:A,1,FALSE))","v":"n"}]
[48205,2508,{"$f":"IF(E3645<>\"n\",COUNTIF(B3645:$B$4018,B3645),IF(D3645<6,0,COUNTIF(B3645:$B$4018,B3645)))","v":0},2,{"$f":"IF(ISERROR(VLOOKUP(A3645,Feriados!A:A,1,FALSE)),\"n\",VLOOKUP(A3645,Feriados!A:A,1,FALSE))","v":"n"}]
[48206,2509,{"$f":"IF(E3646<>\"n\",COUNTIF(B3646:$B$4018,B3646),IF(D3646<6,0,COUNTIF(B3646:$B$4018,B3646)))","v":0},3,{"$f":"IF(ISERROR(VLOOKUP(A3646,Feriados!A:A,1,FALSE)),\"n\",VLOOKUP(A3646,Feriados!A:A,1,FALSE))","v":"n"}]
[48207,2509,{"$f":"IF(E3647<>\"n\",COUNTIF(B3647:$B$4018,B3647),IF(D3647<6,0,COUNTIF(B3647:$B$4018,B3647)))","v":1},4,{"$f":"IF(ISERROR(VLOOKUP(A3647,Feriados!A:A,1,FALSE)),\"n\",VLOOKUP(A3647,Feriados!A:A,1,FALSE))","v":"2031-12-25"}]
[48208,2510,{"$f":"IF(E3648<>\"n\",COUNTIF(B3648:$B$4018,B3648),IF(D3648<6,0,COUNTIF(B3648:$B$4018,B3648)))","v":0},5,{"$f":"IF(ISERROR(VLOOKUP(A3648,Feriados!A:A,1,FALSE)),\"n\",VLOOKUP(A3648,Feriados!A:A,1,FALSE))","v":"n"}]
[48209,2510,{"$f":"IF(E3649<>\"n\",COUNTIF(B3649:$B$4018,B3649),IF(D3649<6,0,COUNTIF(B3649:$B$4018,B3649)))","v":2},6,{"$f":"IF(ISERROR(VLOOKUP(A3649,Feriados!A:A,1,FALSE)),\"n\",VLOOKUP(A3649,Feriados!A:A,1,FALSE))","v":"n"}]
[48210,2510,{"$f":"IF(E3650<>\"n\",COUNTIF(B3650:$B$4018,B3650),IF(D3650<6,0,COUNTIF(B3650:$B$4018,B3650)))","v":1},7,{"$f":"IF(ISERROR(VLOOKUP(A3650,Feriados!A:A,1,FALSE)),\"n\",VLOOKUP(A3650,Feriados!A:A,1,FALSE))","v":"n"}]
[48211,2511,{"$f":"IF(E3651<>\"n\",COUNTIF(B3651:$B$4018,B3651),IF(D3651<6,0,COUNTIF(B3651:$B$4018,B3651)))","v":0},1,{"$f":"IF(ISERROR(VLOOKUP(A3651,Feriados!A:A,1,FALSE)),\"n\",VLOOKUP(A3651,Feriados!A:A,1,FALSE))","v":"n"}]
[{"$f":"A3651+1","v":48212},2512,{"$f":"IF(E3652<>\"n\",COUNTIF(B3652:$B$4018,B3652),IF(D3652<6,0,COUNTIF(B3652:$B$4018,B3652)))","v":0},2,{"$f":"IF(ISERROR(VLOOKUP(A3652,Feriados!A:A,1,FALSE)),\"n\",VLOOKUP(A3652,Feriados!A:A,1,FALSE))","v":"n"}]
[48213,2513,{"$f":"IF(E3653<>\"n\",COUNTIF(B3653:$B$4018,B3653),IF(D3653<6,0,COUNTIF(B3653:$B$4018,B3653)))","v":0},3,{"$f":"IF(ISERROR(VLOOKUP(A3653,Feriados!A:A,1,FALSE)),\"n\",VLOOKUP(A3653,Feriados!A:A,1,FALSE))","v":"n"}]
[48214,2513,{"$f":"IF(E3654<>\"n\",COUNTIF(B3654:$B$4018,B3654),IF(D3654<6,0,COUNTIF(B3654:$B$4018,B3654)))","v":1},4,{"$f":"IF(ISERROR(VLOOKUP(A3654,Feriados!A:A,1,FALSE)),\"n\",VLOOKUP(A3654,Feriados!A:A,1,FALSE))","v":"2032-01-01"}]
[48215,2514,{"$f":"IF(E3655<>\"n\",COUNTIF(B3655:$B$4018,B3655),IF(D3655<6,0,COUNTIF(B3655:$B$4018,B3655)))","v":0},5,{"$f":"IF(ISERROR(VLOOKUP(A3655,Feriados!A:A,1,FALSE)),\"n\",VLOOKUP(A3655,Feriados!A:A,1,FALSE))","v":"n"}]
[48216,2514,{"$f":"IF(E3656<>\"n\",COUNTIF(B3656:$B$4018,B3656),IF(D3656<6,0,COUNTIF(B3656:$B$4018,B3656)))","v":2},6,{"$f":"IF(ISERROR(VLOOKUP(A3656,Feriados!A:A,1,FALSE)),\"n\",VLOOKUP(A3656,Feriados!A:A,1,FALSE))","v":"n"}]
[48217,2514,{"$f":"IF(E3657<>\"n\",COUNTIF(B3657:$B$4018,B3657),IF(D3657<6,0,COUNTIF(B3657:$B$4018,B3657)))","v":1},7,{"$f":"IF(ISERROR(VLOOKUP(A3657,Feriados!A:A,1,FALSE)),\"n\",VLOOKUP(A3657,Feriados!A:A,1,FALSE))","v":"n"}]
[48218,2515,{"$f":"IF(E3658<>\"n\",COUNTIF(B3658:$B$4018,B3658),IF(D3658<6,0,COUNTIF(B3658:$B$4018,B3658)))","v":0},1,{"$f":"IF(ISERROR(VLOOKUP(A3658,Feriados!A:A,1,FALSE)),\"n\",VLOOKUP(A3658,Feriados!A:A,1,FALSE))","v":"n"}]
[48219,2516,{"$f":"IF(E3659<>\"n\",COUNTIF(B3659:$B$4018,B3659),IF(D3659<6,0,COUNTIF(B3659:$B$4018,B3659)))","v":0},2,{"$f":"IF(ISERROR(VLOOKUP(A3659,Feriados!A:A,1,FALSE)),\"n\",VLOOKUP(A3659,Feriados!A:A,1,FALSE))","v":"n"}]
[48220,2517,{"$f":"IF(E3660<>\"n\",COUNTIF(B3660:$B$4018,B3660),IF(D3660<6,0,COUNTIF(B3660:$B$4018,B3660)))","v":0},3,{"$f":"IF(ISERROR(VLOOKUP(A3660,Feriados!A:A,1,FALSE)),\"n\",VLOOKUP(A3660,Feriados!A:A,1,FALSE))","v":"n"}]
[48221,2518,{"$f":"IF(E3661<>\"n\",COUNTIF(B3661:$B$4018,B3661),IF(D3661<6,0,COUNTIF(B3661:$B$4018,B3661)))","v":0},4,{"$f":"IF(ISERROR(VLOOKUP(A3661,Feriados!A:A,1,FALSE)),\"n\",VLOOKUP(A3661,Feriados!A:A,1,FALSE))","v":"n"}]
[48222,2519,{"$f":"IF(E3662<>\"n\",COUNTIF(B3662:$B$4018,B3662),IF(D3662<6,0,COUNTIF(B3662:$B$4018,B3662)))","v":0},5,{"$f":"IF(ISERROR(VLOOKUP(A3662,Feriados!A:A,1,FALSE)),\"n\",VLOOKUP(A3662,Feriados!A:A,1,FALSE))","v":"n"}]
[48223,2519,{"$f":"IF(E3663<>\"n\",COUNTIF(B3663:$B$4018,B3663),IF(D3663<6,0,COUNTIF(B3663:$B$4018,B3663)))","v":2},6,{"$f":"IF(ISERROR(VLOOKUP(A3663,Feriados!A:A,1,FALSE)),\"n\",VLOOKUP(A3663,Feriados!A:A,1,FALSE))","v":"n"}]
[48224,2519,{"$f":"IF(E3664<>\"n\",COUNTIF(B3664:$B$4018,B3664),IF(D3664<6,0,COUNTIF(B3664:$B$4018,B3664)))","v":1},7,{"$f":"IF(ISERROR(VLOOKUP(A3664,Feriados!A:A,1,FALSE)),\"n\",VLOOKUP(A3664,Feriados!A:A,1,FALSE))","v":"n"}]
[48225,2520,{"$f":"IF(E3665<>\"n\",COUNTIF(B3665:$B$4018,B3665),IF(D3665<6,0,COUNTIF(B3665:$B$4018,B3665)))","v":0},1,{"$f":"IF(ISERROR(VLOOKUP(A3665,Feriados!A:A,1,FALSE)),\"n\",VLOOKUP(A3665,Feriados!A:A,1,FALSE))","v":"n"}]
[48226,2521,{"$f":"IF(E3666<>\"n\",COUNTIF(B3666:$B$4018,B3666),IF(D3666<6,0,COUNTIF(B3666:$B$4018,B3666)))","v":0},2,{"$f":"IF(ISERROR(VLOOKUP(A3666,Feriados!A:A,1,FALSE)),\"n\",VLOOKUP(A3666,Feriados!A:A,1,FALSE))","v":"n"}]
[48227,2522,{"$f":"IF(E3667<>\"n\",COUNTIF(B3667:$B$4018,B3667),IF(D3667<6,0,COUNTIF(B3667:$B$4018,B3667)))","v":0},3,{"$f":"IF(ISERROR(VLOOKUP(A3667,Feriados!A:A,1,FALSE)),\"n\",VLOOKUP(A3667,Feriados!A:A,1,FALSE))","v":"n"}]
[48228,2523,{"$f":"IF(E3668<>\"n\",COUNTIF(B3668:$B$4018,B3668),IF(D3668<6,0,COUNTIF(B3668:$B$4018,B3668)))","v":0},4,{"$f":"IF(ISERROR(VLOOKUP(A3668,Feriados!A:A,1,FALSE)),\"n\",VLOOKUP(A3668,Feriados!A:A,1,FALSE))","v":"n"}]
[48229,2524,{"$f":"IF(E3669<>\"n\",COUNTIF(B3669:$B$4018,B3669),IF(D3669<6,0,COUNTIF(B3669:$B$4018,B3669)))","v":0},5,{"$f":"IF(ISERROR(VLOOKUP(A3669,Feriados!A:A,1,FALSE)),\"n\",VLOOKUP(A3669,Feriados!A:A,1,FALSE))","v":"n"}]
[48230,2524,{"$f":"IF(E3670<>\"n\",COUNTIF(B3670:$B$4018,B3670),IF(D3670<6,0,COUNTIF(B3670:$B$4018,B3670)))","v":2},6,{"$f":"IF(ISERROR(VLOOKUP(A3670,Feriados!A:A,1,FALSE)),\"n\",VLOOKUP(A3670,Feriados!A:A,1,FALSE))","v":"n"}]
[48231,2524,{"$f":"IF(E3671<>\"n\",COUNTIF(B3671:$B$4018,B3671),IF(D3671<6,0,COUNTIF(B3671:$B$4018,B3671)))","v":1},7,{"$f":"IF(ISERROR(VLOOKUP(A3671,Feriados!A:A,1,FALSE)),\"n\",VLOOKUP(A3671,Feriados!A:A,1,FALSE))","v":"n"}]
[48232,2525,{"$f":"IF(E3672<>\"n\",COUNTIF(B3672:$B$4018,B3672),IF(D3672<6,0,COUNTIF(B3672:$B$4018,B3672)))","v":0},1,{"$f":"IF(ISERROR(VLOOKUP(A3672,Feriados!A:A,1,FALSE)),\"n\",VLOOKUP(A3672,Feriados!A:A,1,FALSE))","v":"n"}]
[48233,2526,{"$f":"IF(E3673<>\"n\",COUNTIF(B3673:$B$4018,B3673),IF(D3673<6,0,COUNTIF(B3673:$B$4018,B3673)))","v":0},2,{"$f":"IF(ISERROR(VLOOKUP(A3673,Feriados!A:A,1,FALSE)),\"n\",VLOOKUP(A3673,Feriados!A:A,1,FALSE))","v":"n"}]
[48234,2527,{"$f":"IF(E3674<>\"n\",COUNTIF(B3674:$B$4018,B3674),IF(D3674<6,0,COUNTIF(B3674:$B$4018,B3674)))","v":0},3,{"$f":"IF(ISERROR(VLOOKUP(A3674,Feriados!A:A,1,FALSE)),\"n\",VLOOKUP(A3674,Feriados!A:A,1,FALSE))","v":"n"}]
[48235,2528,{"$f":"IF(E3675<>\"n\",COUNTIF(B3675:$B$4018,B3675),IF(D3675<6,0,COUNTIF(B3675:$B$4018,B3675)))","v":0},4,{"$f":"IF(ISERROR(VLOOKUP(A3675,Feriados!A:A,1,FALSE)),\"n\",VLOOKUP(A3675,Feriados!A:A,1,FALSE))","v":"n"}]
[48236,2529,{"$f":"IF(E3676<>\"n\",COUNTIF(B3676:$B$4018,B3676),IF(D3676<6,0,COUNTIF(B3676:$B$4018,B3676)))","v":0},5,{"$f":"IF(ISERROR(VLOOKUP(A3676,Feriados!A:A,1,FALSE)),\"n\",VLOOKUP(A3676,Feriados!A:A,1,FALSE))","v":"n"}]
[48237,2529,{"$f":"IF(E3677<>\"n\",COUNTIF(B3677:$B$4018,B3677),IF(D3677<6,0,COUNTIF(B3677:$B$4018,B3677)))","v":2},6,{"$f":"IF(ISERROR(VLOOKUP(A3677,Feriados!A:A,1,FALSE)),\"n\",VLOOKUP(A3677,Feriados!A:A,1,FALSE))","v":"n"}]
[48238,{"$f":"NETWORKDAYS($A$2,A3678,feriados)","v":2529},{"$f":"IF(E3678<>\"n\",COUNTIF(B3678:$B$4018,B3678),IF(D3678<6,0,COUNTIF(B3678:$B$4018,B3678)))","v":1},{"$f":"WEEKDAY(A3678,2)","v":7},{"$f":"IF(ISERROR(VLOOKUP(A3678,Feriados!A:A,1,FALSE)),\"n\",VLOOKUP(A3678,Feriados!A:A,1,FALSE))","v":"n"}]
[48239,2530,{"$f":"IF(E3679<>\"n\",COUNTIF(B3679:$B$4018,B3679),IF(D3679<6,0,COUNTIF(B3679:$B$4018,B3679)))","v":0},1,{"$f":"IF(ISERROR(VLOOKUP(A3679,Feriados!A:A,1,FALSE)),\"n\",VLOOKUP(A3679,Feriados!A:A,1,FALSE))","v":"n"}]
[48240,2531,{"$f":"IF(E3680<>\"n\",COUNTIF(B3680:$B$4018,B3680),IF(D3680<6,0,COUNTIF(B3680:$B$4018,B3680)))","v":0},2,{"$f":"IF(ISERROR(VLOOKUP(A3680,Feriados!A:A,1,FALSE)),\"n\",VLOOKUP(A3680,Feriados!A:A,1,FALSE))","v":"n"}]
[48241,2532,{"$f":"IF(E3681<>\"n\",COUNTIF(B3681:$B$4018,B3681),IF(D3681<6,0,COUNTIF(B3681:$B$4018,B3681)))","v":0},3,{"$f":"IF(ISERROR(VLOOKUP(A3681,Feriados!A:A,1,FALSE)),\"n\",VLOOKUP(A3681,Feriados!A:A,1,FALSE))","v":"n"}]
[48242,2533,{"$f":"IF(E3682<>\"n\",COUNTIF(B3682:$B$4018,B3682),IF(D3682<6,0,COUNTIF(B3682:$B$4018,B3682)))","v":0},4,{"$f":"IF(ISERROR(VLOOKUP(A3682,Feriados!A:A,1,FALSE)),\"n\",VLOOKUP(A3682,Feriados!A:A,1,FALSE))","v":"n"}]
[48243,2534,{"$f":"IF(E3683<>\"n\",COUNTIF(B3683:$B$4018,B3683),IF(D3683<6,0,COUNTIF(B3683:$B$4018,B3683)))","v":0},5,{"$f":"IF(ISERROR(VLOOKUP(A3683,Feriados!A:A,1,FALSE)),\"n\",VLOOKUP(A3683,Feriados!A:A,1,FALSE))","v":"n"}]
[48244,2534,{"$f":"IF(E3684<>\"n\",COUNTIF(B3684:$B$4018,B3684),IF(D3684<6,0,COUNTIF(B3684:$B$4018,B3684)))","v":2},6,{"$f":"IF(ISERROR(VLOOKUP(A3684,Feriados!A:A,1,FALSE)),\"n\",VLOOKUP(A3684,Feriados!A:A,1,FALSE))","v":"n"}]
[48245,2534,{"$f":"IF(E3685<>\"n\",COUNTIF(B3685:$B$4018,B3685),IF(D3685<6,0,COUNTIF(B3685:$B$4018,B3685)))","v":1},7,{"$f":"IF(ISERROR(VLOOKUP(A3685,Feriados!A:A,1,FALSE)),\"n\",VLOOKUP(A3685,Feriados!A:A,1,FALSE))","v":"n"}]
[48246,2535,{"$f":"IF(E3686<>\"n\",COUNTIF(B3686:$B$4018,B3686),IF(D3686<6,0,COUNTIF(B3686:$B$4018,B3686)))","v":0},1,{"$f":"IF(ISERROR(VLOOKUP(A3686,Feriados!A:A,1,FALSE)),\"n\",VLOOKUP(A3686,Feriados!A:A,1,FALSE))","v":"n"}]
[48247,2536,{"$f":"IF(E3687<>\"n\",COUNTIF(B3687:$B$4018,B3687),IF(D3687<6,0,COUNTIF(B3687:$B$4018,B3687)))","v":0},2,{"$f":"IF(ISERROR(VLOOKUP(A3687,Feriados!A:A,1,FALSE)),\"n\",VLOOKUP(A3687,Feriados!A:A,1,FALSE))","v":"n"}]
[48248,2537,{"$f":"IF(E3688<>\"n\",COUNTIF(B3688:$B$4018,B3688),IF(D3688<6,0,COUNTIF(B3688:$B$4018,B3688)))","v":0},3,{"$f":"IF(ISERROR(VLOOKUP(A3688,Feriados!A:A,1,FALSE)),\"n\",VLOOKUP(A3688,Feriados!A:A,1,FALSE))","v":"n"}]
[48249,2538,{"$f":"IF(E3689<>\"n\",COUNTIF(B3689:$B$4018,B3689),IF(D3689<6,0,COUNTIF(B3689:$B$4018,B3689)))","v":0},4,{"$f":"IF(ISERROR(VLOOKUP(A3689,Feriados!A:A,1,FALSE)),\"n\",VLOOKUP(A3689,Feriados!A:A,1,FALSE))","v":"n"}]
[48250,2539,{"$f":"IF(E3690<>\"n\",COUNTIF(B3690:$B$4018,B3690),IF(D3690<6,0,COUNTIF(B3690:$B$4018,B3690)))","v":0},5,{"$f":"IF(ISERROR(VLOOKUP(A3690,Feriados!A:A,1,FALSE)),\"n\",VLOOKUP(A3690,Feriados!A:A,1,FALSE))","v":"n"}]
[48251,2539,{"$f":"IF(E3691<>\"n\",COUNTIF(B3691:$B$4018,B3691),IF(D3691<6,0,COUNTIF(B3691:$B$4018,B3691)))","v":4},6,{"$f":"IF(ISERROR(VLOOKUP(A3691,Feriados!A:A,1,FALSE)),\"n\",VLOOKUP(A3691,Feriados!A:A,1,FALSE))","v":"n"}]
[48252,2539,{"$f":"IF(E3692<>\"n\",COUNTIF(B3692:$B$4018,B3692),IF(D3692<6,0,COUNTIF(B3692:$B$4018,B3692)))","v":3},7,{"$f":"IF(ISERROR(VLOOKUP(A3692,Feriados!A:A,1,FALSE)),\"n\",VLOOKUP(A3692,Feriados!A:A,1,FALSE))","v":"n"}]
[48253,2539,{"$f":"IF(E3693<>\"n\",COUNTIF(B3693:$B$4018,B3693),IF(D3693<6,0,COUNTIF(B3693:$B$4018,B3693)))","v":2},1,{"$f":"IF(ISERROR(VLOOKUP(A3693,Feriados!A:A,1,FALSE)),\"n\",VLOOKUP(A3693,Feriados!A:A,1,FALSE))","v":"2032-02-09"}]
[48254,2539,{"$f":"IF(E3694<>\"n\",COUNTIF(B3694:$B$4018,B3694),IF(D3694<6,0,COUNTIF(B3694:$B$4018,B3694)))","v":1},2,{"$f":"IF(ISERROR(VLOOKUP(A3694,Feriados!A:A,1,FALSE)),\"n\",VLOOKUP(A3694,Feriados!A:A,1,FALSE))","v":"2032-02-10"}]
[48255,2540,{"$f":"IF(E3695<>\"n\",COUNTIF(B3695:$B$4018,B3695),IF(D3695<6,0,COUNTIF(B3695:$B$4018,B3695)))","v":0},3,{"$f":"IF(ISERROR(VLOOKUP(A3695,Feriados!A:A,1,FALSE)),\"n\",VLOOKUP(A3695,Feriados!A:A,1,FALSE))","v":"n"}]
[48256,2541,{"$f":"IF(E3696<>\"n\",COUNTIF(B3696:$B$4018,B3696),IF(D3696<6,0,COUNTIF(B3696:$B$4018,B3696)))","v":0},4,{"$f":"IF(ISERROR(VLOOKUP(A3696,Feriados!A:A,1,FALSE)),\"n\",VLOOKUP(A3696,Feriados!A:A,1,FALSE))","v":"n"}]
[48257,2542,{"$f":"IF(E3697<>\"n\",COUNTIF(B3697:$B$4018,B3697),IF(D3697<6,0,COUNTIF(B3697:$B$4018,B3697)))","v":0},5,{"$f":"IF(ISERROR(VLOOKUP(A3697,Feriados!A:A,1,FALSE)),\"n\",VLOOKUP(A3697,Feriados!A:A,1,FALSE))","v":"n"}]
[48258,2542,{"$f":"IF(E3698<>\"n\",COUNTIF(B3698:$B$4018,B3698),IF(D3698<6,0,COUNTIF(B3698:$B$4018,B3698)))","v":2},6,{"$f":"IF(ISERROR(VLOOKUP(A3698,Feriados!A:A,1,FALSE)),\"n\",VLOOKUP(A3698,Feriados!A:A,1,FALSE))","v":"n"}]
[48259,2542,{"$f":"IF(E3699<>\"n\",COUNTIF(B3699:$B$4018,B3699),IF(D3699<6,0,COUNTIF(B3699:$B$4018,B3699)))","v":1},7,{"$f":"IF(ISERROR(VLOOKUP(A3699,Feriados!A:A,1,FALSE)),\"n\",VLOOKUP(A3699,Feriados!A:A,1,FALSE))","v":"n"}]
[48260,2543,{"$f":"IF(E3700<>\"n\",COUNTIF(B3700:$B$4018,B3700),IF(D3700<6,0,COUNTIF(B3700:$B$4018,B3700)))","v":0},1,{"$f":"IF(ISERROR(VLOOKUP(A3700,Feriados!A:A,1,FALSE)),\"n\",VLOOKUP(A3700,Feriados!A:A,1,FALSE))","v":"n"}]
[48261,2544,{"$f":"IF(E3701<>\"n\",COUNTIF(B3701:$B$4018,B3701),IF(D3701<6,0,COUNTIF(B3701:$B$4018,B3701)))","v":0},2,{"$f":"IF(ISERROR(VLOOKUP(A3701,Feriados!A:A,1,FALSE)),\"n\",VLOOKUP(A3701,Feriados!A:A,1,FALSE))","v":"n"}]
[48262,2545,{"$f":"IF(E3702<>\"n\",COUNTIF(B3702:$B$4018,B3702),IF(D3702<6,0,COUNTIF(B3702:$B$4018,B3702)))","v":0},3,{"$f":"IF(ISERROR(VLOOKUP(A3702,Feriados!A:A,1,FALSE)),\"n\",VLOOKUP(A3702,Feriados!A:A,1,FALSE))","v":"n"}]
[48263,2546,{"$f":"IF(E3703<>\"n\",COUNTIF(B3703:$B$4018,B3703),IF(D3703<6,0,COUNTIF(B3703:$B$4018,B3703)))","v":0},4,{"$f":"IF(ISERROR(VLOOKUP(A3703,Feriados!A:A,1,FALSE)),\"n\",VLOOKUP(A3703,Feriados!A:A,1,FALSE))","v":"n"}]
[48264,2547,{"$f":"IF(E3704<>\"n\",COUNTIF(B3704:$B$4018,B3704),IF(D3704<6,0,COUNTIF(B3704:$B$4018,B3704)))","v":0},5,{"$f":"IF(ISERROR(VLOOKUP(A3704,Feriados!A:A,1,FALSE)),\"n\",VLOOKUP(A3704,Feriados!A:A,1,FALSE))","v":"n"}]
[48265,2547,{"$f":"IF(E3705<>\"n\",COUNTIF(B3705:$B$4018,B3705),IF(D3705<6,0,COUNTIF(B3705:$B$4018,B3705)))","v":2},6,{"$f":"IF(ISERROR(VLOOKUP(A3705,Feriados!A:A,1,FALSE)),\"n\",VLOOKUP(A3705,Feriados!A:A,1,FALSE))","v":"n"}]
[48266,2547,{"$f":"IF(E3706<>\"n\",COUNTIF(B3706:$B$4018,B3706),IF(D3706<6,0,COUNTIF(B3706:$B$4018,B3706)))","v":1},7,{"$f":"IF(ISERROR(VLOOKUP(A3706,Feriados!A:A,1,FALSE)),\"n\",VLOOKUP(A3706,Feriados!A:A,1,FALSE))","v":"n"}]
[48267,2548,{"$f":"IF(E3707<>\"n\",COUNTIF(B3707:$B$4018,B3707),IF(D3707<6,0,COUNTIF(B3707:$B$4018,B3707)))","v":0},1,{"$f":"IF(ISERROR(VLOOKUP(A3707,Feriados!A:A,1,FALSE)),\"n\",VLOOKUP(A3707,Feriados!A:A,1,FALSE))","v":"n"}]
[48268,2549,{"$f":"IF(E3708<>\"n\",COUNTIF(B3708:$B$4018,B3708),IF(D3708<6,0,COUNTIF(B3708:$B$4018,B3708)))","v":0},2,{"$f":"IF(ISERROR(VLOOKUP(A3708,Feriados!A:A,1,FALSE)),\"n\",VLOOKUP(A3708,Feriados!A:A,1,FALSE))","v":"n"}]
[48269,2550,{"$f":"IF(E3709<>\"n\",COUNTIF(B3709:$B$4018,B3709),IF(D3709<6,0,COUNTIF(B3709:$B$4018,B3709)))","v":0},3,{"$f":"IF(ISERROR(VLOOKUP(A3709,Feriados!A:A,1,FALSE)),\"n\",VLOOKUP(A3709,Feriados!A:A,1,FALSE))","v":"n"}]
[48270,2551,{"$f":"IF(E3710<>\"n\",COUNTIF(B3710:$B$4018,B3710),IF(D3710<6,0,COUNTIF(B3710:$B$4018,B3710)))","v":0},4,{"$f":"IF(ISERROR(VLOOKUP(A3710,Feriados!A:A,1,FALSE)),\"n\",VLOOKUP(A3710,Feriados!A:A,1,FALSE))","v":"n"}]
[48271,2552,{"$f":"IF(E3711<>\"n\",COUNTIF(B3711:$B$4018,B3711),IF(D3711<6,0,COUNTIF(B3711:$B$4018,B3711)))","v":0},5,{"$f":"IF(ISERROR(VLOOKUP(A3711,Feriados!A:A,1,FALSE)),\"n\",VLOOKUP(A3711,Feriados!A:A,1,FALSE))","v":"n"}]
[48272,2552,{"$f":"IF(E3712<>\"n\",COUNTIF(B3712:$B$4018,B3712),IF(D3712<6,0,COUNTIF(B3712:$B$4018,B3712)))","v":2},6,{"$f":"IF(ISERROR(VLOOKUP(A3712,Feriados!A:A,1,FALSE)),\"n\",VLOOKUP(A3712,Feriados!A:A,1,FALSE))","v":"n"}]
[48273,2552,{"$f":"IF(E3713<>\"n\",COUNTIF(B3713:$B$4018,B3713),IF(D3713<6,0,COUNTIF(B3713:$B$4018,B3713)))","v":1},7,{"$f":"IF(ISERROR(VLOOKUP(A3713,Feriados!A:A,1,FALSE)),\"n\",VLOOKUP(A3713,Feriados!A:A,1,FALSE))","v":"n"}]
[48274,2553,{"$f":"IF(E3714<>\"n\",COUNTIF(B3714:$B$4018,B3714),IF(D3714<6,0,COUNTIF(B3714:$B$4018,B3714)))","v":0},1,{"$f":"IF(ISERROR(VLOOKUP(A3714,Feriados!A:A,1,FALSE)),\"n\",VLOOKUP(A3714,Feriados!A:A,1,FALSE))","v":"n"}]
[48275,2554,{"$f":"IF(E3715<>\"n\",COUNTIF(B3715:$B$4018,B3715),IF(D3715<6,0,COUNTIF(B3715:$B$4018,B3715)))","v":0},2,{"$f":"IF(ISERROR(VLOOKUP(A3715,Feriados!A:A,1,FALSE)),\"n\",VLOOKUP(A3715,Feriados!A:A,1,FALSE))","v":"n"}]
[{"$f":"A3715+1","v":48276},2555,{"$f":"IF(E3716<>\"n\",COUNTIF(B3716:$B$4018,B3716),IF(D3716<6,0,COUNTIF(B3716:$B$4018,B3716)))","v":0},3,{"$f":"IF(ISERROR(VLOOKUP(A3716,Feriados!A:A,1,FALSE)),\"n\",VLOOKUP(A3716,Feriados!A:A,1,FALSE))","v":"n"}]
[48277,2556,{"$f":"IF(E3717<>\"n\",COUNTIF(B3717:$B$4018,B3717),IF(D3717<6,0,COUNTIF(B3717:$B$4018,B3717)))","v":0},4,{"$f":"IF(ISERROR(VLOOKUP(A3717,Feriados!A:A,1,FALSE)),\"n\",VLOOKUP(A3717,Feriados!A:A,1,FALSE))","v":"n"}]
[48278,2557,{"$f":"IF(E3718<>\"n\",COUNTIF(B3718:$B$4018,B3718),IF(D3718<6,0,COUNTIF(B3718:$B$4018,B3718)))","v":0},5,{"$f":"IF(ISERROR(VLOOKUP(A3718,Feriados!A:A,1,FALSE)),\"n\",VLOOKUP(A3718,Feriados!A:A,1,FALSE))","v":"n"}]
[48279,2557,{"$f":"IF(E3719<>\"n\",COUNTIF(B3719:$B$4018,B3719),IF(D3719<6,0,COUNTIF(B3719:$B$4018,B3719)))","v":2},6,{"$f":"IF(ISERROR(VLOOKUP(A3719,Feriados!A:A,1,FALSE)),\"n\",VLOOKUP(A3719,Feriados!A:A,1,FALSE))","v":"n"}]
[48280,2557,{"$f":"IF(E3720<>\"n\",COUNTIF(B3720:$B$4018,B3720),IF(D3720<6,0,COUNTIF(B3720:$B$4018,B3720)))","v":1},7,{"$f":"IF(ISERROR(VLOOKUP(A3720,Feriados!A:A,1,FALSE)),\"n\",VLOOKUP(A3720,Feriados!A:A,1,FALSE))","v":"n"}]
[48281,2558,{"$f":"IF(E3721<>\"n\",COUNTIF(B3721:$B$4018,B3721),IF(D3721<6,0,COUNTIF(B3721:$B$4018,B3721)))","v":0},1,{"$f":"IF(ISERROR(VLOOKUP(A3721,Feriados!A:A,1,FALSE)),\"n\",VLOOKUP(A3721,Feriados!A:A,1,FALSE))","v":"n"}]
[48282,2559,{"$f":"IF(E3722<>\"n\",COUNTIF(B3722:$B$4018,B3722),IF(D3722<6,0,COUNTIF(B3722:$B$4018,B3722)))","v":0},2,{"$f":"IF(ISERROR(VLOOKUP(A3722,Feriados!A:A,1,FALSE)),\"n\",VLOOKUP(A3722,Feriados!A:A,1,FALSE))","v":"n"}]
[48283,2560,{"$f":"IF(E3723<>\"n\",COUNTIF(B3723:$B$4018,B3723),IF(D3723<6,0,COUNTIF(B3723:$B$4018,B3723)))","v":0},3,{"$f":"IF(ISERROR(VLOOKUP(A3723,Feriados!A:A,1,FALSE)),\"n\",VLOOKUP(A3723,Feriados!A:A,1,FALSE))","v":"n"}]
[48284,2561,{"$f":"IF(E3724<>\"n\",COUNTIF(B3724:$B$4018,B3724),IF(D3724<6,0,COUNTIF(B3724:$B$4018,B3724)))","v":0},4,{"$f":"IF(ISERROR(VLOOKUP(A3724,Feriados!A:A,1,FALSE)),\"n\",VLOOKUP(A3724,Feriados!A:A,1,FALSE))","v":"n"}]
[48285,2562,{"$f":"IF(E3725<>\"n\",COUNTIF(B3725:$B$4018,B3725),IF(D3725<6,0,COUNTIF(B3725:$B$4018,B3725)))","v":0},5,{"$f":"IF(ISERROR(VLOOKUP(A3725,Feriados!A:A,1,FALSE)),\"n\",VLOOKUP(A3725,Feriados!A:A,1,FALSE))","v":"n"}]
[48286,2562,{"$f":"IF(E3726<>\"n\",COUNTIF(B3726:$B$4018,B3726),IF(D3726<6,0,COUNTIF(B3726:$B$4018,B3726)))","v":2},6,{"$f":"IF(ISERROR(VLOOKUP(A3726,Feriados!A:A,1,FALSE)),\"n\",VLOOKUP(A3726,Feriados!A:A,1,FALSE))","v":"n"}]
[48287,2562,{"$f":"IF(E3727<>\"n\",COUNTIF(B3727:$B$4018,B3727),IF(D3727<6,0,COUNTIF(B3727:$B$4018,B3727)))","v":1},7,{"$f":"IF(ISERROR(VLOOKUP(A3727,Feriados!A:A,1,FALSE)),\"n\",VLOOKUP(A3727,Feriados!A:A,1,FALSE))","v":"n"}]
[48288,2563,{"$f":"IF(E3728<>\"n\",COUNTIF(B3728:$B$4018,B3728),IF(D3728<6,0,COUNTIF(B3728:$B$4018,B3728)))","v":0},1,{"$f":"IF(ISERROR(VLOOKUP(A3728,Feriados!A:A,1,FALSE)),\"n\",VLOOKUP(A3728,Feriados!A:A,1,FALSE))","v":"n"}]
[48289,2564,{"$f":"IF(E3729<>\"n\",COUNTIF(B3729:$B$4018,B3729),IF(D3729<6,0,COUNTIF(B3729:$B$4018,B3729)))","v":0},2,{"$f":"IF(ISERROR(VLOOKUP(A3729,Feriados!A:A,1,FALSE)),\"n\",VLOOKUP(A3729,Feriados!A:A,1,FALSE))","v":"n"}]
[48290,2565,{"$f":"IF(E3730<>\"n\",COUNTIF(B3730:$B$4018,B3730),IF(D3730<6,0,COUNTIF(B3730:$B$4018,B3730)))","v":0},3,{"$f":"IF(ISERROR(VLOOKUP(A3730,Feriados!A:A,1,FALSE)),\"n\",VLOOKUP(A3730,Feriados!A:A,1,FALSE))","v":"n"}]
[48291,2566,{"$f":"IF(E3731<>\"n\",COUNTIF(B3731:$B$4018,B3731),IF(D3731<6,0,COUNTIF(B3731:$B$4018,B3731)))","v":0},4,{"$f":"IF(ISERROR(VLOOKUP(A3731,Feriados!A:A,1,FALSE)),\"n\",VLOOKUP(A3731,Feriados!A:A,1,FALSE))","v":"n"}]
[48292,2567,{"$f":"IF(E3732<>\"n\",COUNTIF(B3732:$B$4018,B3732),IF(D3732<6,0,COUNTIF(B3732:$B$4018,B3732)))","v":0},5,{"$f":"IF(ISERROR(VLOOKUP(A3732,Feriados!A:A,1,FALSE)),\"n\",VLOOKUP(A3732,Feriados!A:A,1,FALSE))","v":"n"}]
[48293,2567,{"$f":"IF(E3733<>\"n\",COUNTIF(B3733:$B$4018,B3733),IF(D3733<6,0,COUNTIF(B3733:$B$4018,B3733)))","v":2},6,{"$f":"IF(ISERROR(VLOOKUP(A3733,Feriados!A:A,1,FALSE)),\"n\",VLOOKUP(A3733,Feriados!A:A,1,FALSE))","v":"n"}]
[48294,2567,{"$f":"IF(E3734<>\"n\",COUNTIF(B3734:$B$4018,B3734),IF(D3734<6,0,COUNTIF(B3734:$B$4018,B3734)))","v":1},7,{"$f":"IF(ISERROR(VLOOKUP(A3734,Feriados!A:A,1,FALSE)),\"n\",VLOOKUP(A3734,Feriados!A:A,1,FALSE))","v":"n"}]
[48295,2568,{"$f":"IF(E3735<>\"n\",COUNTIF(B3735:$B$4018,B3735),IF(D3735<6,0,COUNTIF(B3735:$B$4018,B3735)))","v":0},1,{"$f":"IF(ISERROR(VLOOKUP(A3735,Feriados!A:A,1,FALSE)),\"n\",VLOOKUP(A3735,Feriados!A:A,1,FALSE))","v":"n"}]
[48296,2569,{"$f":"IF(E3736<>\"n\",COUNTIF(B3736:$B$4018,B3736),IF(D3736<6,0,COUNTIF(B3736:$B$4018,B3736)))","v":0},2,{"$f":"IF(ISERROR(VLOOKUP(A3736,Feriados!A:A,1,FALSE)),\"n\",VLOOKUP(A3736,Feriados!A:A,1,FALSE))","v":"n"}]
[48297,2570,{"$f":"IF(E3737<>\"n\",COUNTIF(B3737:$B$4018,B3737),IF(D3737<6,0,COUNTIF(B3737:$B$4018,B3737)))","v":0},3,{"$f":"IF(ISERROR(VLOOKUP(A3737,Feriados!A:A,1,FALSE)),\"n\",VLOOKUP(A3737,Feriados!A:A,1,FALSE))","v":"n"}]
[48298,2571,{"$f":"IF(E3738<>\"n\",COUNTIF(B3738:$B$4018,B3738),IF(D3738<6,0,COUNTIF(B3738:$B$4018,B3738)))","v":0},4,{"$f":"IF(ISERROR(VLOOKUP(A3738,Feriados!A:A,1,FALSE)),\"n\",VLOOKUP(A3738,Feriados!A:A,1,FALSE))","v":"n"}]
[48299,2571,{"$f":"IF(E3739<>\"n\",COUNTIF(B3739:$B$4018,B3739),IF(D3739<6,0,COUNTIF(B3739:$B$4018,B3739)))","v":3},5,{"$f":"IF(ISERROR(VLOOKUP(A3739,Feriados!A:A,1,FALSE)),\"n\",VLOOKUP(A3739,Feriados!A:A,1,FALSE))","v":"2032-03-26"}]
[48300,2571,{"$f":"IF(E3740<>\"n\",COUNTIF(B3740:$B$4018,B3740),IF(D3740<6,0,COUNTIF(B3740:$B$4018,B3740)))","v":2},6,{"$f":"IF(ISERROR(VLOOKUP(A3740,Feriados!A:A,1,FALSE)),\"n\",VLOOKUP(A3740,Feriados!A:A,1,FALSE))","v":"n"}]
[48301,2571,{"$f":"IF(E3741<>\"n\",COUNTIF(B3741:$B$4018,B3741),IF(D3741<6,0,COUNTIF(B3741:$B$4018,B3741)))","v":1},7,{"$f":"IF(ISERROR(VLOOKUP(A3741,Feriados!A:A,1,FALSE)),\"n\",VLOOKUP(A3741,Feriados!A:A,1,FALSE))","v":"2032-03-28"}]
[48302,{"$f":"NETWORKDAYS($A$2,A3742,feriados)","v":2572},{"$f":"IF(E3742<>\"n\",COUNTIF(B3742:$B$4018,B3742),IF(D3742<6,0,COUNTIF(B3742:$B$4018,B3742)))","v":0},{"$f":"WEEKDAY(A3742,2)","v":1},{"$f":"IF(ISERROR(VLOOKUP(A3742,Feriados!A:A,1,FALSE)),\"n\",VLOOKUP(A3742,Feriados!A:A,1,FALSE))","v":"n"}]
[48303,2573,{"$f":"IF(E3743<>\"n\",COUNTIF(B3743:$B$4018,B3743),IF(D3743<6,0,COUNTIF(B3743:$B$4018,B3743)))","v":0},2,{"$f":"IF(ISERROR(VLOOKUP(A3743,Feriados!A:A,1,FALSE)),\"n\",VLOOKUP(A3743,Feriados!A:A,1,FALSE))","v":"n"}]
[48304,2574,{"$f":"IF(E3744<>\"n\",COUNTIF(B3744:$B$4018,B3744),IF(D3744<6,0,COUNTIF(B3744:$B$4018,B3744)))","v":0},3,{"$f":"IF(ISERROR(VLOOKUP(A3744,Feriados!A:A,1,FALSE)),\"n\",VLOOKUP(A3744,Feriados!A:A,1,FALSE))","v":"n"}]
[48305,2575,{"$f":"IF(E3745<>\"n\",COUNTIF(B3745:$B$4018,B3745),IF(D3745<6,0,COUNTIF(B3745:$B$4018,B3745)))","v":0},4,{"$f":"IF(ISERROR(VLOOKUP(A3745,Feriados!A:A,1,FALSE)),\"n\",VLOOKUP(A3745,Feriados!A:A,1,FALSE))","v":"n"}]
[48306,2576,{"$f":"IF(E3746<>\"n\",COUNTIF(B3746:$B$4018,B3746),IF(D3746<6,0,COUNTIF(B3746:$B$4018,B3746)))","v":0},5,{"$f":"IF(ISERROR(VLOOKUP(A3746,Feriados!A:A,1,FALSE)),\"n\",VLOOKUP(A3746,Feriados!A:A,1,FALSE))","v":"n"}]
[48307,2576,{"$f":"IF(E3747<>\"n\",COUNTIF(B3747:$B$4018,B3747),IF(D3747<6,0,COUNTIF(B3747:$B$4018,B3747)))","v":2},6,{"$f":"IF(ISERROR(VLOOKUP(A3747,Feriados!A:A,1,FALSE)),\"n\",VLOOKUP(A3747,Feriados!A:A,1,FALSE))","v":"n"}]
[48308,2576,{"$f":"IF(E3748<>\"n\",COUNTIF(B3748:$B$4018,B3748),IF(D3748<6,0,COUNTIF(B3748:$B$4018,B3748)))","v":1},7,{"$f":"IF(ISERROR(VLOOKUP(A3748,Feriados!A:A,1,FALSE)),\"n\",VLOOKUP(A3748,Feriados!A:A,1,FALSE))","v":"n"}]
[48309,2577,{"$f":"IF(E3749<>\"n\",COUNTIF(B3749:$B$4018,B3749),IF(D3749<6,0,COUNTIF(B3749:$B$4018,B3749)))","v":0},1,{"$f":"IF(ISERROR(VLOOKUP(A3749,Feriados!A:A,1,FALSE)),\"n\",VLOOKUP(A3749,Feriados!A:A,1,FALSE))","v":"n"}]
[48310,2578,{"$f":"IF(E3750<>\"n\",COUNTIF(B3750:$B$4018,B3750),IF(D3750<6,0,COUNTIF(B3750:$B$4018,B3750)))","v":0},2,{"$f":"IF(ISERROR(VLOOKUP(A3750,Feriados!A:A,1,FALSE)),\"n\",VLOOKUP(A3750,Feriados!A:A,1,FALSE))","v":"n"}]
[48311,2579,{"$f":"IF(E3751<>\"n\",COUNTIF(B3751:$B$4018,B3751),IF(D3751<6,0,COUNTIF(B3751:$B$4018,B3751)))","v":0},3,{"$f":"IF(ISERROR(VLOOKUP(A3751,Feriados!A:A,1,FALSE)),\"n\",VLOOKUP(A3751,Feriados!A:A,1,FALSE))","v":"n"}]
[48312,2580,{"$f":"IF(E3752<>\"n\",COUNTIF(B3752:$B$4018,B3752),IF(D3752<6,0,COUNTIF(B3752:$B$4018,B3752)))","v":0},4,{"$f":"IF(ISERROR(VLOOKUP(A3752,Feriados!A:A,1,FALSE)),\"n\",VLOOKUP(A3752,Feriados!A:A,1,FALSE))","v":"n"}]
[48313,2581,{"$f":"IF(E3753<>\"n\",COUNTIF(B3753:$B$4018,B3753),IF(D3753<6,0,COUNTIF(B3753:$B$4018,B3753)))","v":0},5,{"$f":"IF(ISERROR(VLOOKUP(A3753,Feriados!A:A,1,FALSE)),\"n\",VLOOKUP(A3753,Feriados!A:A,1,FALSE))","v":"n"}]
[48314,2581,{"$f":"IF(E3754<>\"n\",COUNTIF(B3754:$B$4018,B3754),IF(D3754<6,0,COUNTIF(B3754:$B$4018,B3754)))","v":2},6,{"$f":"IF(ISERROR(VLOOKUP(A3754,Feriados!A:A,1,FALSE)),\"n\",VLOOKUP(A3754,Feriados!A:A,1,FALSE))","v":"n"}]
[48315,2581,{"$f":"IF(E3755<>\"n\",COUNTIF(B3755:$B$4018,B3755),IF(D3755<6,0,COUNTIF(B3755:$B$4018,B3755)))","v":1},7,{"$f":"IF(ISERROR(VLOOKUP(A3755,Feriados!A:A,1,FALSE)),\"n\",VLOOKUP(A3755,Feriados!A:A,1,FALSE))","v":"n"}]
[48316,2582,{"$f":"IF(E3756<>\"n\",COUNTIF(B3756:$B$4018,B3756),IF(D3756<6,0,COUNTIF(B3756:$B$4018,B3756)))","v":0},1,{"$f":"IF(ISERROR(VLOOKUP(A3756,Feriados!A:A,1,FALSE)),\"n\",VLOOKUP(A3756,Feriados!A:A,1,FALSE))","v":"n"}]
[48317,2583,{"$f":"IF(E3757<>\"n\",COUNTIF(B3757:$B$4018,B3757),IF(D3757<6,0,COUNTIF(B3757:$B$4018,B3757)))","v":0},2,{"$f":"IF(ISERROR(VLOOKUP(A3757,Feriados!A:A,1,FALSE)),\"n\",VLOOKUP(A3757,Feriados!A:A,1,FALSE))","v":"n"}]
[48318,2584,{"$f":"IF(E3758<>\"n\",COUNTIF(B3758:$B$4018,B3758),IF(D3758<6,0,COUNTIF(B3758:$B$4018,B3758)))","v":0},3,{"$f":"IF(ISERROR(VLOOKUP(A3758,Feriados!A:A,1,FALSE)),\"n\",VLOOKUP(A3758,Feriados!A:A,1,FALSE))","v":"n"}]
[48319,2585,{"$f":"IF(E3759<>\"n\",COUNTIF(B3759:$B$4018,B3759),IF(D3759<6,0,COUNTIF(B3759:$B$4018,B3759)))","v":0},4,{"$f":"IF(ISERROR(VLOOKUP(A3759,Feriados!A:A,1,FALSE)),\"n\",VLOOKUP(A3759,Feriados!A:A,1,FALSE))","v":"n"}]
[48320,2586,{"$f":"IF(E3760<>\"n\",COUNTIF(B3760:$B$4018,B3760),IF(D3760<6,0,COUNTIF(B3760:$B$4018,B3760)))","v":0},5,{"$f":"IF(ISERROR(VLOOKUP(A3760,Feriados!A:A,1,FALSE)),\"n\",VLOOKUP(A3760,Feriados!A:A,1,FALSE))","v":"n"}]
[48321,2586,{"$f":"IF(E3761<>\"n\",COUNTIF(B3761:$B$4018,B3761),IF(D3761<6,0,COUNTIF(B3761:$B$4018,B3761)))","v":2},6,{"$f":"IF(ISERROR(VLOOKUP(A3761,Feriados!A:A,1,FALSE)),\"n\",VLOOKUP(A3761,Feriados!A:A,1,FALSE))","v":"n"}]
[48322,2586,{"$f":"IF(E3762<>\"n\",COUNTIF(B3762:$B$4018,B3762),IF(D3762<6,0,COUNTIF(B3762:$B$4018,B3762)))","v":1},7,{"$f":"IF(ISERROR(VLOOKUP(A3762,Feriados!A:A,1,FALSE)),\"n\",VLOOKUP(A3762,Feriados!A:A,1,FALSE))","v":"n"}]
[48323,2587,{"$f":"IF(E3763<>\"n\",COUNTIF(B3763:$B$4018,B3763),IF(D3763<6,0,COUNTIF(B3763:$B$4018,B3763)))","v":0},1,{"$f":"IF(ISERROR(VLOOKUP(A3763,Feriados!A:A,1,FALSE)),\"n\",VLOOKUP(A3763,Feriados!A:A,1,FALSE))","v":"n"}]
[48324,2588,{"$f":"IF(E3764<>\"n\",COUNTIF(B3764:$B$4018,B3764),IF(D3764<6,0,COUNTIF(B3764:$B$4018,B3764)))","v":0},2,{"$f":"IF(ISERROR(VLOOKUP(A3764,Feriados!A:A,1,FALSE)),\"n\",VLOOKUP(A3764,Feriados!A:A,1,FALSE))","v":"n"}]
[48325,2588,{"$f":"IF(E3765<>\"n\",COUNTIF(B3765:$B$4018,B3765),IF(D3765<6,0,COUNTIF(B3765:$B$4018,B3765)))","v":1},3,{"$f":"IF(ISERROR(VLOOKUP(A3765,Feriados!A:A,1,FALSE)),\"n\",VLOOKUP(A3765,Feriados!A:A,1,FALSE))","v":"2032-04-21"}]
[48326,2589,{"$f":"IF(E3766<>\"n\",COUNTIF(B3766:$B$4018,B3766),IF(D3766<6,0,COUNTIF(B3766:$B$4018,B3766)))","v":0},4,{"$f":"IF(ISERROR(VLOOKUP(A3766,Feriados!A:A,1,FALSE)),\"n\",VLOOKUP(A3766,Feriados!A:A,1,FALSE))","v":"n"}]
[48327,2590,{"$f":"IF(E3767<>\"n\",COUNTIF(B3767:$B$4018,B3767),IF(D3767<6,0,COUNTIF(B3767:$B$4018,B3767)))","v":0},5,{"$f":"IF(ISERROR(VLOOKUP(A3767,Feriados!A:A,1,FALSE)),\"n\",VLOOKUP(A3767,Feriados!A:A,1,FALSE))","v":"n"}]
[48328,2590,{"$f":"IF(E3768<>\"n\",COUNTIF(B3768:$B$4018,B3768),IF(D3768<6,0,COUNTIF(B3768:$B$4018,B3768)))","v":2},6,{"$f":"IF(ISERROR(VLOOKUP(A3768,Feriados!A:A,1,FALSE)),\"n\",VLOOKUP(A3768,Feriados!A:A,1,FALSE))","v":"n"}]
[48329,2590,{"$f":"IF(E3769<>\"n\",COUNTIF(B3769:$B$4018,B3769),IF(D3769<6,0,COUNTIF(B3769:$B$4018,B3769)))","v":1},7,{"$f":"IF(ISERROR(VLOOKUP(A3769,Feriados!A:A,1,FALSE)),\"n\",VLOOKUP(A3769,Feriados!A:A,1,FALSE))","v":"n"}]
[48330,2591,{"$f":"IF(E3770<>\"n\",COUNTIF(B3770:$B$4018,B3770),IF(D3770<6,0,COUNTIF(B3770:$B$4018,B3770)))","v":0},1,{"$f":"IF(ISERROR(VLOOKUP(A3770,Feriados!A:A,1,FALSE)),\"n\",VLOOKUP(A3770,Feriados!A:A,1,FALSE))","v":"n"}]
[48331,2592,{"$f":"IF(E3771<>\"n\",COUNTIF(B3771:$B$4018,B3771),IF(D3771<6,0,COUNTIF(B3771:$B$4018,B3771)))","v":0},2,{"$f":"IF(ISERROR(VLOOKUP(A3771,Feriados!A:A,1,FALSE)),\"n\",VLOOKUP(A3771,Feriados!A:A,1,FALSE))","v":"n"}]
[48332,2593,{"$f":"IF(E3772<>\"n\",COUNTIF(B3772:$B$4018,B3772),IF(D3772<6,0,COUNTIF(B3772:$B$4018,B3772)))","v":0},3,{"$f":"IF(ISERROR(VLOOKUP(A3772,Feriados!A:A,1,FALSE)),\"n\",VLOOKUP(A3772,Feriados!A:A,1,FALSE))","v":"n"}]
[48333,2594,{"$f":"IF(E3773<>\"n\",COUNTIF(B3773:$B$4018,B3773),IF(D3773<6,0,COUNTIF(B3773:$B$4018,B3773)))","v":0},4,{"$f":"IF(ISERROR(VLOOKUP(A3773,Feriados!A:A,1,FALSE)),\"n\",VLOOKUP(A3773,Feriados!A:A,1,FALSE))","v":"n"}]
[48334,2595,{"$f":"IF(E3774<>\"n\",COUNTIF(B3774:$B$4018,B3774),IF(D3774<6,0,COUNTIF(B3774:$B$4018,B3774)))","v":0},5,{"$f":"IF(ISERROR(VLOOKUP(A3774,Feriados!A:A,1,FALSE)),\"n\",VLOOKUP(A3774,Feriados!A:A,1,FALSE))","v":"n"}]
[48335,2595,{"$f":"IF(E3775<>\"n\",COUNTIF(B3775:$B$4018,B3775),IF(D3775<6,0,COUNTIF(B3775:$B$4018,B3775)))","v":2},6,{"$f":"IF(ISERROR(VLOOKUP(A3775,Feriados!A:A,1,FALSE)),\"n\",VLOOKUP(A3775,Feriados!A:A,1,FALSE))","v":"2032-05-01"}]
[48336,2595,{"$f":"IF(E3776<>\"n\",COUNTIF(B3776:$B$4018,B3776),IF(D3776<6,0,COUNTIF(B3776:$B$4018,B3776)))","v":1},7,{"$f":"IF(ISERROR(VLOOKUP(A3776,Feriados!A:A,1,FALSE)),\"n\",VLOOKUP(A3776,Feriados!A:A,1,FALSE))","v":"n"}]
[48337,2596,{"$f":"IF(E3777<>\"n\",COUNTIF(B3777:$B$4018,B3777),IF(D3777<6,0,COUNTIF(B3777:$B$4018,B3777)))","v":0},1,{"$f":"IF(ISERROR(VLOOKUP(A3777,Feriados!A:A,1,FALSE)),\"n\",VLOOKUP(A3777,Feriados!A:A,1,FALSE))","v":"n"}]
[48338,2597,{"$f":"IF(E3778<>\"n\",COUNTIF(B3778:$B$4018,B3778),IF(D3778<6,0,COUNTIF(B3778:$B$4018,B3778)))","v":0},2,{"$f":"IF(ISERROR(VLOOKUP(A3778,Feriados!A:A,1,FALSE)),\"n\",VLOOKUP(A3778,Feriados!A:A,1,FALSE))","v":"n"}]
[48339,2598,{"$f":"IF(E3779<>\"n\",COUNTIF(B3779:$B$4018,B3779),IF(D3779<6,0,COUNTIF(B3779:$B$4018,B3779)))","v":0},3,{"$f":"IF(ISERROR(VLOOKUP(A3779,Feriados!A:A,1,FALSE)),\"n\",VLOOKUP(A3779,Feriados!A:A,1,FALSE))","v":"n"}]
[{"$f":"A3779+1","v":48340},2599,{"$f":"IF(E3780<>\"n\",COUNTIF(B3780:$B$4018,B3780),IF(D3780<6,0,COUNTIF(B3780:$B$4018,B3780)))","v":0},4,{"$f":"IF(ISERROR(VLOOKUP(A3780,Feriados!A:A,1,FALSE)),\"n\",VLOOKUP(A3780,Feriados!A:A,1,FALSE))","v":"n"}]
[48341,2600,{"$f":"IF(E3781<>\"n\",COUNTIF(B3781:$B$4018,B3781),IF(D3781<6,0,COUNTIF(B3781:$B$4018,B3781)))","v":0},5,{"$f":"IF(ISERROR(VLOOKUP(A3781,Feriados!A:A,1,FALSE)),\"n\",VLOOKUP(A3781,Feriados!A:A,1,FALSE))","v":"n"}]
[48342,2600,{"$f":"IF(E3782<>\"n\",COUNTIF(B3782:$B$4018,B3782),IF(D3782<6,0,COUNTIF(B3782:$B$4018,B3782)))","v":2},6,{"$f":"IF(ISERROR(VLOOKUP(A3782,Feriados!A:A,1,FALSE)),\"n\",VLOOKUP(A3782,Feriados!A:A,1,FALSE))","v":"n"}]
[48343,2600,{"$f":"IF(E3783<>\"n\",COUNTIF(B3783:$B$4018,B3783),IF(D3783<6,0,COUNTIF(B3783:$B$4018,B3783)))","v":1},7,{"$f":"IF(ISERROR(VLOOKUP(A3783,Feriados!A:A,1,FALSE)),\"n\",VLOOKUP(A3783,Feriados!A:A,1,FALSE))","v":"n"}]
[48344,2601,{"$f":"IF(E3784<>\"n\",COUNTIF(B3784:$B$4018,B3784),IF(D3784<6,0,COUNTIF(B3784:$B$4018,B3784)))","v":0},1,{"$f":"IF(ISERROR(VLOOKUP(A3784,Feriados!A:A,1,FALSE)),\"n\",VLOOKUP(A3784,Feriados!A:A,1,FALSE))","v":"n"}]
[48345,2602,{"$f":"IF(E3785<>\"n\",COUNTIF(B3785:$B$4018,B3785),IF(D3785<6,0,COUNTIF(B3785:$B$4018,B3785)))","v":0},2,{"$f":"IF(ISERROR(VLOOKUP(A3785,Feriados!A:A,1,FALSE)),\"n\",VLOOKUP(A3785,Feriados!A:A,1,FALSE))","v":"n"}]
[48346,2603,{"$f":"IF(E3786<>\"n\",COUNTIF(B3786:$B$4018,B3786),IF(D3786<6,0,COUNTIF(B3786:$B$4018,B3786)))","v":0},3,{"$f":"IF(ISERROR(VLOOKUP(A3786,Feriados!A:A,1,FALSE)),\"n\",VLOOKUP(A3786,Feriados!A:A,1,FALSE))","v":"n"}]
[48347,2604,{"$f":"IF(E3787<>\"n\",COUNTIF(B3787:$B$4018,B3787),IF(D3787<6,0,COUNTIF(B3787:$B$4018,B3787)))","v":0},4,{"$f":"IF(ISERROR(VLOOKUP(A3787,Feriados!A:A,1,FALSE)),\"n\",VLOOKUP(A3787,Feriados!A:A,1,FALSE))","v":"n"}]
[48348,2605,{"$f":"IF(E3788<>\"n\",COUNTIF(B3788:$B$4018,B3788),IF(D3788<6,0,COUNTIF(B3788:$B$4018,B3788)))","v":0},5,{"$f":"IF(ISERROR(VLOOKUP(A3788,Feriados!A:A,1,FALSE)),\"n\",VLOOKUP(A3788,Feriados!A:A,1,FALSE))","v":"n"}]
[48349,2605,{"$f":"IF(E3789<>\"n\",COUNTIF(B3789:$B$4018,B3789),IF(D3789<6,0,COUNTIF(B3789:$B$4018,B3789)))","v":2},6,{"$f":"IF(ISERROR(VLOOKUP(A3789,Feriados!A:A,1,FALSE)),\"n\",VLOOKUP(A3789,Feriados!A:A,1,FALSE))","v":"n"}]
[48350,2605,{"$f":"IF(E3790<>\"n\",COUNTIF(B3790:$B$4018,B3790),IF(D3790<6,0,COUNTIF(B3790:$B$4018,B3790)))","v":1},7,{"$f":"IF(ISERROR(VLOOKUP(A3790,Feriados!A:A,1,FALSE)),\"n\",VLOOKUP(A3790,Feriados!A:A,1,FALSE))","v":"n"}]
[48351,2606,{"$f":"IF(E3791<>\"n\",COUNTIF(B3791:$B$4018,B3791),IF(D3791<6,0,COUNTIF(B3791:$B$4018,B3791)))","v":0},1,{"$f":"IF(ISERROR(VLOOKUP(A3791,Feriados!A:A,1,FALSE)),\"n\",VLOOKUP(A3791,Feriados!A:A,1,FALSE))","v":"n"}]
[48352,2607,{"$f":"IF(E3792<>\"n\",COUNTIF(B3792:$B$4018,B3792),IF(D3792<6,0,COUNTIF(B3792:$B$4018,B3792)))","v":0},2,{"$f":"IF(ISERROR(VLOOKUP(A3792,Feriados!A:A,1,FALSE)),\"n\",VLOOKUP(A3792,Feriados!A:A,1,FALSE))","v":"n"}]
[48353,2608,{"$f":"IF(E3793<>\"n\",COUNTIF(B3793:$B$4018,B3793),IF(D3793<6,0,COUNTIF(B3793:$B$4018,B3793)))","v":0},3,{"$f":"IF(ISERROR(VLOOKUP(A3793,Feriados!A:A,1,FALSE)),\"n\",VLOOKUP(A3793,Feriados!A:A,1,FALSE))","v":"n"}]
[48354,2609,{"$f":"IF(E3794<>\"n\",COUNTIF(B3794:$B$4018,B3794),IF(D3794<6,0,COUNTIF(B3794:$B$4018,B3794)))","v":0},4,{"$f":"IF(ISERROR(VLOOKUP(A3794,Feriados!A:A,1,FALSE)),\"n\",VLOOKUP(A3794,Feriados!A:A,1,FALSE))","v":"n"}]
[48355,2610,{"$f":"IF(E3795<>\"n\",COUNTIF(B3795:$B$4018,B3795),IF(D3795<6,0,COUNTIF(B3795:$B$4018,B3795)))","v":0},5,{"$f":"IF(ISERROR(VLOOKUP(A3795,Feriados!A:A,1,FALSE)),\"n\",VLOOKUP(A3795,Feriados!A:A,1,FALSE))","v":"n"}]
[48356,2610,{"$f":"IF(E3796<>\"n\",COUNTIF(B3796:$B$4018,B3796),IF(D3796<6,0,COUNTIF(B3796:$B$4018,B3796)))","v":2},6,{"$f":"IF(ISERROR(VLOOKUP(A3796,Feriados!A:A,1,FALSE)),\"n\",VLOOKUP(A3796,Feriados!A:A,1,FALSE))","v":"n"}]
[48357,2610,{"$f":"IF(E3797<>\"n\",COUNTIF(B3797:$B$4018,B3797),IF(D3797<6,0,COUNTIF(B3797:$B$4018,B3797)))","v":1},7,{"$f":"IF(ISERROR(VLOOKUP(A3797,Feriados!A:A,1,FALSE)),\"n\",VLOOKUP(A3797,Feriados!A:A,1,FALSE))","v":"n"}]
[48358,2611,{"$f":"IF(E3798<>\"n\",COUNTIF(B3798:$B$4018,B3798),IF(D3798<6,0,COUNTIF(B3798:$B$4018,B3798)))","v":0},1,{"$f":"IF(ISERROR(VLOOKUP(A3798,Feriados!A:A,1,FALSE)),\"n\",VLOOKUP(A3798,Feriados!A:A,1,FALSE))","v":"n"}]
[48359,2612,{"$f":"IF(E3799<>\"n\",COUNTIF(B3799:$B$4018,B3799),IF(D3799<6,0,COUNTIF(B3799:$B$4018,B3799)))","v":0},2,{"$f":"IF(ISERROR(VLOOKUP(A3799,Feriados!A:A,1,FALSE)),\"n\",VLOOKUP(A3799,Feriados!A:A,1,FALSE))","v":"n"}]
[48360,2613,{"$f":"IF(E3800<>\"n\",COUNTIF(B3800:$B$4018,B3800),IF(D3800<6,0,COUNTIF(B3800:$B$4018,B3800)))","v":0},3,{"$f":"IF(ISERROR(VLOOKUP(A3800,Feriados!A:A,1,FALSE)),\"n\",VLOOKUP(A3800,Feriados!A:A,1,FALSE))","v":"n"}]
[48361,2613,{"$f":"IF(E3801<>\"n\",COUNTIF(B3801:$B$4018,B3801),IF(D3801<6,0,COUNTIF(B3801:$B$4018,B3801)))","v":1},4,{"$f":"IF(ISERROR(VLOOKUP(A3801,Feriados!A:A,1,FALSE)),\"n\",VLOOKUP(A3801,Feriados!A:A,1,FALSE))","v":"2032-05-27"}]
[48362,2614,{"$f":"IF(E3802<>\"n\",COUNTIF(B3802:$B$4018,B3802),IF(D3802<6,0,COUNTIF(B3802:$B$4018,B3802)))","v":0},5,{"$f":"IF(ISERROR(VLOOKUP(A3802,Feriados!A:A,1,FALSE)),\"n\",VLOOKUP(A3802,Feriados!A:A,1,FALSE))","v":"n"}]
[48363,2614,{"$f":"IF(E3803<>\"n\",COUNTIF(B3803:$B$4018,B3803),IF(D3803<6,0,COUNTIF(B3803:$B$4018,B3803)))","v":2},6,{"$f":"IF(ISERROR(VLOOKUP(A3803,Feriados!A:A,1,FALSE)),\"n\",VLOOKUP(A3803,Feriados!A:A,1,FALSE))","v":"n"}]
[48364,2614,{"$f":"IF(E3804<>\"n\",COUNTIF(B3804:$B$4018,B3804),IF(D3804<6,0,COUNTIF(B3804:$B$4018,B3804)))","v":1},7,{"$f":"IF(ISERROR(VLOOKUP(A3804,Feriados!A:A,1,FALSE)),\"n\",VLOOKUP(A3804,Feriados!A:A,1,FALSE))","v":"n"}]
[48365,2615,{"$f":"IF(E3805<>\"n\",COUNTIF(B3805:$B$4018,B3805),IF(D3805<6,0,COUNTIF(B3805:$B$4018,B3805)))","v":0},1,{"$f":"IF(ISERROR(VLOOKUP(A3805,Feriados!A:A,1,FALSE)),\"n\",VLOOKUP(A3805,Feriados!A:A,1,FALSE))","v":"n"}]
[48366,{"$f":"NETWORKDAYS($A$2,A3806,feriados)","v":2616},{"$f":"IF(E3806<>\"n\",COUNTIF(B3806:$B$4018,B3806),IF(D3806<6,0,COUNTIF(B3806:$B$4018,B3806)))","v":0},{"$f":"WEEKDAY(A3806,2)","v":2},{"$f":"IF(ISERROR(VLOOKUP(A3806,Feriados!A:A,1,FALSE)),\"n\",VLOOKUP(A3806,Feriados!A:A,1,FALSE))","v":"n"}]
[48367,2617,{"$f":"IF(E3807<>\"n\",COUNTIF(B3807:$B$4018,B3807),IF(D3807<6,0,COUNTIF(B3807:$B$4018,B3807)))","v":0},3,{"$f":"IF(ISERROR(VLOOKUP(A3807,Feriados!A:A,1,FALSE)),\"n\",VLOOKUP(A3807,Feriados!A:A,1,FALSE))","v":"n"}]
[48368,2618,{"$f":"IF(E3808<>\"n\",COUNTIF(B3808:$B$4018,B3808),IF(D3808<6,0,COUNTIF(B3808:$B$4018,B3808)))","v":0},4,{"$f":"IF(ISERROR(VLOOKUP(A3808,Feriados!A:A,1,FALSE)),\"n\",VLOOKUP(A3808,Feriados!A:A,1,FALSE))","v":"n"}]
[48369,2619,{"$f":"IF(E3809<>\"n\",COUNTIF(B3809:$B$4018,B3809),IF(D3809<6,0,COUNTIF(B3809:$B$4018,B3809)))","v":0},5,{"$f":"IF(ISERROR(VLOOKUP(A3809,Feriados!A:A,1,FALSE)),\"n\",VLOOKUP(A3809,Feriados!A:A,1,FALSE))","v":"n"}]
[48370,2619,{"$f":"IF(E3810<>\"n\",COUNTIF(B3810:$B$4018,B3810),IF(D3810<6,0,COUNTIF(B3810:$B$4018,B3810)))","v":2},6,{"$f":"IF(ISERROR(VLOOKUP(A3810,Feriados!A:A,1,FALSE)),\"n\",VLOOKUP(A3810,Feriados!A:A,1,FALSE))","v":"n"}]
[48371,2619,{"$f":"IF(E3811<>\"n\",COUNTIF(B3811:$B$4018,B3811),IF(D3811<6,0,COUNTIF(B3811:$B$4018,B3811)))","v":1},7,{"$f":"IF(ISERROR(VLOOKUP(A3811,Feriados!A:A,1,FALSE)),\"n\",VLOOKUP(A3811,Feriados!A:A,1,FALSE))","v":"n"}]
[48372,2620,{"$f":"IF(E3812<>\"n\",COUNTIF(B3812:$B$4018,B3812),IF(D3812<6,0,COUNTIF(B3812:$B$4018,B3812)))","v":0},1,{"$f":"IF(ISERROR(VLOOKUP(A3812,Feriados!A:A,1,FALSE)),\"n\",VLOOKUP(A3812,Feriados!A:A,1,FALSE))","v":"n"}]
[48373,2621,{"$f":"IF(E3813<>\"n\",COUNTIF(B3813:$B$4018,B3813),IF(D3813<6,0,COUNTIF(B3813:$B$4018,B3813)))","v":0},2,{"$f":"IF(ISERROR(VLOOKUP(A3813,Feriados!A:A,1,FALSE)),\"n\",VLOOKUP(A3813,Feriados!A:A,1,FALSE))","v":"n"}]
[48374,2622,{"$f":"IF(E3814<>\"n\",COUNTIF(B3814:$B$4018,B3814),IF(D3814<6,0,COUNTIF(B3814:$B$4018,B3814)))","v":0},3,{"$f":"IF(ISERROR(VLOOKUP(A3814,Feriados!A:A,1,FALSE)),\"n\",VLOOKUP(A3814,Feriados!A:A,1,FALSE))","v":"n"}]
[48375,2623,{"$f":"IF(E3815<>\"n\",COUNTIF(B3815:$B$4018,B3815),IF(D3815<6,0,COUNTIF(B3815:$B$4018,B3815)))","v":0},4,{"$f":"IF(ISERROR(VLOOKUP(A3815,Feriados!A:A,1,FALSE)),\"n\",VLOOKUP(A3815,Feriados!A:A,1,FALSE))","v":"n"}]
[48376,2624,{"$f":"IF(E3816<>\"n\",COUNTIF(B3816:$B$4018,B3816),IF(D3816<6,0,COUNTIF(B3816:$B$4018,B3816)))","v":0},5,{"$f":"IF(ISERROR(VLOOKUP(A3816,Feriados!A:A,1,FALSE)),\"n\",VLOOKUP(A3816,Feriados!A:A,1,FALSE))","v":"n"}]
[48377,2624,{"$f":"IF(E3817<>\"n\",COUNTIF(B3817:$B$4018,B3817),IF(D3817<6,0,COUNTIF(B3817:$B$4018,B3817)))","v":2},6,{"$f":"IF(ISERROR(VLOOKUP(A3817,Feriados!A:A,1,FALSE)),\"n\",VLOOKUP(A3817,Feriados!A:A,1,FALSE))","v":"n"}]
[48378,2624,{"$f":"IF(E3818<>\"n\",COUNTIF(B3818:$B$4018,B3818),IF(D3818<6,0,COUNTIF(B3818:$B$4018,B3818)))","v":1},7,{"$f":"IF(ISERROR(VLOOKUP(A3818,Feriados!A:A,1,FALSE)),\"n\",VLOOKUP(A3818,Feriados!A:A,1,FALSE))","v":"n"}]
[48379,2625,{"$f":"IF(E3819<>\"n\",COUNTIF(B3819:$B$4018,B3819),IF(D3819<6,0,COUNTIF(B3819:$B$4018,B3819)))","v":0},1,{"$f":"IF(ISERROR(VLOOKUP(A3819,Feriados!A:A,1,FALSE)),\"n\",VLOOKUP(A3819,Feriados!A:A,1,FALSE))","v":"n"}]
[48380,2626,{"$f":"IF(E3820<>\"n\",COUNTIF(B3820:$B$4018,B3820),IF(D3820<6,0,COUNTIF(B3820:$B$4018,B3820)))","v":0},2,{"$f":"IF(ISERROR(VLOOKUP(A3820,Feriados!A:A,1,FALSE)),\"n\",VLOOKUP(A3820,Feriados!A:A,1,FALSE))","v":"n"}]
[48381,2627,{"$f":"IF(E3821<>\"n\",COUNTIF(B3821:$B$4018,B3821),IF(D3821<6,0,COUNTIF(B3821:$B$4018,B3821)))","v":0},3,{"$f":"IF(ISERROR(VLOOKUP(A3821,Feriados!A:A,1,FALSE)),\"n\",VLOOKUP(A3821,Feriados!A:A,1,FALSE))","v":"n"}]
[48382,2628,{"$f":"IF(E3822<>\"n\",COUNTIF(B3822:$B$4018,B3822),IF(D3822<6,0,COUNTIF(B3822:$B$4018,B3822)))","v":0},4,{"$f":"IF(ISERROR(VLOOKUP(A3822,Feriados!A:A,1,FALSE)),\"n\",VLOOKUP(A3822,Feriados!A:A,1,FALSE))","v":"n"}]
[48383,2629,{"$f":"IF(E3823<>\"n\",COUNTIF(B3823:$B$4018,B3823),IF(D3823<6,0,COUNTIF(B3823:$B$4018,B3823)))","v":0},5,{"$f":"IF(ISERROR(VLOOKUP(A3823,Feriados!A:A,1,FALSE)),\"n\",VLOOKUP(A3823,Feriados!A:A,1,FALSE))","v":"n"}]
[48384,2629,{"$f":"IF(E3824<>\"n\",COUNTIF(B3824:$B$4018,B3824),IF(D3824<6,0,COUNTIF(B3824:$B$4018,B3824)))","v":2},6,{"$f":"IF(ISERROR(VLOOKUP(A3824,Feriados!A:A,1,FALSE)),\"n\",VLOOKUP(A3824,Feriados!A:A,1,FALSE))","v":"n"}]
[48385,2629,{"$f":"IF(E3825<>\"n\",COUNTIF(B3825:$B$4018,B3825),IF(D3825<6,0,COUNTIF(B3825:$B$4018,B3825)))","v":1},7,{"$f":"IF(ISERROR(VLOOKUP(A3825,Feriados!A:A,1,FALSE)),\"n\",VLOOKUP(A3825,Feriados!A:A,1,FALSE))","v":"n"}]
[48386,2630,{"$f":"IF(E3826<>\"n\",COUNTIF(B3826:$B$4018,B3826),IF(D3826<6,0,COUNTIF(B3826:$B$4018,B3826)))","v":0},1,{"$f":"IF(ISERROR(VLOOKUP(A3826,Feriados!A:A,1,FALSE)),\"n\",VLOOKUP(A3826,Feriados!A:A,1,FALSE))","v":"n"}]
[48387,2631,{"$f":"IF(E3827<>\"n\",COUNTIF(B3827:$B$4018,B3827),IF(D3827<6,0,COUNTIF(B3827:$B$4018,B3827)))","v":0},2,{"$f":"IF(ISERROR(VLOOKUP(A3827,Feriados!A:A,1,FALSE)),\"n\",VLOOKUP(A3827,Feriados!A:A,1,FALSE))","v":"n"}]
[48388,2632,{"$f":"IF(E3828<>\"n\",COUNTIF(B3828:$B$4018,B3828),IF(D3828<6,0,COUNTIF(B3828:$B$4018,B3828)))","v":0},3,{"$f":"IF(ISERROR(VLOOKUP(A3828,Feriados!A:A,1,FALSE)),\"n\",VLOOKUP(A3828,Feriados!A:A,1,FALSE))","v":"n"}]
[48389,2633,{"$f":"IF(E3829<>\"n\",COUNTIF(B3829:$B$4018,B3829),IF(D3829<6,0,COUNTIF(B3829:$B$4018,B3829)))","v":0},4,{"$f":"IF(ISERROR(VLOOKUP(A3829,Feriados!A:A,1,FALSE)),\"n\",VLOOKUP(A3829,Feriados!A:A,1,FALSE))","v":"n"}]
[48390,2634,{"$f":"IF(E3830<>\"n\",COUNTIF(B3830:$B$4018,B3830),IF(D3830<6,0,COUNTIF(B3830:$B$4018,B3830)))","v":0},5,{"$f":"IF(ISERROR(VLOOKUP(A3830,Feriados!A:A,1,FALSE)),\"n\",VLOOKUP(A3830,Feriados!A:A,1,FALSE))","v":"n"}]
[48391,2634,{"$f":"IF(E3831<>\"n\",COUNTIF(B3831:$B$4018,B3831),IF(D3831<6,0,COUNTIF(B3831:$B$4018,B3831)))","v":2},6,{"$f":"IF(ISERROR(VLOOKUP(A3831,Feriados!A:A,1,FALSE)),\"n\",VLOOKUP(A3831,Feriados!A:A,1,FALSE))","v":"n"}]
[48392,2634,{"$f":"IF(E3832<>\"n\",COUNTIF(B3832:$B$4018,B3832),IF(D3832<6,0,COUNTIF(B3832:$B$4018,B3832)))","v":1},7,{"$f":"IF(ISERROR(VLOOKUP(A3832,Feriados!A:A,1,FALSE)),\"n\",VLOOKUP(A3832,Feriados!A:A,1,FALSE))","v":"n"}]
[48393,2635,{"$f":"IF(E3833<>\"n\",COUNTIF(B3833:$B$4018,B3833),IF(D3833<6,0,COUNTIF(B3833:$B$4018,B3833)))","v":0},1,{"$f":"IF(ISERROR(VLOOKUP(A3833,Feriados!A:A,1,FALSE)),\"n\",VLOOKUP(A3833,Feriados!A:A,1,FALSE))","v":"n"}]
[48394,2636,{"$f":"IF(E3834<>\"n\",COUNTIF(B3834:$B$4018,B3834),IF(D3834<6,0,COUNTIF(B3834:$B$4018,B3834)))","v":0},2,{"$f":"IF(ISERROR(VLOOKUP(A3834,Feriados!A:A,1,FALSE)),\"n\",VLOOKUP(A3834,Feriados!A:A,1,FALSE))","v":"n"}]
[48395,2637,{"$f":"IF(E3835<>\"n\",COUNTIF(B3835:$B$4018,B3835),IF(D3835<6,0,COUNTIF(B3835:$B$4018,B3835)))","v":0},3,{"$f":"IF(ISERROR(VLOOKUP(A3835,Feriados!A:A,1,FALSE)),\"n\",VLOOKUP(A3835,Feriados!A:A,1,FALSE))","v":"n"}]
[48396,2638,{"$f":"IF(E3836<>\"n\",COUNTIF(B3836:$B$4018,B3836),IF(D3836<6,0,COUNTIF(B3836:$B$4018,B3836)))","v":0},4,{"$f":"IF(ISERROR(VLOOKUP(A3836,Feriados!A:A,1,FALSE)),\"n\",VLOOKUP(A3836,Feriados!A:A,1,FALSE))","v":"n"}]
[48397,2639,{"$f":"IF(E3837<>\"n\",COUNTIF(B3837:$B$4018,B3837),IF(D3837<6,0,COUNTIF(B3837:$B$4018,B3837)))","v":0},5,{"$f":"IF(ISERROR(VLOOKUP(A3837,Feriados!A:A,1,FALSE)),\"n\",VLOOKUP(A3837,Feriados!A:A,1,FALSE))","v":"n"}]
[48398,2639,{"$f":"IF(E3838<>\"n\",COUNTIF(B3838:$B$4018,B3838),IF(D3838<6,0,COUNTIF(B3838:$B$4018,B3838)))","v":2},6,{"$f":"IF(ISERROR(VLOOKUP(A3838,Feriados!A:A,1,FALSE)),\"n\",VLOOKUP(A3838,Feriados!A:A,1,FALSE))","v":"n"}]
[48399,2639,{"$f":"IF(E3839<>\"n\",COUNTIF(B3839:$B$4018,B3839),IF(D3839<6,0,COUNTIF(B3839:$B$4018,B3839)))","v":1},7,{"$f":"IF(ISERROR(VLOOKUP(A3839,Feriados!A:A,1,FALSE)),\"n\",VLOOKUP(A3839,Feriados!A:A,1,FALSE))","v":"n"}]
[48400,2640,{"$f":"IF(E3840<>\"n\",COUNTIF(B3840:$B$4018,B3840),IF(D3840<6,0,COUNTIF(B3840:$B$4018,B3840)))","v":0},1,{"$f":"IF(ISERROR(VLOOKUP(A3840,Feriados!A:A,1,FALSE)),\"n\",VLOOKUP(A3840,Feriados!A:A,1,FALSE))","v":"n"}]
[48401,2641,{"$f":"IF(E3841<>\"n\",COUNTIF(B3841:$B$4018,B3841),IF(D3841<6,0,COUNTIF(B3841:$B$4018,B3841)))","v":0},2,{"$f":"IF(ISERROR(VLOOKUP(A3841,Feriados!A:A,1,FALSE)),\"n\",VLOOKUP(A3841,Feriados!A:A,1,FALSE))","v":"n"}]
[48402,2642,{"$f":"IF(E3842<>\"n\",COUNTIF(B3842:$B$4018,B3842),IF(D3842<6,0,COUNTIF(B3842:$B$4018,B3842)))","v":0},3,{"$f":"IF(ISERROR(VLOOKUP(A3842,Feriados!A:A,1,FALSE)),\"n\",VLOOKUP(A3842,Feriados!A:A,1,FALSE))","v":"n"}]
[48403,2643,{"$f":"IF(E3843<>\"n\",COUNTIF(B3843:$B$4018,B3843),IF(D3843<6,0,COUNTIF(B3843:$B$4018,B3843)))","v":0},4,{"$f":"IF(ISERROR(VLOOKUP(A3843,Feriados!A:A,1,FALSE)),\"n\",VLOOKUP(A3843,Feriados!A:A,1,FALSE))","v":"n"}]
[{"$f":"A3843+1","v":48404},2644,{"$f":"IF(E3844<>\"n\",COUNTIF(B3844:$B$4018,B3844),IF(D3844<6,0,COUNTIF(B3844:$B$4018,B3844)))","v":0},5,{"$f":"IF(ISERROR(VLOOKUP(A3844,Feriados!A:A,1,FALSE)),\"n\",VLOOKUP(A3844,Feriados!A:A,1,FALSE))","v":"n"}]
[48405,2644,{"$f":"IF(E3845<>\"n\",COUNTIF(B3845:$B$4018,B3845),IF(D3845<6,0,COUNTIF(B3845:$B$4018,B3845)))","v":2},6,{"$f":"IF(ISERROR(VLOOKUP(A3845,Feriados!A:A,1,FALSE)),\"n\",VLOOKUP(A3845,Feriados!A:A,1,FALSE))","v":"n"}]
[48406,2644,{"$f":"IF(E3846<>\"n\",COUNTIF(B3846:$B$4018,B3846),IF(D3846<6,0,COUNTIF(B3846:$B$4018,B3846)))","v":1},7,{"$f":"IF(ISERROR(VLOOKUP(A3846,Feriados!A:A,1,FALSE)),\"n\",VLOOKUP(A3846,Feriados!A:A,1,FALSE))","v":"n"}]
[48407,2645,{"$f":"IF(E3847<>\"n\",COUNTIF(B3847:$B$4018,B3847),IF(D3847<6,0,COUNTIF(B3847:$B$4018,B3847)))","v":0},1,{"$f":"IF(ISERROR(VLOOKUP(A3847,Feriados!A:A,1,FALSE)),\"n\",VLOOKUP(A3847,Feriados!A:A,1,FALSE))","v":"n"}]
[48408,2646,{"$f":"IF(E3848<>\"n\",COUNTIF(B3848:$B$4018,B3848),IF(D3848<6,0,COUNTIF(B3848:$B$4018,B3848)))","v":0},2,{"$f":"IF(ISERROR(VLOOKUP(A3848,Feriados!A:A,1,FALSE)),\"n\",VLOOKUP(A3848,Feriados!A:A,1,FALSE))","v":"n"}]
[48409,2647,{"$f":"IF(E3849<>\"n\",COUNTIF(B3849:$B$4018,B3849),IF(D3849<6,0,COUNTIF(B3849:$B$4018,B3849)))","v":0},3,{"$f":"IF(ISERROR(VLOOKUP(A3849,Feriados!A:A,1,FALSE)),\"n\",VLOOKUP(A3849,Feriados!A:A,1,FALSE))","v":"n"}]
[48410,2648,{"$f":"IF(E3850<>\"n\",COUNTIF(B3850:$B$4018,B3850),IF(D3850<6,0,COUNTIF(B3850:$B$4018,B3850)))","v":0},4,{"$f":"IF(ISERROR(VLOOKUP(A3850,Feriados!A:A,1,FALSE)),\"n\",VLOOKUP(A3850,Feriados!A:A,1,FALSE))","v":"n"}]
[48411,2649,{"$f":"IF(E3851<>\"n\",COUNTIF(B3851:$B$4018,B3851),IF(D3851<6,0,COUNTIF(B3851:$B$4018,B3851)))","v":0},5,{"$f":"IF(ISERROR(VLOOKUP(A3851,Feriados!A:A,1,FALSE)),\"n\",VLOOKUP(A3851,Feriados!A:A,1,FALSE))","v":"n"}]
[48412,2649,{"$f":"IF(E3852<>\"n\",COUNTIF(B3852:$B$4018,B3852),IF(D3852<6,0,COUNTIF(B3852:$B$4018,B3852)))","v":2},6,{"$f":"IF(ISERROR(VLOOKUP(A3852,Feriados!A:A,1,FALSE)),\"n\",VLOOKUP(A3852,Feriados!A:A,1,FALSE))","v":"n"}]
[48413,2649,{"$f":"IF(E3853<>\"n\",COUNTIF(B3853:$B$4018,B3853),IF(D3853<6,0,COUNTIF(B3853:$B$4018,B3853)))","v":1},7,{"$f":"IF(ISERROR(VLOOKUP(A3853,Feriados!A:A,1,FALSE)),\"n\",VLOOKUP(A3853,Feriados!A:A,1,FALSE))","v":"n"}]
[48414,2650,{"$f":"IF(E3854<>\"n\",COUNTIF(B3854:$B$4018,B3854),IF(D3854<6,0,COUNTIF(B3854:$B$4018,B3854)))","v":0},1,{"$f":"IF(ISERROR(VLOOKUP(A3854,Feriados!A:A,1,FALSE)),\"n\",VLOOKUP(A3854,Feriados!A:A,1,FALSE))","v":"n"}]
[48415,2651,{"$f":"IF(E3855<>\"n\",COUNTIF(B3855:$B$4018,B3855),IF(D3855<6,0,COUNTIF(B3855:$B$4018,B3855)))","v":0},2,{"$f":"IF(ISERROR(VLOOKUP(A3855,Feriados!A:A,1,FALSE)),\"n\",VLOOKUP(A3855,Feriados!A:A,1,FALSE))","v":"n"}]
[48416,2652,{"$f":"IF(E3856<>\"n\",COUNTIF(B3856:$B$4018,B3856),IF(D3856<6,0,COUNTIF(B3856:$B$4018,B3856)))","v":0},3,{"$f":"IF(ISERROR(VLOOKUP(A3856,Feriados!A:A,1,FALSE)),\"n\",VLOOKUP(A3856,Feriados!A:A,1,FALSE))","v":"n"}]
[48417,2653,{"$f":"IF(E3857<>\"n\",COUNTIF(B3857:$B$4018,B3857),IF(D3857<6,0,COUNTIF(B3857:$B$4018,B3857)))","v":0},4,{"$f":"IF(ISERROR(VLOOKUP(A3857,Feriados!A:A,1,FALSE)),\"n\",VLOOKUP(A3857,Feriados!A:A,1,FALSE))","v":"n"}]
[48418,2654,{"$f":"IF(E3858<>\"n\",COUNTIF(B3858:$B$4018,B3858),IF(D3858<6,0,COUNTIF(B3858:$B$4018,B3858)))","v":0},5,{"$f":"IF(ISERROR(VLOOKUP(A3858,Feriados!A:A,1,FALSE)),\"n\",VLOOKUP(A3858,Feriados!A:A,1,FALSE))","v":"n"}]
[48419,2654,{"$f":"IF(E3859<>\"n\",COUNTIF(B3859:$B$4018,B3859),IF(D3859<6,0,COUNTIF(B3859:$B$4018,B3859)))","v":2},6,{"$f":"IF(ISERROR(VLOOKUP(A3859,Feriados!A:A,1,FALSE)),\"n\",VLOOKUP(A3859,Feriados!A:A,1,FALSE))","v":"n"}]
[48420,2654,{"$f":"IF(E3860<>\"n\",COUNTIF(B3860:$B$4018,B3860),IF(D3860<6,0,COUNTIF(B3860:$B$4018,B3860)))","v":1},7,{"$f":"IF(ISERROR(VLOOKUP(A3860,Feriados!A:A,1,FALSE)),\"n\",VLOOKUP(A3860,Feriados!A:A,1,FALSE))","v":"n"}]
[48421,2655,{"$f":"IF(E3861<>\"n\",COUNTIF(B3861:$B$4018,B3861),IF(D3861<6,0,COUNTIF(B3861:$B$4018,B3861)))","v":0},1,{"$f":"IF(ISERROR(VLOOKUP(A3861,Feriados!A:A,1,FALSE)),\"n\",VLOOKUP(A3861,Feriados!A:A,1,FALSE))","v":"n"}]
[48422,2656,{"$f":"IF(E3862<>\"n\",COUNTIF(B3862:$B$4018,B3862),IF(D3862<6,0,COUNTIF(B3862:$B$4018,B3862)))","v":0},2,{"$f":"IF(ISERROR(VLOOKUP(A3862,Feriados!A:A,1,FALSE)),\"n\",VLOOKUP(A3862,Feriados!A:A,1,FALSE))","v":"n"}]
[48423,2657,{"$f":"IF(E3863<>\"n\",COUNTIF(B3863:$B$4018,B3863),IF(D3863<6,0,COUNTIF(B3863:$B$4018,B3863)))","v":0},3,{"$f":"IF(ISERROR(VLOOKUP(A3863,Feriados!A:A,1,FALSE)),\"n\",VLOOKUP(A3863,Feriados!A:A,1,FALSE))","v":"n"}]
[48424,2658,{"$f":"IF(E3864<>\"n\",COUNTIF(B3864:$B$4018,B3864),IF(D3864<6,0,COUNTIF(B3864:$B$4018,B3864)))","v":0},4,{"$f":"IF(ISERROR(VLOOKUP(A3864,Feriados!A:A,1,FALSE)),\"n\",VLOOKUP(A3864,Feriados!A:A,1,FALSE))","v":"n"}]
[48425,2659,{"$f":"IF(E3865<>\"n\",COUNTIF(B3865:$B$4018,B3865),IF(D3865<6,0,COUNTIF(B3865:$B$4018,B3865)))","v":0},5,{"$f":"IF(ISERROR(VLOOKUP(A3865,Feriados!A:A,1,FALSE)),\"n\",VLOOKUP(A3865,Feriados!A:A,1,FALSE))","v":"n"}]
[48426,2659,{"$f":"IF(E3866<>\"n\",COUNTIF(B3866:$B$4018,B3866),IF(D3866<6,0,COUNTIF(B3866:$B$4018,B3866)))","v":2},6,{"$f":"IF(ISERROR(VLOOKUP(A3866,Feriados!A:A,1,FALSE)),\"n\",VLOOKUP(A3866,Feriados!A:A,1,FALSE))","v":"n"}]
[48427,2659,{"$f":"IF(E3867<>\"n\",COUNTIF(B3867:$B$4018,B3867),IF(D3867<6,0,COUNTIF(B3867:$B$4018,B3867)))","v":1},7,{"$f":"IF(ISERROR(VLOOKUP(A3867,Feriados!A:A,1,FALSE)),\"n\",VLOOKUP(A3867,Feriados!A:A,1,FALSE))","v":"n"}]
[48428,2660,{"$f":"IF(E3868<>\"n\",COUNTIF(B3868:$B$4018,B3868),IF(D3868<6,0,COUNTIF(B3868:$B$4018,B3868)))","v":0},1,{"$f":"IF(ISERROR(VLOOKUP(A3868,Feriados!A:A,1,FALSE)),\"n\",VLOOKUP(A3868,Feriados!A:A,1,FALSE))","v":"n"}]
[48429,2661,{"$f":"IF(E3869<>\"n\",COUNTIF(B3869:$B$4018,B3869),IF(D3869<6,0,COUNTIF(B3869:$B$4018,B3869)))","v":0},2,{"$f":"IF(ISERROR(VLOOKUP(A3869,Feriados!A:A,1,FALSE)),\"n\",VLOOKUP(A3869,Feriados!A:A,1,FALSE))","v":"n"}]
[48430,{"$f":"NETWORKDAYS($A$2,A3870,feriados)","v":2662},{"$f":"IF(E3870<>\"n\",COUNTIF(B3870:$B$4018,B3870),IF(D3870<6,0,COUNTIF(B3870:$B$4018,B3870)))","v":0},{"$f":"WEEKDAY(A3870,2)","v":3},{"$f":"IF(ISERROR(VLOOKUP(A3870,Feriados!A:A,1,FALSE)),\"n\",VLOOKUP(A3870,Feriados!A:A,1,FALSE))","v":"n"}]
[48431,2663,{"$f":"IF(E3871<>\"n\",COUNTIF(B3871:$B$4018,B3871),IF(D3871<6,0,COUNTIF(B3871:$B$4018,B3871)))","v":0},4,{"$f":"IF(ISERROR(VLOOKUP(A3871,Feriados!A:A,1,FALSE)),\"n\",VLOOKUP(A3871,Feriados!A:A,1,FALSE))","v":"n"}]
[48432,2664,{"$f":"IF(E3872<>\"n\",COUNTIF(B3872:$B$4018,B3872),IF(D3872<6,0,COUNTIF(B3872:$B$4018,B3872)))","v":0},5,{"$f":"IF(ISERROR(VLOOKUP(A3872,Feriados!A:A,1,FALSE)),\"n\",VLOOKUP(A3872,Feriados!A:A,1,FALSE))","v":"n"}]
[48433,2664,{"$f":"IF(E3873<>\"n\",COUNTIF(B3873:$B$4018,B3873),IF(D3873<6,0,COUNTIF(B3873:$B$4018,B3873)))","v":2},6,{"$f":"IF(ISERROR(VLOOKUP(A3873,Feriados!A:A,1,FALSE)),\"n\",VLOOKUP(A3873,Feriados!A:A,1,FALSE))","v":"n"}]
[48434,2664,{"$f":"IF(E3874<>\"n\",COUNTIF(B3874:$B$4018,B3874),IF(D3874<6,0,COUNTIF(B3874:$B$4018,B3874)))","v":1},7,{"$f":"IF(ISERROR(VLOOKUP(A3874,Feriados!A:A,1,FALSE)),\"n\",VLOOKUP(A3874,Feriados!A:A,1,FALSE))","v":"n"}]
[48435,2665,{"$f":"IF(E3875<>\"n\",COUNTIF(B3875:$B$4018,B3875),IF(D3875<6,0,COUNTIF(B3875:$B$4018,B3875)))","v":0},1,{"$f":"IF(ISERROR(VLOOKUP(A3875,Feriados!A:A,1,FALSE)),\"n\",VLOOKUP(A3875,Feriados!A:A,1,FALSE))","v":"n"}]
[48436,2666,{"$f":"IF(E3876<>\"n\",COUNTIF(B3876:$B$4018,B3876),IF(D3876<6,0,COUNTIF(B3876:$B$4018,B3876)))","v":0},2,{"$f":"IF(ISERROR(VLOOKUP(A3876,Feriados!A:A,1,FALSE)),\"n\",VLOOKUP(A3876,Feriados!A:A,1,FALSE))","v":"n"}]
[48437,2667,{"$f":"IF(E3877<>\"n\",COUNTIF(B3877:$B$4018,B3877),IF(D3877<6,0,COUNTIF(B3877:$B$4018,B3877)))","v":0},3,{"$f":"IF(ISERROR(VLOOKUP(A3877,Feriados!A:A,1,FALSE)),\"n\",VLOOKUP(A3877,Feriados!A:A,1,FALSE))","v":"n"}]
[48438,2668,{"$f":"IF(E3878<>\"n\",COUNTIF(B3878:$B$4018,B3878),IF(D3878<6,0,COUNTIF(B3878:$B$4018,B3878)))","v":0},4,{"$f":"IF(ISERROR(VLOOKUP(A3878,Feriados!A:A,1,FALSE)),\"n\",VLOOKUP(A3878,Feriados!A:A,1,FALSE))","v":"n"}]
[48439,2669,{"$f":"IF(E3879<>\"n\",COUNTIF(B3879:$B$4018,B3879),IF(D3879<6,0,COUNTIF(B3879:$B$4018,B3879)))","v":0},5,{"$f":"IF(ISERROR(VLOOKUP(A3879,Feriados!A:A,1,FALSE)),\"n\",VLOOKUP(A3879,Feriados!A:A,1,FALSE))","v":"n"}]
[48440,2669,{"$f":"IF(E3880<>\"n\",COUNTIF(B3880:$B$4018,B3880),IF(D3880<6,0,COUNTIF(B3880:$B$4018,B3880)))","v":2},6,{"$f":"IF(ISERROR(VLOOKUP(A3880,Feriados!A:A,1,FALSE)),\"n\",VLOOKUP(A3880,Feriados!A:A,1,FALSE))","v":"n"}]
[48441,2669,{"$f":"IF(E3881<>\"n\",COUNTIF(B3881:$B$4018,B3881),IF(D3881<6,0,COUNTIF(B3881:$B$4018,B3881)))","v":1},7,{"$f":"IF(ISERROR(VLOOKUP(A3881,Feriados!A:A,1,FALSE)),\"n\",VLOOKUP(A3881,Feriados!A:A,1,FALSE))","v":"n"}]
[48442,2670,{"$f":"IF(E3882<>\"n\",COUNTIF(B3882:$B$4018,B3882),IF(D3882<6,0,COUNTIF(B3882:$B$4018,B3882)))","v":0},1,{"$f":"IF(ISERROR(VLOOKUP(A3882,Feriados!A:A,1,FALSE)),\"n\",VLOOKUP(A3882,Feriados!A:A,1,FALSE))","v":"n"}]
[48443,2671,{"$f":"IF(E3883<>\"n\",COUNTIF(B3883:$B$4018,B3883),IF(D3883<6,0,COUNTIF(B3883:$B$4018,B3883)))","v":0},2,{"$f":"IF(ISERROR(VLOOKUP(A3883,Feriados!A:A,1,FALSE)),\"n\",VLOOKUP(A3883,Feriados!A:A,1,FALSE))","v":"n"}]
[48444,2672,{"$f":"IF(E3884<>\"n\",COUNTIF(B3884:$B$4018,B3884),IF(D3884<6,0,COUNTIF(B3884:$B$4018,B3884)))","v":0},3,{"$f":"IF(ISERROR(VLOOKUP(A3884,Feriados!A:A,1,FALSE)),\"n\",VLOOKUP(A3884,Feriados!A:A,1,FALSE))","v":"n"}]
[48445,2673,{"$f":"IF(E3885<>\"n\",COUNTIF(B3885:$B$4018,B3885),IF(D3885<6,0,COUNTIF(B3885:$B$4018,B3885)))","v":0},4,{"$f":"IF(ISERROR(VLOOKUP(A3885,Feriados!A:A,1,FALSE)),\"n\",VLOOKUP(A3885,Feriados!A:A,1,FALSE))","v":"n"}]
[48446,2674,{"$f":"IF(E3886<>\"n\",COUNTIF(B3886:$B$4018,B3886),IF(D3886<6,0,COUNTIF(B3886:$B$4018,B3886)))","v":0},5,{"$f":"IF(ISERROR(VLOOKUP(A3886,Feriados!A:A,1,FALSE)),\"n\",VLOOKUP(A3886,Feriados!A:A,1,FALSE))","v":"n"}]
[48447,2674,{"$f":"IF(E3887<>\"n\",COUNTIF(B3887:$B$4018,B3887),IF(D3887<6,0,COUNTIF(B3887:$B$4018,B3887)))","v":2},6,{"$f":"IF(ISERROR(VLOOKUP(A3887,Feriados!A:A,1,FALSE)),\"n\",VLOOKUP(A3887,Feriados!A:A,1,FALSE))","v":"n"}]
[48448,2674,{"$f":"IF(E3888<>\"n\",COUNTIF(B3888:$B$4018,B3888),IF(D3888<6,0,COUNTIF(B3888:$B$4018,B3888)))","v":1},7,{"$f":"IF(ISERROR(VLOOKUP(A3888,Feriados!A:A,1,FALSE)),\"n\",VLOOKUP(A3888,Feriados!A:A,1,FALSE))","v":"n"}]
[48449,2675,{"$f":"IF(E3889<>\"n\",COUNTIF(B3889:$B$4018,B3889),IF(D3889<6,0,COUNTIF(B3889:$B$4018,B3889)))","v":0},1,{"$f":"IF(ISERROR(VLOOKUP(A3889,Feriados!A:A,1,FALSE)),\"n\",VLOOKUP(A3889,Feriados!A:A,1,FALSE))","v":"n"}]
[48450,2676,{"$f":"IF(E3890<>\"n\",COUNTIF(B3890:$B$4018,B3890),IF(D3890<6,0,COUNTIF(B3890:$B$4018,B3890)))","v":0},2,{"$f":"IF(ISERROR(VLOOKUP(A3890,Feriados!A:A,1,FALSE)),\"n\",VLOOKUP(A3890,Feriados!A:A,1,FALSE))","v":"n"}]
[48451,2677,{"$f":"IF(E3891<>\"n\",COUNTIF(B3891:$B$4018,B3891),IF(D3891<6,0,COUNTIF(B3891:$B$4018,B3891)))","v":0},3,{"$f":"IF(ISERROR(VLOOKUP(A3891,Feriados!A:A,1,FALSE)),\"n\",VLOOKUP(A3891,Feriados!A:A,1,FALSE))","v":"n"}]
[48452,2678,{"$f":"IF(E3892<>\"n\",COUNTIF(B3892:$B$4018,B3892),IF(D3892<6,0,COUNTIF(B3892:$B$4018,B3892)))","v":0},4,{"$f":"IF(ISERROR(VLOOKUP(A3892,Feriados!A:A,1,FALSE)),\"n\",VLOOKUP(A3892,Feriados!A:A,1,FALSE))","v":"n"}]
[48453,2679,{"$f":"IF(E3893<>\"n\",COUNTIF(B3893:$B$4018,B3893),IF(D3893<6,0,COUNTIF(B3893:$B$4018,B3893)))","v":0},5,{"$f":"IF(ISERROR(VLOOKUP(A3893,Feriados!A:A,1,FALSE)),\"n\",VLOOKUP(A3893,Feriados!A:A,1,FALSE))","v":"n"}]
[48454,2679,{"$f":"IF(E3894<>\"n\",COUNTIF(B3894:$B$4018,B3894),IF(D3894<6,0,COUNTIF(B3894:$B$4018,B3894)))","v":2},6,{"$f":"IF(ISERROR(VLOOKUP(A3894,Feriados!A:A,1,FALSE)),\"n\",VLOOKUP(A3894,Feriados!A:A,1,FALSE))","v":"n"}]
[48455,2679,{"$f":"IF(E3895<>\"n\",COUNTIF(B3895:$B$4018,B3895),IF(D3895<6,0,COUNTIF(B3895:$B$4018,B3895)))","v":1},7,{"$f":"IF(ISERROR(VLOOKUP(A3895,Feriados!A:A,1,FALSE)),\"n\",VLOOKUP(A3895,Feriados!A:A,1,FALSE))","v":"n"}]
[48456,2680,{"$f":"IF(E3896<>\"n\",COUNTIF(B3896:$B$4018,B3896),IF(D3896<6,0,COUNTIF(B3896:$B$4018,B3896)))","v":0},1,{"$f":"IF(ISERROR(VLOOKUP(A3896,Feriados!A:A,1,FALSE)),\"n\",VLOOKUP(A3896,Feriados!A:A,1,FALSE))","v":"n"}]
[48457,2681,{"$f":"IF(E3897<>\"n\",COUNTIF(B3897:$B$4018,B3897),IF(D3897<6,0,COUNTIF(B3897:$B$4018,B3897)))","v":0},2,{"$f":"IF(ISERROR(VLOOKUP(A3897,Feriados!A:A,1,FALSE)),\"n\",VLOOKUP(A3897,Feriados!A:A,1,FALSE))","v":"n"}]
[48458,2682,{"$f":"IF(E3898<>\"n\",COUNTIF(B3898:$B$4018,B3898),IF(D3898<6,0,COUNTIF(B3898:$B$4018,B3898)))","v":0},3,{"$f":"IF(ISERROR(VLOOKUP(A3898,Feriados!A:A,1,FALSE)),\"n\",VLOOKUP(A3898,Feriados!A:A,1,FALSE))","v":"n"}]
[48459,2683,{"$f":"IF(E3899<>\"n\",COUNTIF(B3899:$B$4018,B3899),IF(D3899<6,0,COUNTIF(B3899:$B$4018,B3899)))","v":0},4,{"$f":"IF(ISERROR(VLOOKUP(A3899,Feriados!A:A,1,FALSE)),\"n\",VLOOKUP(A3899,Feriados!A:A,1,FALSE))","v":"n"}]
[48460,2684,{"$f":"IF(E3900<>\"n\",COUNTIF(B3900:$B$4018,B3900),IF(D3900<6,0,COUNTIF(B3900:$B$4018,B3900)))","v":0},5,{"$f":"IF(ISERROR(VLOOKUP(A3900,Feriados!A:A,1,FALSE)),\"n\",VLOOKUP(A3900,Feriados!A:A,1,FALSE))","v":"n"}]
[48461,2684,{"$f":"IF(E3901<>\"n\",COUNTIF(B3901:$B$4018,B3901),IF(D3901<6,0,COUNTIF(B3901:$B$4018,B3901)))","v":2},6,{"$f":"IF(ISERROR(VLOOKUP(A3901,Feriados!A:A,1,FALSE)),\"n\",VLOOKUP(A3901,Feriados!A:A,1,FALSE))","v":"n"}]
[48462,2684,{"$f":"IF(E3902<>\"n\",COUNTIF(B3902:$B$4018,B3902),IF(D3902<6,0,COUNTIF(B3902:$B$4018,B3902)))","v":1},7,{"$f":"IF(ISERROR(VLOOKUP(A3902,Feriados!A:A,1,FALSE)),\"n\",VLOOKUP(A3902,Feriados!A:A,1,FALSE))","v":"n"}]
[48463,2685,{"$f":"IF(E3903<>\"n\",COUNTIF(B3903:$B$4018,B3903),IF(D3903<6,0,COUNTIF(B3903:$B$4018,B3903)))","v":0},1,{"$f":"IF(ISERROR(VLOOKUP(A3903,Feriados!A:A,1,FALSE)),\"n\",VLOOKUP(A3903,Feriados!A:A,1,FALSE))","v":"n"}]
[48464,2685,{"$f":"IF(E3904<>\"n\",COUNTIF(B3904:$B$4018,B3904),IF(D3904<6,0,COUNTIF(B3904:$B$4018,B3904)))","v":1},2,{"$f":"IF(ISERROR(VLOOKUP(A3904,Feriados!A:A,1,FALSE)),\"n\",VLOOKUP(A3904,Feriados!A:A,1,FALSE))","v":"2032-09-07"}]
[48465,2686,{"$f":"IF(E3905<>\"n\",COUNTIF(B3905:$B$4018,B3905),IF(D3905<6,0,COUNTIF(B3905:$B$4018,B3905)))","v":0},3,{"$f":"IF(ISERROR(VLOOKUP(A3905,Feriados!A:A,1,FALSE)),\"n\",VLOOKUP(A3905,Feriados!A:A,1,FALSE))","v":"n"}]
[48466,2687,{"$f":"IF(E3906<>\"n\",COUNTIF(B3906:$B$4018,B3906),IF(D3906<6,0,COUNTIF(B3906:$B$4018,B3906)))","v":0},4,{"$f":"IF(ISERROR(VLOOKUP(A3906,Feriados!A:A,1,FALSE)),\"n\",VLOOKUP(A3906,Feriados!A:A,1,FALSE))","v":"n"}]
[48467,2688,{"$f":"IF(E3907<>\"n\",COUNTIF(B3907:$B$4018,B3907),IF(D3907<6,0,COUNTIF(B3907:$B$4018,B3907)))","v":0},5,{"$f":"IF(ISERROR(VLOOKUP(A3907,Feriados!A:A,1,FALSE)),\"n\",VLOOKUP(A3907,Feriados!A:A,1,FALSE))","v":"n"}]
[{"$f":"A3907+1","v":48468},2688,{"$f":"IF(E3908<>\"n\",COUNTIF(B3908:$B$4018,B3908),IF(D3908<6,0,COUNTIF(B3908:$B$4018,B3908)))","v":2},6,{"$f":"IF(ISERROR(VLOOKUP(A3908,Feriados!A:A,1,FALSE)),\"n\",VLOOKUP(A3908,Feriados!A:A,1,FALSE))","v":"n"}]
[48469,2688,{"$f":"IF(E3909<>\"n\",COUNTIF(B3909:$B$4018,B3909),IF(D3909<6,0,COUNTIF(B3909:$B$4018,B3909)))","v":1},7,{"$f":"IF(ISERROR(VLOOKUP(A3909,Feriados!A:A,1,FALSE)),\"n\",VLOOKUP(A3909,Feriados!A:A,1,FALSE))","v":"n"}]
[48470,2689,{"$f":"IF(E3910<>\"n\",COUNTIF(B3910:$B$4018,B3910),IF(D3910<6,0,COUNTIF(B3910:$B$4018,B3910)))","v":0},1,{"$f":"IF(ISERROR(VLOOKUP(A3910,Feriados!A:A,1,FALSE)),\"n\",VLOOKUP(A3910,Feriados!A:A,1,FALSE))","v":"n"}]
[48471,2690,{"$f":"IF(E3911<>\"n\",COUNTIF(B3911:$B$4018,B3911),IF(D3911<6,0,COUNTIF(B3911:$B$4018,B3911)))","v":0},2,{"$f":"IF(ISERROR(VLOOKUP(A3911,Feriados!A:A,1,FALSE)),\"n\",VLOOKUP(A3911,Feriados!A:A,1,FALSE))","v":"n"}]
[48472,2691,{"$f":"IF(E3912<>\"n\",COUNTIF(B3912:$B$4018,B3912),IF(D3912<6,0,COUNTIF(B3912:$B$4018,B3912)))","v":0},3,{"$f":"IF(ISERROR(VLOOKUP(A3912,Feriados!A:A,1,FALSE)),\"n\",VLOOKUP(A3912,Feriados!A:A,1,FALSE))","v":"n"}]
[48473,2692,{"$f":"IF(E3913<>\"n\",COUNTIF(B3913:$B$4018,B3913),IF(D3913<6,0,COUNTIF(B3913:$B$4018,B3913)))","v":0},4,{"$f":"IF(ISERROR(VLOOKUP(A3913,Feriados!A:A,1,FALSE)),\"n\",VLOOKUP(A3913,Feriados!A:A,1,FALSE))","v":"n"}]
[48474,2693,{"$f":"IF(E3914<>\"n\",COUNTIF(B3914:$B$4018,B3914),IF(D3914<6,0,COUNTIF(B3914:$B$4018,B3914)))","v":0},5,{"$f":"IF(ISERROR(VLOOKUP(A3914,Feriados!A:A,1,FALSE)),\"n\",VLOOKUP(A3914,Feriados!A:A,1,FALSE))","v":"n"}]
[48475,2693,{"$f":"IF(E3915<>\"n\",COUNTIF(B3915:$B$4018,B3915),IF(D3915<6,0,COUNTIF(B3915:$B$4018,B3915)))","v":2},6,{"$f":"IF(ISERROR(VLOOKUP(A3915,Feriados!A:A,1,FALSE)),\"n\",VLOOKUP(A3915,Feriados!A:A,1,FALSE))","v":"n"}]
[48476,2693,{"$f":"IF(E3916<>\"n\",COUNTIF(B3916:$B$4018,B3916),IF(D3916<6,0,COUNTIF(B3916:$B$4018,B3916)))","v":1},7,{"$f":"IF(ISERROR(VLOOKUP(A3916,Feriados!A:A,1,FALSE)),\"n\",VLOOKUP(A3916,Feriados!A:A,1,FALSE))","v":"n"}]
[48477,2694,{"$f":"IF(E3917<>\"n\",COUNTIF(B3917:$B$4018,B3917),IF(D3917<6,0,COUNTIF(B3917:$B$4018,B3917)))","v":0},1,{"$f":"IF(ISERROR(VLOOKUP(A3917,Feriados!A:A,1,FALSE)),\"n\",VLOOKUP(A3917,Feriados!A:A,1,FALSE))","v":"n"}]
[48478,2695,{"$f":"IF(E3918<>\"n\",COUNTIF(B3918:$B$4018,B3918),IF(D3918<6,0,COUNTIF(B3918:$B$4018,B3918)))","v":0},2,{"$f":"IF(ISERROR(VLOOKUP(A3918,Feriados!A:A,1,FALSE)),\"n\",VLOOKUP(A3918,Feriados!A:A,1,FALSE))","v":"n"}]
[48479,2696,{"$f":"IF(E3919<>\"n\",COUNTIF(B3919:$B$4018,B3919),IF(D3919<6,0,COUNTIF(B3919:$B$4018,B3919)))","v":0},3,{"$f":"IF(ISERROR(VLOOKUP(A3919,Feriados!A:A,1,FALSE)),\"n\",VLOOKUP(A3919,Feriados!A:A,1,FALSE))","v":"n"}]
[48480,2697,{"$f":"IF(E3920<>\"n\",COUNTIF(B3920:$B$4018,B3920),IF(D3920<6,0,COUNTIF(B3920:$B$4018,B3920)))","v":0},4,{"$f":"IF(ISERROR(VLOOKUP(A3920,Feriados!A:A,1,FALSE)),\"n\",VLOOKUP(A3920,Feriados!A:A,1,FALSE))","v":"n"}]
[48481,2698,{"$f":"IF(E3921<>\"n\",COUNTIF(B3921:$B$4018,B3921),IF(D3921<6,0,COUNTIF(B3921:$B$4018,B3921)))","v":0},5,{"$f":"IF(ISERROR(VLOOKUP(A3921,Feriados!A:A,1,FALSE)),\"n\",VLOOKUP(A3921,Feriados!A:A,1,FALSE))","v":"n"}]
[48482,2698,{"$f":"IF(E3922<>\"n\",COUNTIF(B3922:$B$4018,B3922),IF(D3922<6,0,COUNTIF(B3922:$B$4018,B3922)))","v":2},6,{"$f":"IF(ISERROR(VLOOKUP(A3922,Feriados!A:A,1,FALSE)),\"n\",VLOOKUP(A3922,Feriados!A:A,1,FALSE))","v":"n"}]
[48483,2698,{"$f":"IF(E3923<>\"n\",COUNTIF(B3923:$B$4018,B3923),IF(D3923<6,0,COUNTIF(B3923:$B$4018,B3923)))","v":1},7,{"$f":"IF(ISERROR(VLOOKUP(A3923,Feriados!A:A,1,FALSE)),\"n\",VLOOKUP(A3923,Feriados!A:A,1,FALSE))","v":"n"}]
[48484,2699,{"$f":"IF(E3924<>\"n\",COUNTIF(B3924:$B$4018,B3924),IF(D3924<6,0,COUNTIF(B3924:$B$4018,B3924)))","v":0},1,{"$f":"IF(ISERROR(VLOOKUP(A3924,Feriados!A:A,1,FALSE)),\"n\",VLOOKUP(A3924,Feriados!A:A,1,FALSE))","v":"n"}]
[48485,2700,{"$f":"IF(E3925<>\"n\",COUNTIF(B3925:$B$4018,B3925),IF(D3925<6,0,COUNTIF(B3925:$B$4018,B3925)))","v":0},2,{"$f":"IF(ISERROR(VLOOKUP(A3925,Feriados!A:A,1,FALSE)),\"n\",VLOOKUP(A3925,Feriados!A:A,1,FALSE))","v":"n"}]
[48486,2701,{"$f":"IF(E3926<>\"n\",COUNTIF(B3926:$B$4018,B3926),IF(D3926<6,0,COUNTIF(B3926:$B$4018,B3926)))","v":0},3,{"$f":"IF(ISERROR(VLOOKUP(A3926,Feriados!A:A,1,FALSE)),\"n\",VLOOKUP(A3926,Feriados!A:A,1,FALSE))","v":"n"}]
[48487,2702,{"$f":"IF(E3927<>\"n\",COUNTIF(B3927:$B$4018,B3927),IF(D3927<6,0,COUNTIF(B3927:$B$4018,B3927)))","v":0},4,{"$f":"IF(ISERROR(VLOOKUP(A3927,Feriados!A:A,1,FALSE)),\"n\",VLOOKUP(A3927,Feriados!A:A,1,FALSE))","v":"n"}]
[48488,2703,{"$f":"IF(E3928<>\"n\",COUNTIF(B3928:$B$4018,B3928),IF(D3928<6,0,COUNTIF(B3928:$B$4018,B3928)))","v":0},5,{"$f":"IF(ISERROR(VLOOKUP(A3928,Feriados!A:A,1,FALSE)),\"n\",VLOOKUP(A3928,Feriados!A:A,1,FALSE))","v":"n"}]
[48489,2703,{"$f":"IF(E3929<>\"n\",COUNTIF(B3929:$B$4018,B3929),IF(D3929<6,0,COUNTIF(B3929:$B$4018,B3929)))","v":2},6,{"$f":"IF(ISERROR(VLOOKUP(A3929,Feriados!A:A,1,FALSE)),\"n\",VLOOKUP(A3929,Feriados!A:A,1,FALSE))","v":"n"}]
[48490,2703,{"$f":"IF(E3930<>\"n\",COUNTIF(B3930:$B$4018,B3930),IF(D3930<6,0,COUNTIF(B3930:$B$4018,B3930)))","v":1},7,{"$f":"IF(ISERROR(VLOOKUP(A3930,Feriados!A:A,1,FALSE)),\"n\",VLOOKUP(A3930,Feriados!A:A,1,FALSE))","v":"n"}]
[48491,2704,{"$f":"IF(E3931<>\"n\",COUNTIF(B3931:$B$4018,B3931),IF(D3931<6,0,COUNTIF(B3931:$B$4018,B3931)))","v":0},1,{"$f":"IF(ISERROR(VLOOKUP(A3931,Feriados!A:A,1,FALSE)),\"n\",VLOOKUP(A3931,Feriados!A:A,1,FALSE))","v":"n"}]
[48492,2705,{"$f":"IF(E3932<>\"n\",COUNTIF(B3932:$B$4018,B3932),IF(D3932<6,0,COUNTIF(B3932:$B$4018,B3932)))","v":0},2,{"$f":"IF(ISERROR(VLOOKUP(A3932,Feriados!A:A,1,FALSE)),\"n\",VLOOKUP(A3932,Feriados!A:A,1,FALSE))","v":"n"}]
[48493,2706,{"$f":"IF(E3933<>\"n\",COUNTIF(B3933:$B$4018,B3933),IF(D3933<6,0,COUNTIF(B3933:$B$4018,B3933)))","v":0},3,{"$f":"IF(ISERROR(VLOOKUP(A3933,Feriados!A:A,1,FALSE)),\"n\",VLOOKUP(A3933,Feriados!A:A,1,FALSE))","v":"n"}]
[48494,{"$f":"NETWORKDAYS($A$2,A3934,feriados)","v":2707},{"$f":"IF(E3934<>\"n\",COUNTIF(B3934:$B$4018,B3934),IF(D3934<6,0,COUNTIF(B3934:$B$4018,B3934)))","v":0},{"$f":"WEEKDAY(A3934,2)","v":4},{"$f":"IF(ISERROR(VLOOKUP(A3934,Feriados!A:A,1,FALSE)),\"n\",VLOOKUP(A3934,Feriados!A:A,1,FALSE))","v":"n"}]
[48495,2708,{"$f":"IF(E3935<>\"n\",COUNTIF(B3935:$B$4018,B3935),IF(D3935<6,0,COUNTIF(B3935:$B$4018,B3935)))","v":0},5,{"$f":"IF(ISERROR(VLOOKUP(A3935,Feriados!A:A,1,FALSE)),\"n\",VLOOKUP(A3935,Feriados!A:A,1,FALSE))","v":"n"}]
[48496,2708,{"$f":"IF(E3936<>\"n\",COUNTIF(B3936:$B$4018,B3936),IF(D3936<6,0,COUNTIF(B3936:$B$4018,B3936)))","v":2},6,{"$f":"IF(ISERROR(VLOOKUP(A3936,Feriados!A:A,1,FALSE)),\"n\",VLOOKUP(A3936,Feriados!A:A,1,FALSE))","v":"n"}]
[48497,2708,{"$f":"IF(E3937<>\"n\",COUNTIF(B3937:$B$4018,B3937),IF(D3937<6,0,COUNTIF(B3937:$B$4018,B3937)))","v":1},7,{"$f":"IF(ISERROR(VLOOKUP(A3937,Feriados!A:A,1,FALSE)),\"n\",VLOOKUP(A3937,Feriados!A:A,1,FALSE))","v":"n"}]
[48498,2709,{"$f":"IF(E3938<>\"n\",COUNTIF(B3938:$B$4018,B3938),IF(D3938<6,0,COUNTIF(B3938:$B$4018,B3938)))","v":0},1,{"$f":"IF(ISERROR(VLOOKUP(A3938,Feriados!A:A,1,FALSE)),\"n\",VLOOKUP(A3938,Feriados!A:A,1,FALSE))","v":"n"}]
[48499,2709,{"$f":"IF(E3939<>\"n\",COUNTIF(B3939:$B$4018,B3939),IF(D3939<6,0,COUNTIF(B3939:$B$4018,B3939)))","v":1},2,{"$f":"IF(ISERROR(VLOOKUP(A3939,Feriados!A:A,1,FALSE)),\"n\",VLOOKUP(A3939,Feriados!A:A,1,FALSE))","v":"2032-10-12"}]
[48500,2710,{"$f":"IF(E3940<>\"n\",COUNTIF(B3940:$B$4018,B3940),IF(D3940<6,0,COUNTIF(B3940:$B$4018,B3940)))","v":0},3,{"$f":"IF(ISERROR(VLOOKUP(A3940,Feriados!A:A,1,FALSE)),\"n\",VLOOKUP(A3940,Feriados!A:A,1,FALSE))","v":"n"}]
[48501,2711,{"$f":"IF(E3941<>\"n\",COUNTIF(B3941:$B$4018,B3941),IF(D3941<6,0,COUNTIF(B3941:$B$4018,B3941)))","v":0},4,{"$f":"IF(ISERROR(VLOOKUP(A3941,Feriados!A:A,1,FALSE)),\"n\",VLOOKUP(A3941,Feriados!A:A,1,FALSE))","v":"n"}]
[48502,2712,{"$f":"IF(E3942<>\"n\",COUNTIF(B3942:$B$4018,B3942),IF(D3942<6,0,COUNTIF(B3942:$B$4018,B3942)))","v":0},5,{"$f":"IF(ISERROR(VLOOKUP(A3942,Feriados!A:A,1,FALSE)),\"n\",VLOOKUP(A3942,Feriados!A:A,1,FALSE))","v":"n"}]
[48503,2712,{"$f":"IF(E3943<>\"n\",COUNTIF(B3943:$B$4018,B3943),IF(D3943<6,0,COUNTIF(B3943:$B$4018,B3943)))","v":2},6,{"$f":"IF(ISERROR(VLOOKUP(A3943,Feriados!A:A,1,FALSE)),\"n\",VLOOKUP(A3943,Feriados!A:A,1,FALSE))","v":"n"}]
[48504,2712,{"$f":"IF(E3944<>\"n\",COUNTIF(B3944:$B$4018,B3944),IF(D3944<6,0,COUNTIF(B3944:$B$4018,B3944)))","v":1},7,{"$f":"IF(ISERROR(VLOOKUP(A3944,Feriados!A:A,1,FALSE)),\"n\",VLOOKUP(A3944,Feriados!A:A,1,FALSE))","v":"n"}]
[48505,2713,{"$f":"IF(E3945<>\"n\",COUNTIF(B3945:$B$4018,B3945),IF(D3945<6,0,COUNTIF(B3945:$B$4018,B3945)))","v":0},1,{"$f":"IF(ISERROR(VLOOKUP(A3945,Feriados!A:A,1,FALSE)),\"n\",VLOOKUP(A3945,Feriados!A:A,1,FALSE))","v":"n"}]
[48506,2714,{"$f":"IF(E3946<>\"n\",COUNTIF(B3946:$B$4018,B3946),IF(D3946<6,0,COUNTIF(B3946:$B$4018,B3946)))","v":0},2,{"$f":"IF(ISERROR(VLOOKUP(A3946,Feriados!A:A,1,FALSE)),\"n\",VLOOKUP(A3946,Feriados!A:A,1,FALSE))","v":"n"}]
[48507,2715,{"$f":"IF(E3947<>\"n\",COUNTIF(B3947:$B$4018,B3947),IF(D3947<6,0,COUNTIF(B3947:$B$4018,B3947)))","v":0},3,{"$f":"IF(ISERROR(VLOOKUP(A3947,Feriados!A:A,1,FALSE)),\"n\",VLOOKUP(A3947,Feriados!A:A,1,FALSE))","v":"n"}]
[48508,2716,{"$f":"IF(E3948<>\"n\",COUNTIF(B3948:$B$4018,B3948),IF(D3948<6,0,COUNTIF(B3948:$B$4018,B3948)))","v":0},4,{"$f":"IF(ISERROR(VLOOKUP(A3948,Feriados!A:A,1,FALSE)),\"n\",VLOOKUP(A3948,Feriados!A:A,1,FALSE))","v":"n"}]
[48509,2717,{"$f":"IF(E3949<>\"n\",COUNTIF(B3949:$B$4018,B3949),IF(D3949<6,0,COUNTIF(B3949:$B$4018,B3949)))","v":0},5,{"$f":"IF(ISERROR(VLOOKUP(A3949,Feriados!A:A,1,FALSE)),\"n\",VLOOKUP(A3949,Feriados!A:A,1,FALSE))","v":"n"}]
[48510,2717,{"$f":"IF(E3950<>\"n\",COUNTIF(B3950:$B$4018,B3950),IF(D3950<6,0,COUNTIF(B3950:$B$4018,B3950)))","v":2},6,{"$f":"IF(ISERROR(VLOOKUP(A3950,Feriados!A:A,1,FALSE)),\"n\",VLOOKUP(A3950,Feriados!A:A,1,FALSE))","v":"n"}]
[48511,2717,{"$f":"IF(E3951<>\"n\",COUNTIF(B3951:$B$4018,B3951),IF(D3951<6,0,COUNTIF(B3951:$B$4018,B3951)))","v":1},7,{"$f":"IF(ISERROR(VLOOKUP(A3951,Feriados!A:A,1,FALSE)),\"n\",VLOOKUP(A3951,Feriados!A:A,1,FALSE))","v":"n"}]
[48512,2718,{"$f":"IF(E3952<>\"n\",COUNTIF(B3952:$B$4018,B3952),IF(D3952<6,0,COUNTIF(B3952:$B$4018,B3952)))","v":0},1,{"$f":"IF(ISERROR(VLOOKUP(A3952,Feriados!A:A,1,FALSE)),\"n\",VLOOKUP(A3952,Feriados!A:A,1,FALSE))","v":"n"}]
[48513,2719,{"$f":"IF(E3953<>\"n\",COUNTIF(B3953:$B$4018,B3953),IF(D3953<6,0,COUNTIF(B3953:$B$4018,B3953)))","v":0},2,{"$f":"IF(ISERROR(VLOOKUP(A3953,Feriados!A:A,1,FALSE)),\"n\",VLOOKUP(A3953,Feriados!A:A,1,FALSE))","v":"n"}]
[48514,2720,{"$f":"IF(E3954<>\"n\",COUNTIF(B3954:$B$4018,B3954),IF(D3954<6,0,COUNTIF(B3954:$B$4018,B3954)))","v":0},3,{"$f":"IF(ISERROR(VLOOKUP(A3954,Feriados!A:A,1,FALSE)),\"n\",VLOOKUP(A3954,Feriados!A:A,1,FALSE))","v":"n"}]
[48515,2721,{"$f":"IF(E3955<>\"n\",COUNTIF(B3955:$B$4018,B3955),IF(D3955<6,0,COUNTIF(B3955:$B$4018,B3955)))","v":0},4,{"$f":"IF(ISERROR(VLOOKUP(A3955,Feriados!A:A,1,FALSE)),\"n\",VLOOKUP(A3955,Feriados!A:A,1,FALSE))","v":"n"}]
[48516,2722,{"$f":"IF(E3956<>\"n\",COUNTIF(B3956:$B$4018,B3956),IF(D3956<6,0,COUNTIF(B3956:$B$4018,B3956)))","v":0},5,{"$f":"IF(ISERROR(VLOOKUP(A3956,Feriados!A:A,1,FALSE)),\"n\",VLOOKUP(A3956,Feriados!A:A,1,FALSE))","v":"n"}]
[48517,2722,{"$f":"IF(E3957<>\"n\",COUNTIF(B3957:$B$4018,B3957),IF(D3957<6,0,COUNTIF(B3957:$B$4018,B3957)))","v":2},6,{"$f":"IF(ISERROR(VLOOKUP(A3957,Feriados!A:A,1,FALSE)),\"n\",VLOOKUP(A3957,Feriados!A:A,1,FALSE))","v":"n"}]
[48518,2722,{"$f":"IF(E3958<>\"n\",COUNTIF(B3958:$B$4018,B3958),IF(D3958<6,0,COUNTIF(B3958:$B$4018,B3958)))","v":1},7,{"$f":"IF(ISERROR(VLOOKUP(A3958,Feriados!A:A,1,FALSE)),\"n\",VLOOKUP(A3958,Feriados!A:A,1,FALSE))","v":"n"}]
[48519,2723,{"$f":"IF(E3959<>\"n\",COUNTIF(B3959:$B$4018,B3959),IF(D3959<6,0,COUNTIF(B3959:$B$4018,B3959)))","v":0},1,{"$f":"IF(ISERROR(VLOOKUP(A3959,Feriados!A:A,1,FALSE)),\"n\",VLOOKUP(A3959,Feriados!A:A,1,FALSE))","v":"n"}]
[48520,2723,{"$f":"IF(E3960<>\"n\",COUNTIF(B3960:$B$4018,B3960),IF(D3960<6,0,COUNTIF(B3960:$B$4018,B3960)))","v":1},2,{"$f":"IF(ISERROR(VLOOKUP(A3960,Feriados!A:A,1,FALSE)),\"n\",VLOOKUP(A3960,Feriados!A:A,1,FALSE))","v":"2032-11-02"}]
[48521,2724,{"$f":"IF(E3961<>\"n\",COUNTIF(B3961:$B$4018,B3961),IF(D3961<6,0,COUNTIF(B3961:$B$4018,B3961)))","v":0},3,{"$f":"IF(ISERROR(VLOOKUP(A3961,Feriados!A:A,1,FALSE)),\"n\",VLOOKUP(A3961,Feriados!A:A,1,FALSE))","v":"n"}]
[48522,2725,{"$f":"IF(E3962<>\"n\",COUNTIF(B3962:$B$4018,B3962),IF(D3962<6,0,COUNTIF(B3962:$B$4018,B3962)))","v":0},4,{"$f":"IF(ISERROR(VLOOKUP(A3962,Feriados!A:A,1,FALSE)),\"n\",VLOOKUP(A3962,Feriados!A:A,1,FALSE))","v":"n"}]
[48523,2726,{"$f":"IF(E3963<>\"n\",COUNTIF(B3963:$B$4018,B3963),IF(D3963<6,0,COUNTIF(B3963:$B$4018,B3963)))","v":0},5,{"$f":"IF(ISERROR(VLOOKUP(A3963,Feriados!A:A,1,FALSE)),\"n\",VLOOKUP(A3963,Feriados!A:A,1,FALSE))","v":"n"}]
[48524,2726,{"$f":"IF(E3964<>\"n\",COUNTIF(B3964:$B$4018,B3964),IF(D3964<6,0,COUNTIF(B3964:$B$4018,B3964)))","v":2},6,{"$f":"IF(ISERROR(VLOOKUP(A3964,Feriados!A:A,1,FALSE)),\"n\",VLOOKUP(A3964,Feriados!A:A,1,FALSE))","v":"n"}]
[48525,2726,{"$f":"IF(E3965<>\"n\",COUNTIF(B3965:$B$4018,B3965),IF(D3965<6,0,COUNTIF(B3965:$B$4018,B3965)))","v":1},7,{"$f":"IF(ISERROR(VLOOKUP(A3965,Feriados!A:A,1,FALSE)),\"n\",VLOOKUP(A3965,Feriados!A:A,1,FALSE))","v":"n"}]
[48526,2727,{"$f":"IF(E3966<>\"n\",COUNTIF(B3966:$B$4018,B3966),IF(D3966<6,0,COUNTIF(B3966:$B$4018,B3966)))","v":0},1,{"$f":"IF(ISERROR(VLOOKUP(A3966,Feriados!A:A,1,FALSE)),\"n\",VLOOKUP(A3966,Feriados!A:A,1,FALSE))","v":"n"}]
[48527,2728,{"$f":"IF(E3967<>\"n\",COUNTIF(B3967:$B$4018,B3967),IF(D3967<6,0,COUNTIF(B3967:$B$4018,B3967)))","v":0},2,{"$f":"IF(ISERROR(VLOOKUP(A3967,Feriados!A:A,1,FALSE)),\"n\",VLOOKUP(A3967,Feriados!A:A,1,FALSE))","v":"n"}]
[48528,2729,{"$f":"IF(E3968<>\"n\",COUNTIF(B3968:$B$4018,B3968),IF(D3968<6,0,COUNTIF(B3968:$B$4018,B3968)))","v":0},3,{"$f":"IF(ISERROR(VLOOKUP(A3968,Feriados!A:A,1,FALSE)),\"n\",VLOOKUP(A3968,Feriados!A:A,1,FALSE))","v":"n"}]
[48529,2730,{"$f":"IF(E3969<>\"n\",COUNTIF(B3969:$B$4018,B3969),IF(D3969<6,0,COUNTIF(B3969:$B$4018,B3969)))","v":0},4,{"$f":"IF(ISERROR(VLOOKUP(A3969,Feriados!A:A,1,FALSE)),\"n\",VLOOKUP(A3969,Feriados!A:A,1,FALSE))","v":"n"}]
[48530,2731,{"$f":"IF(E3970<>\"n\",COUNTIF(B3970:$B$4018,B3970),IF(D3970<6,0,COUNTIF(B3970:$B$4018,B3970)))","v":0},5,{"$f":"IF(ISERROR(VLOOKUP(A3970,Feriados!A:A,1,FALSE)),\"n\",VLOOKUP(A3970,Feriados!A:A,1,FALSE))","v":"n"}]
[48531,2731,{"$f":"IF(E3971<>\"n\",COUNTIF(B3971:$B$4018,B3971),IF(D3971<6,0,COUNTIF(B3971:$B$4018,B3971)))","v":3},6,{"$f":"IF(ISERROR(VLOOKUP(A3971,Feriados!A:A,1,FALSE)),\"n\",VLOOKUP(A3971,Feriados!A:A,1,FALSE))","v":"n"}]
[{"$f":"A3971+1","v":48532},2731,{"$f":"IF(E3972<>\"n\",COUNTIF(B3972:$B$4018,B3972),IF(D3972<6,0,COUNTIF(B3972:$B$4018,B3972)))","v":2},7,{"$f":"IF(ISERROR(VLOOKUP(A3972,Feriados!A:A,1,FALSE)),\"n\",VLOOKUP(A3972,Feriados!A:A,1,FALSE))","v":"n"}]
[48533,2731,{"$f":"IF(E3973<>\"n\",COUNTIF(B3973:$B$4018,B3973),IF(D3973<6,0,COUNTIF(B3973:$B$4018,B3973)))","v":1},1,{"$f":"IF(ISERROR(VLOOKUP(A3973,Feriados!A:A,1,FALSE)),\"n\",VLOOKUP(A3973,Feriados!A:A,1,FALSE))","v":"2032-11-15"}]
[48534,2732,{"$f":"IF(E3974<>\"n\",COUNTIF(B3974:$B$4018,B3974),IF(D3974<6,0,COUNTIF(B3974:$B$4018,B3974)))","v":0},2,{"$f":"IF(ISERROR(VLOOKUP(A3974,Feriados!A:A,1,FALSE)),\"n\",VLOOKUP(A3974,Feriados!A:A,1,FALSE))","v":"n"}]
[48535,2733,{"$f":"IF(E3975<>\"n\",COUNTIF(B3975:$B$4018,B3975),IF(D3975<6,0,COUNTIF(B3975:$B$4018,B3975)))","v":0},3,{"$f":"IF(ISERROR(VLOOKUP(A3975,Feriados!A:A,1,FALSE)),\"n\",VLOOKUP(A3975,Feriados!A:A,1,FALSE))","v":"n"}]
[48536,2734,{"$f":"IF(E3976<>\"n\",COUNTIF(B3976:$B$4018,B3976),IF(D3976<6,0,COUNTIF(B3976:$B$4018,B3976)))","v":0},4,{"$f":"IF(ISERROR(VLOOKUP(A3976,Feriados!A:A,1,FALSE)),\"n\",VLOOKUP(A3976,Feriados!A:A,1,FALSE))","v":"n"}]
[48537,2735,{"$f":"IF(E3977<>\"n\",COUNTIF(B3977:$B$4018,B3977),IF(D3977<6,0,COUNTIF(B3977:$B$4018,B3977)))","v":0},5,{"$f":"IF(ISERROR(VLOOKUP(A3977,Feriados!A:A,1,FALSE)),\"n\",VLOOKUP(A3977,Feriados!A:A,1,FALSE))","v":"n"}]
[48538,2735,{"$f":"IF(E3978<>\"n\",COUNTIF(B3978:$B$4018,B3978),IF(D3978<6,0,COUNTIF(B3978:$B$4018,B3978)))","v":2},6,{"$f":"IF(ISERROR(VLOOKUP(A3978,Feriados!A:A,1,FALSE)),\"n\",VLOOKUP(A3978,Feriados!A:A,1,FALSE))","v":"n"}]
[48539,2735,{"$f":"IF(E3979<>\"n\",COUNTIF(B3979:$B$4018,B3979),IF(D3979<6,0,COUNTIF(B3979:$B$4018,B3979)))","v":1},7,{"$f":"IF(ISERROR(VLOOKUP(A3979,Feriados!A:A,1,FALSE)),\"n\",VLOOKUP(A3979,Feriados!A:A,1,FALSE))","v":"n"}]
[48540,2736,{"$f":"IF(E3980<>\"n\",COUNTIF(B3980:$B$4018,B3980),IF(D3980<6,0,COUNTIF(B3980:$B$4018,B3980)))","v":0},1,{"$f":"IF(ISERROR(VLOOKUP(A3980,Feriados!A:A,1,FALSE)),\"n\",VLOOKUP(A3980,Feriados!A:A,1,FALSE))","v":"n"}]
[48541,2737,{"$f":"IF(E3981<>\"n\",COUNTIF(B3981:$B$4018,B3981),IF(D3981<6,0,COUNTIF(B3981:$B$4018,B3981)))","v":0},2,{"$f":"IF(ISERROR(VLOOKUP(A3981,Feriados!A:A,1,FALSE)),\"n\",VLOOKUP(A3981,Feriados!A:A,1,FALSE))","v":"n"}]
[48542,2738,{"$f":"IF(E3982<>\"n\",COUNTIF(B3982:$B$4018,B3982),IF(D3982<6,0,COUNTIF(B3982:$B$4018,B3982)))","v":0},3,{"$f":"IF(ISERROR(VLOOKUP(A3982,Feriados!A:A,1,FALSE)),\"n\",VLOOKUP(A3982,Feriados!A:A,1,FALSE))","v":"n"}]
[48543,2739,{"$f":"IF(E3983<>\"n\",COUNTIF(B3983:$B$4018,B3983),IF(D3983<6,0,COUNTIF(B3983:$B$4018,B3983)))","v":0},4,{"$f":"IF(ISERROR(VLOOKUP(A3983,Feriados!A:A,1,FALSE)),\"n\",VLOOKUP(A3983,Feriados!A:A,1,FALSE))","v":"n"}]
[48544,2740,{"$f":"IF(E3984<>\"n\",COUNTIF(B3984:$B$4018,B3984),IF(D3984<6,0,COUNTIF(B3984:$B$4018,B3984)))","v":0},5,{"$f":"IF(ISERROR(VLOOKUP(A3984,Feriados!A:A,1,FALSE)),\"n\",VLOOKUP(A3984,Feriados!A:A,1,FALSE))","v":"n"}]
[48545,2740,{"$f":"IF(E3985<>\"n\",COUNTIF(B3985:$B$4018,B3985),IF(D3985<6,0,COUNTIF(B3985:$B$4018,B3985)))","v":2},6,{"$f":"IF(ISERROR(VLOOKUP(A3985,Feriados!A:A,1,FALSE)),\"n\",VLOOKUP(A3985,Feriados!A:A,1,FALSE))","v":"n"}]
[48546,2740,{"$f":"IF(E3986<>\"n\",COUNTIF(B3986:$B$4018,B3986),IF(D3986<6,0,COUNTIF(B3986:$B$4018,B3986)))","v":1},7,{"$f":"IF(ISERROR(VLOOKUP(A3986,Feriados!A:A,1,FALSE)),\"n\",VLOOKUP(A3986,Feriados!A:A,1,FALSE))","v":"n"}]
[48547,2741,{"$f":"IF(E3987<>\"n\",COUNTIF(B3987:$B$4018,B3987),IF(D3987<6,0,COUNTIF(B3987:$B$4018,B3987)))","v":0},1,{"$f":"IF(ISERROR(VLOOKUP(A3987,Feriados!A:A,1,FALSE)),\"n\",VLOOKUP(A3987,Feriados!A:A,1,FALSE))","v":"n"}]
[48548,2742,{"$f":"IF(E3988<>\"n\",COUNTIF(B3988:$B$4018,B3988),IF(D3988<6,0,COUNTIF(B3988:$B$4018,B3988)))","v":0},2,{"$f":"IF(ISERROR(VLOOKUP(A3988,Feriados!A:A,1,FALSE)),\"n\",VLOOKUP(A3988,Feriados!A:A,1,FALSE))","v":"n"}]
[48549,2743,{"$f":"IF(E3989<>\"n\",COUNTIF(B3989:$B$4018,B3989),IF(D3989<6,0,COUNTIF(B3989:$B$4018,B3989)))","v":0},3,{"$f":"IF(ISERROR(VLOOKUP(A3989,Feriados!A:A,1,FALSE)),\"n\",VLOOKUP(A3989,Feriados!A:A,1,FALSE))","v":"n"}]
[48550,2744,{"$f":"IF(E3990<>\"n\",COUNTIF(B3990:$B$4018,B3990),IF(D3990<6,0,COUNTIF(B3990:$B$4018,B3990)))","v":0},4,{"$f":"IF(ISERROR(VLOOKUP(A3990,Feriados!A:A,1,FALSE)),\"n\",VLOOKUP(A3990,Feriados!A:A,1,FALSE))","v":"n"}]
[48551,2745,{"$f":"IF(E3991<>\"n\",COUNTIF(B3991:$B$4018,B3991),IF(D3991<6,0,COUNTIF(B3991:$B$4018,B3991)))","v":0},5,{"$f":"IF(ISERROR(VLOOKUP(A3991,Feriados!A:A,1,FALSE)),\"n\",VLOOKUP(A3991,Feriados!A:A,1,FALSE))","v":"n"}]
[48552,2745,{"$f":"IF(E3992<>\"n\",COUNTIF(B3992:$B$4018,B3992),IF(D3992<6,0,COUNTIF(B3992:$B$4018,B3992)))","v":2},6,{"$f":"IF(ISERROR(VLOOKUP(A3992,Feriados!A:A,1,FALSE)),\"n\",VLOOKUP(A3992,Feriados!A:A,1,FALSE))","v":"n"}]
[48553,2745,{"$f":"IF(E3993<>\"n\",COUNTIF(B3993:$B$4018,B3993),IF(D3993<6,0,COUNTIF(B3993:$B$4018,B3993)))","v":1},7,{"$f":"IF(ISERROR(VLOOKUP(A3993,Feriados!A:A,1,FALSE)),\"n\",VLOOKUP(A3993,Feriados!A:A,1,FALSE))","v":"n"}]
[48554,2746,{"$f":"IF(E3994<>\"n\",COUNTIF(B3994:$B$4018,B3994),IF(D3994<6,0,COUNTIF(B3994:$B$4018,B3994)))","v":0},1,{"$f":"IF(ISERROR(VLOOKUP(A3994,Feriados!A:A,1,FALSE)),\"n\",VLOOKUP(A3994,Feriados!A:A,1,FALSE))","v":"n"}]
[48555,2747,{"$f":"IF(E3995<>\"n\",COUNTIF(B3995:$B$4018,B3995),IF(D3995<6,0,COUNTIF(B3995:$B$4018,B3995)))","v":0},2,{"$f":"IF(ISERROR(VLOOKUP(A3995,Feriados!A:A,1,FALSE)),\"n\",VLOOKUP(A3995,Feriados!A:A,1,FALSE))","v":"n"}]
[48556,2748,{"$f":"IF(E3996<>\"n\",COUNTIF(B3996:$B$4018,B3996),IF(D3996<6,0,COUNTIF(B3996:$B$4018,B3996)))","v":0},3,{"$f":"IF(ISERROR(VLOOKUP(A3996,Feriados!A:A,1,FALSE)),\"n\",VLOOKUP(A3996,Feriados!A:A,1,FALSE))","v":"n"}]
[48557,2749,{"$f":"IF(E3997<>\"n\",COUNTIF(B3997:$B$4018,B3997),IF(D3997<6,0,COUNTIF(B3997:$B$4018,B3997)))","v":0},4,{"$f":"IF(ISERROR(VLOOKUP(A3997,Feriados!A:A,1,FALSE)),\"n\",VLOOKUP(A3997,Feriados!A:A,1,FALSE))","v":"n"}]
[48558,{"$f":"NETWORKDAYS($A$2,A3998,feriados)","v":2750},{"$f":"IF(E3998<>\"n\",COUNTIF(B3998:$B$4018,B3998),IF(D3998<6,0,COUNTIF(B3998:$B$4018,B3998)))","v":0},{"$f":"WEEKDAY(A3998,2)","v":5},{"$f":"IF(ISERROR(VLOOKUP(A3998,Feriados!A:A,1,FALSE)),\"n\",VLOOKUP(A3998,Feriados!A:A,1,FALSE))","v":"n"}]
[48559,2750,{"$f":"IF(E3999<>\"n\",COUNTIF(B3999:$B$4018,B3999),IF(D3999<6,0,COUNTIF(B3999:$B$4018,B3999)))","v":2},6,{"$f":"IF(ISERROR(VLOOKUP(A3999,Feriados!A:A,1,FALSE)),\"n\",VLOOKUP(A3999,Feriados!A:A,1,FALSE))","v":"n"}]
[48560,2750,{"$f":"IF(E4000<>\"n\",COUNTIF(B4000:$B$4018,B4000),IF(D4000<6,0,COUNTIF(B4000:$B$4018,B4000)))","v":1},7,{"$f":"IF(ISERROR(VLOOKUP(A4000,Feriados!A:A,1,FALSE)),\"n\",VLOOKUP(A4000,Feriados!A:A,1,FALSE))","v":"n"}]
[48561,2751,{"$f":"IF(E4001<>\"n\",COUNTIF(B4001:$B$4018,B4001),IF(D4001<6,0,COUNTIF(B4001:$B$4018,B4001)))","v":0},1,{"$f":"IF(ISERROR(VLOOKUP(A4001,Feriados!A:A,1,FALSE)),\"n\",VLOOKUP(A4001,Feriados!A:A,1,FALSE))","v":"n"}]
[48562,2752,{"$f":"IF(E4002<>\"n\",COUNTIF(B4002:$B$4018,B4002),IF(D4002<6,0,COUNTIF(B4002:$B$4018,B4002)))","v":0},2,{"$f":"IF(ISERROR(VLOOKUP(A4002,Feriados!A:A,1,FALSE)),\"n\",VLOOKUP(A4002,Feriados!A:A,1,FALSE))","v":"n"}]
[48563,2753,{"$f":"IF(E4003<>\"n\",COUNTIF(B4003:$B$4018,B4003),IF(D4003<6,0,COUNTIF(B4003:$B$4018,B4003)))","v":0},3,{"$f":"IF(ISERROR(VLOOKUP(A4003,Feriados!A:A,1,FALSE)),\"n\",VLOOKUP(A4003,Feriados!A:A,1,FALSE))","v":"n"}]
[48564,2754,{"$f":"IF(E4004<>\"n\",COUNTIF(B4004:$B$4018,B4004),IF(D4004<6,0,COUNTIF(B4004:$B$4018,B4004)))","v":0},4,{"$f":"IF(ISERROR(VLOOKUP(A4004,Feriados!A:A,1,FALSE)),\"n\",VLOOKUP(A4004,Feriados!A:A,1,FALSE))","v":"n"}]
[48565,2755,{"$f":"IF(E4005<>\"n\",COUNTIF(B4005:$B$4018,B4005),IF(D4005<6,0,COUNTIF(B4005:$B$4018,B4005)))","v":0},5,{"$f":"IF(ISERROR(VLOOKUP(A4005,Feriados!A:A,1,FALSE)),\"n\",VLOOKUP(A4005,Feriados!A:A,1,FALSE))","v":"n"}]
[48566,2755,{"$f":"IF(E4006<>\"n\",COUNTIF(B4006:$B$4018,B4006),IF(D4006<6,0,COUNTIF(B4006:$B$4018,B4006)))","v":2},6,{"$f":"IF(ISERROR(VLOOKUP(A4006,Feriados!A:A,1,FALSE)),\"n\",VLOOKUP(A4006,Feriados!A:A,1,FALSE))","v":"n"}]
[48567,2755,{"$f":"IF(E4007<>\"n\",COUNTIF(B4007:$B$4018,B4007),IF(D4007<6,0,COUNTIF(B4007:$B$4018,B4007)))","v":1},7,{"$f":"IF(ISERROR(VLOOKUP(A4007,Feriados!A:A,1,FALSE)),\"n\",VLOOKUP(A4007,Feriados!A:A,1,FALSE))","v":"n"}]
[48568,2756,{"$f":"IF(E4008<>\"n\",COUNTIF(B4008:$B$4018,B4008),IF(D4008<6,0,COUNTIF(B4008:$B$4018,B4008)))","v":0},1,{"$f":"IF(ISERROR(VLOOKUP(A4008,Feriados!A:A,1,FALSE)),\"n\",VLOOKUP(A4008,Feriados!A:A,1,FALSE))","v":"n"}]
[48569,2757,{"$f":"IF(E4009<>\"n\",COUNTIF(B4009:$B$4018,B4009),IF(D4009<6,0,COUNTIF(B4009:$B$4018,B4009)))","v":0},2,{"$f":"IF(ISERROR(VLOOKUP(A4009,Feriados!A:A,1,FALSE)),\"n\",VLOOKUP(A4009,Feriados!A:A,1,FALSE))","v":"n"}]
[48570,2758,{"$f":"IF(E4010<>\"n\",COUNTIF(B4010:$B$4018,B4010),IF(D4010<6,0,COUNTIF(B4010:$B$4018,B4010)))","v":0},3,{"$f":"IF(ISERROR(VLOOKUP(A4010,Feriados!A:A,1,FALSE)),\"n\",VLOOKUP(A4010,Feriados!A:A,1,FALSE))","v":"n"}]
[48571,2759,{"$f":"IF(E4011<>\"n\",COUNTIF(B4011:$B$4018,B4011),IF(D4011<6,0,COUNTIF(B4011:$B$4018,B4011)))","v":0},4,{"$f":"IF(ISERROR(VLOOKUP(A4011,Feriados!A:A,1,FALSE)),\"n\",VLOOKUP(A4011,Feriados!A:A,1,FALSE))","v":"n"}]
[48572,2760,{"$f":"IF(E4012<>\"n\",COUNTIF(B4012:$B$4018,B4012),IF(D4012<6,0,COUNTIF(B4012:$B$4018,B4012)))","v":0},5,{"$f":"IF(ISERROR(VLOOKUP(A4012,Feriados!A:A,1,FALSE)),\"n\",VLOOKUP(A4012,Feriados!A:A,1,FALSE))","v":"n"}]
[48573,2760,{"$f":"IF(E4013<>\"n\",COUNTIF(B4013:$B$4018,B4013),IF(D4013<6,0,COUNTIF(B4013:$B$4018,B4013)))","v":2},6,{"$f":"IF(ISERROR(VLOOKUP(A4013,Feriados!A:A,1,FALSE)),\"n\",VLOOKUP(A4013,Feriados!A:A,1,FALSE))","v":"2032-12-25"}]
[48574,2760,{"$f":"IF(E4014<>\"n\",COUNTIF(B4014:$B$4018,B4014),IF(D4014<6,0,COUNTIF(B4014:$B$4018,B4014)))","v":1},7,{"$f":"IF(ISERROR(VLOOKUP(A4014,Feriados!A:A,1,FALSE)),\"n\",VLOOKUP(A4014,Feriados!A:A,1,FALSE))","v":"n"}]
[48575,2761,{"$f":"IF(E4015<>\"n\",COUNTIF(B4015:$B$4018,B4015),IF(D4015<6,0,COUNTIF(B4015:$B$4018,B4015)))","v":0},1,{"$f":"IF(ISERROR(VLOOKUP(A4015,Feriados!A:A,1,FALSE)),\"n\",VLOOKUP(A4015,Feriados!A:A,1,FALSE))","v":"n"}]
[48576,2762,{"$f":"IF(E4016<>\"n\",COUNTIF(B4016:$B$4018,B4016),IF(D4016<6,0,COUNTIF(B4016:$B$4018,B4016)))","v":0},2,{"$f":"IF(ISERROR(VLOOKUP(A4016,Feriados!A:A,1,FALSE)),\"n\",VLOOKUP(A4016,Feriados!A:A,1,FALSE))","v":"n"}]
[{"$f":"A4016+1","v":48577},{"$f":"NETWORKDAYS($A$2,A4017,feriados)","v":2763},{"$f":"IF(E4017<>\"n\",COUNTIF(B4017:$B$4018,B4017),IF(D4017<6,0,COUNTIF(B4017:$B$4018,B4017)))","v":0},{"$f":"WEEKDAY(A4017,2)","v":3},{"$f":"IF(ISERROR(VLOOKUP(A4017,Feriados!A:A,1,FALSE)),\"n\",VLOOKUP(A4017,Feriados!A:A,1,FALSE))","v":"n"}]
[48578,2764,{"$f":"IF(E4018<>\"n\",COUNTIF(B4018:$B$4018,B4018),IF(D4018<6,0,COUNTIF(B4018:$B$4018,B4018)))","v":0},4,{"$f":"IF(ISERROR(VLOOKUP(A4018,Feriados!A:A,1,FALSE)),\"n\",VLOOKUP(A4018,Feriados!A:A,1,FALSE))","v":"n"}]

{"sheet":"Cliente","index":4,"n_rows":2,"n_cols":1,"rows_kept":2,"cut":false,"hidden":true,"merged":[]}
["Fornecedor / Cliente"]
["Fulano de Tal"]

{"sheet":"Titular do cheque","index":5,"n_rows":2,"n_cols":1,"rows_kept":2,"cut":false,"hidden":true,"merged":[]}
["Titular do Cheque"]
["Fulano de Tal"]

{"sheet":"Banco","index":6,"n_rows":7,"n_cols":1,"rows_kept":7,"cut":false,"hidden":true,"merged":[]}
["Banco (ou Nº do Banco)"]
["Bradesco"]
["Brasil"]
["Caixa"]
["HSBC"]
["Itaú"]
["Santander"]

{"sheet":"Transf","index":7,"n_rows":5,"n_cols":52,"rows_kept":5,"cut":false,"hidden":true,"merged":[]}
["Data dos\nVencimentos","Valor\nCheque","Titular do Cheque","Nº ou\nBanco","Nº da\nAgência","Nº do\nCheque","Dias p/\nComp.","Qtde\ndias","Total dos\nJuros","IOF","Valor Pago\npela troca","Valor à\nReceber","XX","XX","XX","XX","XX","XX","XX","XX","Nº\nDesconto","Seq.","Concatenar","Cliente","    Data da \nTroca","    Data \nVencimentos","Valor\nCheque","Titular do Cheque","Nº ou\nBanco","Nº da\nAgência","Nº do\nCheque","Dias p/\nComp.","Qtde\ndias","% Juros Mensal","Total dos\nJuros","Borderô\n(ou TAC)","Borderô rateado?","%\ndo IOF","Valor do IOF","Valor Pago\npela troca","Valor\nRecebido","Asterisco","Considerado vcto 1º dia útil?","Cheque\ndevolvido?","Situação do\ncheque","Obs.\n1","Obs.\n2","Obs.\n3","Obs.\n4","Obs.\n5","Obs.\n6","Somase"]
["2016-08-15",358,0,0,0,0,2,39,6.2400000000000004E-2,0,22.34,335.66,"",0,1,42599,2,null,0,0,2,1,{"$f":"CONCATENATE(U2,\"-\",V2)","v":"2-1"},"Pepe","2016-07-09","2016-08-15",358,0,0,0,0,2,39,4.8000000000000001E-2,6.2400000000000004E-2,0,"Não",0,0,22.34,335.66,"","Sim",null,null,null,null,null,null,null,null,{"$f":"IF(AR2=\"Sim\",1,0)","v":0}]
["2016-07-20",1542,0,0,0,0,2,13,2.0800000000000003E-2,0,32.07,1509.93,"",0,3,42573,2,null,0,0,2,2,{"$f":"CONCATENATE(U3,\"-\",V3)","v":"2-2"},"Pepe","2016-07-09","2016-07-20",1542,0,0,0,0,2,13,4.8000000000000001E-2,2.0800000000000003E-2,0,"Não",0,0,32.07,1509.93,"","Sim",null,null,null,null,null,null,null,null,{"$f":"IF(AR3=\"Sim\",1,0)","v":0}]
["2016-08-25",3520,"Fulano de Tal","Brasil","1545","6889889",2,51,8.1600000000000006E-2,0,287.23,3232.77,"",0,4,42611,4,null,0,0,2,3,"2-3","Pepe","2016-07-09","2016-08-25",3520,"Fulano de Tal","Brasil","1545","6889889",2,51,4.8000000000000001E-2,8.1600000000000006E-2,0,"Não",0,0,287.23,3232.77,"","Sim",null,null,null,null,null,null,null,null,0]
["2016-07-15",1500,"Pedro Paulo","Caixa","22545","132232",2,10,1.6E-2,0,24,1476,"",0,5,42570,4,null,0,0,2,4,"2-4","Pepe","2016-07-09","2016-07-15",1500,"Pedro Paulo","Caixa","22545","132232",2,10,4.8000000000000001E-2,1.6E-2,0,"Não",0,0,24,1476,"","Sim",null,null,null,null,null,null,null,null,0]

{"sheet":"BD","index":8,"n_rows":3,"n_cols":32,"rows_kept":3,"cut":false,"hidden":true,"merged":[]}
[]
["Nº\nDesconto","Seq.","Concatenar","Fornecedor / Cliente","    Data da \nTroca","    Data \nVencimentos","Valor\nCheque","Titular do Cheque","Nº ou\nBanco","Nº da\nAgência","Nº do\nCheque","Dias p/\nComp.","Qtde\ndias","% Juros Mensal","Total dos\nJuros","Borderô\n(ou TAC)","Borderô rateado?","%\ndo IOF","Valor do IOF","Valor Pago\npela troca","Valor\nRecebido","id dia útil","Considerado vcto no 1º dia útil?","Cheque\ndevolvido?","Situação do\ncheque","CNPJ\nou\nCPF","Telefone","Obs.\n1","Obs.\n2","Obs.\n3","Obs.\n4","Somase"]
[0,0,{"$f":"CONCATENATE(A3,\"-\",B3)","v":"0-0"},"** Não exclua esta linha enquanto não houver outras linhas com informações."]

{"sheet":"Consulta","index":9,"n_rows":18,"n_cols":20,"rows_kept":18,"cut":false,"hidden":true,"merged":[[0,2,0,3],[0,15,1,16]]}
[null,"Fornec/Cliente:",{"$f":"IF(G1=0,\" Informe um Nº de Desconto\",IF(ISERROR(VLOOKUP($G$1,BD!$A:$W,4,FALSE)),\" Nº Desconto Inexistente\",VLOOKUP($G$1,BD!$A:$W,4,FALSE)))","v":" Informe um Nº de Desconto"},null,null,"Nº Desconto:",{"$f":"MAX(BD!A:A)","v":0},null,null,null,null,null,null,null,null,{"$f":"IF(T2=\"\",\"\",IF(T2=\"Sim\",\"Foi considerado o 1º dia útil para o vencimento.\",\"Não foi considerado o 1º dia útil para o vcto.\"))","v":""},null,null,null,{"$f":"IF(ISERROR(VLOOKUP($G$1,BD!$A:$W,17,FALSE)),\"\",VLOOKUP($G$1,BD!$A:$W,17,FALSE))","v":0}]
[null,{"$f":"IF(ISERROR(VLOOKUP($G$1,BD!$A:$W,5,FALSE)),\"\",VLOOKUP($G$1,BD!$A:$W,5,FALSE))","v":"00:00:00"},"Data da Troca.",null,{"$f":"IF(ISERROR(VLOOKUP($G$1,BD!$A:$W,16,FALSE)),\"\",VLOOKUP($G$1,BD!$A:$W,16,FALSE))","v":0},"Borderô (ou TAC)",null,null,null,null,null,null,null,null,null,null,null,null,null,{"$f":"IF($G$1=0,\"\",IF(ISERROR(VLOOKUP($G$1,BD!$A:$W,23,FALSE)),\"\",VLOOKUP($G$1,BD!$A:$W,23,FALSE)))","v":""}]
[null,{"$f":"IF(ISERROR(VLOOKUP($G$1,BD!$A:$W,14,FALSE)),\"\",VLOOKUP($G$1,BD!$A:$W,14,FALSE))","v":0},"Juros ao Mês.",null,{"$f":"IF(ISERROR(VLOOKUP($G$1,BD!$A:$W,18,FALSE)),\"\",VLOOKUP($G$1,BD!$A:$W,18,FALSE))","v":0},"IOF"]
["Seq","    Data \nVencimentos","Valor\nCheque","Titular do Cheque","Nº ou\nBanco","Nº da\nAgência","Nº do\nCheque","Dias p/\nComp.","Qtde\ndias","Total dos\nJuros","Valor do IOF","Valor Pago\npela troca","Valor à\nReceber"]
["Seq","Data dos\nVencimentos","Valor\nCheque","Titular do Cheque","Nº ou\nBanco","Nº da\nAgência","Nº do\nCheque","Dias p/\nComp.","Qtde\ndias","Total dos\nJuros","IOF","Valor Pago\npela troca","Valor à\nReceber","Id"]
[1,{"$f":"IF(ISERROR(VLOOKUP($G$1&\"-\"&$A6,BD!$C:$W,4,FALSE)),\"\",VLOOKUP($G$1&\"-\"&$A6,BD!$C:$W,4,FALSE))","v":""},{"$f":"IF(ISERROR(VLOOKUP($G$1&\"-\"&$A6,BD!$C:$W,5,FALSE)),\"\",VLOOKUP($G$1&\"-\"&$A6,BD!$C:$W,5,FALSE))","v":""},{"$f":"IF(ISERROR(VLOOKUP($G$1&\"-\"&$A6,BD!$C:$W,6,FALSE)),\"\",VLOOKUP($G$1&\"-\"&$A6,BD!$C:$W,6,FALSE))","v":""},{"$f":"IF(ISERROR(VLOOKUP($G$1&\"-\"&$A6,BD!$C:$W,7,FALSE)),\"\",VLOOKUP($G$1&\"-\"&$A6,BD!$C:$W,7,FALSE))","v":""},{"$f":"IF(ISERROR(VLOOKUP($G$1&\"-\"&$A6,BD!$C:$W,8,FALSE)),\"\",VLOOKUP($G$1&\"-\"&$A6,BD!$C:$W,8,FALSE))","v":""},{"$f":"IF(ISERROR(VLOOKUP($G$1&\"-\"&$A6,BD!$C:$W,9,FALSE)),\"\",VLOOKUP($G$1&\"-\"&$A6,BD!$C:$W,9,FALSE))","v":""},{"$f":"IF(ISERROR(VLOOKUP($G$1&\"-\"&$A6,BD!$C:$W,10,FALSE)),\"\",VLOOKUP($G$1&\"-\"&$A6,BD!$C:$W,10,FALSE))","v":""},{"$f":"IF(ISERROR(VLOOKUP($G$1&\"-\"&$A6,BD!$C:$W,11,FALSE)),0,VLOOKUP($G$1&\"-\"&$A6,BD!$C:$W,11,FALSE))","v":0},{"$f":"IF(ISERROR(VLOOKUP($G$1&\"-\"&$A6,BD!$C:$W,13,FALSE)),\"\",VLOOKUP($G$1&\"-\"&$A6,BD!$C:$W,13,FALSE))","v":""},{"$f":"IF(ISERROR(VLOOKUP($G$1&\"-\"&$A6,BD!$C:$W,17,FALSE)),\"\",VLOOKUP($G$1&\"-\"&$A6,BD!$C:$W,17,FALSE))","v":""},{"$f":"IF(ISERROR(VLOOKUP($G$1&\"-\"&$A6,BD!$C:$W,18,FALSE)),\"\",VLOOKUP($G$1&\"-\"&$A6,BD!$C:$W,18,FALSE))","v":""},{"$f":"IF(ISERROR(VLOOKUP($G$1&\"-\"&$A6,BD!$C:$W,19,FALSE)),\"\",VLOOKUP($G$1&\"-\"&$A6,BD!$C:$W,19,FALSE))","v":""},{"$f":"IF(ISERROR(VLOOKUP($G$1&\"-\"&$A6,BD!$C:$W,20,FALSE)),\"\",VLOOKUP($G$1&\"-\"&$A6,BD!$C:$W,20,FALSE))","v":""},{"$f":"IF(T6>0,\"Devolvido \"&T6&\" ch\",0)","v":0},null,null,null,null,{"$f":"SUMIF(BD!H:H,D6,BD!AF:AF)","v":0}]
[2,{"$f":"IF(ISERROR(VLOOKUP($G$1&\"-\"&$A7,BD!$C:$W,4,FALSE)),\"\",VLOOKUP($G$1&\"-\"&$A7,BD!$C:$W,4,FALSE))","v":""},{"$f":"IF(ISERROR(VLOOKUP($G$1&\"-\"&$A7,BD!$C:$W,5,FALSE)),\"\",VLOOKUP($G$1&\"-\"&$A7,BD!$C:$W,5,FALSE))","v":""},{"$f":"IF(ISERROR(VLOOKUP($G$1&\"-\"&$A7,BD!$C:$W,6,FALSE)),\"\",VLOOKUP($G$1&\"-\"&$A7,BD!$C:$W,6,FALSE))","v":""},{"$f":"IF(ISERROR(VLOOKUP($G$1&\"-\"&$A7,BD!$C:$W,7,FALSE)),\"\",VLOOKUP($G$1&\"-\"&$A7,BD!$C:$W,7,FALSE))","v":""},{"$f":"IF(ISERROR(VLOOKUP($G$1&\"-\"&$A7,BD!$C:$W,8,FALSE)),\"\",VLOOKUP($G$1&\"-\"&$A7,BD!$C:$W,8,FALSE))","v":""},{"$f":"IF(ISERROR(VLOOKUP($G$1&\"-\"&$A7,BD!$C:$W,9,FALSE)),\"\",VLOOKUP($G$1&\"-\"&$A7,BD!$C:$W,9,FALSE))","v":""},{"$f":"IF(ISERROR(VLOOKUP($G$1&\"-\"&$A7,BD!$C:$W,10,FALSE)),\"\",VLOOKUP($G$1&\"-\"&$A7,BD!$C:$W,10,FALSE))","v":""},{"$f":"IF(ISERROR(VLOOKUP($G$1&\"-\"&$A7,BD!$C:$W,11,FALSE)),0,VLOOKUP($G$1&\"-\"&$A7,BD!$C:$W,11,FALSE))","v":0},{"$f":"IF(ISERROR(VLOOKUP($G$1&\"-\"&$A7,BD!$C:$W,13,FALSE)),\"\",VLOOKUP($G$1&\"-\"&$A7,BD!$C:$W,13,FALSE))","v":""},{"$f":"IF(ISERROR(VLOOKUP($G$1&\"-\"&$A7,BD!$C:$W,17,FALSE)),\"\",VLOOKUP($G$1&\"-\"&$A7,BD!$C:$W,17,FALSE))","v":""},{"$f":"IF(ISERROR(VLOOKUP($G$1&\"-\"&$A7,BD!$C:$W,18,FALSE)),\"\",VLOOKUP($G$1&\"-\"&$A7,BD!$C:$W,18,FALSE))","v":""},{"$f":"IF(ISERROR(VLOOKUP($G$1&\"-\"&$A7,BD!$C:$W,19,FALSE)),\"\",VLOOKUP($G$1&\"-\"&$A7,BD!$C:$W,19,FALSE))","v":""},{"$f":"IF(ISERROR(VLOOKUP($G$1&\"-\"&$A7,BD!$C:$W,20,FALSE)),\"\",VLOOKUP($G$1&\"-\"&$A7,BD!$C:$W,20,FALSE))","v":""},{"$f":"IF(T7>0,\"Devolvido \"&T7&\" ch\",0)","v":0},null,null,null,null,{"$f":"SUMIF(BD!H:H,D7,BD!AF:AF)","v":0}]
[3,{"$f":"IF(ISERROR(VLOOKUP($G$1&\"-\"&$A8,BD!$C:$W,4,FALSE)),\"\",VLOOKUP($G$1&\"-\"&$A8,BD!$C:$W,4,FALSE))","v":""},{"$f":"IF(ISERROR(VLOOKUP($G$1&\"-\"&$A8,BD!$C:$W,5,FALSE)),\"\",VLOOKUP($G$1&\"-\"&$A8,BD!$C:$W,5,FALSE))","v":""},{"$f":"IF(ISERROR(VLOOKUP($G$1&\"-\"&$A8,BD!$C:$W,6,FALSE)),\"\",VLOOKUP($G$1&\"-\"&$A8,BD!$C:$W,6,FALSE))","v":""},{"$f":"IF(ISERROR(VLOOKUP($G$1&\"-\"&$A8,BD!$C:$W,7,FALSE)),\"\",VLOOKUP($G$1&\"-\"&$A8,BD!$C:$W,7,FALSE))","v":""},{"$f":"IF(ISERROR(VLOOKUP($G$1&\"-\"&$A8,BD!$C:$W,8,FALSE)),\"\",VLOOKUP($G$1&\"-\"&$A8,BD!$C:$W,8,FALSE))","v":""},{"$f":"IF(ISERROR(VLOOKUP($G$1&\"-\"&$A8,BD!$C:$W,9,FALSE)),\"\",VLOOKUP($G$1&\"-\"&$A8,BD!$C:$W,9,FALSE))","v":""},{"$f":"IF(ISERROR(VLOOKUP($G$1&\"-\"&$A8,BD!$C:$W,10,FALSE)),\"\",VLOOKUP($G$1&\"-\"&$A8,BD!$C:$W,10,FALSE))","v":""},{"$f":"IF(ISERROR(VLOOKUP($G$1&\"-\"&$A8,BD!$C:$W,11,FALSE)),0,VLOOKUP($G$1&\"-\"&$A8,BD!$C:$W,11,FALSE))","v":0},{"$f":"IF(ISERROR(VLOOKUP($G$1&\"-\"&$A8,BD!$C:$W,13,FALSE)),\"\",VLOOKUP($G$1&\"-\"&$A8,BD!$C:$W,13,FALSE))","v":""},{"$f":"IF(ISERROR(VLOOKUP($G$1&\"-\"&$A8,BD!$C:$W,17,FALSE)),\"\",VLOOKUP($G$1&\"-\"&$A8,BD!$C:$W,17,FALSE))","v":""},{"$f":"IF(ISERROR(VLOOKUP($G$1&\"-\"&$A8,BD!$C:$W,18,FALSE)),\"\",VLOOKUP($G$1&\"-\"&$A8,BD!$C:$W,18,FALSE))","v":""},{"$f":"IF(ISERROR(VLOOKUP($G$1&\"-\"&$A8,BD!$C:$W,19,FALSE)),\"\",VLOOKUP($G$1&\"-\"&$A8,BD!$C:$W,19,FALSE))","v":""},{"$f":"IF(ISERROR(VLOOKUP($G$1&\"-\"&$A8,BD!$C:$W,20,FALSE)),\"\",VLOOKUP($G$1&\"-\"&$A8,BD!$C:$W,20,FALSE))","v":""},0,null,null,null,null,{"$f":"SUMIF(BD!H:H,D8,BD!AF:AF)","v":0}]
[4,{"$f":"IF(ISERROR(VLOOKUP($G$1&\"-\"&$A9,BD!$C:$W,4,FALSE)),\"\",VLOOKUP($G$1&\"-\"&$A9,BD!$C:$W,4,FALSE))","v":""},{"$f":"IF(ISERROR(VLOOKUP($G$1&\"-\"&$A9,BD!$C:$W,5,FALSE)),\"\",VLOOKUP($G$1&\"-\"&$A9,BD!$C:$W,5,FALSE))","v":""},{"$f":"IF(ISERROR(VLOOKUP($G$1&\"-\"&$A9,BD!$C:$W,6,FALSE)),\"\",VLOOKUP($G$1&\"-\"&$A9,BD!$C:$W,6,FALSE))","v":""},{"$f":"IF(ISERROR(VLOOKUP($G$1&\"-\"&$A9,BD!$C:$W,7,FALSE)),\"\",VLOOKUP($G$1&\"-\"&$A9,BD!$C:$W,7,FALSE))","v":""},{"$f":"IF(ISERROR(VLOOKUP($G$1&\"-\"&$A9,BD!$C:$W,8,FALSE)),\"\",VLOOKUP($G$1&\"-\"&$A9,BD!$C:$W,8,FALSE))","v":""},{"$f":"IF(ISERROR(VLOOKUP($G$1&\"-\"&$A9,BD!$C:$W,9,FALSE)),\"\",VLOOKUP($G$1&\"-\"&$A9,BD!$C:$W,9,FALSE))","v":""},{"$f":"IF(ISERROR(VLOOKUP($G$1&\"-\"&$A9,BD!$C:$W,10,FALSE)),\"\",VLOOKUP($G$1&\"-\"&$A9,BD!$C:$W,10,FALSE))","v":""},{"$f":"IF(ISERROR(VLOOKUP($G$1&\"-\"&$A9,BD!$C:$W,11,FALSE)),0,VLOOKUP($G$1&\"-\"&$A9,BD!$C:$W,11,FALSE))","v":0},{"$f":"IF(ISERROR(VLOOKUP($G$1&\"-\"&$A9,BD!$C:$W,13,FALSE)),\"\",VLOOKUP($G$1&\"-\"&$A9,BD!$C:$W,13,FALSE))","v":""},{"$f":"IF(ISERROR(VLOOKUP($G$1&\"-\"&$A9,BD!$C:$W,17,FALSE)),\"\",VLOOKUP($G$1&\"-\"&$A9,BD!$C:$W,17,FALSE))","v":""},{"$f":"IF(ISERROR(VLOOKUP($G$1&\"-\"&$A9,BD!$C:$W,18,FALSE)),\"\",VLOOKUP($G$1&\"-\"&$A9,BD!$C:$W,18,FALSE))","v":""},{"$f":"IF(ISERROR(VLOOKUP($G$1&\"-\"&$A9,BD!$C:$W,19,FALSE)),\"\",VLOOKUP($G$1&\"-\"&$A9,BD!$C:$W,19,FALSE))","v":""},{"$f":"IF(ISERROR(VLOOKUP($G$1&\"-\"&$A9,BD!$C:$W,20,FALSE)),\"\",VLOOKUP($G$1&\"-\"&$A9,BD!$C:$W,20,FALSE))","v":""},0,null,null,null,null,{"$f":"SUMIF(BD!H:H,D9,BD!AF:AF)","v":0}]
[5,{"$f":"IF(ISERROR(VLOOKUP($G$1&\"-\"&$A10,BD!$C:$W,4,FALSE)),\"\",VLOOKUP($G$1&\"-\"&$A10,BD!$C:$W,4,FALSE))","v":""},{"$f":"IF(ISERROR(VLOOKUP($G$1&\"-\"&$A10,BD!$C:$W,5,FALSE)),\"\",VLOOKUP($G$1&\"-\"&$A10,BD!$C:$W,5,FALSE))","v":""},{"$f":"IF(ISERROR(VLOOKUP($G$1&\"-\"&$A10,BD!$C:$W,6,FALSE)),\"\",VLOOKUP($G$1&\"-\"&$A10,BD!$C:$W,6,FALSE))","v":""},{"$f":"IF(ISERROR(VLOOKUP($G$1&\"-\"&$A10,BD!$C:$W,7,FALSE)),\"\",VLOOKUP($G$1&\"-\"&$A10,BD!$C:$W,7,FALSE))","v":""},{"$f":"IF(ISERROR(VLOOKUP($G$1&\"-\"&$A10,BD!$C:$W,8,FALSE)),\"\",VLOOKUP($G$1&\"-\"&$A10,BD!$C:$W,8,FALSE))","v":""},{"$f":"IF(ISERROR(VLOOKUP($G$1&\"-\"&$A10,BD!$C:$W,9,FALSE)),\"\",VLOOKUP($G$1&\"-\"&$A10,BD!$C:$W,9,FALSE))","v":""},{"$f":"IF(ISERROR(VLOOKUP($G$1&\"-\"&$A10,BD!$C:$W,10,FALSE)),\"\",VLOOKUP($G$1&\"-\"&$A10,BD!$C:$W,10,FALSE))","v":""},{"$f":"IF(ISERROR(VLOOKUP($G$1&\"-\"&$A10,BD!$C:$W,11,FALSE)),0,VLOOKUP($G$1&\"-\"&$A10,BD!$C:$W,11,FALSE))","v":0},{"$f":"IF(ISERROR(VLOOKUP($G$1&\"-\"&$A10,BD!$C:$W,13,FALSE)),\"\",VLOOKUP($G$1&\"-\"&$A10,BD!$C:$W,13,FALSE))","v":""},{"$f":"IF(ISERROR(VLOOKUP($G$1&\"-\"&$A10,BD!$C:$W,17,FALSE)),\"\",VLOOKUP($G$1&\"-\"&$A10,BD!$C:$W,17,FALSE))","v":""},{"$f":"IF(ISERROR(VLOOKUP($G$1&\"-\"&$A10,BD!$C:$W,18,FALSE)),\"\",VLOOKUP($G$1&\"-\"&$A10,BD!$C:$W,18,FALSE))","v":""},{"$f":"IF(ISERROR(VLOOKUP($G$1&\"-\"&$A10,BD!$C:$W,19,FALSE)),\"\",VLOOKUP($G$1&\"-\"&$A10,BD!$C:$W,19,FALSE))","v":""},{"$f":"IF(ISERROR(VLOOKUP($G$1&\"-\"&$A10,BD!$C:$W,20,FALSE)),\"\",VLOOKUP($G$1&\"-\"&$A10,BD!$C:$W,20,FALSE))","v":""},0,null,null,null,null,{"$f":"SUMIF(BD!H:H,D10,BD!AF:AF)","v":0}]
[6,{"$f":"IF(ISERROR(VLOOKUP($G$1&\"-\"&$A11,BD!$C:$W,4,FALSE)),\"\",VLOOKUP($G$1&\"-\"&$A11,BD!$C:$W,4,FALSE))","v":""},{"$f":"IF(ISERROR(VLOOKUP($G$1&\"-\"&$A11,BD!$C:$W,5,FALSE)),\"\",VLOOKUP($G$1&\"-\"&$A11,BD!$C:$W,5,FALSE))","v":""},{"$f":"IF(ISERROR(VLOOKUP($G$1&\"-\"&$A11,BD!$C:$W,6,FALSE)),\"\",VLOOKUP($G$1&\"-\"&$A11,BD!$C:$W,6,FALSE))","v":""},{"$f":"IF(ISERROR(VLOOKUP($G$1&\"-\"&$A11,BD!$C:$W,7,FALSE)),\"\",VLOOKUP($G$1&\"-\"&$A11,BD!$C:$W,7,FALSE))","v":""},{"$f":"IF(ISERROR(VLOOKUP($G$1&\"-\"&$A11,BD!$C:$W,8,FALSE)),\"\",VLOOKUP($G$1&\"-\"&$A11,BD!$C:$W,8,FALSE))","v":""},{"$f":"IF(ISERROR(VLOOKUP($G$1&\"-\"&$A11,BD!$C:$W,9,FALSE)),\"\",VLOOKUP($G$1&\"-\"&$A11,BD!$C:$W,9,FALSE))","v":""},{"$f":"IF(ISERROR(VLOOKUP($G$1&\"-\"&$A11,BD!$C:$W,10,FALSE)),\"\",VLOOKUP($G$1&\"-\"&$A11,BD!$C:$W,10,FALSE))","v":""},{"$f":"IF(ISERROR(VLOOKUP($G$1&\"-\"&$A11,BD!$C:$W,11,FALSE)),0,VLOOKUP($G$1&\"-\"&$A11,BD!$C:$W,11,FALSE))","v":0},{"$f":"IF(ISERROR(VLOOKUP($G$1&\"-\"&$A11,BD!$C:$W,13,FALSE)),\"\",VLOOKUP($G$1&\"-\"&$A11,BD!$C:$W,13,FALSE))","v":""},{"$f":"IF(ISERROR(VLOOKUP($G$1&\"-\"&$A11,BD!$C:$W,17,FALSE)),\"\",VLOOKUP($G$1&\"-\"&$A11,BD!$C:$W,17,FALSE))","v":""},{"$f":"IF(ISERROR(VLOOKUP($G$1&\"-\"&$A11,BD!$C:$W,18,FALSE)),\"\",VLOOKUP($G$1&\"-\"&$A11,BD!$C:$W,18,FALSE))","v":""},{"$f":"IF(ISERROR(VLOOKUP($G$1&\"-\"&$A11,BD!$C:$W,19,FALSE)),\"\",VLOOKUP($G$1&\"-\"&$A11,BD!$C:$W,19,FALSE))","v":""},{"$f":"IF(ISERROR(VLOOKUP($G$1&\"-\"&$A11,BD!$C:$W,20,FALSE)),\"\",VLOOKUP($G$1&\"-\"&$A11,BD!$C:$W,20,FALSE))","v":""},0,null,null,null,null,{"$f":"SUMIF(BD!H:H,D11,BD!AF:AF)","v":0}]
[7,{"$f":"IF(ISERROR(VLOOKUP($G$1&\"-\"&$A12,BD!$C:$W,4,FALSE)),\"\",VLOOKUP($G$1&\"-\"&$A12,BD!$C:$W,4,FALSE))","v":""},{"$f":"IF(ISERROR(VLOOKUP($G$1&\"-\"&$A12,BD!$C:$W,5,FALSE)),\"\",VLOOKUP($G$1&\"-\"&$A12,BD!$C:$W,5,FALSE))","v":""},{"$f":"IF(ISERROR(VLOOKUP($G$1&\"-\"&$A12,BD!$C:$W,6,FALSE)),\"\",VLOOKUP($G$1&\"-\"&$A12,BD!$C:$W,6,FALSE))","v":""},{"$f":"IF(ISERROR(VLOOKUP($G$1&\"-\"&$A12,BD!$C:$W,7,FALSE)),\"\",VLOOKUP($G$1&\"-\"&$A12,BD!$C:$W,7,FALSE))","v":""},{"$f":"IF(ISERROR(VLOOKUP($G$1&\"-\"&$A12,BD!$C:$W,8,FALSE)),\"\",VLOOKUP($G$1&\"-\"&$A12,BD!$C:$W,8,FALSE))","v":""},{"$f":"IF(ISERROR(VLOOKUP($G$1&\"-\"&$A12,BD!$C:$W,9,FALSE)),\"\",VLOOKUP($G$1&\"-\"&$A12,BD!$C:$W,9,FALSE))","v":""},{"$f":"IF(ISERROR(VLOOKUP($G$1&\"-\"&$A12,BD!$C:$W,10,FALSE)),\"\",VLOOKUP($G$1&\"-\"&$A12,BD!$C:$W,10,FALSE))","v":""},{"$f":"IF(ISERROR(VLOOKUP($G$1&\"-\"&$A12,BD!$C:$W,11,FALSE)),0,VLOOKUP($G$1&\"-\"&$A12,BD!$C:$W,11,FALSE))","v":0},{"$f":"IF(ISERROR(VLOOKUP($G$1&\"-\"&$A12,BD!$C:$W,13,FALSE)),\"\",VLOOKUP($G$1&\"-\"&$A12,BD!$C:$W,13,FALSE))","v":""},{"$f":"IF(ISERROR(VLOOKUP($G$1&\"-\"&$A12,BD!$C:$W,17,FALSE)),\"\",VLOOKUP($G$1&\"-\"&$A12,BD!$C:$W,17,FALSE))","v":""},{"$f":"IF(ISERROR(VLOOKUP($G$1&\"-\"&$A12,BD!$C:$W,18,FALSE)),\"\",VLOOKUP($G$1&\"-\"&$A12,BD!$C:$W,18,FALSE))","v":""},{"$f":"IF(ISERROR(VLOOKUP($G$1&\"-\"&$A12,BD!$C:$W,19,FALSE)),\"\",VLOOKUP($G$1&\"-\"&$A12,BD!$C:$W,19,FALSE))","v":""},{"$f":"IF(ISERROR(VLOOKUP($G$1&\"-\"&$A12,BD!$C:$W,20,FALSE)),\"\",VLOOKUP($G$1&\"-\"&$A12,BD!$C:$W,20,FALSE))","v":""},0,null,null,null,null,{"$f":"SUMIF(BD!H:H,D12,BD!AF:AF)","v":0}]
[8,{"$f":"IF(ISERROR(VLOOKUP($G$1&\"-\"&$A13,BD!$C:$W,4,FALSE)),\"\",VLOOKUP($G$1&\"-\"&$A13,BD!$C:$W,4,FALSE))","v":""},{"$f":"IF(ISERROR(VLOOKUP($G$1&\"-\"&$A13,BD!$C:$W,5,FALSE)),\"\",VLOOKUP($G$1&\"-\"&$A13,BD!$C:$W,5,FALSE))","v":""},{"$f":"IF(ISERROR(VLOOKUP($G$1&\"-\"&$A13,BD!$C:$W,6,FALSE)),\"\",VLOOKUP($G$1&\"-\"&$A13,BD!$C:$W,6,FALSE))","v":""},{"$f":"IF(ISERROR(VLOOKUP($G$1&\"-\"&$A13,BD!$C:$W,7,FALSE)),\"\",VLOOKUP($G$1&\"-\"&$A13,BD!$C:$W,7,FALSE))","v":""},{"$f":"IF(ISERROR(VLOOKUP($G$1&\"-\"&$A13,BD!$C:$W,8,FALSE)),\"\",VLOOKUP($G$1&\"-\"&$A13,BD!$C:$W,8,FALSE))","v":""},{"$f":"IF(ISERROR(VLOOKUP($G$1&\"-\"&$A13,BD!$C:$W,9,FALSE)),\"\",VLOOKUP($G$1&\"-\"&$A13,BD!$C:$W,9,FALSE))","v":""},{"$f":"IF(ISERROR(VLOOKUP($G$1&\"-\"&$A13,BD!$C:$W,10,FALSE)),\"\",VLOOKUP($G$1&\"-\"&$A13,BD!$C:$W,10,FALSE))","v":""},{"$f":"IF(ISERROR(VLOOKUP($G$1&\"-\"&$A13,BD!$C:$W,11,FALSE)),0,VLOOKUP($G$1&\"-\"&$A13,BD!$C:$W,11,FALSE))","v":0},{"$f":"IF(ISERROR(VLOOKUP($G$1&\"-\"&$A13,BD!$C:$W,13,FALSE)),\"\",VLOOKUP($G$1&\"-\"&$A13,BD!$C:$W,13,FALSE))","v":""},{"$f":"IF(ISERROR(VLOOKUP($G$1&\"-\"&$A13,BD!$C:$W,17,FALSE)),\"\",VLOOKUP($G$1&\"-\"&$A13,BD!$C:$W,17,FALSE))","v":""},{"$f":"IF(ISERROR(VLOOKUP($G$1&\"-\"&$A13,BD!$C:$W,18,FALSE)),\"\",VLOOKUP($G$1&\"-\"&$A13,BD!$C:$W,18,FALSE))","v":""},{"$f":"IF(ISERROR(VLOOKUP($G$1&\"-\"&$A13,BD!$C:$W,19,FALSE)),\"\",VLOOKUP($G$1&\"-\"&$A13,BD!$C:$W,19,FALSE))","v":""},{"$f":"IF(ISERROR(VLOOKUP($G$1&\"-\"&$A13,BD!$C:$W,20,FALSE)),\"\",VLOOKUP($G$1&\"-\"&$A13,BD!$C:$W,20,FALSE))","v":""},0,null,null,null,null,{"$f":"SUMIF(BD!H:H,D13,BD!AF:AF)","v":0}]
[9,{"$f":"IF(ISERROR(VLOOKUP($G$1&\"-\"&$A14,BD!$C:$W,4,FALSE)),\"\",VLOOKUP($G$1&\"-\"&$A14,BD!$C:$W,4,FALSE))","v":""},{"$f":"IF(ISERROR(VLOOKUP($G$1&\"-\"&$A14,BD!$C:$W,5,FALSE)),\"\",VLOOKUP($G$1&\"-\"&$A14,BD!$C:$W,5,FALSE))","v":""},{"$f":"IF(ISERROR(VLOOKUP($G$1&\"-\"&$A14,BD!$C:$W,6,FALSE)),\"\",VLOOKUP($G$1&\"-\"&$A14,BD!$C:$W,6,FALSE))","v":""},{"$f":"IF(ISERROR(VLOOKUP($G$1&\"-\"&$A14,BD!$C:$W,7,FALSE)),\"\",VLOOKUP($G$1&\"-\"&$A14,BD!$C:$W,7,FALSE))","v":""},{"$f":"IF(ISERROR(VLOOKUP($G$1&\"-\"&$A14,BD!$C:$W,8,FALSE)),\"\",VLOOKUP($G$1&\"-\"&$A14,BD!$C:$W,8,FALSE))","v":""},{"$f":"IF(ISERROR(VLOOKUP($G$1&\"-\"&$A14,BD!$C:$W,9,FALSE)),\"\",VLOOKUP($G$1&\"-\"&$A14,BD!$C:$W,9,FALSE))","v":""},{"$f":"IF(ISERROR(VLOOKUP($G$1&\"-\"&$A14,BD!$C:$W,10,FALSE)),\"\",VLOOKUP($G$1&\"-\"&$A14,BD!$C:$W,10,FALSE))","v":""},{"$f":"IF(ISERROR(VLOOKUP($G$1&\"-\"&$A14,BD!$C:$W,11,FALSE)),0,VLOOKUP($G$1&\"-\"&$A14,BD!$C:$W,11,FALSE))","v":0},{"$f":"IF(ISERROR(VLOOKUP($G$1&\"-\"&$A14,BD!$C:$W,13,FALSE)),\"\",VLOOKUP($G$1&\"-\"&$A14,BD!$C:$W,13,FALSE))","v":""},{"$f":"IF(ISERROR(VLOOKUP($G$1&\"-\"&$A14,BD!$C:$W,17,FALSE)),\"\",VLOOKUP($G$1&\"-\"&$A14,BD!$C:$W,17,FALSE))","v":""},{"$f":"IF(ISERROR(VLOOKUP($G$1&\"-\"&$A14,BD!$C:$W,18,FALSE)),\"\",VLOOKUP($G$1&\"-\"&$A14,BD!$C:$W,18,FALSE))","v":""},{"$f":"IF(ISERROR(VLOOKUP($G$1&\"-\"&$A14,BD!$C:$W,19,FALSE)),\"\",VLOOKUP($G$1&\"-\"&$A14,BD!$C:$W,19,FALSE))","v":""},{"$f":"IF(ISERROR(VLOOKUP($G$1&\"-\"&$A14,BD!$C:$W,20,FALSE)),\"\",VLOOKUP($G$1&\"-\"&$A14,BD!$C:$W,20,FALSE))","v":""},0,null,null,null,null,{"$f":"SUMIF(BD!H:H,D14,BD!AF:AF)","v":0}]
[10,{"$f":"IF(ISERROR(VLOOKUP($G$1&\"-\"&$A15,BD!$C:$W,4,FALSE)),\"\",VLOOKUP($G$1&\"-\"&$A15,BD!$C:$W,4,FALSE))","v":""},{"$f":"IF(ISERROR(VLOOKUP($G$1&\"-\"&$A15,BD!$C:$W,5,FALSE)),\"\",VLOOKUP($G$1&\"-\"&$A15,BD!$C:$W,5,FALSE))","v":""},{"$f":"IF(ISERROR(VLOOKUP($G$1&\"-\"&$A15,BD!$C:$W,6,FALSE)),\"\",VLOOKUP($G$1&\"-\"&$A15,BD!$C:$W,6,FALSE))","v":""},{"$f":"IF(ISERROR(VLOOKUP($G$1&\"-\"&$A15,BD!$C:$W,7,FALSE)),\"\",VLOOKUP($G$1&\"-\"&$A15,BD!$C:$W,7,FALSE))","v":""},{"$f":"IF(ISERROR(VLOOKUP($G$1&\"-\"&$A15,BD!$C:$W,8,FALSE)),\"\",VLOOKUP($G$1&\"-\"&$A15,BD!$C:$W,8,FALSE))","v":""},{"$f":"IF(ISERROR(VLOOKUP($G$1&\"-\"&$A15,BD!$C:$W,9,FALSE)),\"\",VLOOKUP($G$1&\"-\"&$A15,BD!$C:$W,9,FALSE))","v":""},{"$f":"IF(ISERROR(VLOOKUP($G$1&\"-\"&$A15,BD!$C:$W,10,FALSE)),\"\",VLOOKUP($G$1&\"-\"&$A15,BD!$C:$W,10,FALSE))","v":""},{"$f":"IF(ISERROR(VLOOKUP($G$1&\"-\"&$A15,BD!$C:$W,11,FALSE)),0,VLOOKUP($G$1&\"-\"&$A15,BD!$C:$W,11,FALSE))","v":0},{"$f":"IF(ISERROR(VLOOKUP($G$1&\"-\"&$A15,BD!$C:$W,13,FALSE)),\"\",VLOOKUP($G$1&\"-\"&$A15,BD!$C:$W,13,FALSE))","v":""},{"$f":"IF(ISERROR(VLOOKUP($G$1&\"-\"&$A15,BD!$C:$W,17,FALSE)),\"\",VLOOKUP($G$1&\"-\"&$A15,BD!$C:$W,17,FALSE))","v":""},{"$f":"IF(ISERROR(VLOOKUP($G$1&\"-\"&$A15,BD!$C:$W,18,FALSE)),\"\",VLOOKUP($G$1&\"-\"&$A15,BD!$C:$W,18,FALSE))","v":""},{"$f":"IF(ISERROR(VLOOKUP($G$1&\"-\"&$A15,BD!$C:$W,19,FALSE)),\"\",VLOOKUP($G$1&\"-\"&$A15,BD!$C:$W,19,FALSE))","v":""},{"$f":"IF(ISERROR(VLOOKUP($G$1&\"-\"&$A15,BD!$C:$W,20,FALSE)),\"\",VLOOKUP($G$1&\"-\"&$A15,BD!$C:$W,20,FALSE))","v":""},{"$f":"IF(T15>0,\"Devolvido \"&T15&\" ch\",0)","v":0},null,null,null,null,{"$f":"SUMIF(BD!H:H,D15,BD!AF:AF)","v":0}]
[null,null,{"$f":"SUBTOTAL(9,C6:C15)","v":0},null,null,null,null,null,null,null,{"$f":"SUBTOTAL(9,K6:K15)","v":0},{"$f":"SUBTOTAL(9,L6:L15)","v":0},{"$f":"SUBTOTAL(9,M6:M15)","v":0}]
[null,null,null,null,null,null,null,null,{"$f":"IF(SUM(I6:I15)=0,0,AVERAGEIF(I6:I15,\">0\"))","v":0},null,null,"Borderô (ou TAC) =>",{"$f":"IF(M16=0,0,(IF(T1=\"sim\",\"         rateado\",E2-(E2*2))))","v":0}]
[null,null,null,null,null,null,null,null,"Média",null,null,"Valor à receber =>",{"$f":"IF(T1=\"Sim\",M16,M16+M17)","v":0}]

{"sheet":"AU","index":10,"n_rows":10,"n_cols":16384,"rows_kept":10,"cut":false,"hidden":true,"merged":[]}
[null,null,null,null,null,null,null,null,null,null,null,null,null,null,null,null,null,null,null,null,null,null,null,null,null,null,null,"2100-01-01",null,null,null,null,null,null,null,null,null,null,null,null,null,null,null,null,null,null,null,null,null,null,null,null,null,null,null,null,null,null,null,null,null,null,null,null,null,null,null,null,null,null,null,null,null,null,null,null,null,null,null,null,null,null,null,null,null,null,null,null,null,null,null,null,null,null,null,null,null,null,null,null,null,null,null,null,null,null,null,null,null,null,null,null,null,null,null,null,null,null,null,null,null,null,null,null,null,null,null,null,null,null,null,null,null,null,null,null,null,null,null,null,null,null,null,null,null,null,null,null,null,null,null,null,null,null,null,null,null,null,null,null,null,null,null,null,null,null,null,null,null,null,null,null,null,null,null,null,null,null,null,null,null,null,null,null,null,null,null,null,null,null,null,null,null,null,null,null,null,null,null,null,null,null,null,null,null,null,null,null,null,null,null,null,null,null,null,null,null,null,null,null,null,null,null,null,null,null,null,null,null,null,null,null,null,null,null,null,null,null,null,null,null,null,null,null,null,null,null,null,null,null,null,null,null,null,null,null,null,null,null,null,null,null,null,null,null,null,null,null,null,null,null,null,null,null,null,null,null,null,null,null,null,null,null,null,null,null,null,null,null,null,null,null,null,null,null,null,null,null,null,null,null,null,null,null,null,null,null,null,null,null,null,null,null,null,null,null,null,null,null,null,null,null,null,null,null,null,null,null,null,null,null,null,null,null,null,null,null,null,null,null,null,null,null,null,null,null,null,null,null,null,null,null,null,null,null,null,null,null,null,null,null,null,null,null,null,null,null,null,null,null,null,null,null,null,null,null,null,null,null,null,null,null,null,null,null,null,null,null,null,null,null,null,null,null,null,null,null,null,null,null,null,null,null,null,null,null,null,null,null,null,null,null,null,null,null,null,null,null,null,null,null,null,null,null,null,null,null,null,null,null,null,null,null,null,null,null,null,null,null,null,null,null,null,null,null,null,null,null,null,null,null,null,null,null,null,null,null,null,null,null,null,null,null,null,null,null,null,null,null,null,null,null,null,null,null,null,null,null,null,null,null,null,null,null,null,null,null,null,null,null,null,null,null,null,null,null,null,null,null,null,null,null,null,null,null,null,null,null,null,null,null,null,null,null,null,null,null,null,null,null,null,null,null,null,null,null,null,null,null,null,null,null,null,null,null,null,null,null,null,null,null,null,null,null,null,null,null,null,null,null,null,null,null,null,null,null,null,null,null,null,null,null,null,null,null,null,null,null,null,null,null,null,null,null,null,null,null,null,null,null,null,null,null,null,null,null,null,null,null,null,null,null,null,null,null,null,null,null,null,null,null,null,null,null,null,null,null,null,null,null,null,null,null,null,null,null,null,null,null,null,null,null,null,null,null,null,null,null,null,null,null,null,null,null,null,null,null,null,null,null,null,null,null,null,null,null,null,null,null,null,null,null,null,null,null,null,null,null,null,null,null,null,null,null,null,null,null,null,null,null,null,null,null,null,null,null,null,null,null,null,null,null,null,null,null,null,null,null,null,null,null,null,null,null,null,null,null,null,null,null,null,null,null,null,null,null,null,null,null,null,null,null,null,null,null,null,null,null,null,null,null,null,null,null,null,null,null,null,null,null,null,null,null,null,null,null,null,null,null,null,null,null,null,null,null,null,null,null,null,null,null,null,null,null,null,null,null,null,null,null,null,null,null,null,null,null,null,null,null,null,null,null,null,null,null,null,null,null,null,null,null,null,null,null,null,null,null,null,null,null,null,null,null,null,null,null,null,null,null,null,null,null,null,null,null,null,null,null,null,null,null,null,null,null,null,null,null,null,null,null,null,null,null,null,null,null,null,null,null,null,null,null,null,null,null,null,null,null,null,null,null,null,null,null,null,null,null,null,null,null,null,null,null,null,null,null,null,null,null,null,null,null,null,null,null,null,null,null,null,null,null,null,null,null,null,null,null,null,null,null,null,null,null,null,null,null,null,null,null,null,null,null,null,null,null,null,null,null,null,null,null,null,null,null,null,null,null,null,null,null,null,null,null,null,null,null,null,null,null,null,null,null,null,null,null,null,null,null,null,null,null,null,null,null,null,null,null,null,null,null,null,null,null,null,null,null,null,null,null,null,null,null,null,null,null,null,null,null,null,null,null,null,null,null,null,null,null,null,null,null,null,null,null,null,null,null,null,null,null,null,null,null,null,null,null,null,null,null,null,null,null,null,null,null,null,null,null,null,null,null,null,null,null,null,null,null,null,null,null,null,null,null,null,null,null,null,null,null,null,null,null,null,null,null,null,null,null,null,null,null,null,null,null,null,null,null,null,null,null,null,null,null,null,null,null,null,null,null,null,null,null,null,null,null,null,null,null,null,null,null,null,null,null,null,null,null,null,null,null,null,null,null,null,null,null,null,null,null,null,null,null,null,null,null,null,null,null,null,null,null,null,null,null,null,null,null,null,null,null,null,null,null,null,null,null,null,null,null,null,null,null,null,null,null,null,null,null,null,null,null,null,null,null,null,null,null,null,null,null,null,null,null,null,null,null,null,null,null,null,null,null,null,null,null,null,null,null,null,null,null,null,null,null,null,null,null,null,null,null,null,null,null,null,null,null,null,null,null,null,null,null,null,null,null,null,null,null,null,null,null,null,null,null,null,null,null,null,null,null,null,null,null,null,null,null,null,null,null,null,null,null,null,null,null,null,null,null,null,null,null,null,null,null,null,null,null,null,null,null,null,null,null,null,null,null,null,null,null,null,null,null,null,null,null,null,null,null,null,null,null,null,null,null,null,null,null,null,null,null,null,null,null,null,null,null,null,null,null,null,null,null,null,null,null,null,null,null,null,null,null,null,null,null,null,null,null,null,null,null,null,null,null,null,null,null,null,null,null,null,null,null,null,null,null,null,null,null,null,null,null,null,null,null,null,null,null,null,null,null,null,null,null,null,null,null,null,null,null,null,null,null,null,null,null,null,null,null,null,null,null,null,null,null,null,null,null,null,null,null,null,null,null,null,null,null,null,null,null,null,null,null,null,null,null,null,null,null,null,null,null,null,null,null,null,null,null,null,null,null,null,null,null,null,null,null,null,null,null,null,null,null,null,null,null,null,null,null,null,null,null,null,null,null,null,null,null,null,null,null,null,null,null,null,null,null,null,null,null,null,null,null,null,null,null,null,null,null,null,null,null,null,null,null,null,null,null,null,null,null,null,null,null,null,null,null,null,null,null,null,null,null,null,null,null,null,null,null,null,null,null,null,null,null,null,null,null,null,null,null,null,null,null,null,null,null,null,null,null,null,null,null,null,null,null,null,null,null,null,null,null,null,null,null,null,null,null,null,null,null,null,null,null,null,null,null,null,null,null,null,null,null,null,null,null,null,null,null,null,null,null,null,null,null,null,null,null,null,null,null,null,null,null,null,null,null,null,null,null,null,null,null,null,null,null,null,null,null,null,null,null,null,null,null,null,null,null,null,null,null,null,null,null,null,null,null,null,null,null,null,null,null,null,null,null,null,null,null,null,null,null,null,null,null,null,null,null,null,null,null,null,null,null,null,null,null,null,null,null,null,null,null,null,null,null,null,null,null,null,null,null,null,null,null,null,null,null,null,null,null,null,null,null,null,null,null,null,null,null,null,null,null,null,null,null,null,null,null,null,null,null,null,null,null,null,null,null,null,null,null,null,null,null,null,null,null,null,null,null,null,null,null,null,null,null,null,null,null,null,null,null,null,null,null,null,null,null,null,null,null,null,null,null,null,null,null,null,null,null,null,null,null,null,null,null,null,null,null,null,null,null,null,null,null,null,null,null,null,null,null,null,null,null,null,null,null,null,null,null,null,null,null,null,null,null,null,null,null,null,null,null,null,null,null,null,null,null,null,null,null,null,null,null,null,null,null,null,null,null,null,null,null,null,null,null,null,null,null,null,null,null,null,null,null,null,null,null,null,null,null,null,null,null,null,null,null,null,null,null,null,null,null,null,null,null,null,null,null,null,null,null,null,null,null,null,null,null,null,null,null,null,null,null,null,null,null,null,null,null,null,null,null,null,null,null,null,null,null,null,null,null,null,null,null,null,null,null,null,null,null,null,null,null,null,null,null,null,null,null,null,null,null,null,null,null,null,null,null,null,null,null,null,null,null,null,null,null,null,null,null,null,null,null,null,null,null,null,null,null,null,null,null,null,null,null,null,null,null,null,null,null,null,null,null,null,null,null,null,null,null,null,null,null,null,null,null,null,null,null,null,null,null,null,null,null,null,null,null,null,null,null,null,null,null,null,null,null,null,null,null,null,null,null,null,null,null,null,null,null,null,null,null,null,null,null,null,null,null,null,null,null,null,null,null,null,null,null,null,null,null,null,null,null,null,null,null,null,null,null,null,null,null,null,null,null,null,null,null,null,null,null,null,null,null,null,null,null,null,null,null,null,null,null,null,null,null,null,null,null,null,null,null,null,null,null,null,null,null,null,null,null,null,null,null,null,null,null,null,null,null,null,null,null,null,null,null,null,null,null,null,null,null,null,null,null,null,null,null,null,null,null,null,null,null,null,null,null,null,null,null,null,null,null,null,null,null,null,null,null,null,null,null,null,null,null,null,null,null,null,null,null,null,null,null,null,null,null,null,null,null,null,null,null,null,null,null,null,null,null,null,null,null,null,null,null,null,null,null,null,null,null,null,null,null,null,null,null,null,null,null,null,null,null,null,null,null,null,null,null,null,null,null,null,null,null,null,null,null,null,null,null,null,null,null,null,null,null,null,null,null,null,null,null,null,null,null,null,null,null,null,null,null,null,null,null,null,null,null,null,null,null,null,null,null,null,null,null,null,null,null,null,null,null,null,null,null,null,null,null,null,null,null,null,null,null,null,null,null,null,null,null,null,null,null,null,null,null,null,null,null,null,null,null,null,null,null,null,null,null,null,null,null,null,null,null,null,null,null,null,null,null,null,null,null,null,null,null,null,null,null,null,null,null,null,null,null,null,null,null,null,null,null,null,null,null,null,null,null,null,null,null,null,null,null,null,null,null,null,null,null,null,null,null,null,null,null,null,null,null,null,null,null,null,null,null,null,null,null,null,null,null,null,null,null,null,null,null,null,null,null,null,null,null,null,null,null,null,null,null,null,null,null,null,null,null,null,null,null,null,null,null,null,null,null,null,null,null,null,null,null,null,null,null,null,null,null,null,null,null,null,null,null,null,null,null,null,null,null,null,null,null,null,null,null,null,null,null,null,null,null,null,null,null,null,null,null,null,null,null,null,null,null,null,null,null,null,null,null,null,null,null,null,null,null,null,null,null,null,null,null,null,null,null,null,null,null,null,null,null,null,null,null,null,null,null,null,null,null,null,null,null,null,null,null,null,null,null,null,null,null,null,null,null,null,null,null,null,null,null,null,null,null,null,null,null,null,null,null,null,null,null,null,null,null,null,null,null,null,null,null,null,null,null,null,null,null,null,null,null,null,null,null,null,null,null,null,null,null,null,null,null,null,null,null,null,null,null,null,null,null,null,null,null,null,null,null,null,null,null,null,null,null,null,null,null,null,null,null,null,null,null,null,null,null,null,null,null,null,null,null,null,null,null,null,null,null,null,null,null,null,null,null,null,null,null,null,null,null,null,null,null,null,null,null,null,null,null,null,null,null,null,null,null,null,null,null,null,null,null,null,null,null,null,null,null,null,null,null,null,null,null,null,null,null,null,null,null,null,null,null,null,null,null,null,null,null,null,null,null,null,null,null,null,null,null,null,null,null,null,null,null,null,null,null,null,null,null,null,null,null,null,null,null,null,null,null,null,null,null,null,null,null,null,null,null,null,null,null,null,null,null,null,null,null,null,null,null,null,null,null,null,null,null,null,null,null,null,null,null,null,null,null,null,null,null,null,null,null,null,null,null,null,null,null,null,null,null,null,null,null,null,null,null,null,null,null,null,null,null,null,null,null,null,null,null,null,null,null,null,null,null,null,null,null,null,null,null,null,null,null,null,null,null,null,null,null,null,null,null,null,null,null,null,null,null,null,null,null,null,null,null,null,null,null,null,null,null,null,null,null,null,null,null,null,null,null,null,null,null,null,null,null,null,null,null,null,null,null,null,null,null,null,null,null,null,null,null,null,null,null,null,null,null,null,null,null,null,null,null,null,null,null,null,null,null,null,null,null,null,null,null,null,null,null,null,null,null,null,null,null,null,null,null,null,null,null,null,null,null,null,null,null,null,null,null,null,null,null,null,null,null,null,null,null,null,null,null,null,null,null,null,null,null,null,null,null,null,null,null,null,null,null,null,null,null,null,null,null,null,null,null,null,null,null,null,null,null,null,null,null,null,null,null,null,null,null,null,null,null,null,null,null,null,null,null,null,null,null,null,null,null,null,null,null,null,null,null,null,null,null,null,null,null,null,null,null,null,null,null,null,null,null,null,null,null,null,null,null,null,null,null,null,null,null,null,null,null,null,null,null,null,null,null,null,null,null,null,null,null,null,null,null,null,null,null,null,null,null,null,null,null,null,null,null,null,null,null,null,null,null,null,null,null,null,null,null,null,null,null,null,null,null,null,null,null,null,null,null,null,null,null,null,null,null,null,null,null,null,null,null,null,null,null,null,null,null,null,null,null,null,null,null,null,null,null,null,null,null,null,null,null,null,null,null,null,null,null,null,null,null,null,null,null,null,null,null,null,null,null,null,null,null,null,null,null,null,null,null,null,null,null,null,null,null,null,null,null,null,null,null,null,null,null,null,null,null,null,null,null,null,null,null,null,null,null,null,null,null,null,null,null,null,null,null,null,null,null,null,null,null,null,null,null,null,null,null,null,null,null,null,null,null,null,null,null,null,null,null,null,null,null,null,null,null,null,null,null,null,null,null,null,null,null,null,null,null,null,null,null,null,null,null,null,null,null,null,null,null,null,null,null,null,null,null,null,null,null,null,null,null,null,null,null,null,null,null,null,null,null,null,null,null,null,null,null,null,null,null,null,null,null,null,null,null,null,null,null,null,null,null,null,null,null,null,null,null,null,null,null,null,null,null,null,null,null,null,null,null,null,null,null,null,null,null,null,null,null,null,null,null,null,null,null,null,null,null,null,null,null,null,null,null,null,null,null,null,null,null,null,null,null,null,null,null,null,null,null,null,null,null,null,null,null,null,null,null,null,null,null,null,null,null,null,null,null,null,null,null,null,null,null,null,null,null,null,null,null,null,null,null,null,null,null,null,null,null,null,null,null,null,null,null,null,null,null,null,null,null,null,null,null,null,null,null,null,null,null,null,null,null,null,null,null,null,null,null,null,null,null,null,null,null,null,null,null,null,null,null,null,null,null,null,null,null,null,null,null,null,null,null,null,null,null,null,null,null,null,null,null,null,null,null,null,null,null,null,null,null,null,null,null,null,null,null,null,null,null,null,null,null,null,null,null,null,null,null,null,null,null,null,null,null,null,null,null,null,null,null,null,null,null,null,null,null,null,null,null,null,null,null,null,null,null,null,null,null,null,null,null,null,null,null,null,null,null,null,null,null,null,null,null,null,null,null,null,null,null,null,null,null,null,null,null,null,null,null,null,null,null,null,null,null,null,null,null,null,null,null,null,null,null,null,null,null,null,null,null,null,null,null,null,null,null,null,null,null,null,null,null,null,null,null,null,null,null,null,null,null,null,null,null,null,null,null,null,null,null,null,null,null,null,null,null,null,null,null,null,null,null,null,null,null,null,null,null,null,null,null,null,null,null,null,null,null,null,null,null,null,null,null,null,null,null,null,null,null,null,null,null,null,null,null,null,null,null,null,null,null,null,null,null,null,null,null,null,null,null,null,null,null,null,null,null,null,null,null,null,null,null,null,null,null,null,null,null,null,null,null,null,null,null,null,null,null,null,null,null,null,null,null,null,null,null,null,null,null,null,null,null,null,null,null,null,null,null,null,null,null,null,null,null,null,null,null,null,null,null,null,null,null,null,null,null,null,null,null,null,null,null,null,null,null,null,null,null,null,null,null,null,null,null,null,null,null,null,null,null,null,null,null,null,null,null,null,null,null,null,null,null,null,null,null,null,null,null,null,null,null,null,null,null,null,null,null,null,null,null,null,null,null,null,null,null,null,null,null,null,null,null,null,null,null,null,null,null,null,null,null,null,null,null,null,null,null,null,null,null,null,null,null,null,null,null,null,null,null,null,null,null,null,null,null,null,null,null,null,null,null,null,null,null,null,null,null,null,null,null,null,null,null,null,null,null,null,null,null,null,null,null,null,null,null,null,null,null,null,null,null,null,null,null,null,null,null,null,null,null,null,null,null,null,null,null,null,null,null,null,null,null,null,null,null,null,null,null,null,null,null,null,null,null,null,null,null,null,null,null,null,null,null,null,null,null,null,null,null,null,null,null,null,null,null,null,null,null,null,null,null,null,null,null,null,null,null,null,null,null,null,null,null,null,null,null,null,null,null,null,null,null,null,null,null,null,null,null,null,null,null,null,null,null,null,null,null,null,null,null,null,null,null,null,null,null,null,null,null,null,null,null,null,null,null,null,null,null,null,null,null,null,null,null,null,null,null,null,null,null,null,null,null,null,null,null,null,null,null,null,null,null,null,null,null,null,null,null,null,null,null,null,null,null,null,null,null,null,null,null,null,null,null,null,null,null,null,null,null,null,null,null,null,null,null,null,null,null,null,null,null,null,null,null,null,null,null,null,null,null,null,null,null,null,null,null,null,null,null,null,null,null,null,null,null,null,null,null,null,null,null,null,null,null,null,null,null,null,null,null,null,null,null,null,null,null,null,null,null,null,null,null,null,null,null,null,null,null,null,null,null,null,null,null,null,null,null,null,null,null,null,null,null,null,null,null,null,null,null,null,null,null,null,null,null,null,null,null,null,null,null,null,null,null,null,null,null,null,null,null,null,null,null,null,null,null,null,null,null,null,null,null,null,null,null,null,null,null,null,null,null,null,null,null,null,null,null,null,null,null,null,null,null,null,null,null,null,null,null,null,null,null,null,null,null,null,null,null,null,null,null,null,null,null,null,null,null,null,null,null,null,null,null,null,null,null,null,null,null,null,null,null,null,null,null,null,null,null,null,null,null,null,null,null,null,null,null,null,null,null,null,null,null,null,null,null,null,null,null,null,null,null,null,null,null,null,null,null,null,null,null,null,null,null,null,null,null,null,null,null,null,null,null,null,null,null,null,null,null,null,null,null,null,null,null,null,null,null,null,null,null,null,null,null,null,null,null,null,null,null,null,null,null,null,null,null,null,null,null,null,null,null,null,null,null,null,null,null,null,null,null,null,null,null,null,null,null,null,null,null,null,null,null,null,null,null,null,null,null,null,null,null,null,null,null,null,null,null,null,null,null,null,null,null,null,null,null,null,null,null,null,null,null,null,null,null,null,null,null,null,null,null,null,null,null,null,null,null,null,null,null,null,null,null,null,null,null,null,null,null,null,null,null,null,null,null,null,null,null,null,null,null,null,null,null,null,null,null,null,null,null,null,null,null,null,null,null,null,null,null,null,null,null,null,null,null,null,null,null,null,null,null,null,null,null,null,null,null,null,null,null,null,null,null,null,null,null,null,null,null,null,null,null,null,null,null,null,null,null,null,null,null,null,null,null,null,null,null,null,null,null,null,null,null,null,null,null,null,null,null,null,null,null,null,null,null,null,null,null,null,null,null,null,null,null,null,null,null,null,null,null,null,null,null,null,null,null,null,null,null,null,null,null,null,null,null,null,null,null,null,null,null,null,null,null,null,null,null,null,null,null,null,null,null,null,null,null,null,null,null,null,null,null,null,null,null,null,null,null,null,null,null,null,null,null,null,null,null,null,null,null,null,null,null,null,null,null,null,null,null,null,null,null,null,null,null,null,null,null,null,null,null,null,null,null,null,null,null,null,null,null,null,null,null,null,null,null,null,null,null,null,null,null,null,null,null,null,null,null,null,null,null,null,null,null,null,null,null,null,null,null,null,null,null,null,null,null,null,null,null,null,null,null,null,null,null,null,null,null,null,null,null,null,null,null,null,null,null,null,null,null,null,null,null,null,null,null,null,null,null,null,null,null,null,null,null,null,null,null,null,null,null,null,null,null,null,null,null,null,null,null,null,null,null,null,null,null,null,null,null,null,null,null,null,null,null,null,null,null,null,null,null,null,null,null,null,null,null,null,null,null,null,null,null,null,null,null,null,null,null,null,null,null,null,null,null,null,null,null,null,null,null,null,null,null,null,null,null,null,null,null,null,null,null,null,null,null,null,null,null,null,null,null,null,null,null,null,null,null,null,null,null,null,null,null,null,null,null,null,null,null,null,null,null,null,null,null,null,null,null,null,null,null,null,null,null,null,null,null,null,null,null,null,null,null,null,null,null,null,null,null,null,null,null,null,null,null,null,null,null,null,null,null,null,null,null,null,null,null,null,null,null,null,null,null,null,null,null,null,null,null,null,null,null,null,null,null,null,null,null,null,null,null,null,null,null,null,null,null,null,null,null,null,null,null,null,null,null,null,null,null,null,null,null,null,null,null,null,null,null,null,null,null,null,null,null,null,null,null,null,null,null,null,null,null,null,null,null,null,null,null,null,null,null,null,null,null,null,null,null,null,null,null,null,null,null,null,null,null,null,null,null,null,null,null,null,null,null,null,null,null,null,null,null,null,null,null,null,null,null,null,null,null,null,null,null,null,null,null,null,null,null,null,null,null,null,null,null,null,null,null,null,null,null,null,null,null,null,null,null,null,null,null,null,null,null,null,null,null,null,null,null,null,null,null,null,null,null,null,null,null,null,null,null,null,null,null,null,null,null,null,null,null,null,null,null,null,null,null,null,null,null,null,null,null,null,null,null,null,null,null,null,null,null,null,null,null,null,null,null,null,null,null,null,null,null,null,null,null,null,null,null,null,null,null,null,null,null,null,null,null,null,null,null,null,null,null,null,null,null,null,null,null,null,null,null,null,null,null,null,null,null,null,null,null,null,null,null,null,null,null,null,null,null,null,null,null,null,null,null,null,null,null,null,null,null,null,null,null,null,null,null,null,null,null,null,null,null,null,null,null,null,null,null,null,null,null,null,null,null,null,null,null,null,null,null,null,null,null,null,null,null,null,null,null,null,null,null,null,null,null,null,null,null,null,null,null,null,null,null,null,null,null,null,null,null,null,null,null,null,null,null,null,null,null,null,null,null,null,null,null,null,null,null,null,null,null,null,null,null,null,null,null,null,null,null,null,null,null,null,null,null,null,null,null,null,null,null,null,null,null,null,null,null,null,null,null,null,null,null,null,null,null,null,null,null,null,null,null,null,null,null,null,null,null,null,null,null,null,null,null,null,null,null,null,null,null,null,null,null,null,null,null,null,null,null,null,null,null,null,null,null,null,null,null,null,null,null,null,null,null,null,null,null,null,null,null,null,null,null,null,null,null,null,null,null,null,null,null,null,null,null,null,null,null,null,null,null,null,null,null,null,null,null,null,null,null,null,null,null,null,null,null,null,null,null,null,null,null,null,null,null,null,null,null,null,null,null,null,null,null,null,null,null,null,null,null,null,null,null,null,null,null,null,null,null,null,null,null,null,null,null,null,null,null,null,null,null,null,null,null,null,null,null,null,null,null,null,null,null,null,null,null,null,null,null,null,null,null,null,null,null,null,null,null,null,null,null,null,null,null,null,null,null,null,null,null,null,null,null,null,null,null,null,null,null,null,null,null,null,null,null,null,null,null,null,null,null,null,null,null,null,null,null,null,null,null,null,null,null,null,null,null,null,null,null,null,null,null,null,null,null,null,null,null,null,null,null,null,null,null,null,null,null,null,null,null,null,null,null,null,null,null,null,null,null,null,null,null,null,null,null,null,null,null,null,null,null,null,null,null,null,null,null,null,null,null,null,null,null,null,null,null,null,null,null,null,null,null,null,null,null,null,null,null,null,null,null,null,null,null,null,null,null,null,null,null,null,null,null,null,null,null,null,null,null,null,null,null,null,null,null,null,null,null,null,null,null,null,null,null,null,null,null,null,null,null,null,null,null,null,null,null,null,null,null,null,null,null,null,null,null,null,null,null,null,null,null,null,null,null,null,null,null,null,null,null,null,null,null,null,null,null,null,null,null,null,null,null,null,null,null,null,null,null,null,null,null,null,null,null,null,null,null,null,null,null,null,null,null,null,null,null,null,null,null,null,null,null,null,null,null,null,null,null,null,null,null,null,null,null,null,null,null,null,null,null,null,null,null,null,null,null,null,null,null,null,null,null,null,null,null,null,null,null,null,null,null,null,null,null,null,null,null,null,null,null,null,null,null,null,null,null,null,null,null,null,null,null,null,null,null,null,null,null,null,null,null,null,null,null,null,null,null,null,null,null,null,null,null,null,null,null,null,null,null,null,null,null,null,null,null,null,null,null,null,null,null,null,null,null,null,null,null,null,null,null,null,null,null,null,null,null,null,null,null,null,null,null,null,null,null,null,null,null,null,null,null,null,null,null,null,null,null,null,null,null,null,null,null,null,null,null,null,null,null,null,null,null,null,null,null,null,null,null,null,null,null,null,null,null,null,null,null,null,null,null,null,null,null,null,null,null,null,null,null,null,null,null,null,null,null,null,null,null,null,null,null,null,null,null,null,null,null,null,null,null,null,null,null,null,null,null,null,null,null,null,null,null,null,null,null,null,null,null,null,null,null,null,null,null,null,null,null,null,null,null,null,null,null,null,null,null,null,null,null,null,null,null,null,null,null,null,null,null,null,null,null,null,null,null,null,null,null,null,null,null,null,null,null,null,null,null,null,null,null,null,null,null,null,null,null,null,null,null,null,null,null,null,null,null,null,null,null,null,null,null,null,null,null,null,null,null,null,null,null,null,null,null,null,null,null,null,null,null,null,null,null,null,null,null,null,null,null,null,null,null,null,null,null,null,null,null,null,null,null,null,null,null,null,null,null,null,null,null,null,null,null,null,null,null,null,null,null,null,null,null,null,null,null,null,null,null,null,null,null,null,null,null,null,null,null,null,null,null,null,null,null,null,null,null,null,null,null,null,null,null,null,null,null,null,null,null,null,null,null,null,null,null,null,null,null,null,null,null,null,null,null,null,null,null,null,null,null,null,null,null,null,null,null,null,null,null,null,null,null,null,null,null,null,null,null,null,null,null,null,null,null,null,null,null,null,null,null,null,null,null,null,null,null,null,null,null,null,null,null,null,null,null,null,null,null,null,null,null,null,null,null,null,null,null,null,null,null,null,null,null,null,null,null,null,null,null,null,null,null,null,null,null,null,null,null,null,null,null,null,null,null,null,null,null,null,null,null,null,null,null,null,null,null,null,null,null,null,null,null,null,null,null,null,null,null,null,null,null,null,null,null,null,null,null,null,null,null,null,null,null,null,null,null,null,null,null,null,null,null,null,null,null,null,null,null,null,null,null,null,null,null,null,null,null,null,null,null,null,null,null,null,null,null,null,null,null,null,null,null,null,null,null,null,null,null,null,null,null,null,null,null,null,null,null,null,null,null,null,null,null,null,null,null,null,null,null,null,null,null,null,null,null,null,null,null,null,null,null,null,null,null,null,null,null,null,null,null,null,null,null,null,null,null,null,null,null,null,null,null,null,null,null,null,null,null,null,null,null,null,null,null,null,null,null,null,null,null,null,null,null,null,null,null,null,null,null,null,null,null,null,null,null,null,null,null,null,null,null,null,null,null,null,null,null,null,null,null,null,null,null,null,null,null,null,null,null,null,null,null,null,null,null,null,null,null,null,null,null,null,null,null,null,null,null,null,null,null,null,null,null,null,null,null,null,null,null,null,null,null,null,null,null,null,null,null,null,null,null,null,null,null,null,null,null,null,null,null,null,null,null,null,null,null,null,null,null,null,null,null,null,null,null,null,null,null,null,null,null,null,null,null,null,null,null,null,null,null,null,null,null,null,null,null,null,null,null,null,null,null,null,null,null,null,null,null,null,null,null,null,null,null,null,null,null,null,null,null,null,null,null,null,null,null,null,null,null,null,null,null,null,null,null,null,null,null,null,null,null,null,null,null,null,null,null,null,null,null,null,null,null,null,null,null,null,null,null,null,null,null,null,null,null,null,null,null,null,null,null,null,null,null,null,null,null,null,null,null,null,null,null,null,null,null,null,null,null,null,null,null,null,null,null,null,null,null,null,null,null,null,null,null,null,null,null,null,null,null,null,null,null,null,null,null,null,null,null,null,null,null,null,null,null,null,null,null,null,null,null,null,null,null,null,null,null,null,null,null,null,null,null,null,null,null,null,null,null,null,null,null,null,null,null,null,null,null,null,null,null,null,null,null,null,null,null,null,null,null,null,null,null,null,null,null,null,null,null,null,null,null,null,null,null,null,null,null,null,null,null,null,null,null,null,null,null,null,null,null,null,null,null,null,null,null,null,null,null,null,null,null,null,null,null,null,null,null,null,null,null,null,null,null,null,null,null,null,null,null,null,null,null,null,null,null,null,null,null,null,null,null,null,null,null,null,null,null,null,null,null,null,null,null,null,null,null,null,null,null,null,null,null,null,null,null,null,null,null,null,null,null,null,null,null,null,null,null,null,null,null,null,null,null,null,null,null,null,null,null,null,null,null,null,null,null,null,null,null,null,null,null,null,null,null,null,null,null,null,null,null,null,null,null,null,null,null,null,null,null,null,null,null,null,null,null,null,null,null,null,null,null,null,null,null,null,null,null,null,null,null,null,null,null,null,null,null,null,null,null,null,null,null,null,null,null,null,null,null,null,null,null,null,null,null,null,null,null,null,null,null,null,null,null,null,null,null,null,null,null,null,null,null,null,null,null,null,null,null,null,null,null,null,null,null,null,null,null,null,null,null,null,null,null,null,null,null,null,null,null,null,null,null,null,null,null,null,null,null,null,null,null,null,null,null,null,null,null,null,null,null,null,null,null,null,null,null,null,null,null,null,null,null,null,null,null,null,null,null,null,null,null,null,null,null,null,null,null,null,null,null,null,null,null,null,null,null,null,null,null,null,null,null,null,null,null,null,null,null,null,null,null,null,null,null,null,null,null,null,null,null,null,null,null,null,null,null,null,null,null,null,null,null,null,null,null,null,null,null,null,null,null,null,null,null,null,null,null,null,null,null,null,null,null,null,null,null,null,null,null,null,null,null,null,null,null,null,null,null,null,null,null,null,null,null,null,null,null,null,null,null,null,null,null,null,null,null,null,null,null,null,null,null,null,null,null,null,null,null,null,null,null,null,null,null,null,null,null,null,null,null,null,null,null,null,null,null,null,null,null,null,null,null,null,null,null,null,null,null,null,null,null,null,null,null,null,null,null,null,null,null,null,null,null,null,null,null,null,null,null,null,null,null,null,null,null,null,null,null,null,null,null,null,null,null,null,null,null,null,null,null,null,null,null,null,null,null,null,null,null,null,null,null,null,null,null,null,null,null,null,null,null,null,null,null,null,null,null,null,null,null,null,null,null,null,null,null,null,null,null,null,null,null,null,null,null,null,null,null,null,null,null,null,null,null,null,null,null,null,null,null,null,null,null,null,null,null,null,null,null,null,null,null,null,null,null,null,null,null,null,null,null,null,null,null,null,null,null,null,null,null,null,null,null,null,null,null,null,null,null,null,null,null,null,null,null,null,null,null,null,null,null,null,null,null,null,null,null,null,null,null,null,null,null,null,null,null,null,null,null,null,null,null,null,null,null,null,null,null,null,null,null,null,null,null,null,null,null,null,null,null,null,null,null,null,null,null,null,null,null,null,null,null,null,null,null,null,null,null,null,null,null,null,null,null,null,null,null,null,null,null,null,null,null,null,null,null,null,null,null,null,null,null,null,null,null,null,null,null,null,null,null,null,null,null,null,null,null,null,null,null,null,null,null,null,null,null,null,null,null,null,null,null,null,null,null,null,null,null,null,null,null,null,null,null,null,null,null,null,null,null,null,null,null,null,null,null,null,null,null,null,null,null,null,null,null,null,null,null,null,null,null,null,null,null,null,null,null,null,null,null,null,null,null,null,null,null,null,null,null,null,null,null,null,null,null,null,null,null,null,null,null,null,null,null,null,null,null,null,null,null,null,null,null,null,null,null,null,null,null,null,null,null,null,null,null,null,null,null,null,null,null,null,null,null,null,null,null,null,null,null,null,null,null,null,null,null,null,null,null,null,null,null,null,null,null,null,null,null,null,null,null,null,null,null,null,null,null,null,null,null,null,null,null,null,null,null,null,null,null,null,null,null,null,null,null,null,null,null,null,null,null,null,null,null,null,null,null,null,null,null,null,null,null,null,null,null,null,null,null,null,null,null,null,null,null,null,null,null,null,null,null,null,null,null,null,null,null,null,null,null,null,null,null,null,null,null,null,null,null,null,null,null,null,null,null,null,null,null,null,null,null,null,null,null,null,null,null,null,null,null,null,null,null,null,null,null,null,null,null,null,null,null,null,null,null,null,null,null,null,null,null,null,null,null,null,null,null,null,null,null,null,null,null,null,null,null,null,null,null,null,null,null,null,null,null,null,null,null,null,null,null,null,null,null,null,null,null,null,null,null,null,null,null,null,null,null,null,null,null,null,null,null,null,null,null,null,null,null,null,null,null,null,null,null,null,null,null,null,null,null,null,null,null,null,null,null,null,null,null,null,null,null,null,null,null,null,null,null,null,null,null,null,null,null,null,null,null,null,null,null,null,null,null,null,null,null,null,null,null,null,null,null,null,null,null,null,null,null,null,null,null,null,null,null,null,null,null,null,null,null,null,null,null,null,null,null,null,null,null,null,null,null,null,null,null,null,null,null,null,null,null,null,null,null,null,null,null,null,null,null,null,null,null,null,null,null,null,null,null,null,null,null,null,null,null,null,null,null,null,null,null,null,null,null,null,null,null,null,null,null,null,null,null,null,null,null,null,null,null,null,null,null,null,null,null,null,null,null,null,null,null,null,null,null,null,null,null,null,null,null,null,null,null,null,null,null,null,null,null,null,null,null,null,null,null,null,null,null,null,null,null,null,null,null,null,null,null,null,null,null,null,null,null,null,null,null,null,null,null,null,null,null,null,null,null,null,null,null,null,null,null,null,null,null,null,null,null,null,null,null,null,null,null,null,null,null,null,null,null,null,null,null,null,null,null,null,null,null,null,null,null,null,null,null,null,null,null,null,null,null,null,null,null,null,null,null,null,null,null,null,null,null,null,null,null,null,null,null,null,null,null,null,null,null,null,null,null,null,null,null,null,null,null,null,null,null,null,null,null,null,null,null,null,null,null,null,null,null,null,null,null,null,null,null,null,null,null,null,null,null,null,null,null,null,null,null,null,null,null,null,null,null,null,null,null,null,null,null,null,null,null,null,null,null,null,null,null,null,null,null,null,null,null,null,null,null,null,null,null,null,null,null,null,null,null,null,null,null,null,null,null,null,null,null,null,null,null,null,null,null,null,null,null,null,null,null,null,null,null,null,null,null,null,null,null,null,null,null,null,null,null,null,null,null,null,null,null,null,null,null,null,null,null,null,null,null,null,null,null,null,null,null,null,null,null,null,null,null,null,null,null,null,null,null,null,null,null,null,null,null,null,null,null,null,null,null,null,null,null,null,null,null,null,null,null,null,null,null,null,null,null,null,null,null,null,null,null,null,null,null,null,null,null,null,null,null,null,null,null,null,null,null,null,null,null,null,null,null,null,null,null,null,null,null,null,null,null,null,null,null,null,null,null,null,null,null,null,null,null,null,null,null,null,null,null,null,null,null,null,null,null,null,null,null,null,null,null,null,null,null,null,null,null,null,null,null,null,null,null,null,null,null,null,null,null,null,null,null,null,null,null,null,null,null,null,null,null,null,null,null,null,null,null,null,null,null,null,null,null,null,null,null,null,null,null,null,null,null,null,null,null,null,null,null,null,null,null,null,null,null,null,null,null,null,null,null,null,null,null,null,null,null,null,null,null,null,null,null,null,null,null,null,null,null,null,null,null,null,null,null,null,null,null,null,null,null,null,null,null,null,null,null,null,null,null,null,null,null,null,null,null,null,null,null,null,null,null,null,null,null,null,null,null,null,null,null,null,null,null,null,null,null,null,null,null,null,null,null,null,null,null,null,null,null,null,null,null,null,null,null,null,null,null,null,null,null,null,null,null,null,null,null,null,null,null,null,null,null,null,null,null,null,null,null,null,null,null,null,null,null,null,null,null,null,null,null,null,null,null,null,null,null,null,null,null,null,null,null,null,null,null,null,null,null,null,null,null,null,null,null,null,null,null,null,null,null,null,null,null,null,null,null,null,null,null,null,null,null,null,null,null,null,null,null,null,null,null,null,null,null,null,null,null,null,null,null,null,null,null,null,null,null,null,null,null,null,null,null,null,null,null,null,null,null,null,null,null,null,null,null,null,null,null,null,null,null,null,null,null,null,null,null,null,null,null,null,null,null,null,null,null,null,null,null,null,null,null,null,null,null,null,null,null,null,null,null,null,null,null,null,null,null,null,null,null,null,null,null,null,null,null,null,null,null,null,null,null,null,null,null,null,null,null,null,null,null,null,null,null,null,null,null,null,null,null,null,null,null,null,null,null,null,null,null,null,null,null,null,null,null,null,null,null,null,null,null,null,null,null,null,null,null,null,null,null,null,null,null,null,null,null,null,null,null,null,null,null,null,null,null,null,null,null,null,null,null,null,null,null,null,null,null,null,null,null,null,null,null,null,null,null,null,null,null,null,null,null,null,null,null,null,null,null,null,null,null,null,null,null,null,null,null,null,null,null,null,null,null,null,null,null,null,null,null,null,null,null,null,null,null,null,null,null,null,null,null,null,null,null,null,null,null,null,null,null,null,null,null,null,null,null,null,null,null,null,null,null,null,null,null,null,null,null,null,null,null,null,null,null,null,null,null,null,null,null,null,null,null,null,null,null,null,null,null,null,null,null,null,null,null,null,null,null,null,null,null,null,null,null,null,null,null,null,null,null,null,null,null,null,null,null,null,null,null,null,null,null,null,null,null,null,null,null,null,null,null,null,null,null,null,null,null,null,null,null,null,null,null,null,null,null,null,null,null,null,null,null,null,null,null,null,null,null,null,null,null,null,null,null,null,null,null,null,null,null,null,null,null,null,null,null,null,null,null,null,null,null,null,null,null,null,null,null,null,null,null,null,null,null,null,null,null,null,null,null,null,null,null,null,null,null,null,null,null,null,null,null,null,null,null,null,null,null,null,null,null,null,null,null,null,null,null,null,null,null,null,null,null,null,null,null,null,null,null,null,null,null,null,null,null,null,null,null,null,null,null,null,null,null,null,null,null,null,null,null,null,null,null,null,null,null,null,null,null,null,null,null,null,null,null,null,null,null,null,null,null,null,null,null,null,null,null,null,null,null,null,null,null,null,null,null,null,null,null,null,null,null,null,null,null,null,null,null,null,null,null,null,null,null,null,null,null,null,null,null,null,null,null,null,null,null,null,null,null,null,null,null,null,null,null,null,null,null,null,null,null,null,null,null,null,null,null,null,null,null,null,null,null,null,null,null,null,null,null,null,null,null,null,null,null,null,null,null,null,null,null,null,null,null,null,null,null,null,null,null,null,null,null,null,null,null,null,null,null,null,null,null,null,null,null,null,null,null,null,null,null,null,null,null,null,null,null,null,null,null,null,null,null,null,null,null,null,null,null,null,null,null,null,null,null,null,null,null,null,null,null,null,null,null,null,null,null,null,null,null,null,null,null,null,null,null,null,null,null,null,null,null,null,null,null,null,null,null,null,null,null,null,null,null,null,null,null,null,null,null,null,null,null,null,null,null,null,null,null,null,null,null,null,null,null,null,null,null,null,null,null,null,null,null,null,null,null,null,null,null,null,null,null,null,null,null,null,null,null,null,null,null,null,null,null,null,null,null,null,null,null,null,null,null,null,null,null,null,null,null,null,null,null,null,null,null,null,null,null,null,null,null,null,null,null,null,null,null,null,null,null,null,null,null,null,null,null,null,null,null,null,null,null,null,null,null,null,null,null,null,null,null,null,null,null,null,null,null,null,null,null,null,null,null,null,null,null,null,null,null,null,null,null,null,null,null,null,null,null,null,null,null,null,null,null,null,null,null,null,null,null,null,null,null,null,null,null,null,null,null,null,null,null,null,null,null,null,null,null,null,null,null,null,null,null,null,null,null,null,null,null,null,null,null,null,null,null,null,null,null,null,null,null,null,null,null,null,null,null,null,null,null,null,null,null,null,null,null,null,null,null,null,null,null,null,null,null,null,null,null,null,null,null,null,null,null,null,null,null,null,null,null,null,null,null,null,null,null,null,null,null,null,null,null,null,null,null,null,null,null,null,null,null,null,null,null,null,null,null,null,null,null,null,null,null,null,null,null,null,null,null,null,null,null,null,null,null,null,null,null,null,null,null,null,null,null,null,null,null,null,null,null,null,null,null,null,null,null,null,null,null,null,null,null,null,null,null,null,null,null,null,null,null,null,null,null,null,null,null,null,null,null,null,null,null,null,null,null,null,null,null,null,null,null,null,null,null,null,null,null,null,null,null,null,null,null,null,null,null,null,null,null,null,null,null,null,null,null,null,null,null,null,null,null,null,null,null,null,null,null,null,null,null,null,null,null,null,null,null,null,null,null,null,null,null,null,null,null,null,null,null,null,null,null,null,null,null,null,null,null,null,null,null,null,null,null,null,null,null,null,null,null,null,null,null,null,null,null,null,null,null,null,null,null,null,null,null,null,null,null,null,null,null,null,null,null,null,null,null,null,null,null,null,null,null,null,null,null,null,null,null,null,null,null,null,null,null,null,null,null,null,null,null,null,null,null,null,null,null,null,null,null,null,null,null,null,null,null,null,null,null,null,null,null,null,null,null,null,null,null,null,null,null,null,null,null,null,null,null,null,null,null,null,null,null,null,null,null,null,null,null,null,null,null,null,null,null,null,null,null,null,null,null,null,null,null,null,null,null,null,null,null,null,null,null,null,null,null,null,null,null,null,null,null,null,null,null,null,null,null,null,null,null,null,null,null,null,null,null,null,null,null,null,null,null,null,null,null,null,null,null,null,null,null,null,null,null,null,null,null,null,null,null,null,null,null,null,null,null,null,null,null,null,null,null,null,null,null,null,null,null,null,null,null,null,null,null,null,null,null,null,null,null,null,null,null,null,null,null,null,null,null,null,null,null,null,null,null,null,null,null,null,null,null,null,null,null,null,null,null,null,null,null,null,null,null,null,null,null,null,null,null,null,null,null,null,null,null,null,null,null,null,null,null,null,null,null,null,null,null,null,null,null,null,null,null,null,null,null,null,null,null,null,null,null,null,null,null,null,null,null,null,null,null,null,null,null,null,null,null,null,null,null,null,null,null,null,null,null,null,null,null,null,null,null,null,null,null,null,null,null,null,null,null,null,null,null,null,null,null,null,null,null,null,null,null,null,null,null,null,null,null,null,null,null,null,null,null,null,null,null,null,null,null,null,null,null,null,null,null,null,null,null,null,null,null,null,null,null,null,null,null,null,null,null,null,null,null,null,null,null,null,null,null,null,null,null,null,null,null,null,null,null,null,null,null,null,null,null,null,null,null,null,null,null,null,null,null,null,null,null,null,null,null,null,null,null,null,null,null,null,null,null,null,null,null,null,null,null,null,null,null,null,null,null,null,null,null,null,null,null,null,null,null,null,null,null,null,null,null,null,null,null,null,null,null,null,null,null,null,null,null,null,null,null,null,null,null,null,null,null,null,null,null,null,null,null,null,null,null,null,null,null,null,null,null,null,null,null,null,null,null,null,null,null,null,null,null,null,null,null,null,null,null,null,null,null,null,null,null,null,null,null,null,null,null,null,null,null,null,null,null,null,null,null,null,null,null,null,null,null,null,null,null,null,null,null,null,null,null,null,null,null,null,null,null,null,null,null,null,null,null,null,null,null,null,null,null,null,null,null,null,null,null,null,null,null,null,null,null,null,null,null,null,null,null,null,null,null,null,null,null,null,null,null,null,null,null,null,null,null,null,null,null,null,null,null,null,null,null,null,null,null,null,null,null,null,null,null,null,null,null,null,null,null,null,null,null,null,null,null,null,null,null,null,null,null,null,null,null,null,null,null,null,null,null,null,null,null,null,null,null,null,null,null,null,null,null,null,null,null,null,null,null,null,null,null,null,null,null,null,null,null,null,null,null,null,null,null,null,null,null,null,null,null,null,null,null,null,null,null,null,null,null,null,null,null,null,null,null,null,null,null,null,null,null,null,null,null,null,null,null,null,null,null,null,null,null,null,null,null,null,null,null,null,null,null,null,null,null,null,null,null,null,null,null,null,null,null,null,null,null,null,null,null,null,null,null,null,null,null,null,null,null,null,null,null,null,null,null,null,null,null,null,null,null,null,null,null,null,null,null,null,null,null,null,null,null,null,null,null,null,null,null,null,null,null,null,null,null,null,null,null,null,null,null,null,null,null,null,null,null,null,null,null,null,null,null,null,null,null,null,null,null,null,null,null,null,null,null,null,null,null,null,null,null,null,null,null,null,null,null,null,null,null,null,null,null,null,null,null,null,null,null,null,null,null,null,null,null,null,null,null,null,null,null,null,null,null,null,null,null,null,null,null,null,null,null,null,null,null,null,null,null,null,null,null,null,null,null,null,null,null,null,null,null,null,null,null,null,null,null,null,null,null,null,null,null,null,null,null,null,null,null,null,null,null,null,null,null,null,null,null,null,null,null,null,null,null,null,null,null,null,null,null,null,null,null,null,null,null,null,null,null,null,null,null,null,null,null,null,null,null,null,null,null,null,null,null,null,null,null,null,null,null,null,null,null,null,null,null,null,null,null,null,null,null,null,null,null,null,null,null,null,null,null,null,null,null,null,null,null,null,null,null,null,null,null,null,null,null,null,null,null,null,null,null,null,null,null,null,null,null,null,null,null,null,null,null,null,null,null,null,null,null,null,null,null,null,null,null,null,null,null,null,null,null,null,null,null,null,null,null,null,null,null,null,null,null,null,null,null,null,null,null,null,null,null,null,null,null,null,null,null,null,null,null,null,null,null,null,null,null,null,null,null,null,null,null,null,null,null,null,null,null,null,null,null,null,null,null,null,null,null,null,null,null,null,null,null,null,null,null,null,null,null,null,null,null,null,null,null,null,null,null,null,null,null,null,null,null,null,null,null,null,null,null,null,null,null,null,null,null,null,null,null,null,null,null,null,null,null,null,null,null,null,null,null,null,null,null,null,null,null,null,null,null,null,null,null,null,null,null,null,null,null,null,null,null,null,null,null,null,null,null,null,null,null,null,null,null,null,null,null,null,null,null,null,null,null,null,null,null,null,null,null,null,null,null,null,null,null,null,null,null,null,null,null,null,null,null,null,null,null,null,null,null,null,null,null,null,null,null,null,null,null,null,null,null,null,null,null,null,null,null,null,null,null,null,null,null,null,null,null,null,null,null,null,null,null,null,null,null,null,null,null,null,null,null,null,null,null,null,null,null,null,null,null,null,null,null,null,null,null,null,null,null,null,null,null,null,null,null,null,null,null,null,null,null,null,null,null,null,null,null,null,null,null,null,null,null,null,null,null,null,null,null,null,null,null,null,null,null,null,null,null,null,null,null,null,null,null,null,null,null,null,null,null,null,null,null,null,null,null,null,null,null,null,null,null,null,null,null,null,null,null,null,null,null,null,null,null,null,null,null,null,null,null,null,null,null,null,null,null,null,null,null,null,null,null,null,null,null,null,null,null,null,null,null,null,null,null,null,null,null,null,null,null,null,null,null,null,null,null,null,null,null,null,null,null,null,null,null,null,null,null,null,null,null,null,null,null,null,null,null,null,null,null,null,null,null,null,null,null,null,null,null,null,null,null,null,null,null,null,null,null,null,null,null,null,null,null,null,null,null,null,null,null,null,null,null,null,null,null,null,null,null,null,null,null,null,null,null,null,null,null,null,null,null,null,null,null,null,null,null,null,null,null,null,null,null,null,null,null,null,null,null,null,null,null,null,null,null,null,null,null,null,null,null,null,null,null,null,null,null,null,null,null,null,null,null,null,null,null,null,null,null,null,null,null,null,null,null,null,null,null,null,null,null,null,null,null,null,null,null,null,null,null,null,null,null,null,null,null,null,null,null,null,null,null,null,null,null,null,null,null,null,null,null,null,null,null,null,null,null,null,null,null,null,null,null,null,null,null,null,null,null,null,null,null,null,null,null,null,null,null,null,null,null,null,null,null,null,null,null,null,null,null,null,null,null,null,null,null,null,null,null,null,null,null,null,null,null,null,null,null,null,null,null,null,null,null,null,null,null,null,null,null,null,null,null,null,null,null,null,null,null,null,null,null,null,null,null,null,null,null,null,null,null,null,null,null,null,null,null,null,null,null,null,null,null,null,null,null,null,null,null,null,null,null,null,null,null,null,null,null,null,null,null,null,null,null,null,null,null,null,null,null,null,null,null,null,null,null,null,null,null,null,null,null,null,null,null,null,null,null,null,null,null,null,null,null,null,null,null,null,null,null,null,null,null,null,null,null,null,null,null,null,null,null,null,null,null,null,null,null,null,null,null,null,null,null,null,null,null,null,null,null,null,null,null,null,null,null,null,null,null,null,null,null,null,null,null,null,null,null,null,null,null,null,null,null,null,null,null,null,null,null,null,null,null,null,null,null,null,null,null,null,null,null,null,null,null,null,null,null,null,null,null,null,null,null,null,null,null,null,null,null,null,null,null,null,null,null,null,null,null,null,null,null,null,null,null,null,null,null,null,null,null,null,null,null,null,null,null,null,null,null,null,null,null,null,null,null,null,null,null,null,null,null,null,null,null,null,null,null,null,null,null,null,null,null,null,null,null,null,null,null,null,null,null,null,null,null,null,null,null,null,null,null,null,null,null,null,null,null,null,null,null,null,null,null,null,null,null,null,null,null,null,null,null,null,null,null,null,null,null,null,null,null,null,null,null,null,null,null,null,null,null,null,null,null,null,null,null,null,null,null,null,null,null,null,null,null,null,null,null,null,null,null,null,null,null,null,null,null,null,null,null,null,null,null,null,null,null,null,null,null,null,null,null,null,null,null,null,null,null,null,null,null,null,null,null,null,null,null,null,null,null,null,null,null,null,null,null,null,null,null,null,null,null,null,null,null,null,null,null,null,null,null,null,null,null,null,null,null,null,null,null,null,null,null,null,null,null,null,null,null,null,null,null,null,null,null,null,null,null,null,null,null,null,null,null,null,null,null,null,null,null,null,null,null,null,null,null,null,null,null,null,null,null,null,null,null,null,null,null,null,null,null,null,null,null,null,null,null,null,null,null,null,null,null,null,null,null,null,null,null,null,null,null,null,null,null,null,null,null,null,null,null,null,null,null,null,null,null,null,null,null,null,null,null,null,null,null,null,null,null,null,null,null,null,null,null,null,null,null,null,null,null,null,null,null,null,null,null,null,null,null,null,null,null,null,null,null,null,null,null,null,null,null,null,null,null,null,null,null,null,null,null,null,null,null,null,null,null,null,null,null,null,null,null,null,null,null,null,null,null,null,null,null,null,null,null,null,null,null,null,null,null,null,null,null,null,null,null,null,null,null,null,null,null,null,null,null,null,null,null,null,null,null,null,null,null,null,null,null,null,null,null,null,null,null,null,null,null,null,null,null,null,null,null,null,null,null,null,null,null,null,null,null,null,null,null,null,null,null,null,null,null,null,null,null,null,null,null,null,null,null,null,null,null,null,null,null,null,null,null,null,null,null,null,null,null,null,null,null,null,null,null,null,null,null,null,null,null,null,null,null,null,null,null,null,null,null,null,null,null,null,null,null,null,null,null,null,null,null,null,null,null,null,null,null,null,null,null,null,null,null,null,null,null,null,null,null,null,null,null,null,null,null,null,null,null,null,null,null,null,null,null,null,null,null,null,null,null,null,null,null,null,null,null,null,null,null,null,null,null,null,null,null,null,null,null,null,null,null,null,null,null,null,null,null,null,null,null,null,null,null,null,null,null,null,null,null,null,null,null,null,null,null,null,null,null,null,null,null,null,null,null,null,null,null,null,null,null,null,null,null,null,null,null,null,null,null,null,null,null,null,null,null,null,null,null,null,null,null,null,null,null,null,null,null,null,null,null,null,null,null,null,null,null,null,null,null,null,null,null,null,null,null,null,null,null,null,null,null,null,null,null,null,null,null,null,null,null,null,null,null,null,null,null,null,null,null,null,null,null,null,null,null,null,null,null,null,null,null,null,null,null,null,null,null,null,null,null,null,null,null,null,null,null,null,null,null,null,null,null,null,null,null,null,null,null,null,null,null,null,null,null,null,null,null,null,null,null,null,null,null,null,null,null,null,null,null,null,null,null,null,null,null,null,null,null,null,null,null,null,null,null,null,null,null,null,null,null,null,null,null,null,null,null,null,null,null,null,null,null,null,null,null,null,null,null,null,null,null,null,null,null,null,null,null,null,null,null,null,null,null,null,null,null,null,null,null,null,null,null,null,null,null,null,null,null,null,null,null,null,null,null,null,null,null,null,null,null,null,null,null,null,null,null,null,null,null,null,null,null,null,null,null,null,null,null,null,null,null,null,null,null,null,null,null,null,null,null,null,null,null,null,null,null,null,null,null,null,null,null,null,null,null,null,null,null,null,null,null,null,null,null,null,null,null,null,null,null,null,null,null,null,null,null,null,null,null,null,null,null,null,null,null,null,null,null,null,null,null,null,null,null,null,null,null,null,null,null,null,null,null,null,null,null,null,null,null,null,null,null,null,null,null,null,null,null,null,null,null,null,null,null,null,null,null,null,null,null,null,null,null,null,null,null,null,null,null,null,null,null,null,null,null,null,null,null,null,null,null,null,null,null,null,null,null,null,null,null,null,null,null,null,null,null,null,null,null,null,null,null,null,null,null,null,null,null,null,null,null,null,null,null,null,null,null,null,null,null,null,null,null,null,null,null,null,null,null,null,null,null,null,null,null,null,null,null,null,null,null,null,null,null,null,null,null,null,null,null,null,null,null,null,null,null,null,null,null,null,null,null,null,null,null,null,null,null,null,null,null,null,null,null,null,null,null,null,null,null,null,null,null,null,null,null,null,null,null,null,null,null,null,null,null,null,null,null,null,null,null,null,null,null,null,null,null,null,null,null,null,null,null,null,null,null,null,null,null,null,null,null,null,null,null,null,null,null,null,null,null,null,null,null,null,null,null,null,null,null,null,null,null,null,null,null,null,null,null,null,null,null,null,null,null,null,null,null,null,null,null,null,null,null,null,null,null,null,null,null,null,null,null,null,null,null,null,null,null,null,null,null,null,null,null,null,null,null,null,null,null,null,null,null,null,null,null,null,null,null,null,null,null,null,null,null,null,null,null,null,null,null,null,null,null,null,null,null,null,null,null,null,null,null,null,null,null,null,null,null,null,null,null,null,null,null,null,null,null,null,null,null,null,null,null,null,null,null,null,null,null,null,null,null,null,null,null,null,null,null,null,null,null,null,null,null,null,null,null,null,null,null,null,null,null,null,null,null,null,null,null,null,null,null,null,null,null,null,null,null,null,null,null,null,null,null,null,null,null,null,null,null,null,null,null,null,null,null,null,null,null,null,null,null,null,null,null,null,null,null,null,null,null,null,null,null,null,null,null,null,null,null,null,null,null,null,null,null,null,null,null,null,null,null,null,null,null,null,null,null,null,null,null,null,null,null,null,null,null,null,null,null,null,null,null,null,null,null,null,null,null,null,null,null,null,null,null,null,null,null,null,null,null,null,null,null,null,null,null,null,null,null,null,null,null,null,null,null,null,null,null,null,null,null,null,null,null,null,null,null,null,null,null,null,null,null,null,null,null,null,null,null,null,null,null,null,null,null,null,null,null,null,null,null,null,null,null,null,null,null,null,null,null,null,null,null,null,null,null,null,null,null,null,null,null,null,null,null,null,null,null,null,null,null,null,null,null,null,null,null,null,null,null,null,null,null,null,null,null,null,null,null,null,null,null,null,null,null,null,null,null,null,null,null,null,null,null,null,null,null,null,null,null,null,null,null,null,null,null,null,null,null,null,null,null,null,null,null,null,null,null,null,null,null,null,null,null,null,null,null,null,null,null,null,null,null,null,null,null,null,null,null,null,null,null,null,null,null,null,null,null,null,null,null,null,null,null,null,null,null,null,null,null,null,null,null,null,null,null,null,null,null,null,null,null,null,null,null,null,null,null,null,null,null,null,null,null,null,null,null,null,null,null,null,null,null,null,null,null,null,null,null,null,null,null,null,null,null,null,null,null,null,null,null,null,null,null,null,null,null,null,null,null,null,null,null,null,null,null,null,null,null,null,null,null,null,null,null,null,null,null,null,null,null,null,null,null,null,null,null,null,null,null,null,null,null,null,null,null,null,null,null,null,null,null,null,null,null,null,null,null,null,null,null,null,null,null,null,null,null,null,null,null,null,null,null,null,null,null,null,null,null,null,null,null,null,null,null,null,null,null,null,null,null,null,null,null,null,null,null,null,null,null,null,null,null,null,null,null,null,null,null,null,null,null,null,null,null,null,null,null,null,null,null,null,null,null,null,null,null,null,null,null,null,null,null,null,null,null,null,null,null,null,null,null,null,null,null,null,null,null,null,null,null,null,null,null,null,null,null,null,null,null,null,null,null,null,null,null,null,null,null,null,null,null,null,null,null,null,null,null,null,null,null,null,null,null,null,null,null,null,null,null,null,null,null,null,null,null,null,null,null,null,null,null,null,null,null,null,null,null,null,null,null,null,null,null,null,null,null,null,null,null,null,null,null,null,null,null,null,null,null,null,null,null,null,null,null,null,null,null,null,null,null,null,null,null,null,null,null,null,null,null,null,null,null,null,null,null,null,null,null,null,null,null,null,null,null,null,null,null,null,null,null,null,null,null,null,null,null,null,null,null,null,null,null,null,null,null,null,null,null,null,null,null,null,null,null,null,null,null,null,null,null,null,null,null,null,null,null,null,null,null,null,null,null,null,null,null,null,null,null,null,null,null,null,null,null,null,null,null,null,null,null,null,null,null,null,null,null,null,null,null,null,null,null,null,null,null,null,null,null,null,null,null,null,null,null,null,null,null,null,null,null,null,null,null,null,null,null,null,null,null,null,null,null,null,null,null,null,null,null,null,null,null,null,null,null,null,null,null,null,null,null,null,null,null,null,null,null,null,null,null,null,null,null,null,null,null,null,null,null,null,null,null,null,null,null,null,null,null,null,null,null,null,null,null,null,null,null,null,null,null,null,null,null,null,null,null,null,null,null,null,null,null,null,null,null,null,null,null,null,null,null,null,null,null,null,null,null,null,null,null,null,null,null,null,null,null,null,null,null,null,null,null,null,null,null,null,null,null,null,null,null,null,null,null,null,null,null,null,null,null,null,null,null,null,null,null,null,null,null,null,null,null,null,null,null,null,null,null,null,null,null,null,null,null,null,null,null,null,null,null,null,null,null,null,null,null,null,null,null,null,null,null,null,null,null,null,null,null,null,null,null,null,null,null,null,null,null,null,null,null,null,null,null,null,null,null,null,null,null,null,null,null,null,null,null,null,null,null,null,null,null,null,null,null,null,null,null,null,null,null,null,null,null,null,null,null,null,null,null,null,null,null,null,null,null,null,null,null,null,null,null,null,null,null,null,null,null,null,null,null,null,null,null,null,null,null,null,null,null,null,null,null,null,null,null,null,null,null,null,null,null,null,null,null,null,null,null,null,null,null,null,null,null,null,null,null,null,null,null,null,null,null,null,null,null,null,null,null,null,null,null,null,null,null,null,null,null,null,null,null,null,null,null,null,null,null,null,null,null,null,null,null,null,null,null,null,null,null,null,null,null,null,null,null,null,null,null,null,null,null,null,null,null,null,null,null,null,null,null,null,null,null,null,null,null,null,null,null,null,null,null,null,null,null,null,null,null,null,null,null,null,null,null,null,null,null,null,null,null,null,null,null,null,null,null,null,null,null,null,null,null,null,null,null,null,null,null,null,null,null,null,null,null,null,null,null,null,null,null,null,null,null,null,null,null,null,null,null,null,null,null,null,null,null,null,null,null,null,null,null,null,null,null,null,null,null,null,null,null,null,null,null,null,null,null,null,null,null,null,null,null,null,null,null,null,null,null,null,null,null,null,null,null,null,null,null,null,null,null,null,null,null,null,null,null,null,null,null,null,null,null,null,null,null,null,null,null,null,null,null,null,null,null,null,null,null,null,null,null,null,null,null,null,null,null,null,null,null,null,null,null,null,null,null,null,null,null,null,null,null,null,null,null,null,null,null,null,null,null,null,null,null,null,null,null,null,null,null,null,null,null,null,null,null,null,null,null,null,null,null,null,null,null,null,null,null,null,null,null,null,null,null,null,null,null,null,null,null,null,null,null,null,null,null,null,null,null,null,null,null,null,null,null,null,null,null,null,null,null,null,null,null,null,null,null,null,null,null,null,null,null,null,null,null,null,null,null,null,null,null,null,null,null,null,null,null,null,null,null,null,null,null,null,null,null,null,null,null,null,null,null,null,null,null,null,null,null,null,null,null,null,null,null,null,null,null,null,null,null,null,null,null,null,null,null,null,null,null,null,null,null,null,null,null,null,null,null,null,null,null,null,null,null,null,null,null,null,null,null,null,null,null,null,null,null,null,null,null,null,null,null,null,null,null,null,null,null,null,null,null,null,null,null,null,null,null,null,null,null,null,null,null,null,null,null,null,null,null,null,null,null,null,null,null,null,null,null,null,null,null,null,null,null,null,null,null,null,null,null,null,null,null,null,null,null,null,null,null,null,null,null,null,null,null,null,null,null,null,null,null,null,null,null,null,null,null,null,null,null,null,null,null,null,null,null,null,null,null,null,null,null,null,null,null,null,null,null,null,null,null,null,null,null,null,null,null,null,null,null,null,null,null,null,null,null,null,null,null,null,null,null,null,null,null,null,null,null,null,null,null,null,null,null,null,null,null,null,null,null,null,null,null,null,null,null,null,null,null,null,null,null,null,null,null,null,null,null,null,null,null,null,null,null,null,null,null,null,null,null,null,null,null,null,null,null,null,null,null,null,null,null,null,null,null,null,null,null,null,null,null,null,null,null,null,null,null,null,null,null,null,null,null,null,null,null,null,null,null,null,null,null,null,null,null,null,null,null,null,null,null,null,null,null,null,null,null,null,null,null,null,null,null,null,null,null,null,null,null,null,null,null,null,null,null,null,null,null,null,null,null,null,null,null,null,null,null,null,null,null,null,null,null,null,null,null,null,null,null,null,null,null,null,null,null,null,null,null,null,null,null,null,null,null,null,null,null,null,null,null,null,null,null,null,null,null,null,null,null,null,null,null,null,null,null,null,null,null,null,null,null,null,null,null,null,null,null,null,null,null,null,null,null,null,null,null,null,null,null,null,null,null,null,null,null,null,null,null,null,null,null,null,null,null,null,null,null,null,null,null,null,null,null,null,null,null,null,null,null,null,null,null,null,null,null,null,null,null,null,null,null,null,null,null,null,null,null,null,null,null,null,null,null,null,null,null,null,null,null,null,null,null,null,null,null,null,null,null,null,null,null,null,null,null,null,null,null,null,null,null,null,null,null,null,null,null,null,null,null,null,null,null,null,null,null,null,null,null,null,null,null,null,null,null,null,null,null,null,null,null,null,null,null,null,null,null,null,null,null,null,null,null,null,null,null,null,null,null,null,null,null,null,null,null,null,null,null,null,null,null,null,null,null,null,null,null,null,null,null,null,null,null,null,null,null,null,null,null,null,null,null,null,null,null,null,null,null,null,null,null,null,null,null,null,null,null,null,null,null,null,null,null,null,null,null,null,null,null,null,null,null,null,null,null,null,null,null,null,null,null,null,null,null,null,null,null,null,null,null,null,null,null,null,null,null,null,null,null,null,null,null,null,null,null,null,null,null,null,null,null,null,null,null,null,null,null,null,null,null,null,null,null,null,null,null,null,null,null,null,null,null,null,null,null,null,null,null,null,null,null,null,null,null,null,null,null,null,null,null,null,null,null,null,null,null,null,null,null,null,null,null,null,null,null,null,null,null,null,null,null,null,null,null,null,null,null,null,null,null,null,null,null,null,null,null,null,null,null,null,null,null,null,null,null,null,null,null,null,null,null,null,null,null,null,null,null,null,null,null,null,null,null,null,null,null,null,null,null,null,null,null,null,null,null,null,null,null,null,null,null,null,null,null,null,null,null,null,null,null,null,null,null,null,null,null,null,null,null,null,null,null,null,null,null,null,null,null,null,null,null,null,null,null,null,null,null,null,null,null,null,null,null,null,null,null,null,null,null,null,null,null,null,null,null,null,null,null,null,null,null,null,null,null,null,null,null,null,null,null,null,null,null,null,null,null,null,null,null,null,null,null,null,null,null,null,null,null,null,null,null,null,null,null,null,null,null,null,null,null,null,null,null,null,null,null,null,null,null,null,null,null,null,null,null,null,null,null,null,null,null,null,null,null,null,null,null,null,null,null,null,null,null,null,null,null,null,null,null,null,null,null,null,null,null,null,null,null,null,null,null,null,null,null,null,null,null,null,null,null,null,null,null,null,null,null,null,null,null,null,null,null,null,null,null,null,null,null,null,null,null,null,null,null,null,null,null,null,null,null,null,null,null,null,null,null,null,null,null,null,null,null,null,null,null,null,null,null,null,null,null,null,null,null,null,null,null,null,null,null,null,null,null,null,null,null,null,null,null,null,null,null,null,null,null,null,null,null,null,null,null,null,null,null,null,null,null,null,null,null,null,null,null,null,null,null,null,null,null,null,null,null,null,null,null,null,null,null,null,null,null,null,null,null,null,null,null,null,null,null,null,null,null,null,null,null,null,null,null,null,null,null,null,null,null,null,null,null,null,null,null,null,null,null,null,null,null,null,null,null,null,null,null,null,null,null,null,null,null,null,null,null,null,null,null,null,null,null,null,null,null,null,null,null,null,null,null,null,null,null,null,null,null,null,null,null,null,null,null,null,null,null,null,null,null,null,null,null,null,null,null,null,null,null,null,null,null,null,null,null,null,null,null,null,null,null,null,null,null,null,null,null,null,null,null,null,null,null,null,null,null,null,null,null,null,null,null,null,null,null,null,null,null,null,null,null,null,null,null,null,null,null,null,null,null,null,null,null,null,null,null,null,null,null,null,null,null,null,null,null,null,null,null,null,null,null,null,null,null,null,null,null,null,null,null,null,null,null,null,null,null,null,null,null,null,null,null,null,null,null,null,null,null,null,null,null,null,null,null,null,null,null,null,null,null,null,null,null,null,null,null,null,null,null,null,null,null,null,null,null,null,null,null,null,null,null,null,null,null,null,null,null,null,null,null,null,null,null,null,null,null,null,null,null,null,null,null,null,null,null,null,null,null,null,null,null,null,null,null,null,null,null,null,null,null,null,null,null,null,null,null,null,null,null,null,null,null,null,null,null,null,null,null,null,null,null,null,null,null,null,null,null,null,null,null,null,null,null,null,null,null,null,null,null,null,null,null,null,null,null,null,null,null,null,null,null,null,null,null,null,null,null,null,null,null,null,null,null,null,null,null,null,null,null,null,null,null,null,null,null,null,null,null,null,null,null,null,null,null,null,null,null,null,null,null,null,null,null,null,null,null,null,null,null,null,null,null,null,null,null,null,null,null,null,null,null,null,null,null,null,null,null,null,null,null,null,null,null,null,null,null,null,null,null,null,null,null,null,null,null,null,null,null,null,null,null,null,null,null,null,null,null,null,null,null,null,null,null,null,null,null,null,null,null,null,null,null,null,null,null,null,null,null,null,null,null,null,null,null,null,null,null,null,null,null,null,null,null,null,null,null,null,null,null,null,null,null,null,null,null,null,null,null,null,null,null,null,null,null,null,null,null,null,null,null,null,null,null,null,null,null,null,null,null,null,null,null,null,null,null,null,null,null,null,null,null,null,null,null,null,null,null,null,null,null,null,null,null,null,null,null,null,null,null,null,null,null,null,null,null,null,null,null,null,null,null,null,null,null,null,null,null,null,null,null,null,null,null,null,null,null,null,null,null,null,null,null,null,null,null,null,null,null,null,null,null,null,null,null,null,null,null,null,null,null,null,null,null,null,null,null,null,null,null,null,null,null,null,null,null,null,null,null,null,null,null,null,null,null,null,null,null,null,null,null,null,null,null,null,null,null,null,null,null,null,null,null,null,null,null,null,null,null,null,null,null,null,null,null,null,null,null,null,null,null,null,null,null,null,null,null,null,null,null,null,null,null,null,null,null,null,null,null,null,null,null,null,null,null,null,null,null,null,null,null,null,null,null,null,null,null,null,null,null,null,null,null,null,null,null,null,null,null,null,null,null,null,null,null,null,null,null,null,null,null,null,null,null,null,null,null,null,null,null,null,null,null,null,null,null,null,null,null,null,null,null,null,null,null,null,null,null,null,null,null,null,null,null,null,null,null,null,null,null,null,null,null,null,null,null,null,null,null,null,null,null,null,null,null,null,null,null,null,null,null,null,null,null,null,null,null,null,null,null,null,null,null,null,null,null,null,null,null,null,null,null,null,null,null,null,null,null,null,null,null,null,null,null,null,null,null,null,null,null,null,null,null,null,null,null,null,null,null,null,null,null,null,null,null,null,null,null,null,null,null,null,null,null,null,null,null,null,null,null,null,null,null,null,null,null,null,null,null,null,null,null,null,null,null,null,null,null,null,null,null,null,null,null,null,null,null,null,null,null,null,null,null,null,null,null,null,null,null,null,null,null,null,null,null,null,null,null,null,null,null,null,null,null,null,null,null,null,null,null,null,null,null,null,null,null,null,null,null,null,null,null,null,null,null,null,null,null,null,null,null,null,null,null,null,null,null,null,null,null,null,null,null,null,null,null,null,null,null,null,null,null,null,null,null,null,null,null,null,null,null,null,null,null,null,null,null,null,null,null,null,null,null,null,null,null,null,null,null,null,null,null,null,null,null,null,null,null,null,null,null,null,null,null,null,null,null,null,null,null,null,null,null,null,null,null,null,null,null,null,null,null,null,null,null,null,null,null,null,null,null,null,null,null,null,null,null,null,null,null,null,null,null,null,null,null,null,null,null,null,null,null,null,null,null,null,null,null,null,null,null,null,null,null,null,null,null,null,null,null,null,null,null,null,null,null,null,null,null,null,null,null,null,null,null,null,null,null,null,null,null,null,null,null,null,null,null,null,null,null,null,null,null,null,null,null,null,null,null,null,null,null,null,null,null,null,null,null,null,null,null,null,null,null,null,null,null,null,null,null,null,null,null,null,null,null,null,null,null,null,null,null,null,null,null,null,null,null,null,null,null,null,null,null,null,null,null,null,null,null,null,null,null,null,null,null,null,null,null,null,null,null,null,null,null,null,null,null,null,null,null,null,null,null,null,null,null,null,null,null,null,null,null,null,null,null,null,null,null,null,null,null,null,null,null,null,null,null,null,null,null,null,null,null,null,null,null,null,null,null,null,null,null,null,null,null,null,null,null,null,null,null,null,null,null,null,null,null,null,null,null,null,null,null,null,null,null,null,null,null,null,null,null,null,null,null,null,null,null,null,null,null,null,null,null,null,null,null,null,null,null,null,null,null,null,null,null,null,null,null,null,null,null,null,null,null,null,null,null,null,null,null,null,null,null,null,null,null,null,null,null,null,null,null,null,null,null,null,null,null,null,null,null,null,null,null,null,null,null,null,null,null,null,null,null,null,null,null,null,null,null,null,null,null,null,null,null,null,null,null,null,null,null,null,null,null,null,null,null,null,null,null,null,null,null,null,null,null,null,null,null,null,null,null,null,null,null,null,null,null,null,null,null,null,null,null,null,null,null,null,null,null,null,null,null,null,null,null,null,null,null,null,null,null,null,null,null,null,null,null,null,null,null,null,null,null,null,null,null,null,null,null,null,null,null,null,null,null,null,null,null,null,null,null,null,null,null,null,null,null,null,null,null,null,null,null,null,null,null,null,null,null,null,null,null,null,null,null,null,null,null,null,null,null,null,null,null,null,null,null,null,null,null,null,null,null,null,null,null,null,null,null,null,null,null,null,null,null,null,null,null,null,null,null,null,null,null,null,null,null,null,null,null,null,null,null,null,null,null,null,null,null,null,null,null,null,null,null,null,null,null,null,null,null,null,null,null,null,null,null,null,null,null,null,null,null,null,null,null,null,null,null,null,null,null,null,null,null,null,null,null,null,null,null,null,null,null,null,null,null,null,null,null,null,null,null,null,null,null,null,null,null,null,null,null,null,null,null,null,null,null,null,null,null,null,null,null,null,null,null,null,null,null,null,null,null,null,null,null,null,null,null,null,null,null,null,null,null,null,null,null,null,null,null,null,null,null,null,null,null,null,null,null,null,null,null,null,null,null,null,null,null,null,null,null,null,null,null,null,null,null,null,null,null,null,null,null,null,null,null,null,null,null,null,null,null,null,null,null,null,null,null,null,null,null,null,null,null,null,null,null,null,null,null,null,null,null,null,null,null,null,null,null,null,null,null,null,null,null,null,null,null,null,null,null,null,null,null,null,null,null,null,null,null,null,null,null,null,null,null,null,null,null,null,null,null,null,null,null,null,null,null,null,null,null,null,null,null,null,null,null,null,null,null,null,null,null,null,null,null,null,null,null,null,null,null,null,null,null,null,null,null,null,null,null,null,null,null,null,null,null,null,null,null,null,null,null,null,null,null,null,null,null,null,null,null,null,null,null,null,null,null,null,null,null,null,null,null,null,null,null,null,null,null,null,null,null,null,null,null,null,null,null,null,null,null,null,null,null,null,null,null,null,null,null,null,null,null,null,null,null,null,null,null,null,null,null,null,null,null,null,null,null,null,null,null,null,null,null,null,null,null,null,null,null,null,null,null,null,null,null,null,null,null,null,null,null,null,null,null,null,null,null,null,null,null,null,null,null,null,null,null,null,null,null,null,null,null,null,null,null,null,null,null,null,null,null,null,null,null,null,null,null,null,null,null,null,null,null,null,null,null,null,null,null,null,null,null,null,null,null,null,null,null,null,null,null,null,null,null,null,null,null,null,null,null,null,null,null,null,null,null,null,null,null,null,null,null,null,null,null,null,null,null,null,null,{"$f":"TODAY()+46","v":"2023-10-08"}]
[null,null,null,null,null,null,null,null,null,null,null,null,null,null,null,null,null,null,null,null,null,null,null,null,null,null,null,{"$f":"IF(AB10=0,0,IF(AB1<TODAY(),0,1))","v":1},null,null,null,null,null,null,null,null,null,null,null,null,null,null,null,null,null,null,null,null,null,null,null,null,null,null,null,null,null,null,null,null,null,null,null,null,null,null,null,null,null,null,null,null,null,null,null,null,null,null,null,null,null,null,null,null,null,null,null,null,null,null,null,null,null,null,null,null,null,null,null,null,null,null,null,null,null,null,null,null,null,null,null,null,null,null,null,null,null,null,null,null,null,null,null,null,null,null,null,null,null,null,null,null,null,null,null,null,null,null,null,null,null,null,null,null,null,null,null,null,null,null,null,null,null,null,null,null,null,null,null,null,null,null,null,null,null,null,null,null,null,null,null,null,null,null,null,null,null,null,null,null,null,null,null,null,null,null,null,null,null,null,null,null,null,null,null,null,null,null,null,null,null,null,null,null,null,null,null,null,null,null,null,null,null,null,null,null,null,null,null,null,null,null,null,null,null,null,null,null,null,null,null,null,null,null,null,null,null,null,null,null,null,null,null,null,null,null,null,null,null,null,null,null,null,null,null,null,null,null,null,null,null,null,null,null,null,null,null,null,null,null,null,null,null,null,null,null,null,null,null,null,null,null,null,null,null,null,null,null,null,null,null,null,null,null,null,null,null,null,null,null,null,null,null,null,null,null,null,null,null,null,null,null,null,null,null,null,null,null,null,null,null,null,null,null,null,null,null,null,null,null,null,null,null,null,null,null,null,null,null,null,null,null,null,null,null,null,null,null,null,null,null,null,null,null,null,null,null,null,null,null,null,null,null,null,null,null,null,null,null,null,null,null,null,null,null,null,null,null,null,null,null,null,null,null,null,null,null,null,null,null,null,null,null,null,null,null,null,null,null,null,null,null,null,null,null,null,null,null,null,null,null,null,null,null,null,null,null,null,null,null,null,null,null,null,null,null,null,null,null,null,null,null,null,null,null,null,null,null,null,null,null,null,null,null,null,null,null,null,null,null,null,null,null,null,null,null,null,null,null,null,null,null,null,null,null,null,null,null,null,null,null,null,null,null,null,null,null,null,null,null,null,null,null,null,null,null,null,null,null,null,null,null,null,null,null,null,null,null,null,null,null,null,null,null,null,null,null,null,null,null,null,null,null,null,null,null,null,null,null,null,null,null,null,null,null,null,null,null,null,null,null,null,null,null,null,null,null,null,null,null,null,null,null,null,null,null,null,null,null,null,null,null,null,null,null,null,null,null,null,null,null,null,null,null,null,null,null,null,null,null,null,null,null,null,null,null,null,null,null,null,null,null,null,null,null,null,null,null,null,null,null,null,null,null,null,null,null,null,null,null,null,null,null,null,null,null,null,null,null,null,null,null,null,null,null,null,null,null,null,null,null,null,null,null,null,null,null,null,null,null,null,null,null,null,null,null,null,null,null,null,null,null,null,null,null,null,null,null,null,null,null,null,null,null,null,null,null,null,null,null,null,null,null,null,null,null,null,null,null,null,null,null,null,null,null,null,null,null,null,null,null,null,null,null,null,null,null,null,null,null,null,null,null,null,null,null,null,null,null,null,null,null,null,null,null,null,null,null,null,null,null,null,null,null,null,null,null,null,null,null,null,null,null,null,null,null,null,null,null,null,null,null,null,null,null,null,null,null,null,null,null,null,null,null,null,null,null,null,null,null,null,null,null,null,null,null,null,null,null,null,null,null,null,null,null,null,null,null,null,null,null,null,null,null,null,null,null,null,null,null,null,null,null,null,null,null,null,null,null,null,null,null,null,null,null,null,null,null,null,null,null,null,null,null,null,null,null,null,null,null,null,null,null,null,null,null,null,null,null,null,null,null,null,null,null,null,null,null,null,null,null,null,null,null,null,null,null,null,null,null,null,null,null,null,null,null,null,null,null,null,null,null,null,null,null,null,null,null,null,null,null,null,null,null,null,null,null,null,null,null,null,null,null,null,null,null,null,null,null,null,null,null,null,null,null,null,null,null,null,null,null,null,null,null,null,null,null,null,null,null,null,null,null,null,null,null,null,null,null,null,null,null,null,null,null,null,null,null,null,null,null,null,null,null,null,null,null,null,null,null,null,null,null,null,null,null,null,null,null,null,null,null,null,null,null,null,null,null,null,null,null,null,null,null,null,null,null,null,null,null,null,null,null,null,null,null,null,null,null,null,null,null,null,null,null,null,null,null,null,null,null,null,null,null,null,null,null,null,null,null,null,null,null,null,null,null,null,null,null,null,null,null,null,null,null,null,null,null,null,null,null,null,null,null,null,null,null,null,null,null,null,null,null,null,null,null,null,null,null,null,null,null,null,null,null,null,null,null,null,null,null,null,null,null,null,null,null,null,null,null,null,null,null,null,null,null,null,null,null,null,null,null,null,null,null,null,null,null,null,null,null,null,null,null,null,null,null,null,null,null,null,null,null,null,null,null,null,null,null,null,null,null,null,null,null,null,null,null,null,null,null,null,null,null,null,null,null,null,null,null,null,null,null,null,null,null,null,null,null,null,null,null,null,null,null,null,null,null,null,null,null,null,null,null,null,null,null,null,null,null,null,null,null,null,null,null,null,null,null,null,null,null,null,null,null,null,null,null,null,null,null,null,null,null,null,null,null,null,null,null,null,null,null,null,null,null,null,null,null,null,null,null,null,null,null,null,null,null,null,null,null,null,null,null,null,null,null,null,null,null,null,null,null,null,null,null,null,null,null,null,null,null,null,null,null,null,null,null,null,null,null,null,null,null,null,null,null,null,null,null,null,null,null,null,null,null,null,null,null,null,null,null,null,null,null,null,null,null,null,null,null,null,null,null,null,null,null,null,null,null,null,null,null,null,null,null,null,null,null,null,null,null,null,null,null,null,null,null,null,null,null,null,null,null,null,null,null,null,null,null,null,null,null,null,null,null,null,null,null,null,null,null,null,null,null,null,null,null,null,null,null,null,null,null,null,null,null,null,null,null,null,null,null,null,null,null,null,null,null,null,null,null,null,null,null,null,null,null,null,null,null,null,null,null,null,null,null,null,null,null,null,null,null,null,null,null,null,null,null,null,null,null,null,null,null,null,null,null,null,null,null,null,null,null,null,null,null,null,null,null,null,null,null,null,null,null,null,null,null,null,null,null,null,null,null,null,null,null,null,null,null,null,null,null,null,null,null,null,null,null,null,null,null,null,null,null,null,null,null,null,null,null,null,null,null,null,null,null,null,null,null,null,null,null,null,null,null,null,null,null,null,null,null,null,null,null,null,null,null,null,null,null,null,null,null,null,null,null,null,null,null,null,null,null,null,null,null,null,null,null,null,null,null,null,null,null,null,null,null,null,null,null,null,null,null,null,null,null,null,null,null,null,null,null,null,null,null,null,null,null,null,null,null,null,null,null,null,null,null,null,null,null,null,null,null,null,null,null,null,null,null,null,null,null,null,null,null,null,null,null,null,null,null,null,null,null,null,null,null,null,null,null,null,null,null,null,null,null,null,null,null,null,null,null,null,null,null,null,null,null,null,null,null,null,null,null,null,null,null,null,null,null,null,null,null,null,null,null,null,null,null,null,null,null,null,null,null,null,null,null,null,null,null,null,null,null,null,null,null,null,null,null,null,null,null,null,null,null,null,null,null,null,null,null,null,null,null,null,null,null,null,null,null,null,null,null,null,null,null,null,null,null,null,null,null,null,null,null,null,null,null,null,null,null,null,null,null,null,null,null,null,null,null,null,null,null,null,null,null,null,null,null,null,null,null,null,null,null,null,null,null,null,null,null,null,null,null,null,null,null,null,null,null,null,null,null,null,null,null,null,null,null,null,null,null,null,null,null,null,null,null,null,null,null,null,null,null,null,null,null,null,null,null,null,null,null,null,null,null,null,null,null,null,null,null,null,null,null,null,null,null,null,null,null,null,null,null,null,null,null,null,null,null,null,null,null,null,null,null,null,null,null,null,null,null,null,null,null,null,null,null,null,null,null,null,null,null,null,null,null,null,null,null,null,null,null,null,null,null,null,null,null,null,null,null,null,null,null,null,null,null,null,null,null,null,null,null,null,null,null,null,null,null,null,null,null,null,null,null,null,null,null,null,null,null,null,null,null,null,null,null,null,null,null,null,null,null,null,null,null,null,null,null,null,null,null,null,null,null,null,null,null,null,null,null,null,null,null,null,null,null,null,null,null,null,null,null,null,null,null,null,null,null,null,null,null,null,null,null,null,null,null,null,null,null,null,null,null,null,null,null,null,null,null,null,null,null,null,null,null,null,null,null,null,null,null,null,null,null,null,null,null,null,null,null,null,null,null,null,null,null,null,null,null,null,null,null,null,null,null,null,null,null,null,null,null,null,null,null,null,null,null,null,null,null,null,null,null,null,null,null,null,null,null,null,null,null,null,null,null,null,null,null,null,null,null,null,null,null,null,null,null,null,null,null,null,null,null,null,null,null,null,null,null,null,null,null,null,null,null,null,null,null,null,null,null,null,null,null,null,null,null,null,null,null,null,null,null,null,null,null,null,null,null,null,null,null,null,null,null,null,null,null,null,null,null,null,null,null,null,null,null,null,null,null,null,null,null,null,null,null,null,null,null,null,null,null,null,null,null,null,null,null,null,null,null,null,null,null,null,null,null,null,null,null,null,null,null,null,null,null,null,null,null,null,null,null,null,null,null,null,null,null,null,null,null,null,null,null,null,null,null,null,null,null,null,null,null,null,null,null,null,null,null,null,null,null,null,null,null,null,null,null,null,null,null,null,null,null,null,null,null,null,null,null,null,null,null,null,null,null,null,null,null,null,null,null,null,null,null,null,null,null,null,null,null,null,null,null,null,null,null,null,null,null,null,null,null,null,null,null,null,null,null,null,null,null,null,null,null,null,null,null,null,null,null,null,null,null,null,null,null,null,null,null,null,null,null,null,null,null,null,null,null,null,null,null,null,null,null,null,null,null,null,null,null,null,null,null,null,null,null,null,null,null,null,null,null,null,null,null,null,null,null,null,null,null,null,null,null,null,null,null,null,null,null,null,null,null,null,null,null,null,null,null,null,null,null,null,null,null,null,null,null,null,null,null,null,null,null,null,null,null,null,null,null,null,null,null,null,null,null,null,null,null,null,null,null,null,null,null,null,null,null,null,null,null,null,null,null,null,null,null,null,null,null,null,null,null,null,null,null,null,null,null,null,null,null,null,null,null,null,null,null,null,null,null,null,null,null,null,null,null,null,null,null,null,null,null,null,null,null,null,null,null,null,null,null,null,null,null,null,null,null,null,null,null,null,null,null,null,null,null,null,null,null,null,null,null,null,null,null,null,null,null,null,null,null,null,null,null,null,null,null,null,null,null,null,null,null,null,null,null,null,null,null,null,null,null,null,null,null,null,null,null,null,null,null,null,null,null,null,null,null,null,null,null,null,null,null,null,null,null,null,null,null,null,null,null,null,null,null,null,null,null,null,null,null,null,null,null,null,null,null,null,null,null,null,null,null,null,null,null,null,null,null,null,null,null,null,null,null,null,null,null,null,null,null,null,null,null,null,null,null,null,null,null,null,null,null,null,null,null,null,null,null,null,null,null,null,null,null,null,null,null,null,null,null,null,null,null,null,null,null,null,null,null,null,null,null,null,null,null,null,null,null,null,null,null,null,null,null,null,null,null,null,null,null,null,null,null,null,null,null,null,null,null,null,null,null,null,null,null,null,null,null,null,null,null,null,null,null,null,null,null,null,null,null,null,null,null,null,null,null,null,null,null,null,null,null,null,null,null,null,null,null,null,null,null,null,null,null,null,null,null,null,null,null,null,null,null,null,null,null,null,null,null,null,null,null,null,null,null,null,null,null,null,null,null,null,null,null,null,null,null,null,null,null,null,null,null,null,null,null,null,null,null,null,null,null,null,null,null,null,null,null,null,null,null,null,null,null,null,null,null,null,null,null,null,null,null,null,null,null,null,null,null,null,null,null,null,null,null,null,null,null,null,null,null,null,null,null,null,null,null,null,null,null,null,null,null,null,null,null,null,null,null,null,null,null,null,null,null,null,null,null,null,null,null,null,null,null,null,null,null,null,null,null,null,null,null,null,null,null,null,null,null,null,null,null,null,null,null,null,null,null,null,null,null,null,null,null,null,null,null,null,null,null,null,null,null,null,null,null,null,null,null,null,null,null,null,null,null,null,null,null,null,null,null,null,null,null,null,null,null,null,null,null,null,null,null,null,null,null,null,null,null,null,null,null,null,null,null,null,null,null,null,null,null,null,null,null,null,null,null,null,null,null,null,null,null,null,null,null,null,null,null,null,null,null,null,null,null,null,null,null,null,null,null,null,null,null,null,null,null,null,null,null,null,null,null,null,null,null,null,null,null,null,null,null,null,null,null,null,null,null,null,null,null,null,null,null,null,null,null,null,null,null,null,null,null,null,null,null,null,null,null,null,null,null,null,null,null,null,null,null,null,null,null,null,null,null,null,null,null,null,null,null,null,null,null,null,null,null,null,null,null,null,null,null,null,null,null,null,null,null,null,null,null,null,null,null,null,null,null,null,null,null,null,null,null,null,null,null,null,null,null,null,null,null,null,null,null,null,null,null,null,null,null,null,null,null,null,null,null,null,null,null,null,null,null,null,null,null,null,null,null,null,null,null,null,null,null,null,null,null,null,null,null,null,null,null,null,null,null,null,null,null,null,null,null,null,null,null,null,null,null,null,null,null,null,null,null,null,null,null,null,null,null,null,null,null,null,null,null,null,null,null,null,null,null,null,null,null,null,null,null,null,null,null,null,null,null,null,null,null,null,null,null,null,null,null,null,null,null,null,null,null,null,null,null,null,null,null,null,null,null,null,null,null,null,null,null,null,null,null,null,null,null,null,null,null,null,null,null,null,null,null,null,null,null,null,null,null,null,null,null,null,null,null,null,null,null,null,null,null,null,null,null,null,null,null,null,null,null,null,null,null,null,null,null,null,null,null,null,null,null,null,null,null,null,null,null,null,null,null,null,null,null,null,null,null,null,null,null,null,null,null,null,null,null,null,null,null,null,null,null,null,null,null,null,null,null,null,null,null,null,null,null,null,null,null,null,null,null,null,null,null,null,null,null,null,null,null,null,null,null,null,null,null,null,null,null,null,null,null,null,null,null,null,null,null,null,null,null,null,null,null,null,null,null,null,null,null,null,null,null,null,null,null,null,null,null,null,null,null,null,null,null,null,null,null,null,null,null,null,null,null,null,null,null,null,null,null,null,null,null,null,null,null,null,null,null,null,null,null,null,null,null,null,null,null,null,null,null,null,null,null,null,null,null,null,null,null,null,null,null,null,null,null,null,null,null,null,null,null,null,null,null,null,null,null,null,null,null,null,null,null,null,null,null,null,null,null,null,null,null,null,null,null,null,null,null,null,null,null,null,null,null,null,null,null,null,null,null,null,null,null,null,null,null,null,null,null,null,null,null,null,null,null,null,null,null,null,null,null,null,null,null,null,null,null,null,null,null,null,null,null,null,null,null,null,null,null,null,null,null,null,null,null,null,null,null,null,null,null,null,null,null,null,null,null,null,null,null,null,null,null,null,null,null,null,null,null,null,null,null,null,null,null,null,null,null,null,null,null,null,null,null,null,null,null,null,null,null,null,null,null,null,null,null,null,null,null,null,null,null,null,null,null,null,null,null,null,null,null,null,null,null,null,null,null,null,null,null,null,null,null,null,null,null,null,null,null,null,null,null,null,null,null,null,null,null,null,null,null,null,null,null,null,null,null,null,null,null,null,null,null,null,null,null,null,null,null,null,null,null,null,null,null,null,null,null,null,null,null,null,null,null,null,null,null,null,null,null,null,null,null,null,null,null,null,null,null,null,null,null,null,null,null,null,null,null,null,null,null,null,null,null,null,null,null,null,null,null,null,null,null,null,null,null,null,null,null,null,null,null,null,null,null,null,null,null,null,null,null,null,null,null,null,null,null,null,null,null,null,null,null,null,null,null,null,null,null,null,null,null,null,null,null,null,null,null,null,null,null,null,null,null,null,null,null,null,null,null,null,null,null,null,null,null,null,null,null,null,null,null,null,null,null,null,null,null,null,null,null,null,null,null,null,null,null,null,null,null,null,null,null,null,null,null,null,null,null,null,null,null,null,null,null,null,null,null,null,null,null,null,null,null,null,null,null,null,null,null,null,null,null,null,null,null,null,null,null,null,null,null,null,null,null,null,null,null,null,null,null,null,null,null,null,null,null,null,null,null,null,null,null,null,null,null,null,null,null,null,null,null,null,null,null,null,null,null,null,null,null,null,null,null,null,null,null,null,null,null,null,null,null,null,null,null,null,null,null,null,null,null,null,null,null,null,null,null,null,null,null,null,null,null,null,null,null,null,null,null,null,null,null,null,null,null,null,null,null,null,null,null,null,null,null,null,null,null,null,null,null,null,null,null,null,null,null,null,null,null,null,null,null,null,null,null,null,null,null,null,null,null,null,null,null,null,null,null,null,null,null,null,null,null,null,null,null,null,null,null,null,null,null,null,null,null,null,null,null,null,null,null,null,null,null,null,null,null,null,null,null,null,null,null,null,null,null,null,null,null,null,null,null,null,null,null,null,null,null,null,null,null,null,null,null,null,null,null,null,null,null,null,null,null,null,null,null,null,null,null,null,null,null,null,null,null,null,null,null,null,null,null,null,null,null,null,null,null,null,null,null,null,null,null,null,null,null,null,null,null,null,null,null,null,null,null,null,null,null,null,null,null,null,null,null,null,null,null,null,null,null,null,null,null,null,null,null,null,null,null,null,null,null,null,null,null,null,null,null,null,null,null,null,null,null,null,null,null,null,null,null,null,null,null,null,null,null,null,null,null,null,null,null,null,null,null,null,null,null,null,null,null,null,null,null,null,null,null,null,null,null,null,null,null,null,null,null,null,null,null,null,null,null,null,null,null,null,null,null,null,null,null,null,null,null,null,null,null,null,null,null,null,null,null,null,null,null,null,null,null,null,null,null,null,null,null,null,null,null,null,null,null,null,null,null,null,null,null,null,null,null,null,null,null,null,null,null,null,null,null,null,null,null,null,null,null,null,null,null,null,null,null,null,null,null,null,null,null,null,null,null,null,null,null,null,null,null,null,null,null,null,null,null,null,null,null,null,null,null,null,null,null,null,null,null,null,null,null,null,null,null,null,null,null,null,null,null,null,null,null,null,null,null,null,null,null,null,null,null,null,null,null,null,null,null,null,null,null,null,null,null,null,null,null,null,null,null,null,null,null,null,null,null,null,null,null,null,null,null,null,null,null,null,null,null,null,null,null,null,null,null,null,null,null,null,null,null,null,null,null,null,null,null,null,null,null,null,null,null,null,null,null,null,null,null,null,null,null,null,null,null,null,null,null,null,null,null,null,null,null,null,null,null,null,null,null,null,null,null,null,null,null,null,null,null,null,null,null,null,null,null,null,null,null,null,null,null,null,null,null,null,null,null,null,null,null,null,null,null,null,null,null,null,null,null,null,null,null,null,null,null,null,null,null,null,null,null,null,null,null,null,null,null,null,null,null,null,null,null,null,null,null,null,null,null,null,null,null,null,null,null,null,null,null,null,null,null,null,null,null,null,null,null,null,null,null,null,null,null,null,null,null,null,null,null,null,null,null,null,null,null,null,null,null,null,null,null,null,null,null,null,null,null,null,null,null,null,null,null,null,null,null,null,null,null,null,null,null,null,null,null,null,null,null,null,null,null,null,null,null,null,null,null,null,null,null,null,null,null,null,null,null,null,null,null,null,null,null,null,null,null,null,null,null,null,null,null,null,null,null,null,null,null,null,null,null,null,null,null,null,null,null,null,null,null,null,null,null,null,null,null,null,null,null,null,null,null,null,null,null,null,null,null,null,null,null,null,null,null,null,null,null,null,null,null,null,null,null,null,null,null,null,null,null,null,null,null,null,null,null,null,null,null,null,null,null,null,null,null,null,null,null,null,null,null,null,null,null,null,null,null,null,null,null,null,null,null,null,null,null,null,null,null,null,null,null,null,null,null,null,null,null,null,null,null,null,null,null,null,null,null,null,null,null,null,null,null,null,null,null,null,null,null,null,null,null,null,null,null,null,null,null,null,null,null,null,null,null,null,null,null,null,null,null,null,null,null,null,null,null,null,null,null,null,null,null,null,null,null,null,null,null,null,null,null,null,null,null,null,null,null,null,null,null,null,null,null,null,null,null,null,null,null,null,null,null,null,null,null,null,null,null,null,null,null,null,null,null,null,null,null,null,null,null,null,null,null,null,null,null,null,null,null,null,null,null,null,null,null,null,null,null,null,null,null,null,null,null,null,null,null,null,null,null,null,null,null,null,null,null,null,null,null,null,null,null,null,null,null,null,null,null,null,null,null,null,null,null,null,null,null,null,null,null,null,null,null,null,null,null,null,null,null,null,null,null,null,null,null,null,null,null,null,null,null,null,null,null,null,null,null,null,null,null,null,null,null,null,null,null,null,null,null,null,null,null,null,null,null,null,null,null,null,null,null,null,null,null,null,null,null,null,null,null,null,null,null,null,null,null,null,null,null,null,null,null,null,null,null,null,null,null,null,null,null,null,null,null,null,null,null,null,null,null,null,null,null,null,null,null,null,null,null,null,null,null,null,null,null,null,null,null,null,null,null,null,null,null,null,null,null,null,null,null,null,null,null,null,null,null,null,null,null,null,null,null,null,null,null,null,null,null,null,null,null,null,null,null,null,null,null,null,null,null,null,null,null,null,null,null,null,null,null,null,null,null,null,null,null,null,null,null,null,null,null,null,null,null,null,null,null,null,null,null,null,null,null,null,null,null,null,null,null,null,null,null,null,null,null,null,null,null,null,null,null,null,null,null,null,null,null,null,null,null,null,null,null,null,null,null,null,null,null,null,null,null,null,null,null,null,null,null,null,null,null,null,null,null,null,null,null,null,null,null,null,null,null,null,null,null,null,null,null,null,null,null,null,null,null,null,null,null,null,null,null,null,null,null,null,null,null,null,null,null,null,null,null,null,null,null,null,null,null,null,null,null,null,null,null,null,null,null,null,null,null,null,null,null,null,null,null,null,null,null,null,null,null,null,null,null,null,null,null,null,null,null,null,null,null,null,null,null,null,null,null,null,null,null,null,null,null,null,null,null,null,null,null,null,null,null,null,null,null,null,null,null,null,null,null,null,null,null,null,null,null,null,null,null,null,null,null,null,null,null,null,null,null,null,null,null,null,null,null,null,null,null,null,null,null,null,null,null,null,null,null,null,null,null,null,null,null,null,null,null,null,null,null,null,null,null,null,null,null,null,null,null,null,null,null,null,null,null,null,null,null,null,null,null,null,null,null,null,null,null,null,null,null,null,null,null,null,null,null,null,null,null,null,null,null,null,null,null,null,null,null,null,null,null,null,null,null,null,null,null,null,null,null,null,null,null,null,null,null,null,null,null,null,null,null,null,null,null,null,null,null,null,null,null,null,null,null,null,null,null,null,null,null,null,null,null,null,null,null,null,null,null,null,null,null,null,null,null,null,null,null,null,null,null,null,null,null,null,null,null,null,null,null,null,null,null,null,null,null,null,null,null,null,null,null,null,null,null,null,null,null,null,null,null,null,null,null,null,null,null,null,null,null,null,null,null,null,null,null,null,null,null,null,null,null,null,null,null,null,null,null,null,null,null,null,null,null,null,null,null,null,null,null,null,null,null,null,null,null,null,null,null,null,null,null,null,null,null,null,null,null,null,null,null,null,null,null,null,null,null,null,null,null,null,null,null,null,null,null,null,null,null,null,null,null,null,null,null,null,null,null,null,null,null,null,null,null,null,null,null,null,null,null,null,null,null,null,null,null,null,null,null,null,null,null,null,null,null,null,null,null,null,null,null,null,null,null,null,null,null,null,null,null,null,null,null,null,null,null,null,null,null,null,null,null,null,null,null,null,null,null,null,null,null,null,null,null,null,null,null,null,null,null,null,null,null,null,null,null,null,null,null,null,null,null,null,null,null,null,null,null,null,null,null,null,null,null,null,null,null,null,null,null,null,null,null,null,null,null,null,null,null,null,null,null,null,null,null,null,null,null,null,null,null,null,null,null,null,null,null,null,null,null,null,null,null,null,null,null,null,null,null,null,null,null,null,null,null,null,null,null,null,null,null,null,null,null,null,null,null,null,null,null,null,null,null,null,null,null,null,null,null,null,null,null,null,null,null,null,null,null,null,null,null,null,null,null,null,null,null,null,null,null,null,null,null,null,null,null,null,null,null,null,null,null,null,null,null,null,null,null,null,null,null,null,null,null,null,null,null,null,null,null,null,null,null,null,null,null,null,null,null,null,null,null,null,null,null,null,null,null,null,null,null,null,null,null,null,null,null,null,null,null,null,null,null,null,null,null,null,null,null,null,null,null,null,null,null,null,null,null,null,null,null,null,null,null,null,null,null,null,null,null,null,null,null,null,null,null,null,null,null,null,null,null,null,null,null,null,null,null,null,null,null,null,null,null,null,null,null,null,null,null,null,null,null,null,null,null,null,null,null,null,null,null,null,null,null,null,null,null,null,null,null,null,null,null,null,null,null,null,null,null,null,null,null,null,null,null,null,null,null,null,null,null,null,null,null,null,null,null,null,null,null,null,null,null,null,null,null,null,null,null,null,null,null,null,null,null,null,null,null,null,null,null,null,null,null,null,null,null,null,null,null,null,null,null,null,null,null,null,null,null,null,null,null,null,null,null,null,null,null,null,null,null,null,null,null,null,null,null,null,null,null,null,null,null,null,null,null,null,null,null,null,null,null,null,null,null,null,null,null,null,null,null,null,null,null,null,null,null,null,null,null,null,null,null,null,null,null,null,null,null,null,null,null,null,null,null,null,null,null,null,null,null,null,null,null,null,null,null,null,null,null,null,null,null,null,null,null,null,null,null,null,null,null,null,null,null,null,null,null,null,null,null,null,null,null,null,null,null,null,null,null,null,null,null,null,null,null,null,null,null,null,null,null,null,null,null,null,null,null,null,null,null,null,null,null,null,null,null,null,null,null,null,null,null,null,null,null,null,null,null,null,null,null,null,null,null,null,null,null,null,null,null,null,null,null,null,null,null,null,null,null,null,null,null,null,null,null,null,null,null,null,null,null,null,null,null,null,null,null,null,null,null,null,null,null,null,null,null,null,null,null,null,null,null,null,null,null,null,null,null,null,null,null,null,null,null,null,null,null,null,null,null,null,null,null,null,null,null,null,null,null,null,null,null,null,null,null,null,null,null,null,null,null,null,null,null,null,null,null,null,null,null,null,null,null,null,null,null,null,null,null,null,null,null,null,null,null,null,null,null,null,null,null,null,null,null,null,null,null,null,null,null,null,null,null,null,null,null,null,null,null,null,null,null,null,null,null,null,null,null,null,null,null,null,null,null,null,null,null,null,null,null,null,null,null,null,null,null,null,null,null,null,null,null,null,null,null,null,null,null,null,null,null,null,null,null,null,null,null,null,null,null,null,null,null,null,null,null,null,null,null,null,null,null,null,null,null,null,null,null,null,null,null,null,null,null,null,null,null,null,null,null,null,null,null,null,null,null,null,null,null,null,null,null,null,null,null,null,null,null,null,null,null,null,null,null,null,null,null,null,null,null,null,null,null,null,null,null,null,null,null,null,null,null,null,null,null,null,null,null,null,null,null,null,null,null,null,null,null,null,null,null,null,null,null,null,null,null,null,null,null,null,null,null,null,null,null,null,null,null,null,null,null,null,null,null,null,null,null,null,null,null,null,null,null,null,null,null,null,null,null,null,null,null,null,null,null,null,null,null,null,null,null,null,null,null,null,null,null,null,null,null,null,null,null,null,null,null,null,null,null,null,null,null,null,null,null,null,null,null,null,null,null,null,null,null,null,null,null,null,null,null,null,null,null,null,null,null,null,null,null,null,null,null,null,null,null,null,null,null,null,null,null,null,null,null,null,null,null,null,null,null,null,null,null,null,null,null,null,null,null,null,null,null,null,null,null,null,null,null,null,null,null,null,null,null,null,null,null,null,null,null,null,null,null,null,null,null,null,null,null,null,null,null,null,null,null,null,null,null,null,null,null,null,null,null,null,null,null,null,null,null,null,null,null,null,null,null,null,null,null,null,null,null,null,null,null,null,null,null,null,null,null,null,null,null,null,null,null,null,null,null,null,null,null,null,null,null,null,null,null,null,null,null,null,null,null,null,null,null,null,null,null,null,null,null,null,null,null,null,null,null,null,null,null,null,null,null,null,null,null,null,null,null,null,null,null,null,null,null,null,null,null,null,null,null,null,null,null,null,null,null,null,null,null,null,null,null,null,null,null,null,null,null,null,null,null,null,null,null,null,null,null,null,null,null,null,null,null,null,null,null,null,null,null,null,null,null,null,null,null,null,null,null,null,null,null,null,null,null,null,null,null,null,null,null,null,null,null,null,null,null,null,null,null,null,null,null,null,null,null,null,null,null,null,null,null,null,null,null,null,null,null,null,null,null,null,null,null,null,null,null,null,null,null,null,null,null,null,null,null,null,null,null,null,null,null,null,null,null,null,null,null,null,null,null,null,null,null,null,null,null,null,null,null,null,null,null,null,null,null,null,null,null,null,null,null,null,null,null,null,null,null,null,null,null,null,null,null,null,null,null,null,null,null,null,null,null,null,null,null,null,null,null,null,null,null,null,null,null,null,null,null,null,null,null,null,null,null,null,null,null,null,null,null,null,null,null,null,null,null,null,null,null,null,null,null,null,null,null,null,null,null,null,null,null,null,null,null,null,null,null,null,null,null,null,null,null,null,null,null,null,null,null,null,null,null,null,null,null,null,null,null,null,null,null,null,null,null,null,null,null,null,null,null,null,null,null,null,null,null,null,null,null,null,null,null,null,null,null,null,null,null,null,null,null,null,null,null,null,null,null,null,null,null,null,null,null,null,null,null,null,null,null,null,null,null,null,null,null,null,null,null,null,null,null,null,null,null,null,null,null,null,null,null,null,null,null,null,null,null,null,null,null,null,null,null,null,null,null,null,null,null,null,null,null,null,null,null,null,null,null,null,null,null,null,null,null,null,null,null,null,null,null,null,null,null,null,null,null,null,null,null,null,null,null,null,null,null,null,null,null,null,null,null,null,null,null,null,null,null,null,null,null,null,null,null,null,null,null,null,null,null,null,null,null,null,null,null,null,null,null,null,null,null,null,null,null,null,null,null,null,null,null,null,null,null,null,null,null,null,null,null,null,null,null,null,null,null,null,null,null,null,null,null,null,null,null,null,null,null,null,null,null,null,null,null,null,null,null,null,null,null,null,null,null,null,null,null,null,null,null,null,null,null,null,null,null,null,null,null,null,null,null,null,null,null,null,null,null,null,null,null,null,null,null,null,null,null,null,null,null,null,null,null,null,null,null,null,null,null,null,null,null,null,null,null,null,null,null,null,null,null,null,null,null,null,null,null,null,null,null,null,null,null,null,null,null,null,null,null,null,null,null,null,null,null,null,null,null,null,null,null,null,null,null,null,null,null,null,null,null,null,null,null,null,null,null,null,null,null,null,null,null,null,null,null,null,null,null,null,null,null,null,null,null,null,null,null,null,null,null,null,null,null,null,null,null,null,null,null,null,null,null,null,null,null,null,null,null,null,null,null,null,null,null,null,null,null,null,null,null,null,null,null,null,null,null,null,null,null,null,null,null,null,null,null,null,null,null,null,null,null,null,null,null,null,null,null,null,null,null,null,null,null,null,null,null,null,null,null,null,null,null,null,null,null,null,null,null,null,null,null,null,null,null,null,null,null,null,null,null,null,null,null,null,null,null,null,null,null,null,null,null,null,null,null,null,null,null,null,null,null,null,null,null,null,null,null,null,null,null,null,null,null,null,null,null,null,null,null,null,null,null,null,null,null,null,null,null,null,null,null,null,null,null,null,null,null,null,null,null,null,null,null,null,null,null,null,null,null,null,null,null,null,null,null,null,null,null,null,null,null,null,null,null,null,null,null,null,null,null,null,null,null,null,null,null,null,null,null,null,null,null,null,null,null,null,null,null,null,null,null,null,null,null,null,null,null,null,null,null,null,null,null,null,null,null,null,null,null,null,null,null,null,null,null,null,null,null,null,null,null,null,null,null,null,null,null,null,null,null,null,null,null,null,null,null,null,null,null,null,null,null,null,null,null,null,null,null,null,null,null,null,null,null,null,null,null,null,null,null,null,null,null,null,null,null,null,null,null,null,null,null,null,null,null,null,null,null,null,null,null,null,null,null,null,null,null,null,null,null,null,null,null,null,null,null,null,null,null,null,null,null,null,null,null,null,null,null,null,null,null,null,null,null,null,null,null,null,null,null,null,null,null,null,null,null,null,null,null,null,null,null,null,null,null,null,null,null,null,null,null,null,null,null,null,null,null,null,null,null,null,null,null,null,null,null,null,null,null,null,null,null,null,null,null,null,null,null,null,null,null,null,null,null,null,null,null,null,null,null,null,null,null,null,null,null,null,null,null,null,null,null,null,null,null,null,null,null,null,null,null,null,null,null,null,null,null,null,null,null,null,null,null,null,null,null,null,null,null,null,null,null,null,null,null,null,null,null,null,null,null,null,null,null,null,null,null,null,null,null,null,null,null,null,null,null,null,null,null,null,null,null,null,null,null,null,null,null,null,null,null,null,null,null,null,null,null,null,null,null,null,null,null,null,null,null,null,null,null,null,null,null,null,null,null,null,null,null,null,null,null,null,null,null,null,null,null,null,null,null,null,null,null,null,null,null,null,null,null,null,null,null,null,null,null,null,null,null,null,null,null,null,null,null,null,null,null,null,null,null,null,null,null,null,null,null,null,null,null,null,null,null,null,null,null,null,null,null,null,null,null,null,null,null,null,null,null,null,null,null,null,null,null,null,null,null,null,null,null,null,null,null,null,null,null,null,null,null,null,null,null,null,null,null,null,null,null,null,null,null,null,null,null,null,null,null,null,null,null,null,null,null,null,null,null,null,null,null,null,null,null,null,null,null,null,null,null,null,null,null,null,null,null,null,null,null,null,null,null,null,null,null,null,null,null,null,null,null,null,null,null,null,null,null,null,null,null,null,null,null,null,null,null,null,null,null,null,null,null,null,null,null,null,null,null,null,null,null,null,null,null,null,null,null,null,null,null,null,null,null,null,null,null,null,null,null,null,null,null,null,null,null,null,null,null,null,null,null,null,null,null,null,null,null,null,null,null,null,null,null,null,null,null,null,null,null,null,null,null,null,null,null,null,null,null,null,null,null,null,null,null,null,null,null,null,null,null,null,null,null,null,null,null,null,null,null,null,null,null,null,null,null,null,null,null,null,null,null,null,null,null,null,null,null,null,null,null,null,null,null,null,null,null,null,null,null,null,null,null,null,null,null,null,null,null,null,null,null,null,null,null,null,null,null,null,null,null,null,null,null,null,null,null,null,null,null,null,null,null,null,null,null,null,null,null,null,null,null,null,null,null,null,null,null,null,null,null,null,null,null,null,null,null,null,null,null,null,null,null,null,null,null,null,null,null,null,null,null,null,null,null,null,null,null,null,null,null,null,null,null,null,null,null,null,null,null,null,null,null,null,null,null,null,null,null,null,null,null,null,null,null,null,null,null,null,null,null,null,null,null,null,null,null,null,null,null,null,null,null,null,null,null,null,null,null,null,null,null,null,null,null,null,null,null,null,null,null,null,null,null,null,null,null,null,null,null,null,null,null,null,null,null,null,null,null,null,null,null,null,null,null,null,null,null,null,null,null,null,null,null,null,null,null,null,null,null,null,null,null,null,null,null,null,null,null,null,null,null,null,null,null,null,null,null,null,null,null,null,null,null,null,null,null,null,null,null,null,null,null,null,null,null,null,null,null,null,null,null,null,null,null,null,null,null,null,null,null,null,null,null,null,null,null,null,null,null,null,null,null,null,null,null,null,null,null,null,null,null,null,null,null,null,null,null,null,null,null,null,null,null,null,null,null,null,null,null,null,null,null,null,null,null,null,null,null,null,null,null,null,null,null,null,null,null,null,null,null,null,null,null,null,null,null,null,null,null,null,null,null,null,null,null,null,null,null,null,null,null,null,null,null,null,null,null,null,null,null,null,null,null,null,null,null,null,null,null,null,null,null,null,null,null,null,null,null,null,null,null,null,null,null,null,null,null,null,null,null,null,null,null,null,null,null,null,null,null,null,null,null,null,null,null,null,null,null,null,null,null,null,null,null,null,null,null,null,null,null,null,null,null,null,null,null,null,null,null,null,null,null,null,null,null,null,null,null,null,null,null,null,null,null,null,null,null,null,null,null,null,null,null,null,null,null,null,null,null,null,null,null,null,null,null,null,null,null,null,null,null,null,null,null,null,null,null,null,null,null,null,null,null,null,null,null,null,null,null,null,null,null,null,null,null,null,null,null,null,null,null,null,null,null,null,null,null,null,null,null,null,null,null,null,null,null,null,null,null,null,null,null,null,null,null,null,null,null,null,null,null,null,null,null,null,null,null,null,null,null,null,null,null,null,null,null,null,null,null,null,null,null,null,null,null,null,null,null,null,null,null,null,null,null,null,null,null,null,null,null,null,null,null,null,null,null,null,null,null,null,null,null,null,null,null,null,null,null,null,null,null,null,null,null,null,null,null,null,null,null,null,null,null,null,null,null,null,null,null,null,null,null,null,null,null,null,null,null,null,null,null,null,null,null,null,null,null,null,null,null,null,null,null,null,null,null,null,null,null,null,null,null,null,null,null,null,null,null,null,null,null,null,null,null,null,null,null,null,null,null,null,null,null,null,null,null,null,null,null,null,null,null,null,null,null,null,null,null,null,null,null,null,null,null,null,null,null,null,null,null,null,null,null,null,null,null,null,null,null,null,null,null,null,null,null,null,null,null,null,null,null,null,null,null,null,null,null,null,null,null,null,null,null,null,null,null,null,null,null,null,null,null,null,null,null,null,null,null,null,null,null,null,null,null,null,null,null,null,null,null,null,null,null,null,null,null,null,null,null,null,null,null,null,null,null,null,null,null,null,null,null,null,null,null,null,null,null,null,null,null,null,null,null,null,null,null,null,null,null,null,null,null,null,null,null,null,null,null,null,null,null,null,null,null,null,null,null,null,null,null,null,null,null,null,null,null,null,null,null,null,null,null,null,null,null,null,null,null,null,null,null,null,null,null,null,null,null,null,null,null,null,null,null,null,null,null,null,null,null,null,null,null,null,null,null,null,null,null,null,null,null,null,null,null,null,null,null,null,null,null,null,null,null,null,null,null,null,null,null,null,null,null,null,null,null,null,null,null,null,null,null,null,null,null,null,null,null,null,null,null,null,null,null,null,null,null,null,null,null,null,null,null,null,null,null,null,null,null,null,null,null,null,null,null,null,null,null,null,null,null,null,null,null,null,null,null,null,null,null,null,null,null,null,null,null,null,null,null,null,null,null,null,null,null,null,null,null,null,null,null,null,null,null,null,null,null,null,null,null,null,null,null,null,null,null,null,null,null,null,null,null,null,null,null,null,null,null,null,null,null,null,null,null,null,null,null,null,null,null,null,null,null,null,null,null,null,null,null,null,null,null,null,null,null,null,null,null,null,null,null,null,null,null,null,null,null,null,null,null,null,null,null,null,null,null,null,null,null,null,null,null,null,null,null,null,null,null,null,null,null,null,null,null,null,null,null,null,null,null,null,null,null,null,null,null,null,null,null,null,null,null,null,null,null,null,null,null,null,null,null,null,null,null,null,null,null,null,null,null,null,null,null,null,null,null,null,null,null,null,null,null,null,null,null,null,null,null,null,null,null,null,null,null,null,null,null,null,null,null,null,null,null,null,null,null,null,null,null,null,null,null,null,null,null,null,null,null,null,null,null,null,null,null,null,null,null,null,null,null,null,null,null,null,null,null,null,null,null,null,null,null,null,null,null,null,null,null,null,null,null,null,null,null,null,null,null,null,null,null,null,null,null,null,null,null,null,null,null,null,null,null,null,null,null,null,null,null,null,null,null,null,null,null,null,null,null,null,null,null,null,null,null,null,null,null,null,null,null,null,null,null,null,null,null,null,null,null,null,null,null,null,null,null,null,null,null,null,null,null,null,null,null,null,null,null,null,null,null,null,null,null,null,null,null,null,null,null,null,null,null,null,null,null,null,null,null,null,null,null,null,null,null,null,null,null,null,null,null,null,null,null,null,null,null,null,null,null,null,null,null,null,null,null,null,null,null,null,null,null,null,null,null,null,null,null,null,null,null,null,null,null,null,null,null,null,null,null,null,null,null,null,null,null,null,null,null,null,null,null,null,null,null,null,null,null,null,null,null,null,null,null,null,null,null,null,null,null,null,null,null,null,null,null,null,null,null,null,null,null,null,null,null,null,null,null,null,null,null,null,null,null,null,null,null,null,null,null,null,null,null,null,null,null,null,null,null,null,null,null,null,null,null,null,null,null,null,null,null,null,null,null,null,null,null,null,null,null,null,null,null,null,null,null,null,null,null,null,null,null,null,null,null,null,null,null,null,null,null,null,null,null,null,null,null,null,null,null,null,null,null,null,null,null,null,null,null,null,null,null,null,null,null,null,null,null,null,null,null,null,null,null,null,null,null,null,null,null,null,null,null,null,null,null,null,null,null,null,null,null,null,null,null,null,null,null,null,null,null,null,null,null,null,null,null,null,null,null,null,null,null,null,null,null,null,null,null,null,null,null,null,null,null,null,null,null,null,null,null,null,null,null,null,null,null,null,null,null,null,null,null,null,null,null,null,null,null,null,null,null,null,null,null,null,null,null,null,null,null,null,null,null,null,null,null,null,null,null,null,null,null,null,null,null,null,null,null,null,null,null,null,null,null,null,null,null,null,null,null,null,null,null,null,null,null,null,null,null,null,null,null,null,null,null,null,null,null,null,null,null,null,null,null,null,null,null,null,null,null,null,null,null,null,null,null,null,null,null,null,null,null,null,null,null,null,null,null,null,null,null,null,null,null,null,null,null,null,null,null,null,null,null,null,null,null,null,null,null,null,null,null,null,null,null,null,null,null,null,null,null,null,null,null,null,null,null,null,null,null,null,null,null,null,null,null,null,null,null,null,null,null,null,null,null,null,null,null,null,null,null,null,null,null,null,null,null,null,null,null,null,null,null,null,null,null,null,null,null,null,null,null,null,null,null,null,null,null,null,null,null,null,null,null,null,null,null,null,null,null,null,null,null,null,null,null,null,null,null,null,null,null,null,null,null,null,null,null,null,null,null,null,null,null,null,null,null,null,null,null,null,null,null,null,null,null,null,null,null,null,null,null,null,null,null,null,null,null,null,null,null,null,null,null,null,null,null,null,null,null,null,null,null,null,null,null,null,null,null,null,null,null,null,null,null,null,null,null,null,null,null,null,null,null,null,null,null,null,null,null,null,null,null,null,null,null,null,null,null,null,null,null,null,null,null,null,null,null,null,null,null,null,null,null,null,null,null,null,null,null,null,null,null,null,null,null,null,null,null,null,null,null,null,null,null,null,null,null,null,null,null,null,null,null,null,null,null,null,null,null,null,null,null,null,null,null,null,null,null,null,null,null,null,null,null,null,null,null,null,null,null,null,null,null,null,null,null,null,null,null,null,null,null,null,null,null,null,null,null,null,null,null,null,null,null,null,null,null,null,null,null,null,null,null,null,null,null,null,null,null,null,null,null,null,null,null,null,null,null,null,null,null,null,null,null,null,null,null,null,null,null,null,null,null,null,null,null,null,null,null,null,null,null,null,null,null,null,null,null,null,null,null,null,null,null,null,null,null,null,null,null,null,null,null,null,null,null,null,null,null,null,null,null,null,null,null,null,null,null,null,null,null,null,null,null,null,null,null,null,null,null,null,null,null,null,null,null,null,null,null,null,null,null,null,null,null,null,null,null,null,null,null,null,null,null,null,null,null,null,null,null,null,null,null,null,null,null,null,null,null,null,null,null,null,null,null,null,null,null,null,null,null,null,null,null,null,null,null,null,null,null,null,null,null,null,null,null,null,null,null,null,null,null,null,null,null,null,null,null,null,null,null,null,null,null,null,null,null,null,null,null,null,null,null,null,null,null,null,null,null,null,null,null,null,null,null,null,null,null,null,null,null,null,null,null,null,null,null,null,null,null,null,null,null,null,null,null,null,null,null,null,null,null,null,null,null,null,null,null,null,null,null,null,null,null,null,null,null,null,null,null,null,null,null,null,null,null,null,null,null,null,null,null,null,null,null,null,null,null,null,null,null,null,null,null,null,null,null,null,null,null,null,null,null,null,null,null,null,null,null,null,null,null,null,null,null,null,null,null,null,null,null,null,null,null,null,null,null,null,null,null,null,null,null,null,null,null,null,null,null,null,null,null,null,null,null,null,null,null,null,null,null,null,null,null,null,null,null,null,null,null,null,null,null,null,null,null,null,null,null,null,null,null,null,null,null,null,null,null,null,null,null,null,null,null,null,null,null,null,null,null,null,null,null,null,null,null,null,null,null,null,null,null,null,null,null,null,null,null,null,null,null,null,null,null,null,null,null,null,null,null,null,null,null,null,null,null,null,null,null,null,null,null,null,null,null,null,null,null,null,null,null,null,null,null,null,null,null,null,null,null,null,null,null,null,null,null,null,null,null,null,null,null,null,null,null,null,null,null,null,null,null,null,null,null,null,null,null,null,null,null,null,null,null,null,null,null,null,null,null,null,null,null,null,null,null,null,null,null,null,null,null,null,null,null,null,null,null,null,null,null,null,null,null,null,null,null,null,null,null,null,null,null,null,null,null,null,null,null,null,null,null,null,null,null,null,null,null,null,null,null,null,null,null,null,null,null,null,null,null,null,null,null,null,null,null,null,null,null,null,null,null,null,null,null,null,null,null,null,null,null,null,null,null,null,null,null,null,null,null,null,null,null,null,null,null,null,null,null,null,null,null,null,null,null,null,null,null,null,null,null,null,null,null,null,null,null,null,null,null,null,null,null,null,null,null,null,null,null,null,null,null,null,null,null,null,null,null,null,null,null,null,null,null,null,null,null,null,null,null,null,null,null,null,null,null,null,null,null,null,null,null,null,null,null,null,null,null,null,null,null,null,null,null,null,null,null,null,null,null,null,null,null,null,null,null,null,null,null,null,null,null,null,null,null,null,null,null,null,null,null,null,null,null,null,null,null,null,null,null,null,null,null,null,null,null,null,null,null,null,null,null,null,null,null,null,null,null,null,null,null,null,null,null,null,null,null,null,null,null,null,null,null,null,null,null,null,null,null,null,null,null,null,null,null,null,null,null,null,null,null,null,null,null,null,null,null,null,null,null,null,null,null,null,null,null,null,null,null,null,null,null,null,null,null,null,null,null,null,null,null,null,null,null,null,null,null,null,null,null,null,null,null,null,null,null,null,null,null,null,null,null,null,null,null,null,null,null,null,null,null,null,null,null,null,null,null,null,null,null,null,null,null,null,null,null,null,null,null,null,null,null,null,null,null,null,null,null,null,null,null,null,null,null,null,null,null,null,null,null,null,null,null,null,null,null,null,null,null,null,null,null,null,null,null,null,null,null,null,null,null,null,null,null,null,null,null,null,null,null,null,null,null,null,null,null,null,null,null,null,null,null,null,null,null,null,null,null,null,null,null,null,null,null,null,null,null,null,null,null,null,null,null,null,null,null,null,null,null,null,null,null,null,null,null,null,null,null,null,null,null,null,null,null,null,null,null,null,null,null,null,null,null,null,null,null,null,null,null,null,null,null,null,null,null,null,null,null,null,null,null,null,null,null,null,null,null,null,null,null,null,null,null,null,null,null,null,null,null,null,null,null,null,null,null,null,null,null,null,null,null,null,null,null,null,null,null,null,null,null,null,null,null,null,null,null,null,null,null,null,null,null,null,null,null,null,null,null,null,null,null,null,null,null,null,null,null,null,null,null,null,null,null,null,null,null,null,null,null,null,null,null,null,null,null,null,null,null,null,null,null,null,null,null,null,null,null,null,null,null,null,null,null,null,null,null,null,null,null,null,null,null,null,null,null,null,null,null,null,null,null,null,null,null,null,null,null,null,null,null,null,null,null,null,null,null,null,null,null,null,null,null,null,null,null,null,null,null,null,null,null,null,null,null,null,null,null,null,null,null,null,null,null,null,null,null,null,null,null,null,null,null,null,null,null,null,null,null,null,null,null,null,null,null,null,null,null,null,null,null,null,null,null,null,null,null,null,null,null,null,null,null,null,null,null,null,null,null,null,null,null,null,null,null,null,null,null,null,null,null,null,null,null,null,null,null,null,null,null,null,null,null,null,null,null,null,null,null,null,null,null,null,null,null,null,null,null,null,null,null,null,null,null,null,null,null,null,null,null,null,null,null,null,null,null,null,null,null,null,null,null,null,null,null,null,null,null,null,null,null,null,null,null,null,null,null,null,null,null,null,null,null,null,null,null,null,null,null,null,null,null,null,null,null,null,null,null,null,null,null,null,null,null,null,null,null,null,null,null,null,null,null,null,null,null,null,null,null,null,null,null,null,null,null,null,null,null,null,null,null,null,null,null,null,null,null,null,null,null,null,null,null,null,null,null,null,null,null,null,null,null,null,null,null,null,null,null,null,null,null,null,null,null,null,null,null,null,null,null,null,null,null,null,null,null,null,null,null,null,null,null,null,null,null,null,null,null,null,null,null,null,null,null,null,null,null,null,null,null,null,null,null,null,null,null,null,null,null,null,null,null,null,null,null,null,null,null,null,null,null,null,null,null,null,null,null,null,null,null,null,null,null,null,null,null,null,null,null,null,null,null,null,null,null,null,null,null,null,null,null,null,null,null,null,null,null,null,null,null,null,null,null,null,null,null,null,null,null,null,null,null,null,null,null,null,null,null,null,null,null,null,null,null,null,null,null,null,null,null,null,null,null,null,null,null,null,null,null,null,null,null,null,null,null,null,null,null,null,null,null,null,null,null,null,null,null,null,null,null,null,null,null,null,null,null,null,null,null,null,null,null,null,null,null,null,null,null,null,null,null,null,null,null,null,null,null,null,null,null,null,null,null,null,null,null,null,null,null,null,null,null,null,null,null,null,null,null,null,null,null,null,null,null,null,null,null,null,null,null,null,null,null,null,null,null,null,null,null,null,null,null,null,null,null,null,null,null,null,null,null,null,null,null,null,null,null,null,null,null,null,null,null,null,null,null,null,null,null,null,null,null,null,null,null,null,null,null,null,null,null,null,null,null,null,null,null,null,null,null,null,null,null,null,null,null,null,null,null,null,null,null,null,null,null,null,null,null,null,null,null,null,null,null,null,null,null,null,null,null,null,null,null,null,null,null,null,null,null,null,null,null,null,null,null,null,null,null,null,null,null,null,null,null,null,null,null,null,null,null,null,null,null,null,null,null,null,null,null,null,null,null,null,null,null,null,null,null,null,null,null,null,null,null,null,null,null,null,null,null,null,null,null,null,null,null,null,null,null,null,null,null,null,null,null,null,null,null,null,null,null,null,null,null,null,null,null,null,null,null,null,null,null,null,null,null,null,null,null,null,null,null,null,null,null,null,null,null,null,null,null,null,null,null,null,null,null,null,null,null,null,null,null,null,null,null,null,null,null,null,null,null,null,null,null,null,null,null,null,null,null,null,null,null,null,null,null,null,null,null,null,null,null,null,null,null,null,null,null,null,null,null,null,null,null,null,null,null,null,null,null,null,null,null,null,null,null,null,null,null,null,null,null,null,null,null,null,null,null,null,null,null,null,null,null,null,null,null,null,null,null,null,null,null,null,null,null,null,null,null,null,null,null,null,null,null,null,null,null,null,null,null,null,null,null,null,null,null,null,null,null,null,null,null,null,null,null,null,null,null,null,null,null,null,null,null,null,null,null,null,null,null,null,null,null,null,null,null,null,null,null,null,null,null,null,null,null,null,null,null,null,null,null,null,null,null,null,null,null,null,null,null,null,null,null,null,null,null,null,null,null,null,null,null,null,null,null,null,null,null,null,null,null,null,null,null,null,null,null,null,null,null,null,null,null,null,null,null,null,null,null,null,null,null,null,null,null,null,null,null,null,null,null,null,null,null,null,null,null,null,null,null,null,null,null,null,null,null,null,null,null,null,null,null,null,null,null,null,null,null,null,null,null,null,null,null,null,null,null,null,null,null,null,null,null,null,null,null,null,null,null,null,null,null,null,null,null,null,null,null,null,null,null,null,null,null,null,null,null,null,null,null,null,null,null,null,null,null,null,null,null,null,null,null,null,null,null,null,null,null,null,null,null,null,null,null,null,null,null,null,null,null,null,null,null,null,null,null,null,null,null,null,null,null,null,null,null,null,null,null,null,null,null,null,null,null,null,null,null,null,null,null,null,null,null,null,null,null,null,null,null,null,null,null,null,null,null,null,null,null,null,null,null,null,null,null,null,null,null,null,null,null,null,null,null,null,null,null,null,null,null,null,null,null,null,null,null,null,null,null,null,null,null,null,null,null,null,null,null,null,null,null,null,null,null,null,null,null,null,null,null,null,null,null,null,null,null,null,null,null,null,null,null,null,null,null,null,null,null,null,null,null,null,null,null,null,null,null,null,null,null,null,null,null,null,null,null,null,null,null,null,null,null,null,null,null,null,null,null,null,null,null,null,null,null,null,null,null,null,null,null,null,null,null,null,null,null,null,null,null,null,null,null,null,null,null,null,null,null,null,null,null,null,null,null,null,null,null,null,null,null,null,null,null,null,null,null,null,null,null,null,null,null,null,null,null,null,null,null,null,null,null,null,null,null,null,null,null,null,null,null,null,null,null,null,null,null,null,null,null,null,null,null,null,null,null,null,null,null,null,null,null,null,null,null,null,null,null,null,null,null,null,null,null,null,null,null,null,null,null,null,null,null,null,null,null,null,null,null,null,null,null,null,null,null,null,null,null,null,null,null,null,null,null,null,null,null,null,null,null,null,null,null,null,null,null,null,null,null,null,null,null,null,null,null,null,null,null,null,null,null,null,null,null,null,null,null,null,null,null,null,null,null,null,null,null,null,null,null,null,null,null,null,null,null,null,null,null,null,null,null,null,null,null,null,null,null,null,null,null,null,null,null,null,null,null,null,null,null,null,null,null,null,null,null,null,null,null,null,null,null,null,null,null,null,null,null,null,null,null,null,null,null,null,null,null,null,null,null,null,null,null,null,null,null,null,null,null,null,null,null,null,null,null,null,null,null,null,null,null,null,null,null,null,null,null,null,null,null,null,null,null,null,null,null,null,null,null,null,null,null,null,null,null,null,null,null,null,null,null,null,null,null,null,null,null,null,null,null,null,null,null,null,null,null,null,null,null,null,null,null,null,null,null,null,null,null,null,null,null,null,null,null,null,null,null,null,null,null,null,null,null,null,null,null,null,null,null,null,null,null,null,null,null,null,null,null,null,null,null,null,null,null,null,null,null,null,null,null,null,null,null,null,null,null,null,null,null,null,null,null,null,null,null,null,null,null,null,null,null,null,null,null,null,null,null,null,null,null,null,null,null,null,null,null,null,null,null,null,null,null,null,null,null,null,null,null,null,null,null,null,null,null,null,null,null,null,null,null,null,null,null,null,null,null,null,null,null,null,null,null,null,null,null,null,null,null,null,null,null,null,null,null,null,null,null,null,null,null,null,null,null,null,null,null,null,null,null,null,null,null,null,null,null,null,null,null,null,null,null,null,null,null,null,null,null,null,null,null,null,null,null,null,null,null,null,null,null,null,null,null,null,null,null,null,null,null,null,null,null,null,null,null,null,null,null,null,null,null,null,null,null,null,null,null,null,null,null,null,null,null,null,null,null,null,null,null,null,null,null,null,null,null,null,null,null,null,null,null,null,null,null,null,null,null,null,null,null,null,null,null,null,null,null,null,null,null,null,null,null,null,null,null,null,null,null,null,null,null,null,null,null,null,null,null,null,null,null,null,null,null,null,null,null,null,null,null,null,null,null,null,null,null,null,null,null,null,null,null,null,null,null,null,null,null,null,null,null,null,null,null,null,null,null,null,null,null,null,null,null,null,null,null,null,null,null,null,null,null,null,null,null,null,null,null,null,null,null,null,null,null,null,null,null,null,null,null,null,null,null,null,null,null,null,null,null,null,null,null,null,null,null,null,null,null,null,null,null,null,null,null,null,null,null,null,null,null,null,null,null,null,null,null,null,null,null,null,null,null,null,null,null,null,null,null,null,null,null,null,null,null,null,null,null,null,null,null,null,null,null,null,null,null,null,null,null,null,null,null,null,null,null,null,null,null,null,null,null,null,null,null,null,null,null,null,null,null,null,null,null,null,null,null,null,null,null,null,null,null,null,null,null,null,null,null,null,null,null,null,null,null,null,null,null,null,null,null,null,null,null,null,null,null,null,null,null,null,null,null,null,null,null,null,null,null,null,null,null,null,null,null,null,null,null,null,null,null,null,null,null,null,null,null,null,null,null,null,null,null,null,null,null,null,null,null,null,null,null,null,null,null,null,null,null,null,null,null,null,null,null,null,null,null,null,null,null,null,null,null,null,null,null,null,null,null,null,null,null,null,null,null,null,null,null,null,null,null,null,null,null,null,null,null,null,null,null,null,null,null,null,null,null,null,null,null,null,null,null,null,null,null,null,null,null,null,null,null,null,null,null,null,null,null,null,null,null,null,null,null,null,null,null,null,null,null,null,null,null,null,null,null,null,null,null,null,null,null,null,null,null,null,null,null,null,null,null,null,null,null,null,null,null,null,null,null,null,null,null,null,null,null,null,null,null,null,null,null,null,null,null,null,null,null,null,null,null,null,null,null,null,null,null,null,null,null,null,null,null,null,null,null,null,null,null,null,null,null,null,null,null,null,null,null,null,null,null,null,null,null,null,null,null,null,null,null,null,null,null,null,null,null,null,null,null,null,null,null,null,null,null,null,null,null,null,null,null,null,null,null,null,null,null,null,null,null,null,null,null,null,null,null,null,null,null,null,null,null,null,null,null,null,null,null,null,null,null,null,null,null,null,null,null,null,null,null,null,null,null,null,null,null,null,null,null,null,null,null,null,null,null,null,null,null,null,null,null,null,null,null,null,null,null,null,null,null,null,null,null,null,null,null,null,null,null,null,null,null,null,null,null,null,null,null,null,null,null,null,null,null,null,null,null,null,null,null,null,null,null,null,null,null,null,null,null,null,null,null,null,null,null,null,null,null,null,null,null,null,null,null,null,null,null,null,null,null,null,null,null,null,null,null,null,null,null,null,null,null,null,null,null,null,null,null,null,null,null,null,null,null,null,null,null,null,null,null,null,null,null,null,null,null,null,null,null,null,null,null,null,null,null,null,null,null,null,null,null,null,null,null,null,null,null,null,null,null,null,null,null,null,null,null,null,null,null,null,null,null,null,null,null,null,null,null,null,null,null,null,null,null,null,null,null,null,null,null,null,null,null,null,null,null,null,null,null,null,null,null,null,null,null,null,null,null,null,null,null,null,null,null,null,null,null,null,null,null,null,null,null,null,null,null,null,null,null,null,null,null,null,null,null,null,null,null,null,null,null,null,null,null,null,null,null,null,null,null,null,null,null,null,null,null,null,null,null,null,null,null,null,null,null,null,null,null,null,null,null,null,null,null,null,null,null,null,null,null,null,null,null,null,null,null,null,null,null,null,null,null,null,null,null,null,null,null,null,null,null,null,null,null,null,null,null,null,null,null,null,null,null,null,null,null,null,null,null,null,null,null,null,null,null,null,null,null,null,null,null,null,null,null,null,null,null,null,null,null,null,null,null,null,null,null,null,null,null,null,null,null,null,null,null,null,null,null,null,null,null,null,null,null,null,null,null,null,null,null,null,null,null,null,null,null,null,null,null,null,null,null,null,null,null,null,null,null,null,null,null,null,null,null,null,null,null,null,null,null,null,null,null,null,null,null,null,null,null,null,null,null,null,null,null,null,null,null,null,null,null,null,null,null,null,null,null,null,null,null,null,null,null,null,null,null,null,null,null,null,null,null,null,null,null,null,null,null,null,null,null,null,null,null,null,null,null,null,null,null,null,null,null,null,null,null,null,null,null,null,null,null,null,null,null,null,null,null,null,null,null,null,null,null,null,null,null,null,null,null,null,null,null,null,null,null,null,null,null,null,null,null,null,null,null,null,null,null,null,null,null,null,null,null,null,null,null,null,null,null,null,null,null,null,null,null,null,null,null,null,null,null,null,null,null,null,null,null,null,null,null,null,null,null,null,null,null,null,null,null,null,null,null,null,null,null,null,null,null,null,null,null,null,null,null,null,null,null,null,null,null,null,null,null,null,null,null,null,null,null,null,null,null,null,null,null,null,null,null,null,null,null,null,null,null,null,null,null,null,null,null,null,null,null,null,null,null,null,null,null,null,null,null,null,null,null,null,null,null,null,null,null,null,null,null,null,null,null,null,null,null,null,null,null,null,null,null,null,null,null,null,null,null,null,null,null,null,null,null,null,null,null,null,null,null,null,null,null,null,null,null,null,null,null,null,null,null,null,null,null,null,null,null,null,null,null,null,null,null,null,null,null,null,null,null,null,null,null,null,null,null,null,null,null,null,null,null,null,null,null,null,null,null,null,null,null,null,null,null,null,null,null,null,null,null,null,null,null,null,null,null,null,null,null,null,null,null,null,null,null,null,null,null,null,null,null,null,null,null,null,null,null,null,null,null,null,null,null,null,null,null,null,null,null,null,null,null,null,null,null,null,null,null,null,null,null,null,null,null,null,null,null,null,null,null,null,null,null,null,null,null,null,null,null,null,null,null,null,null,null,null,null,null,null,null,null,null,null,null,null,null,null,null,null,null,null,null,null,null,null,null,null,null,null,null,null,null,null,null,null,null,null,null,null,null,null,null,null,null,null,null,null,null,null,null,null,null,null,null,null,null,null,null,null,null,null,null,null,null,null,null,null,null,null,null,null,null,null,null,null,null,null,null,null,null,null,null,null,null,null,null,null,null,null,null,null,null,null,null,null,null,null,null,null,null,null,null,null,null,null,null,null,null,null,null,null,null,null,null,null,null,null,null,null,null,null,null,null,null,null,null,null,null,null,null,null,null,null,null,null,null,null,null,null,null,null,null,null,null,null,null,null,null,null,null,null,null,null,null,null,null,null,null,null,null,null,null,null,null,null,null,null,null,null,null,null,null,null,null,null,null,null,null,null,null,null,null,null,null,null,null,null,null,null,null,null,null,null,null,null,null,null,null,null,null,null,null,null,null,null,null,null,null,null,null,null,null,null,null,null,null,null,null,null,null,null,null,null,null,null,null,null,null,null,null,null,null,null,null,null,null,null,null,null,null,null,null,null,null,null,null,null,null,null,null,null,null,null,null,null,null,null,null,null,null,null,null,null,null,null,null,null,null,null,null,null,null,null,null,null,null,null,null,null,null,null,null,null,null,null,null,null,null,null,null,null,null,null,null,null,null,null,null,null,null,null,null,null,null,null,null,null,null,null,null,null,null,null,null,null,null,null,null,null,null,null,null,null,null,null,null,null,null,null,null,null,null,null,null,null,null,null,null,null,null,null,null,null,null,null,null,null,null,null,null,null,null,null,null,null,null,null,null,null,null,null,null,null,null,null,null,null,null,null,null,null,null,null,null,null,null,null,null,null,null,null,null,null,null,null,null,null,null,null,null,null,null,null,null,null,null,null,null,null,null,null,null,null,null,null,null,null,null,null,null,null,null,null,null,null,null,null,null,null,null,null,null,null,null,null,null,null,null,null,null,null,null,null,null,null,null,null,null,null,null,null,null,null,null,null,null,null,null,null,null,null,null,null,null,null,null,null,null,null,null,null,null,null,null,null,null,null,null,null,null,null,null,null,null,null,null,null,null,null,null,null,null,null,null,null,null,null,null,null,null,null,null,null,null,null,null,null,null,null,null,null,null,null,null,null,null,null,null,null,null,null,null,null,null,null,null,null,null,null,null,null,null,null,null,null,null,null,null,null,null,null,null,null,null,null,null,null,null,null,null,null,null,null,null,null,null,null,null,null,null,null,null,null,null,null,null,null,null,null,null,null,null,null,null,null,null,null,null,null,null,null,null,null,null,null,null,null,null,null,null,null,null,null,null,null,null,null,null,null,null,null,null,null,null,null,null,null,null,null,null,null,null,null,null,null,null,null,null,null,null,null,null,null,null,null,null,null,null,null,null,null,null,null,null,null,null,null,null,null,null,null,null,null,null,null,null,null,null,null,null,null,null,null,null,null,null,null,null,null,null,null,null,null,null,null,null,null,null,null,null,null,null,null,null,null,null,null,null,null,null,null,null,null,null,null,null,null,null,null,null,null,null,null,null,null,null,null,null,null,null,null,null,null,null,null,null,null,null,null,null,null,null,null,null,null,null,null,null,null,null,null,null,null,null,null,null,null,null,null,null,null,null,null,null,null,null,null,null,null,null,null,null,null,null,null,null,null,null,null,null,null,null,null,null,null,null,null,null,null,null,null,null,null,null,null,null,null,null,null,null,null,null,null,null,null,null,null,null,null,null,null,null,null,null,null,null,null,null,null,null,null,null,null,null,null,null,null,null,null,null,null,null,null,null,null,null,null,null,null,null,null,null,null,null,null,null,null,null,null,null,null,null,null,null,null,null,null,null,null,null,null,null,null,null,null,null,null,null,null,null,null,null,null,null,null,null,null,null,null,null,null,null,null,null,null,null,null,null,null,null,null,null,null,null,null,null,null,null,null,null,null,null,null,null,null,null,null,null,null,null,null,null,null,null,null,null,null,null,null,null,null,null,null,null,null,null,null,null,null,null,null,null,null,null,null,null,null,null,null,null,null,null,null,null,null,null,null,null,null,null,null,null,null,null,null,null,null,null,null,null,null,null,null,null,null,null,null,null,null,null,null,null,null,null,null,null,null,null,null,null,null,null,null,null,null,null,null,null,null,null,null,null,null,null,null,null,null,null,null,null,null,null,null,null,null,null,null,null,null,null,null,null,null,null,null,null,null,null,null,null,null,null,null,null,null,null,null,null,null,null,null,null,null,null,null,null,null,null,null,null,null,null,null,null,null,null,null,null,null,null,null,null,null,null,null,null,null,null,null,null,null,null,null,null,null,null,null,null,null,null,null,null,null,null,null,null,null,null,null,null,null,null,null,null,null,null,null,null,null,null,null,null,null,null,null,null,null,null,null,null,null,null,null,null,null,null,null,null,null,null,null,null,null,null,null,null,null,null,null,null,null,null,null,null,null,null,null,null,null,null,null,null,null,null,null,null,null,null,null,null,null,null,null,null,null,null,null,null,null,null,null,null,null,null,null,null,null,null,null,null,null,null,null,null,null,null,null,null,null,null,null,null,null,null,null,null,null,null,null,null,null,null,null,null,null,null,null,null,null,null,null,null,null,null,null,null,null,null,null,null,null,null,null,null,null,null,null,null,null,null,null,null,null,null,null,null,null,null,null,null,null,null,null,null,null,null,null,null,null,null,null,null,null,null,null,null,null,null,null,null,null,null,null,null,null,null,null,null,null,null,null,null,null,null,null,null,null,null,null,null,null,null,null,null,null,null,null,null,null,null,null,null,null,null,null,null,null,null,null,null,null,null,null,null,null,null,null,null,null,null,null,null,null,null,null,null,null,null,null,null,null,null,null,null,null,null,null,null,null,null,null,null,null,null,null,null,null,null,null,null,null,null,null,null,null,null,null,null,null,null,null,null,null,null,null,null,null,null,null,null,null,null,null,null,null,null,null,null,null,null,null,null,null,null,null,null,null,null,null,null,null,null,null,null,null,null,null,null,null,null,null,null,null,null,null,null,null,null,null,null,null,null,null,null,null,null,null,null,null,null,null,null,null,null,null,null,null,null,null,null,null,null,null,null,null,null,null,null,null,null,null,null,null,null,null,null,null,null,null,null,null,null,null,null,null,null,null,null,null,null,null,null,null,null,null,null,null,null,null,null,null,null,null,null,null,null,null,null,null,null,null,null,null,null,null,null,null,null,null,null,null,null,null,null,null,null,null,null,null,null,null,null,null,null,null,null,null,null,null,null,null,null,null,null,null,null,null,null,null,null,null,null,null,null,null,null,null,null,null,null,null,null,null,null,null,null,null,null,null,null,null,null,null,null,null,null,null,null,null,null,null,null,null,null,null,null,null,null,null,null,null,null,null,null,null,null,null,null,null,null,null,null,null,null,null,null,null,null,null,null,null,null,null,null,null,null,null,null,null,null,null,null,null,null,null,null,null,null,null,null,null,null,null,null,null,null,null,null,null,null,null,null,null,null,null,null,null,null,null,null,null,null,null,null,null,null,null,null,null,null,null,null,null,null,null,null,null,null,null,null,null,null,null,null,null,null,null,null,null,null,null,null,null,null,null,null,null,null,null,null,null,null,null,null,null,null,null,null,null,null,null,null,null,null,null,null,null,null,null,null,null,null,null,null,null,null,null,null,null,null,null,null,null,null,null,null,null,null,null,null,null,null,null,null,null,null,null,null,null,null,null,null,null,null,null,null,null,null,null,null,null,null,null,null,null,null,null,null,null,null,null,null,null,null,null,null,null,null,null,null,null,null,null,null,null,null,null,null,null,null,null,null,null,null,null,null,null,null,null,null,null,null,null,null,null,null,null,null,null,null,null,null,null,null,null,null,null,null,null,null,null,null,null,null,null,null,null,null,null,null,null,null,null,null,null,null,null,null,null,null,null,null,null,null,null,null,null,null,null,null,null,null,null,null,null,null,null,null,null,null,null,null,null,null,null,null,null,null,null,null,null,null,null,null,null,null,null,null,null,null,null,null,null,null,null,null,null,null,null,null,null,null,null,null,null,null,null,null,null,null,null,null,null,null,null,null,null,null,null,null,null,null,null,null,null,null,null,null,null,null,null,null,null,null,null,null,null,null,null,null,null,null,null,null,null,null,null,null,null,null,null,null,null,null,null,null,null,null,null,null,null,null,null,null,null,null,null,null,null,null,null,null,null,null,null,null,null,null,null,null,null,null,null,null,null,null,null,null,null,null,null,null,null,null,null,null,null,null,null,null,null,null,null,null,null,null,null,null,null,null,null,null,null,null,null,null,null,null,null,null,null,null,null,null,null,null,null,null,null,null,null,null,null,null,null,null,null,null,null,null,null,null,null,null,null,null,null,null,null,null,null,null,null,null,null,null,null,null,null,null,null,null,null,null,null,null,null,null,null,null,null,null,null,null,null,null,null,null,null,null,null,null,null,null,null,null,null,null,null,null,null,null,null,null,null,null,null,null,null,null,null,null,null,null,null,null,null,null,null,null,null,null,null,null,null,null,null,null,null,null,null,null,null,null,null,null,null,null,null,null,null,null,null,null,null,null,null,null,null,null,null,null,null,null,null,null,null,null,null,null,null,null,null,null,null,null,null,null,null,null,null,null,null,null,null,null,null,null,null,null,null,null,null,null,null,null,null,null,null,null,null,null,null,null,null,null,null,null,null,null,null,null,null,null,null,null,null,null,null,null,null,null,null,null,null,null,null,null,null,null,null,null,null,null,null,null,null,null,null,null,null,null,null,null,null,null,null,null,null,null,null,null,null,null,null,null,null,null,null,null,null,null,null,null,null,null,null,null,null,null,null,null,null,null,null,null,null,null,null,null,null,null,null,null,null,null,null,null,null,null,null,null,null,null,null,null,null,null,null,null,null,null,null,null,null,null,null,null,null,null,null,null,null,null,null,null,null,null,null,null,null,null,null,null,null,null,null,null,null,null,null,null,null,null,null,null,null,null,null,null,null,null,null,null,null,null,null,null,null,null,null,null,null,null,null,null,null,null,null,null,null,null,null,null,null,null,null,null,null,null,null,null,null,null,null,null,null,null,null,null,null,null,null,null,null,null,null,null,null,null,null,null,null,null,null,null,null,null,null,null,null,null,null,null,null,null,null,null,null,null,null,null,null,null,null,null,null,null,null,null,null,null,null,null,null,null,null,null,null,null,null,null,null,null,null,null,null,null,null,null,null,null,null,null,null,null,null,null,null,null,null,null,null,null,null,null,null,null,null,null,null,null,null,null,null,null,null,null,null,null,null,null,null,null,null,null,null,null,null,null,null,null,null,null,null,null,null,null,null,null,null,null,null,null,null,null,null,null,null,null,null,null,null,null,null,null,null,null,null,null,null,null,null,null,null,null,null,null,null,null,null,null,null,null,null,null,null,null,null,null,null,null,null,null,null,null,null,null,null,null,null,null,null,null,null,null,null,null,null,null,null,null,null,null,null,null,null,null,null,null,null,null,null,null,null,null,null,null,null,null,null,null,null,null,null,null,null,null,null,null,null,null,null,null,null,null,null,null,null,null,null,null,null,null,null,null,null,null,null,null,null,null,null,null,null,null,null,null,null,null,null,null,null,null,null,null,null,null,null,null,null,null,null,null,null,null,null,null,null,null,null,null,null,null,null,null,null,null,null,null,null,null,null,null,null,null,null,null,null,null,null,null,null,null,null,null,null,null,null,null,null,null,null,null,null,null,null,null,null,null,null,null,null,null,null,null,null,null,null,null,null,null,null,null,null,null,null,null,null,null,null,null,null,null,null,null,null,null,null,null,null,null,null,null,null,null,null,null,null,null,null,null,null,null,null,null,null,null,null,null,null,null,null,null,null,null,null,null,null,null,null,null,null,null,null,null,null,null,null,null,null,null,null,null,null,null,null,null,null,null,null,null,null,null,null,null,null,null,null,null,null,null,null,null,null,null,null,null,null,null,null,null,null,null,null,null,null,null,null,null,null,null,null,null,null,null,null,null,null,null,null,null,null,null,null,null,null,null,null,null,null,null,null,null,null,null,null,null,null,null,null,null,null,null,null,null,null,null,null,null,null,null,null,null,null,null,null,null,null,null,null,null,null,null,null,null,null,null,null,null,null,null,null,null,null,null,null,null,null,null,null,null,null,null,null,null,null,null,null,null,null,null,null,null,null,null,null,null,null,null,null,null,null,null,null,null,null,null,null,null,null,null,null,null,null,null,null,null,null,null,null,null,null,null,null,null,null,null,null,null,null,null,null,null,null,null,null,null,null,null,null,null,null,null,null,null,null,null,null,null,null,null,null,null,null,null,null,null,null,null,null,null,null,null,null,{"$f":"TODAY()+46","v":"2023-10-08"}]
[]
[null,null,null,null,null,null,null,null,null,null,null,null,null,null,null,null,null,null,null,null,null,null,null,null,null,{"$f":"Menu!D17","v":"Versão Gratuita"},null,"Versão Gratuita"]
[null,null,null,null,null,null,null,null,null,null,null,null,null,null,null,null,null,null,null,null,null,null,null,null,null,{"$f":"Menu!D18","v":"** Com limite de 10 cheques em cada troca **"},null,"** Com limite de 10 cheques em cada troca **"]
[null,null,null,null,null,null,null,null,null,null,null,null,null,null,null,null,null,null,null,null,null,null,null,null,null,null,null,"© 2012 - Pedro Paulo Andriani. Todos os direitos reservados."]
[null,null,null,null,null,null,null,null,null,null,null,null,null,null,null,null,null,null,null,null,null,null,null,null,null,null,null,"www.planilhasparaconfeccao.com.br"]
[null,null,null,null,null,null,null,null,null,null,null,null,null,null,null,null,null,null,null,null,null,null,null,null,null,null,null,{"$f":"CONCATENATE(AB4,AB5,AB6,AB7)","v":"Versão Gratuita** Com limite de 10 cheques em cada troca **© 2012 - Pedro Paulo Andriani. Todos os direitos reservados.www.planilhasparaconfeccao.com.br"}]
[null,null,null,null,null,null,null,null,null,null,null,null,null,null,null,null,null,null,null,null,null,null,null,null,null,null,null,{"$f":"CONCATENATE(Menu!D17,Menu!D18,Menu!D22,Menu!F21)","v":"Versão Gratuita** Com limite de 10 cheques em cada troca **© 2012 - Pedro Paulo Andriani. Todos os direitos reservados.www.planilhasparaconfeccao.com.br"}]
[null,null,null,null,null,null,null,null,null,null,null,null,null,null,null,null,null,null,null,null,null,null,null,null,null,null,null,{"$f":"IF(AB8<>AB9,0,1)","v":1}]

{"sheet":"Passo a passo","index":11,"n_rows":13,"n_cols":5,"rows_kept":13,"cut":false,"hidden":true,"merged":[]}
[]
[null,"Itens","PASSO-A-PASSO","Duração","Links"]
[null,1,"Apresentação geral da Planilha  ( não disponível para versão gratuita )"]
[null,2,"Como fazer uma Troca de Cheques, registrar e imprimir","18:45:00","http://youtu.be/yreKD_mSrRo"]
[null,3,"Como salvar em PDF uma Troca de Cheques e enviar por e-mail","05:42:00","http://youtu.be/IvPgAF-GQcE"]
[null,4,"Como consultar uma Troca de Cheques","04:53:00","http://youtu.be/zLYOIGdZUD4"]
[null,5,"Como analisar as informações de Todos os Cheques através do \"Filtro\"","09:26:00","http://youtu.be/xke4TobPXAs"]
[null,6,"Como excluir uma Troca de Cheques ou somente um cheque trocado","05:08:00","http://youtu.be/L-BDHT2KLAg"]
[null,7,"Como alterar uma Troca de Cheques ou somente um cheque trocado","06:49:00","http://youtu.be/rmTJpbTn8sI"]
[null,8,"Como cadastrar/alterar os Feriados","03:33:00","http://youtu.be/NIZHSMsJ98M"]
[null,9,"Como cadastrar/alterar um Fornecedor / Cliente ou Titular do Cheque","04:44:00","http://youtu.be/2uZZfxGZi6A"]
[null,10,"Como atualizar as Datas do Calendário","01:26:00","http://youtu.be/nJttnrMNjdA"]
[null,11,"Como personalizar o cabeçalho de Todos os Cheques","08:47:00","http://youtu.be/Qg7NhESylBA"]